Workbook

Sheet เงินกันไว้เบิกเหลื่อมปี งบปี 
A1: รายงานผลการเบิกจ่ายเงินกันไว้เบิกเหลื่อมปี งบประมาณประจำปี พ.ศ. 2569
A2: =+'[4]สิ่งก่อสร้าง งบอุดหนุน 67'!A3:N3 -> สำนักงานเขตพื้นที่การศึกษาประถมศึกษาปทุมธานี เขต 2
A3: ประจำเดือน ตุลาคม 2569
A4: ที่ | B4: รายการ | C4: รหัสงบประมาณ | D4: เพิ่ม | E4: ผูกพัน | G4: กันไว้เบิก | I4: เบิก | K4: คงเหลือ
C5: แหล่งของเงิน | E5: 220 | F5: 221 | G5: 220 | H5: 221 | I5: 220 | J5: 221
A6: ก | B6: =+'[4]ดำเนินงานครุภัณฑ์ 310061ยั่งยืน'!E6 -> แผนงานยุทธศาสตร์พัฒนาคุณภาพการศึกษาและการเรียนรู้ | D6: =+D7+D16+D24 -> 1111756.5 | E6: =+E7+E16+E24 -> 0 | F6: =+F7+F16+F24 -> 667756.5 | G6: =+G7+G16+G24 -> 0 | H6: =+H7+H16+H24 -> 0 | I6: =+I7+I16+I24 -> 409000 | J6: =+J7+J16+J24 -> 35000 | K6: =+K7+K16+K24 -> 0
A7: =+'[4]ดำเนินงานครุภัณฑ์ 310061ยั่งยืน'!A7 -> 1 | B7: =+'[4]ดำเนินงานครุภัณฑ์ 310061ยั่งยืน'!E7 -> โครงการพัฒนาสมรรถนะครูและบุคลากรทางการศึกษาเพื่อความเป็นเลิศ | C7: =+'[4]ดำเนินงานครุภัณฑ์ 310061ยั่งยืน'!D7 -> 20004 3320 4700 2000000 | D7: =+D8 -> 140000 | E7: =+E8 -> 0 | F7: =+F8 -> 105000 | H7: =+H8 -> 0 | I7: =+I8 -> 0 | J7: =+J8 -> 35000 | K7: =+K8 -> 0
A8: 1.1 | B8: =+'[4]ดำเนินงานครุภัณฑ์ 310061ยั่งยืน'!E8 -> กิจกรรมพัฒนาสมรรถนะครูและบุคลากรทางการศึกษาเพื่อความเป็นเลิศ | C8: =+'[4]ดำเนินงานครุภัณฑ์ 310061ยั่งยืน'!D8 -> 20004 69 00140 00000 | D8: =+D9 -> 140000 | E8: =+E9 -> 0 | F8: =+F9 -> 105000 | G8: =+G9 -> 0 | H8: =+H9 -> 0 | I8: =+I9 -> 0 | J8: =+J9 -> 35000 | K8: =+K9 -> 0
B9: =+'[4]ดำเนินงานครุภัณฑ์ 310061ยั่งยืน'!E9 -> งบดำเนินงาน 69112xx | C9: =+'[4]ดำเนินงานครุภัณฑ์ 310061ยั่งยืน'!D9 -> 69112xx | D9: =+D10 -> 140000 | E9: =+E10 -> 0 | F9: =+F10 -> 105000 | H9: =+H10 -> 0 | I9: =+I10 -> 0 | J9: =+J10 -> 35000 | K9: =+K10 -> 0
A10: =+'[4]ดำเนินงานครุภัณฑ์ 310061ยั่งยืน'!A10 -> 1.1.1 | B10: =+'[4]ดำเนินงานครุภัณฑ์ 310061ยั่งยืน'!E10 -> ค่าใช้จ่ายในการบริหารจัดการสถานการณ์และช่วยเหลือสถานศึกษาที่ได้รับผลกระทบจากเหตุอุทกภัย | C10: =+'[4]ดำเนินงานครุภัณฑ์ 310061ยั่งยืน'!C10 -> 20004 3320 4700 2000000 | D10: =SUM(D11:D14) -> 140000 | E10: =SUM(E11:E14) -> 0 | F10: =SUM(F11:F14) -> 105000 | G10: =SUM(G11:G14) -> 0 | H10: =SUM(H11:H14) -> 0 | I10: =SUM(I11:I14) -> 0 | J10: =SUM(J11:J14) -> 35000 | K10: =SUM(K11:K14) -> 0
A11: 1) | B11: =+'[4]ดำเนินงานครุภัณฑ์ 310061ยั่งยืน'!E11 -> ร.ร.วัดเขียนเขต | C11: =+'[4]ดำเนินงานครุภัณฑ์ 310061ยั่งยืน'!D12 -> ส.30 ก.ย. 69 ครบ 5 ต.ค.69 | D11: =+'[4]ดำเนินงานครุภัณฑ์ 310061ยั่งยืน'!F15 -> 35000 | E11: =+'[4]ดำเนินงานครุภัณฑ์ 310061ยั่งยืน'!G15 -> 0 | F11: =+'[4]ดำเนินงานครุภัณฑ์ 310061ยั่งยืน'!H15 -> 0 | G11: =+'[4]ดำเนินงานครุภัณฑ์ 310061ยั่งยืน'!I15 -> 0 | H11: =+'[4]ดำเนินงานครุภัณฑ์ 310061ยั่งยืน'!J15 -> 0 | I11: =+'[4]ดำเนินงานครุภัณฑ์ 310061ยั่งยืน'!K15 -> 0 | J11: =+'[4]ดำเนินงานครุภัณฑ์ 310061ยั่งยืน'!L15 -> 35000 | K11: =+D11-E11-F11-G11-H11-I11-J11 -> 0
A12: 2) | B12: =+'[4]ดำเนินงานครุภัณฑ์ 310061ยั่งยืน'!E16 -> ร.ร. นิกรราษฎร์บูรณะ | C12: =+'[4]ดำเนินงานครุภัณฑ์ 310061ยั่งยืน'!D17 -> ส. 30 ก.ย. 69 ครบ 7 ต.ค.69 | D12: =+'[4]ดำเนินงานครุภัณฑ์ 310061ยั่งยืน'!F20 -> 35000 | E12: =+'[4]ดำเนินงานครุภัณฑ์ 310061ยั่งยืน'!G20 -> 0 | F12: =+'[4]ดำเนินงานครุภัณฑ์ 310061ยั่งยืน'!H20 -> 35000 | G12: =+'[4]ดำเนินงานครุภัณฑ์ 310061ยั่งยืน'!I20 -> 0 | H12: =+'[4]ดำเนินงานครุภัณฑ์ 310061ยั่งยืน'!J20 -> 0 | I12: =+'[4]ดำเนินงานครุภัณฑ์ 310061ยั่งยืน'!K20 -> 0 | J12: =+'[4]ดำเนินงานครุภัณฑ์ 310061ยั่งยืน'!L20 -> 0 | K12: =+D12-E12-F12-G12-H12-I12-J12 -> 0
A13: 3) | B13: =+'[4]ดำเนินงานครุภัณฑ์ 310061ยั่งยืน'!E21 -> ร.ร. สหราษฎร์บำรุง | C13: =+'[4]ดำเนินงานครุภัณฑ์ 310061ยั่งยืน'!D22 -> ส. 30 ก.ย. 69 ครบ 26 ต.ค.69 | D13: =+'[4]ดำเนินงานครุภัณฑ์ 310061ยั่งยืน'!F26 -> 35000 | E13: =+'[4]ดำเนินงานครุภัณฑ์ 310061ยั่งยืน'!G26 -> 0 | F13: =+'[4]ดำเนินงานครุภัณฑ์ 310061ยั่งยืน'!H26 -> 35000 | G13: =+'[4]ดำเนินงานครุภัณฑ์ 310061ยั่งยืน'!I26 -> 0 | H13: =+'[4]ดำเนินงานครุภัณฑ์ 310061ยั่งยืน'!J26 -> 0 | I13: =+'[4]ดำเนินงานครุภัณฑ์ 310061ยั่งยืน'!K26 -> 0 | J13: =+'[4]ดำเนินงานครุภัณฑ์ 310061ยั่งยืน'!L26 -> 0 | K13: =+D13-E13-F13-G13-H13-I13-J13 -> 0
A14: 4) | B14: =+'[4]ดำเนินงานครุภัณฑ์ 310061ยั่งยืน'!E27 -> ร.ร. ทองพูลอุทิศ | C14: =+'[4]ดำเนินงานครุภัณฑ์ 310061ยั่งยืน'!D28 -> ส. 30 ก.ย. 69 ครบ30 ต.ค.69 | D14: =+'[4]ดำเนินงานครุภัณฑ์ 310061ยั่งยืน'!F32 -> 35000 | E14: =+'[4]ดำเนินงานครุภัณฑ์ 310061ยั่งยืน'!G32 -> 0 | F14: =+'[4]ดำเนินงานครุภัณฑ์ 310061ยั่งยืน'!H32 -> 35000 | G14: =+'[4]ดำเนินงานครุภัณฑ์ 310061ยั่งยืน'!I32 -> 0 | H14: =+'[4]ดำเนินงานครุภัณฑ์ 310061ยั่งยืน'!J32 -> 0 | I14: =+'[4]ดำเนินงานครุภัณฑ์ 310061ยั่งยืน'!K32 -> 0 | J14: =+'[4]ดำเนินงานครุภัณฑ์ 310061ยั่งยืน'!L32 -> 0 | K14: =+D14-E14-F14-G14-H14-I14-J14 -> 0
A16: =+'[4]ดำเนินงานครุภัณฑ์ 310061ยั่งยืน'!A33 -> 2 | B16: =+'[4]ดำเนินงานครุภัณฑ์ 310061ยั่งยืน'!E33 -> โครงการขับเคลื่อนการพัฒนาการศึกษาที่ยั่งยืน | C16: 2000433006300 | D16: =+D17 -> 409000 | E16: =+E17 -> 0 | F16: =+F17 -> 0 | H16: =+H17 -> 0 | I16: =+I17 -> 409000 | J16: =+J17 -> 0 | K16: =+K17 -> 0
A17: =+'[4]ดำเนินงานครุภัณฑ์ 310061ยั่งยืน'!A34 -> 2.1 | B17: =+'[4]ดำเนินงานครุภัณฑ์ 310061ยั่งยืน'!E34 -> กิจกรรมการยกระดับคุณภาพด้านวิทยาศาสตร์ศึกษาเพื่อความเป็นเลิศ | C17: =+'[4]ดำเนินงานครุภัณฑ์ 310061ยั่งยืน'!D34 -> 20004 69 00093 00000 | D17: =+D18 -> 409000 | E17: =+E18 -> 0 | F17: =+F18 -> 0 | G17: =+G18 -> 0 | H17: =+H18 -> 0 | I17: =+I18 -> 409000 | J17: =+J18 -> 0 | K17: =+K18 -> 0
B18: =+'[4]ดำเนินงานครุภัณฑ์ 310061ยั่งยืน'!E35 -> งบลงทุน 6911310 | D18: =+D20 -> 409000 | E18: =+E20 -> 0 | F18: =+F20 -> 0 | H18: =+H20 -> 0 | I18: =+I20 -> 409000 | J18: =+J20 -> 0 | K18: =+K20 -> 0
B19: =+'[4]ดำเนินงานครุภัณฑ์ 310061ยั่งยืน'!E36 -> ครุภัณฑ์สำนักงาน 120601 | D19: =+D21 -> 409000 | E19: =+E21 -> 0 | F19: =+F21 -> 0 | H19: =+H21 -> 0 | I19: =+I21 -> 409000 | J19: =+J21 -> 0 | K19: =+K21 -> 0
A20: =+'[4]ดำเนินงานครุภัณฑ์ 310061ยั่งยืน'!A37 -> 2.1.1 | B20: =+'[4]ดำเนินงานครุภัณฑ์ 310061ยั่งยืน'!E37 -> เครื่องปรับอากาศ 24,000 บีทียู ระบบ Inverter จำนวน 10 เครื่อง | C20: =+'[4]ดำเนินงานครุภัณฑ์ 310061ยั่งยืน'!D37 -> โอนเปลี่ยนแปลง 2/2569 | D20: =+D21 -> 409000 | E20: =+E21 -> 0 | F20: =+F21 -> 0 | G20: =+G21 -> 0 | H20: =+H21 -> 0 | I20: =+I21 -> 409000 | J20: =+J21 -> 0 | K20: =+K21 -> 0
A21: 1) | B21: =+'[4]ดำเนินงานครุภัณฑ์ 310061ยั่งยืน'!E38 -> สพป.ปทุมธานี เขต 2 | C21: =+'[4]ดำเนินงานครุภัณฑ์ 310061ยั่งยืน'!D38 -> 2000433006300311ส024 | D21: =+'[4]ดำเนินงานครุภัณฑ์ 310061ยั่งยืน'!F42 -> 409000 | E21: =+'[4]ดำเนินงานครุภัณฑ์ 310061ยั่งยืน'!G42 -> 0 | F21: =+'[4]ดำเนินงานครุภัณฑ์ 310061ยั่งยืน'!H42 -> 0 | G21: =+'[4]ดำเนินงานครุภัณฑ์ 310061ยั่งยืน'!I42 -> 0 | H21: =+'[4]ดำเนินงานครุภัณฑ์ 310061ยั่งยืน'!J42 -> 0 | I21: =+'[4]ดำเนินงานครุภัณฑ์ 310061ยั่งยืน'!K42 -> 409000 | J21: =+'[4]ดำเนินงานครุภัณฑ์ 310061ยั่งยืน'!L42 -> 0 | K21: =+'[4]ดำเนินงานครุภัณฑ์ 310061ยั่งยืน'!M42 -> 0
B22: =+'[4]ดำเนินงานครุภัณฑ์ 310061ยั่งยืน'!D39 -> ครบ 28 ต.ค.69 | C22: =+'[4]ดำเนินงานครุภัณฑ์ 310061ยั่งยืน'!C38 -> 4100950016
A24: =+'[4]ดำเนินงานครุภัณฑ์ 310061ยั่งยืน'!A43 -> 3 | B24: =+'[4]ดำเนินงานครุภัณฑ์ 310061ยั่งยืน'!E43 -> โครงการส่งเสริมการเรียนรู้ขั้นพื้นฐานทุกที่ทุกเวลา | C24: =+'[4]ดำเนินงานครุภัณฑ์ 310061ยั่งยืน'!D43 -> 20004 3310 C100 2000000 | D24: =+D25 -> 562756.5 | E24: =+E25 -> 0 | F24: =+F25 -> 562756.5 | H24: =+H25 -> 0 | I24: =+I25 -> 0 | J24: =+J25 -> 0 | K24: =+K25 -> 0
A25: =+'[4]ดำเนินงานครุภัณฑ์ 310061ยั่งยืน'!A44 -> 3.1 | B25: =+'[4]ดำเนินงานครุภัณฑ์ 310061ยั่งยืน'!E44 -> กิจกรรมพัฒนาระบบนิเวศทางด้านดิจิทัลเพื่อการเรียนรู้ขั้นพื้นฐาน | C25: =+'[4]ดำเนินงานครุภัณฑ์ 310061ยั่งยืน'!D44 -> 20004 69 00131 00000 | D25: =+D26 -> 562756.5 | E25: =+E26 -> 0 | F25: =+F26 -> 562756.5 | G25: =+G26 -> 0 | H25: =+H26 -> 0 | I25: =+I26 -> 0 | J25: =+J26 -> 0 | K25: =+K26 -> 0
B26: =+'[4]ดำเนินงานครุภัณฑ์ 310061ยั่งยืน'!E156 -> งบดำเนินงาน (รายจ่ายลงทุน) 6911220 | C26: =+'[4]ดำเนินงานครุภัณฑ์ 310061ยั่งยืน'!D156 -> 6911220 | D26: =+D27 -> 562756.5 | E26: =+E27 -> 0 | F26: =+F27 -> 562756.5 | H26: =+H27 -> 0 | I26: =+I27 -> 0 | J26: =+J27 -> 0 | K26: =+K27 -> 0
A27: 3.1.1 | B27: =+'[4]ดำเนินงานครุภัณฑ์ 310061ยั่งยืน'!E157 -> ค่าใช้จ่ายในการดำเนินการเช่าใช้อุปกรณ์การเรียนการสอนสำหรับครูและนักเรียน ภายใต้โครงการส่งเสริมการเรียนรู้ขั้นพื้นฐานทุกที่ทุกเวลา ประจำปีงบประมาณ พ.ศ. 2568 | C27: =+'[4]ดำเนินงานครุภัณฑ์ 310061ยั่งยืน'!D157 -> ศธ 04002/ว41897 ลว.1 ส.ค. 68 โอนครั้งที่ 802 | D27: =SUM(D28:D30) -> 562756.5 | E27: =SUM(E28:E30) -> 0 | F27: =SUM(F28:F30) -> 562756.5 | H27: =SUM(H28:H30) -> 0 | I27: =SUM(I28:I30) -> 0 | J27: =SUM(J28:J30) -> 0 | K27: =SUM(K28:K29) -> 0
A28: 1) | B28: =+'[4]ดำเนินงานครุภัณฑ์ 310061ยั่งยืน'!E47 -> สพป.ปทุมธานี เขต 2 | C28: =+'[4]ดำเนินงานครุภัณฑ์ 310061ยั่งยืน'!E50 -> ผูกพัน งวด 4 ก.ย. 69 - พ.ย. 69 บางส่วน 562,756.50 | D28: =+'[4]ดำเนินงานครุภัณฑ์ 310061ยั่งยืน'!F54 -> 562756.5 | E28: =+'[4]ดำเนินงานครุภัณฑ์ 310061ยั่งยืน'!G54 -> 0 | F28: =+'[4]ดำเนินงานครุภัณฑ์ 310061ยั่งยืน'!H54 -> 562756.5 | G28: =+'[4]ดำเนินงานครุภัณฑ์ 310061ยั่งยืน'!I54 -> 0 | H28: =+'[4]ดำเนินงานครุภัณฑ์ 310061ยั่งยืน'!J54 -> 0 | I28: =+'[4]ดำเนินงานครุภัณฑ์ 310061ยั่งยืน'!K54 -> 0 | J28: =+'[4]ดำเนินงานครุภัณฑ์ 310061ยั่งยืน'!L54 -> 0 | K28: =+'[4]ดำเนินงานครุภัณฑ์ 310061ยั่งยืน'!M54 -> 0
A29: 2) | B29: =+'[4]ดำเนินงานครุภัณฑ์ 310061ยั่งยืน'!B47 -> 1 ต.ค.68 | C29: =+'[4]ดำเนินงานครุภัณฑ์ 310061ยั่งยืน'!C47 -> 4100857056 | K29: =+D29-E29-F29-G29-H29-I29-J29 -> 0
A30: 3)
A31: 2 | B31: =+'[4]ดำเนินงานครุภัณฑ์ 310061ยั่งยืน'!E167 -> โครงการโรงเรียนคุณภาพประจำตำบล | C31: =+'[4]ดำเนินงานครุภัณฑ์ 310061ยั่งยืน'!D167 -> 20004 3100B600 | D31: =+D32 -> 0 | E31: =+E32 -> 0 | F31: =+F32 -> 0 | H31: =+H32 -> 0 | I31: =+I32 -> 0 | J31: =+J32 -> 0 | K31: =+K32 -> 0
A32: 2.1 | B32: =+'[4]ดำเนินงานครุภัณฑ์ 310061ยั่งยืน'!E168 -> กิจกรรมการก่อสร้าง ปรับปรุง ซ่อมแซมอาคารเรียนและสิ่งก่อสร้างประกอบสำหรับโรงเรียนคุณภาพประจำตำบล | C32: =+'[4]ดำเนินงานครุภัณฑ์ 310061ยั่งยืน'!D168 -> 20004 67000 7700000 | D32: =+D33+D53 -> 0 | E32: =+E33+E53 -> 0 | F32: =+F33+F53 -> 0 | H32: =+H33+H53 -> 0 | I32: =+I33+I53 -> 0 | J32: =+J33+J53 -> 0 | K32: =+K33+K53 -> 0
B33: =+'[4]ดำเนินงานครุภัณฑ์ 310061ยั่งยืน'!E169 -> งบลงทุน ค่าสิ่งก่อสร้าง 6711320 | D33: =+D34+D39+D42 -> 0 | E33: =+E34+E39+E42 -> 0 | F33: =+F34+F39+F42 -> 0 | G33: =+G34+G39+G42 -> 0 | H33: =+H34+H39+H42 -> 0 | I33: =+I34+I39+I42 -> 0 | J33: =+J34+J39+J42 -> 0 | K33: =+K34+K39+K42 -> 0
A34: 2.1.1 | B34: =+'[4]ดำเนินงานครุภัณฑ์ 310061ยั่งยืน'!E170 -> ปรับปรุงซ่อมแซมอาคารเรียนอาคารประกอบและสิ่งก่อสร้างอื่น | C34: =+'[4]ดำเนินงานครุภัณฑ์ 310061ยั่งยืน'!D170 -> ศธ04002/ว1787 ลว.7 พค 67 โอนครั้งที่ 5 | D34: =SUM(D35:D38) -> 0 | E34: =SUM(E35:E38) -> 0 | F34: =SUM(F35:F38) -> 0 | G34: =SUM(G35:G38) -> 0 | H34: =SUM(H35:H38) -> 0 | I34: =SUM(I35:I38) -> 0 | J34: =SUM(J35:J38) -> 0 | K34: =SUM(K35:K38) -> 0
A35: 1) | B35: =+'[4]ดำเนินงานครุภัณฑ์ 310061ยั่งยืน'!E171 -> วัดมงคลรัตน์ | C35: =+'[4]ดำเนินงานครุภัณฑ์ 310061ยั่งยืน'!D171 -> 200043100B6003211500 | D35: =+'[4]ดำเนินงานครุภัณฑ์ 310061ยั่งยืน'!F175 -> 0 | E35: =+'[4]ดำเนินงานครุภัณฑ์ 310061ยั่งยืน'!G175 -> 0 | F35: =+'[4]ดำเนินงานครุภัณฑ์ 310061ยั่งยืน'!H175 -> 0 | G35: =+'[4]ดำเนินงานครุภัณฑ์ 310061ยั่งยืน'!I175 -> 0 | H35: =+'[4]ดำเนินงานครุภัณฑ์ 310061ยั่งยืน'!J175 -> 0 | I35: =+'[4]ดำเนินงานครุภัณฑ์ 310061ยั่งยืน'!K175 -> 0 | J35: =+'[4]ดำเนินงานครุภัณฑ์ 310061ยั่งยืน'!L175 -> 0 | K35: =+D35-E35-F35-G35-H35-I35-J35 -> 0
C36: =+'[4]ดำเนินงานครุภัณฑ์ 310061ยั่งยืน'!C171 -> 4100408104
A37: 2) | B37: =+'[4]ดำเนินงานครุภัณฑ์ 310061ยั่งยืน'!E176 -> วัดสุวรรณ | C37: =+'[4]ดำเนินงานครุภัณฑ์ 310061ยั่งยืน'!D176 -> 200043100B6003211501 | D37: =+'[4]ดำเนินงานครุภัณฑ์ 310061ยั่งยืน'!F180 -> 0 | E37: =+'[4]ดำเนินงานครุภัณฑ์ 310061ยั่งยืน'!G180 -> 0 | F37: =+'[4]ดำเนินงานครุภัณฑ์ 310061ยั่งยืน'!H180 -> 0 | G37: =+'[4]ดำเนินงานครุภัณฑ์ 310061ยั่งยืน'!I180 -> 0 | H37: =+'[4]ดำเนินงานครุภัณฑ์ 310061ยั่งยืน'!J180 -> 0 | I37: =+'[4]ดำเนินงานครุภัณฑ์ 310061ยั่งยืน'!K180 -> 0 | J37: =+'[4]ดำเนินงานครุภัณฑ์ 310061ยั่งยืน'!L180 -> 0 | K37: =+D37-E37-F37-G37-H37-I37-J37 -> 0
C38: =+'[4]ดำเนินงานครุภัณฑ์ 310061ยั่งยืน'!C176 -> 4100409854
A39: 2.1.2 | B39: =+'[4]ดำเนินงานครุภัณฑ์ 310061ยั่งยืน'!E181 -> ค่าก่อสร้าง ปรับปรุงซ่อมแซมอาคารเรียนอาคารประกอบและสิ่งก่อสร้างอื่นที่ชำรุดทรุดโทรม และที่ประสบอุบัติภัย | C39: =+'[4]ดำเนินงานครุภัณฑ์ 310061ยั่งยืน'!D181 -> ศธ04002/ว ลว.27 กย 67 โอนครั้งที่ 450 | D39: =+D40 -> 0 | E39: =+E40 -> 0 | F39: =+F40 -> 0 | H39: =+H40 -> 0 | I39: =+I40 -> 0 | J39: =+J40 -> 0 | K39: =+K40 -> 0
A40: 1) | B40: =+'[4]ดำเนินงานครุภัณฑ์ 310061ยั่งยืน'!E182 -> วัดราษฎรบำรุง | C40: =+'[4]ดำเนินงานครุภัณฑ์ 310061ยั่งยืน'!D182 -> 20004 3100B600 321ZZZZ | D40: =+'[4]ดำเนินงานครุภัณฑ์ 310061ยั่งยืน'!F186 -> 0 | E40: =+'[4]ดำเนินงานครุภัณฑ์ 310061ยั่งยืน'!G186 -> 0 | F40: =+'[4]ดำเนินงานครุภัณฑ์ 310061ยั่งยืน'!H186 -> 0 | G40: =+'[4]ดำเนินงานครุภัณฑ์ 310061ยั่งยืน'!I186 -> 0 | H40: =+'[4]ดำเนินงานครุภัณฑ์ 310061ยั่งยืน'!J186 -> 0 | I40: =+'[4]ดำเนินงานครุภัณฑ์ 310061ยั่งยืน'!K186 -> 0 | J40: =+'[4]ดำเนินงานครุภัณฑ์ 310061ยั่งยืน'!L186 -> 0 | K40: =+D40-E40-F40-G40-H40-I40-J40 -> 0
C41: =+'[4]ดำเนินงานครุภัณฑ์ 310061ยั่งยืน'!C182 -> 4100306259
A42: 2.1.3 | B42: =+'[4]ดำเนินงานครุภัณฑ์ 310061ยั่งยืน'!E187 -> อาคารเรียนอนุบาล ขนาด 2 ห้องเรียน | C42: =+'[4]ดำเนินงานครุภัณฑ์ 310061ยั่งยืน'!D187 -> ศธ 04002/ว1787 ลว.7 พค 67 โอนครั้งที่ 5 | D42: =+D43 -> 0 | E42: =+E43 -> 0 | F42: =+F43 -> 0 | H42: =+H43 -> 0 | I42: =+I43 -> 0 | J42: =+J43 -> 0 | K42: =+K43 -> 0
...

Sheet งบบริหารจัดการเขตพื้นที่
A1: รายงานผลการเบิกจ่ายเงินงบประมาณ งบประจำเพื่อการบริหารจัดการสำนักงานและงบพัฒนาคุณภาพการศึกษา
A2: ประจำปีงบประมาณ พ.ศ. 2570
A3: กลุ่มบริหารงานการเงินและสินทรัพย์ สำนักงานเขตพื้นที่การศึกษาประถมศึกษาปทุมธานี เขต 2
A4: ประจำเดือนตุลาคม 2569
A5: ที่ | B5: รายการ | D5: =+[5]ระบบการควบคุมฯ!B772 -> กิจกรรมการบริหารจัดการในเขตพื้นที่การศึกษา | K5: =+[5]ระบบการควบคุมฯ!B901 -> กิจกรรมการจัดการศึกษาประถมศึกษาสำหรับโรงเรียนปกติ | R5: =+[5]งบสพฐ!B367 -> กิจกรรมการสนับสนุนการศึกษาขั้นพื้นฐาน | Y5: รวมกิจกรรมบริหารจัดการในสำนักงานเขตพื้นที่การศึกษา/กิจกรรมการจัดการศึกษาประถมศึกษาฯ/กิจกรรมสนับสนุนการศึกษาขั้นพื้นฐาน | AG5: ผู้รับผิดชอบ
C6: รหัสงบประมาณ | D6: งบบริหารสำนักงาน | E6: งบพัฒนาเพื่อพัฒนาคุณภาพการศึกษา | F6: รวมเงินงวด | G6: ผูกพัน | H6: =+[5]ระบบการควบคุมฯ!I5 -> กันเงินไว้เบิก | I6: เบิก | J6: คงเหลือ | K6: งบบริหารสำนักงาน | L6: งบพัฒนาเพื่อพัฒนาคุณภาพการศึกษา | M6: รวมเงินงวด | N6: ผูกพัน | O6: กันเงินไว้เบิก | P6: เบิก | Q6: คงเหลือ | R6: งบบริหารสำนักงาน | S6: งบพัฒนาเพื่อพัฒนาคุณภาพการศึกษา | T6: รวมเงินงวด | U6: ผูกพัน | V6: กันเงินไว้เบิก | W6: เบิก | X6: คงเหลือ | Y6: งบบริหารสำนักงาน | Z6: งบพัฒนาเพื่อพัฒนาคุณภาพการศึกษา | AA6: รวมเงินงวด | AB6: ผูกพัน | AC6: กันเงินไว้เบิก | AD6: เบิก | AE6: คงเหลือ
C7: หนังสือแจ้งโอน
D8: (1) | E8: (2) | F8: (1)+(2)=3 | G8: (4) | H8: (5) | I8: (6) | J8: (3)-(4)-(6)=7 | K8: (1) | L8: (2) | M8: (1)+(2)=3 | N8: =+[5]ระบบการควบคุมฯ!G857+[5]ระบบการควบคุมฯ!H857 -> 0 | O8: (5) | P8: (6) | Q8: (3)-(4)-(6)=7 | R8: (1) | S8: (2) | T8: (1)+(2)=3 | U8: (4) | V8: (5) | W8: (6) | X8: (3)-(4)-(6)=7 | Y8: (1) | Z8: (2) | AA8: (1)+(2)=3 | AB8: (4) | AC8: (5) | AD8: (6) | AE8: (3)-(4)-(6)=7
A9: =+[5]ระบบการควบคุมฯ!654:654 -> ง | B9: =+[5]ระบบการควบคุมฯ!B654 -> แผนงานพื้นฐานด้านการพัฒนาและเสริมสร้างศักยภาพทรัพยากรมนุษย์ | D9: =+D11 -> 1600000 | E9: =+E11 -> 400000 | F9: =+F11 -> 2000000 | G9: =+G11 -> 0 | H9: =+H11 -> 0 | I9: =+I11 -> 1952.95 | J9: =+J11 -> 1998047.1 | K9: =+K11 -> 0 | ... AE9: =+AE11 -> 1998047.1
B10: =[5]ระบบการควบคุมฯ!B655 -> งบดำเนินงาน 70112xx | C10: =[1]งบประจำและงบกลยุทธ์!C115 -> 0 | D10: =+D11 -> 1600000 | E10: =+E11 -> 400000 | F10: =+F11 -> 2000000 | G10: =+G11 -> 0 | H10: =+H11 -> 0 | I10: =+I11 -> 1952.95 | J10: =+J11 -> 1998047.1 | K10: =+K11 -> 0 | ... AE10: =+AE11 -> 1998047.1
A11: =+[5]ระบบการควบคุมฯ!A748 -> 0 | B11: =+[5]ระบบการควบคุมฯ!B748 -> ผลผลิตผู้จบการศึกษาขั้นพื้นฐาน | C11: =[5]ระบบการควบคุมฯ!C749 -> 20004 3720 1000 2000000 | D11: =+D12 -> 1600000 | E11: =+E12 -> 400000 | F11: =+F12 -> 2000000 | G11: =+G12 -> 0 | H11: =+H12 -> 0 | I11: =+I12 -> 1952.95 | J11: =+J12 -> 1998047.1 | K11: =+K12 -> 0 | ... AE11: =+AE12 -> 1998047.1
A12: =+[5]ระบบการควบคุมฯ!A772 -> 1.4 | B12: กิจกรรมการบริหารจัดการในเขตพื้นที่การศึกษา/กิจกรรมการจัดการศึกษาประถมศึกษาสำหรับโรงเรียนปกติ/กิจกรรมการสนับสนุนการศึกษาขั้นพื้นฐาน | C12: =+[5]ระบบการควบคุมฯ!C772 -> 20004 70 00148 00000 | D12: =+D13 -> 1600000 | E12: =+E13 -> 400000 | F12: =SUM(D12:E12) -> 2000000 | G12: =+G13 -> 0 | H12: =+H13 -> 0 | I12: =+I13 -> 1952.95 | J12: =+J13 -> 1998047.1 | K12: =+K13 -> 0 | L12: =+L13 -> 0 | M12: =SUM(K12:L12) -> 0 | N12: =+N13 -> 0 | O12: =+O13 -> 0 | P12: =+P13 -> 0 | Q12: =+Q13 -> 0 | R12: =+R13 -> 0 | S12: =+S13 -> 0 | T12: =SUM(R12:S12) -> 0 | U12: =+U13 -> 0 | V12: =+V13 -> 0 | W12: =+W13 -> 0 | X12: =+X13 -> 0 | Y12: =+Y13 -> 1600000 | Z12: =+Z13 -> 400000 | AA12: =SUM(Y12:Z12) -> 2000000 | AB12: =+AB13 -> 0 | AC12: =+AC13 -> 0 | AD12: =+AD13 -> 1952.95 | AE12: =+AE13 -> 1998047.1
B13: =[5]ระบบการควบคุมฯ!B749 -> รวมงบดำเนินงาน 70112xx | C13: =[1]งบประจำและงบกลยุทธ์!C152 -> 0 | D13: =+D14+D28 -> 1600000 | E13: =+E14+E28 -> 400000 | F13: =+F14+F28 -> 2000000 | G13: =+G14+G28 -> 0 | H13: =+H14+H28 -> 0 | I13: =+I14+I28 -> 1952.95 | J13: =+J14+J28 -> 1998047.1 | K13: =+K14+K28 -> 0 | ... AE13: =+AE14+AE28 -> 1998047.1
A14: =+[5]ระบบการควบคุมฯ!A779 -> 1.4.1 | B14: =+[5]ระบบการควบคุมฯ!B779 -> งบประจำ บริหารจัดการสำนักงาน 3,000,000 บาท | C14: =+C12 -> 20004 70 00148 00000 | D14: =SUM(D15:D27) -> 1600000 | E14: =SUM(E15:E27) -> 0 | F14: =SUM(F15:F27) -> 1600000 | G14: =SUM(G15:G27) -> 0 | H14: =SUM(H15:H27) -> 0 | I14: =SUM(I15:I27) -> 1952.95 | J14: =SUM(J15:J27) -> 1598047.1 | K14: =SUM(K15:K27) -> 0 | ... AE14: =SUM(AE15:AE27) -> 1598047.1 | AG14: กลุ่มบริหารงานการเงินและสินทรัพย์
A15: =+[5]ระบบการควบคุมฯ!A780 -> 1 | B15: =+[5]ระบบการควบคุมฯ!B907 -> ค่าสาธารณูปโภค 1,000,000 บาท อนุมัตครั้งที่ 1 300,000 บาท ครั้งที่ 2 140,000 บาท | C15: =+[5]ระบบการควบคุมฯ!C906 -> ศธ04002/ว11486 ลว.9 ก.ค. 69 ครั้งที่ 698 1,642,500 บาท | D15: =[5]ระบบการควบคุมฯ!F780 -> 0 | F15: =SUM(D15:E15) -> 0 | G15: =+[5]ระบบการควบคุมฯ!G780+[5]ระบบการควบคุมฯ!H780 -> 0 | H15: =+[5]ระบบการควบคุมฯ!I780+[5]ระบบการควบคุมฯ!J780 -> 0 | I15: =+[5]ระบบการควบคุมฯ!K780+[5]ระบบการควบคุมฯ!L780 -> 0 | J15: =+F15-G15-H15-I15 -> 0 | Y15: =+R15+K15+D15 -> 0 | Z15: =+S15+L15+E15 -> 0 | AA15: =SUM(Y15:Z15) -> 0 | AB15: =+G15+N15+U15 -> 0 | AC15: =+H15+O15+V15 -> 0 | AD15: =+I15+P15+W15 -> 0 | AE15: =+AA15-AB15-AC15-AD15 -> 0
A16: =+[5]ระบบการควบคุมฯ!A782 -> 1) | B16: =+[5]ระบบการควบคุมฯ!B907 -> ค่าสาธารณูปโภค 1,000,000 บาท อนุมัตครั้งที่ 1 300,000 บาท ครั้งที่ 2 140,000 บาท | C16: =+[5]ระบบการควบคุมฯ!C907 -> ศธ04002/ว46832 ลว.17 ต.ค. 68 ครั้งที่ 7 2,000,000 บาท | D16: =+[5]ระบบการควบคุมฯ!F782 -> 510000 | F16: =SUM(D16:E16) -> 510000 | G16: =+[5]ระบบการควบคุมฯ!G782+[5]ระบบการควบคุมฯ!H782 -> 0 | H16: =+[5]ระบบการควบคุมฯ!I782+[5]ระบบการควบคุมฯ!J782 -> 0 | I16: =+[5]ระบบการควบคุมฯ!K782+[5]ระบบการควบคุมฯ!L782 -> 1952.95 | J16: =+F16-G16-H16-I16 -> 508047.05 | K16: =+[5]ระบบการควบคุมฯ!E907 -> 0 | M16: =SUM(K16:K16) -> 0 | N16: =+[5]ระบบการควบคุมฯ!G907+[5]ระบบการควบคุมฯ!H907 -> 0 | P16: =+[5]ระบบการควบคุมฯ!K907+[5]ระบบการควบคุมฯ!L907 -> 0 | Q16: =+M16-N16-O16-P16 -> 0 | Y16: =+R16+K16+D16 -> 510000 | Z16: =+S16+L16+E16 -> 0 | AA16: =SUM(Y16:Z16) -> 510000 | AB16: =+G16+N16+U16 -> 0 | AC16: =+H16+O16+V16 -> 0 | AD16: =+I16+P16+W16 -> 1952.95 | AE16: =+AA16-AB16-AC16-AD16 -> 508047.05 | AG16: กลุ่มบริหารงานการเงินและสินทรัพย์
A17: =+[5]ระบบการควบคุมฯ!A909 -> 2) | B17: =+[5]ระบบการควบคุมฯ!B909 -> ค้าจ้างเหมาบริการ ลูกจ้างสพป.ปท.2 15000x5คนx12 เดือน 900,000 บาท จัดสรรครั้งที่ 1 225,000 บาท | C17: =+[5]ระบบการควบคุมฯ!C909 -> ศธ04002/ว46832 ลว.17 ต.ค. 68 ครั้งที่ 7 2,000,000 บาท | D17: =+[5]ระบบการควบคุมฯ!F784 -> 600000 | F17: =SUM(D17:E17) -> 600000 | G17: =+[5]ระบบการควบคุมฯ!G784+[5]ระบบการควบคุมฯ!H784 -> 0 | H17: =+[5]ระบบการควบคุมฯ!I784+[5]ระบบการควบคุมฯ!J784 -> 0 | I17: =+[5]ระบบการควบคุมฯ!K784+[5]ระบบการควบคุมฯ!L784 -> 0 | J17: =+F17-G17-H17-I17 -> 600000 | K17: =+[5]ระบบการควบคุมฯ!E909 -> 0 | M17: =SUM(K17:K17) -> 0 | N17: =+[5]ระบบการควบคุมฯ!G909+[5]ระบบการควบคุมฯ!H909 -> 0 | P17: =+[5]ระบบการควบคุมฯ!K909+[5]ระบบการควบคุมฯ!L909 -> 0 | Q17: =+M17-N17-O17-P17 -> 0 | Y17: =+R17+K17+D17 -> 600000 | Z17: =+S17+L17+E17 -> 0 | AA17: =SUM(Y17:Z17) -> 600000 | AB17: =+G17+N17+U17 -> 0 | AC17: =+H17+O17+V17 -> 0 | AD17: =+I17+P17+W17 -> 0 | AE17: =+AA17-AB17-AC17-AD17 -> 600000 | AG17: กลุ่มบริหารงานการเงินและสินทรัพย์
A18: =+[5]ระบบการควบคุมฯ!A910 -> 2.1) | B18: =+[5]ระบบการควบคุมฯ!B910 -> ค้าจ้างเหมาบริการ ลูกจ้างสพป.ปท.2 ครั้งที่ 2 75,000 บาท ยืมยกย่องเชิดชูเกียรติ 50,000 บาท | C18: =+[5]ระบบการควบคุมฯ!C910 -> ศธ04002/ว2369 ลว.11 ก.พ.69 ครั้งที่ 294 500,000 บาท | D18: =+[5]ระบบการควบคุมฯ!F786 -> 0 | F18: =SUM(D18:E18) -> 0 | G18: =+[5]ระบบการควบคุมฯ!G786+[5]ระบบการควบคุมฯ!H786 -> 0 | H18: =+[5]ระบบการควบคุมฯ!I786+[5]ระบบการควบคุมฯ!J786 -> 0 | I18: =+[5]ระบบการควบคุมฯ!K786+[5]ระบบการควบคุมฯ!L786 -> 0 | J18: =+F18-G18-H18-I18 -> 0 | K18: =+[5]ระบบการควบคุมฯ!E910 -> 0 | M18: =SUM(K18:K18) -> 0 | N18: =+[5]ระบบการควบคุมฯ!G910+[5]ระบบการควบคุมฯ!H910 -> 0 | P18: =+[5]ระบบการควบคุมฯ!K910+[5]ระบบการควบคุมฯ!L910 -> 0 | Q18: =+M18-N18-O18-P18 -> 0 | Y18: =+R18+K18+D18 -> 0 | Z18: =+S18+L18+E18 -> 0 | AA18: =SUM(Y18:Z18) -> 0 | AB18: =+G18+N18+U18 -> 0 | AC18: =+H18+O18+V18 -> 0 | AD18: =+I18+P18+W18 -> 0 | AE18: =+AA18-AB18-AC18-AD18 -> 0 | AG18: กลุ่มบริหารงานการเงินและสินทรัพย์
A19: =+[5]ระบบการควบคุมฯ!A913 -> 3) | B19: =+[5]ระบบการควบคุมฯ!B913 -> ค่าใช้จ่ายในการประชุม อ.ก.ค.ศ. เขตพื้นที่การศึกษา 60,000 บาท | C19: =+[5]ระบบการควบคุมฯ!C913 -> ศธ04002/ว46832 ลว.17 ต.ค. 68 ครั้งที่ 7 2,000,000 บาท | D19: =+[5]ระบบการควบคุมฯ!F786 -> 0 | F19: =SUM(D19:E19) -> 0 | G19: =+[5]ระบบการควบคุมฯ!G786+[5]ระบบการควบคุมฯ!H786 -> 0 | H19: =+[5]ระบบการควบคุมฯ!I786+[5]ระบบการควบคุมฯ!J786 -> 0 | I19: =+[5]ระบบการควบคุมฯ!K786+[5]ระบบการควบคุมฯ!L786 -> 0 | J19: =+F19-G19-H19-I19 -> 0 | Y19: =+R19+K19+D19 -> 0 | Z19: =+S19+L19+E19 -> 0 | AA19: =SUM(Y19:Z19) -> 0 | AB19: =+G19+N19+U19 -> 0 | AC19: =+H19+O19+V19 -> 0 | AD19: =+I19+P19+W19 -> 0 | AE19: =+AA19-AB19-AC19-AD19 -> 0 | AG19: กลุ่มบริหารงานบุคคล
A20: =+[5]ระบบการควบคุมฯ!A914 -> 3) | B20: =+[5]ระบบการควบคุมฯ!B914 -> ค่าซ่อมแซมยานพาหนะและขนส่ง 240,000 บาท ครั้งที่ 1 25,000 บาท | C20: =+[5]ระบบการควบคุมฯ!C914 -> ศธ04002/ว46832 ลว.17 ต.ค. 68 ครั้งที่ 7 2,000,000 บาท | D20: =+[5]ระบบการควบคุมฯ!F787 -> 90000 | F20: =SUM(D20:E20) -> 90000 | G20: =+[5]ระบบการควบคุมฯ!G787+[5]ระบบการควบคุมฯ!H787 -> 0 | H20: =+[5]ระบบการควบคุมฯ!I787+[5]ระบบการควบคุมฯ!J787 -> 0 | I20: =+[5]ระบบการควบคุมฯ!K787+[5]ระบบการควบคุมฯ!L787 -> 0 | J20: =+F20-G20-H20-I20 -> 90000 | K20: =+[5]ระบบการควบคุมฯ!E914 -> 0 | M20: =SUM(K20:K20) -> 0 | N20: =+[5]ระบบการควบคุมฯ!G914+[5]ระบบการควบคุมฯ!H914 -> 0 | P20: =+[5]ระบบการควบคุมฯ!K914+[5]ระบบการควบคุมฯ!L914 -> 0 | Q20: =+M20-N20-O20-P20 -> 0 | Y20: =+R20+K20+D20 -> 90000 | Z20: =+S20+L20+E20 -> 0 | AA20: =SUM(Y20:Z20) -> 90000 | AB20: =+G20+N20+U20 -> 0 | AC20: =+H20+O20+V20 -> 0 | AD20: =+I20+P20+W20 -> 0 | AE20: =+AA20-AB20-AC20-AD20 -> 90000 | AG20: กลุ่มบริหารงานการเงินและสินทรัพย์
A21: =+[5]ระบบการควบคุมฯ!A916 -> 4) | B21: =+[5]ระบบการควบคุมฯ!B916 -> ค่าซ่อมแซมครุภัณฑ์ 200,000 บาท ครั้งที่ 1 127,290 บาท | C21: =+[5]ระบบการควบคุมฯ!C916 -> ศธ04002/ว46832 ลว.17 ต.ค. 68 ครั้งที่ 7 2,000,000 บาท | D21: =+[5]ระบบการควบคุมฯ!F789 -> 100000 | F21: =SUM(D21:E21) -> 100000 | G21: =+[5]ระบบการควบคุมฯ!G789+[5]ระบบการควบคุมฯ!H789 -> 0 | H21: =+[5]ระบบการควบคุมฯ!I789+[5]ระบบการควบคุมฯ!J789 -> 0 | I21: =+[5]ระบบการควบคุมฯ!K789+[5]ระบบการควบคุมฯ!L789 -> 0 | J21: =+F21-G21-H21-I21 -> 100000 | K21: =+[5]ระบบการควบคุมฯ!E916 -> 0 | M21: =SUM(K21:K21) -> 0 | N21: =+[5]ระบบการควบคุมฯ!G916+[5]ระบบการควบคุมฯ!H916 -> 0 | P21: =+[5]ระบบการควบคุมฯ!K916+[5]ระบบการควบคุมฯ!L916 -> 0 | Q21: =+M21-N21-O21-P21 -> 0 | Y21: =+R21+K21+D21 -> 100000 | Z21: =+S21+L21+E21 -> 0 | AA21: =SUM(Y21:Z21) -> 100000 | AB21: =+G21+N21+U21 -> 0 | AC21: =+H21+O21+V21 -> 0 | AD21: =+I21+P21+W21 -> 0 | AE21: =+AA21-AB21-AC21-AD21 -> 100000 | AG21: กลุ่มบริหารงานการเงินและสินทรัพย์
A22: =+[5]ระบบการควบคุมฯ!A918 -> 5) | B22: =+[5]ระบบการควบคุมฯ!B918 -> ค่าวัสดุสำนักงาน 350000 บาท ครั้งที่ 1 150,000 บาทครั้งที่ 2 25,000 บาท | C22: =+[5]ระบบการควบคุมฯ!C918 -> ศธ04002/ว46832 ลว.17 ต.ค. 68 ครั้งที่ 7 2,000,000 บาท | D22: =+[5]ระบบการควบคุมฯ!F790 -> 100000 | F22: =SUM(D22:E22) -> 100000 | G22: =+[5]ระบบการควบคุมฯ!G790+[5]ระบบการควบคุมฯ!H790 -> 0 | H22: =+[5]ระบบการควบคุมฯ!I790+[5]ระบบการควบคุมฯ!J790 -> 0 | I22: =+[5]ระบบการควบคุมฯ!K790+[5]ระบบการควบคุมฯ!L790 -> 0 | J22: =+F22-G22-H22-I22 -> 100000 | K22: =+[5]ระบบการควบคุมฯ!E918 -> 0 | M22: =SUM(K22:K22) -> 0 | N22: =+[5]ระบบการควบคุมฯ!G918+[5]ระบบการควบคุมฯ!H918 -> 0 | P22: =+[5]ระบบการควบคุมฯ!K918+[5]ระบบการควบคุมฯ!L918 -> 0 | Q22: =+M22-N22-O22-P22 -> 0 | Y22: =+R22+K22+D22 -> 100000 | Z22: =+S22+L22+E22 -> 0 | AA22: =SUM(Y22:Z22) -> 100000 | AB22: =+G22+N22+U22 -> 0 | AC22: =+H22+O22+V22 -> 0 | AD22: =+I22+P22+W22 -> 0 | AE22: =+AA22-AB22-AC22-AD22 -> 100000 | AG22: กลุ่มบริหารงานการเงินและสินทรัพย์
A23: =+[5]ระบบการควบคุมฯ!A919 -> 5.1) | B23: =+[5]ระบบการควบคุมฯ!B919 -> ค่าวัสดุสำนักงาน ครั้งที่ 2 25,000 บาท | C23: =+[5]ระบบการควบคุมฯ!C919 -> ศธ04002/ว2369 ลว.11 ก.พ.69 ครั้งที่ 294 500,000 บาท
A24: =+[5]ระบบการควบคุมฯ!A922 -> 7) | B24: =+[5]ระบบการควบคุมฯ!B922 -> ค่าน้ำมันเชื้อเพลิงและหล่อลื่น 200,000 บาท อนุมัติครั้งที่ 1 60,000 บาท | C24: =+[5]ระบบการควบคุมฯ!C922 -> ศธ04002/ว46832 ลว.17 ต.ค. 68 ครั้งที่ 7 2,000,000 บาท | D24: =+[5]ระบบการควบคุมฯ!F792 -> 100000 | F24: =SUM(D24:E24) -> 100000 | G24: =+[5]ระบบการควบคุมฯ!G792+[5]ระบบการควบคุมฯ!H792 -> 0 | H24: =+[5]ระบบการควบคุมฯ!I792+[5]ระบบการควบคุมฯ!J792 -> 0 | I24: =+[5]ระบบการควบคุมฯ!K792+[5]ระบบการควบคุมฯ!L792 -> 0 | J24: =+F24-G24-H24-I24 -> 100000 | K24: =+[5]ระบบการควบคุมฯ!E922 -> 0 | M24: =SUM(K24:K24) -> 0 | N24: =+[5]ระบบการควบคุมฯ!G922+[5]ระบบการควบคุมฯ!H922 -> 0 | P24: =+[5]ระบบการควบคุมฯ!K922+[5]ระบบการควบคุมฯ!L922 -> 0 | Q24: =+M24-N24-O24-P24 -> 0 | Y24: =+R24+K24+D24 -> 100000 | Z24: =+S24+L24+E24 -> 0 | AA24: =SUM(Y24:Z24) -> 100000 | AB24: =+G24+N24+U24 -> 0 | AC24: =+H24+O24+V24 -> 0 | AD24: =+I24+P24+W24 -> 0 | AE24: =+AA24-AB24-AC24-AD24 -> 100000 | AG24: กลุ่มบริหารงานการเงินและสินทรัพย์
A25: =+[5]ระบบการควบคุมฯ!A923 -> 7.1) | B25: =+[5]ระบบการควบคุมฯ!B796 -> อนุมัติโอนพาหนะ 50,000 บาท | C25: =+[5]ระบบการควบคุมฯ!C796 -> 0 | D25: =+[5]ระบบการควบคุมฯ!F796 -> 0 | F25: =SUM(D25:E25) -> 0 | G25: =+[5]ระบบการควบคุมฯ!G796+[5]ระบบการควบคุมฯ!H796 -> 0 | H25: =+[5]ระบบการควบคุมฯ!I796+[5]ระบบการควบคุมฯ!J796 -> 0 | I25: =+[5]ระบบการควบคุมฯ!K796+[5]ระบบการควบคุมฯ!L796 -> 0 | J25: =+F25-G25-H25-I25 -> 0 | Y25: =+R25+K25+D25 -> 0 | Z25: =+S25+L25+E25 -> 0 | AA25: =SUM(Y25:Z25) -> 0 | AB25: =+G25+N25+U25 -> 0 | AC25: =+H25+O25+V25 -> 0 | AD25: =+I25+P25+W25 -> 0 | AE25: =+AA25-AB25-AC25-AD25 -> 0 | AG25: กลุ่มบริหารงานการเงินและสินทรัพย์
A26: =+[5]ระบบการควบคุมฯ!A924 -> 8.1) | B26: =+[5]ระบบการควบคุมฯ!B924 -> ค่าใช้จ่ายในการเดินทางไปราชการและค่าใช้จ่ายในการประชุม งบประมาณ 110,000 บาท อนุมัติครั้งที่ 1 65,000 บาท บวกครั้งที่ 2-3 55000 บาท | C26: =+[5]ระบบการควบคุมฯ!C924 -> ศธ04002/ว46832 ลว.17 ต.ค. 68 ครั้งที่ 7 2,000,000 บาท | D26: =+[5]ระบบการควบคุมฯ!F793 -> 100000 | F26: =SUM(D26:D26) -> 100000 | G26: =+[5]ระบบการควบคุมฯ!G793+[5]ระบบการควบคุมฯ!H793 -> 0 | H26: =+[5]ระบบการควบคุมฯ!I793+[5]ระบบการควบคุมฯ!J793 -> 0 | I26: =+[5]ระบบการควบคุมฯ!K793+[5]ระบบการควบคุมฯ!L793 -> 0 | J26: =+F26-G26-H26-I26 -> 100000 | K26: =+[5]ระบบการควบคุมฯ!E924 -> 0 | M26: =SUM(K26:K26) -> 0 | N26: =+[5]ระบบการควบคุมฯ!G924+[5]ระบบการควบคุมฯ!H924 -> 0 | P26: =+[5]ระบบการควบคุมฯ!K924+[5]ระบบการควบคุมฯ!L924 -> 0 | Q26: =+M26-N26-O26-P26 -> 0 | Y26: =+R26+K26+D26 -> 100000 | Z26: =+S26+L26+E26 -> 0 | AA26: =SUM(Y26:Z26) -> 100000 | AB26: =+G26+N26+U26 -> 0 | AC26: =+H26+O26+V26 -> 0 | AD26: =+I26+P26+W26 -> 0 | AE26: =+AA26-AB26-AC26-AD26 -> 100000 | AG26: กลุ่มบริหารงานการเงินและสินทรัพย์
A27: =+[5]ระบบการควบคุมฯ!A926 -> 9) | B27: =+[5]ระบบการควบคุมฯ!B926 -> งบกลาง 200,000 บาท +เพิ่มเติม 142,500 บาท อนุมัติพาหนะ 50,000บาท วัสดุ 100,000 บาท | C27: =+[5]ระบบการควบคุมฯ!C926 -> ศธ04002/ว46832 ลว.17 ต.ค. 68 ครั้งที่ 7 2,000,000 บาท | D27: =+[5]ระบบการควบคุมฯ!F795 -> 0 | F27: =SUM(D27:E27) -> 0 | G27: =+[5]ระบบการควบคุมฯ!G795+[5]ระบบการควบคุมฯ!H795 -> 0 | H27: =+[5]ระบบการควบคุมฯ!I795+[5]ระบบการควบคุมฯ!J795 -> 0 | I27: =+[5]ระบบการควบคุมฯ!K795+[5]ระบบการควบคุมฯ!L795 -> 0 | J27: =+F27-G27-H27-I27 -> 0 | K27: =+[5]ระบบการควบคุมฯ!E926 -> 0 | M27: =SUM(K27:K27) -> 0 | N27: =+[5]ระบบการควบคุมฯ!G926+[5]ระบบการควบคุมฯ!H926 -> 0 | P27: =+[5]ระบบการควบคุมฯ!K926+[5]ระบบการควบคุมฯ!L926 -> 0 | Q27: =+M27-N27-O27-P27 -> 0 | Y27: =+R27+K27+D27 -> 0 | Z27: =+S27+L27+E27 -> 0 | AA27: =SUM(Y27:Z27) -> 0 | AB27: =+G27+N27+U27 -> 0 | AC27: =+H27+O27+V27 -> 0 | AD27: =+I27+P27+W27 -> 0 | AE27: =+AA27-AB27-AC27-AD27 -> 0 | AG27: กลุ่มนโยบายและแผน
A28: =+[5]ระบบการควบคุมฯ!A931 -> 2 | B28: =+[5]ระบบการควบคุมฯ!B931 -> งบกลยุทธ์ ของสพป.ปท.2 1,800,000 บาท | C28: =+[5]ระบบการควบคุมฯ!C931 -> ศธ04002/ว11486 ลว.9 ก.ค. 69 ครั้งที่ 698 1,642,500 บาท | D28: =+D29+D40+D45+D48 -> 0 | E28: =+E29+E40+E45+E48 -> 400000 | F28: =+F29+F40+F45+F48 -> 400000 | G28: =+G29+G40+G45+G48 -> 0 | H28: =+H29+H40+H45+H48 -> 0 | I28: =+I29+I40+I45+I48 -> 0 | J28: =+J29+J40+J45+J48 -> 400000 | K28: =+K29+K40+K45+K48 -> 0 | ... AE28: =+AE29+AE40+AE45+AE48 -> 400000 | AF28: =SUM(AF45:AF67) -> 0 | AG28: กลุ่มนิเทศติดตามและประเมินผลฯ
A29: =+[5]ระบบการควบคุมฯ!A932 -> 2.1) | B29: =+[5]ระบบการควบคุมฯ!B932 -> กลยุทธ์ที่ 1 ยกระดับคุณภาพการศึกษา 391,200 บาท จัดสรรครั้งที่ 1 362,000 บาท จัดครั้งที่ 2 4,200 บาท | C29: =+C28 -> ศธ04002/ว11486 ลว.9 ก.ค. 69 ครั้งที่ 698 1,642,500 บาท | D29: =SUM(D30:D39) -> 0 | E29: =SUM(E30:E39) -> 0 | F29: =SUM(F30:F39) -> 0 | G29: =SUM(G30:G39) -> 0 | H29: =SUM(H30:H39) -> 0 | I29: =SUM(I30:I39) -> 0 | J29: =SUM(J30:J39) -> 0 | K29: =SUM(K30:K39) -> 0 | ... AF29: =SUM(AF30:AF39) -> 0
A30: =+[5]ระบบการควบคุมฯ!A933 -> 2.1.1) | B30: =+[5]ระบบการควบคุมฯ!B933 -> โครงการพัฒนาหลักสูตรสถานศึกษาและกระบวนการจัดการเรียนรู้สู่ฐานสมรรถนะ 67,950 บาท | C30: =+[5]ระบบการควบคุมฯ!C933 -> ศธ04002/ว46832 ลว.17 ต.ค. 68 ครั้งที่ 7 2,000,000 บาท | K30: =+[5]ระบบการควบคุมฯ!D941 -> 0 | L30: =+[5]ระบบการควบคุมฯ!E933 -> 0 | M30: =SUM(K30:L30) -> 0 | N30: =+[5]ระบบการควบคุมฯ!G933+[5]ระบบการควบคุมฯ!H933 -> 0 | P30: =+[5]ระบบการควบคุมฯ!K933+[5]ระบบการควบคุมฯ!L933 -> 0 | Q30: =+M30-N30-O30-P30 -> 0 | Y30: =+D30+K30+R30 -> 0 | Z30: =+E30+S30+L30 -> 0 | AA30: =SUM(Y30:Z30) -> 0 | AB30: =+G30+U30+N30 -> 0 | AC30: =+H30+V30+O30 -> 0 | AD30: =+I30+W30+P30 -> 0 | AE30: =+AA30-AB30-AC30-AD30 -> 0 | AG30: กลุ่มนิเทศติดตามและประเมินผลฯ
A31: =+[5]ระบบการควบคุมฯ!A934 -> 0 | B31: =+[5]ระบบการควบคุมฯ!B934 -> อนุมพิ่มครั้งที่ 2 49,950 บาท | C31: =+[5]ระบบการควบคุมฯ!C934 -> ศธ04002/ว2369 ลว.11 ก.พ.69 ครั้งที่ 294 500,000 บาท | K31: =+[5]ระบบการควบคุมฯ!D943 -> 0 | L31: =+[5]ระบบการควบคุมฯ!E934 -> 0 | M31: =SUM(K31:L31) -> 0 | N31: =+[5]ระบบการควบคุมฯ!G934+[5]ระบบการควบคุมฯ!H934 -> 0 | P31: =+[5]ระบบการควบคุมฯ!K934+[5]ระบบการควบคุมฯ!L934 -> 0 | Q31: =+M31-N31-O31-P31 -> 0 | Y31: =+D31+K31+R31 -> 0 | Z31: =+E31+S31+L31 -> 0 | AA31: =SUM(Y31:Z31) -> 0 | AB31: =+G31+U31+N31 -> 0 | AC31: =+H31+V31+O31 -> 0 | AD31: =+I31+W31+P31 -> 0 | AE31: =+AA31-AB31-AC31-AD31 -> 0
A32: =+[5]ระบบการควบคุมฯ!A935 -> 2.1.2) | B32: =+[5]ระบบการควบคุมฯ!B935 -> โครงการขับเคลื่อนพัฒนาระบบการประกันคุณภาพภายในโดยใช้กลุ่มเครือข่ายสถานศึกษาแบบยั่งยืน 50,000 บาท | C32: =+[5]ระบบการควบคุมฯ!C935 -> ศธ04002/ว46832 ลว.17 ต.ค. 68 ครั้งที่ 7 2,000,000 บาท | K32: =+[5]ระบบการควบคุมฯ!D944 -> 0 | L32: =+[5]ระบบการควบคุมฯ!E935 -> 0 | M32: =SUM(K32:L32) -> 0 | N32: =+[5]ระบบการควบคุมฯ!G935+[5]ระบบการควบคุมฯ!H935 -> 0 | P32: =+[5]ระบบการควบคุมฯ!K935+[5]ระบบการควบคุมฯ!L935 -> 0 | Q32: =+M32-N32-O32-P32 -> 0 | Y32: =+D32+K32+R32 -> 0 | Z32: =+E32+S32+L32 -> 0 | AA32: =SUM(Y32:Z32) -> 0 | AB32: =+G32+U32+N32 -> 0 | AC32: =+H32+V32+O32 -> 0 | AD32: =+I32+W32+P32 -> 0 | AE32: =+AA32-AB32-AC32-AD32 -> 0 | AG32: กลุ่มนิเทศติดตามและประเมินผลฯ
A33: =+[5]ระบบการควบคุมฯ!A936 -> 0 | B33: =+[5]ระบบการควบคุมฯ!B936 -> อนุมพิ่มครั้งที่ 2 30,000 บาท | C33: =+[5]ระบบการควบคุมฯ!C936 -> ศธ04002/ว2369 ลว.11 ก.พ.69 ครั้งที่ 294 500,000 บาท | K33: =+[5]ระบบการควบคุมฯ!D945 -> 0 | L33: =+[5]ระบบการควบคุมฯ!E936 -> 0 | M33: =SUM(K33:L33) -> 0 | N33: =+[5]ระบบการควบคุมฯ!G936+[5]ระบบการควบคุมฯ!H936 -> 0 | P33: =+[5]ระบบการควบคุมฯ!K936+[5]ระบบการควบคุมฯ!L936 -> 0 | Q33: =+M33-N33-O33-P33 -> 0 | Y33: =+D33+K33+R33 -> 0 | Z33: =+E33+S33+L33 -> 0 | AA33: =SUM(Y33:Z33) -> 0 | AB33: =+G33+U33+N33 -> 0 | AC33: =+H33+V33+O33 -> 0 | AD33: =+I33+W33+P33 -> 0 | AE33: =+AA33-AB33-AC33-AD33 -> 0
A34: =+[5]ระบบการควบคุมฯ!A937 -> 2.1.3) | B34: =+[5]ระบบการควบคุมฯ!B937 -> โครงการส่งเสริมประสิทธิผลการสอนของครูโดยการใช้ปัญญาประดิษฐ์ (AI) บนแพลตฟอร์ดิจิทัล 43,850 บาท | C34: =+[5]ระบบการควบคุมฯ!C937 -> ศธ04002/ว46832 ลว.17 ต.ค. 68 ครั้งที่ 7 2,000,000 บาท | K34: =+[5]ระบบการควบคุมฯ!D946 -> 0 | L34: =+[5]ระบบการควบคุมฯ!E937 -> 0 | M34: =SUM(K34:L34) -> 0 | N34: =+[5]ระบบการควบคุมฯ!G937+[5]ระบบการควบคุมฯ!H937 -> 0 | P34: =+[5]ระบบการควบคุมฯ!K937+[5]ระบบการควบคุมฯ!L937 -> 0 | Q34: =+M34-N34-O34-P34 -> 0 | Y34: =+D34+K34+R34 -> 0 | Z34: =+E34+S34+L34 -> 0 | AA34: =SUM(Y34:Z34) -> 0 | AB34: =+G34+U34+N34 -> 0 | AC34: =+H34+V34+O34 -> 0 | AD34: =+I34+W34+P34 -> 0 | AE34: =+AA34-AB34-AC34-AD34 -> 0 | AG34: กลุ่มนิเทศติดตามและประเมินผลฯ
A35: =+[5]ระบบการควบคุมฯ!A938 -> 0 | B35: =+[5]ระบบการควบคุมฯ!B938 -> อนุมัติครั้งที่ 2 31850 บาท | C35: =+[5]ระบบการควบคุมฯ!C938 -> ศธ04002/ว2369 ลว.11 ก.พ.69 ครั้งที่ 294 500,000 บาท | K35: =+[5]ระบบการควบคุมฯ!D947 -> 0 | L35: =+[5]ระบบการควบคุมฯ!E938 -> 0 | M35: =SUM(K35:L35) -> 0 | N35: =+[5]ระบบการควบคุมฯ!G938+[5]ระบบการควบคุมฯ!H938 -> 0 | P35: =+[5]ระบบการควบคุมฯ!K938+[5]ระบบการควบคุมฯ!L938 -> 0 | Q35: =+M35-N35-O35-P35 -> 0 | Y35: =+D35+K35+R35 -> 0 | Z35: =+E35+S35+L35 -> 0 | AA35: =SUM(Y35:Z35) -> 0 | AB35: =+G35+U35+N35 -> 0 | AC35: =+H35+V35+O35 -> 0 | AD35: =+I35+W35+P35 -> 0 | AE35: =+AA35-AB35-AC35-AD35 -> 0
A36: =+[5]ระบบการควบคุมฯ!A939 -> 2.1.4 | B36: =+[5]ระบบการควบคุมฯ!B939 -> โครงการโรงเรียนคุณธรรม สพฐ. 25,000 บาท | C36: =+[5]ระบบการควบคุมฯ!C939 -> ศธ04002/ว2369 ลว.11 ก.พ.69 ครั้งที่ 294 500,000 บาท | K36: =+[5]ระบบการควบคุมฯ!D948 -> 0 | L36: =+[5]ระบบการควบคุมฯ!E939 -> 0 | M36: =SUM(K36:L36) -> 0 | N36: =+[5]ระบบการควบคุมฯ!G939+[5]ระบบการควบคุมฯ!H939 -> 0 | P36: =+[5]ระบบการควบคุมฯ!K939+[5]ระบบการควบคุมฯ!L939 -> 0 | Q36: =+M36-N36-O36-P36 -> 0 | Y36: =+D36+K36+R36 -> 0 | Z36: =+E36+S36+L36 -> 0 | AA36: =SUM(Y36:Z36) -> 0 | AB36: =+G36+U36+N36 -> 0 | AC36: =+H36+V36+O36 -> 0 | AD36: =+I36+W36+P36 -> 0 | AE36: =+AA36-AB36-AC36-AD36 -> 0 | AG36: กลุ่มนิเทศติดตามและประเมินผลฯ
A37: =+[5]ระบบการควบคุมฯ!A940 -> 2.1.5 | B37: =+[5]ระบบการควบคุมฯ!B940 -> โครงการส่งเสริมคุณภาพการจัดการเรียนรู้แนวใหม่ จำนวนเงิน 104,400 บาท อนุมัติครั้งที่ 1 30,000 บาทครั้งที่ 2 63,200 บาท ครั้งที่ 3 4200 บาท | C37: =+[5]ระบบการควบคุมฯ!C940 -> ศธ04002/ว46832 ลว.17 ต.ค. 68 ครั้งที่ 7 2,000,000 บาท | D37: =+[5]ระบบการควบคุมฯ!D813 -> 0 | E37: =+[5]ระบบการควบคุมฯ!E813 -> 0 | F37: =SUM(D37:E37) -> 0 | G37: =+[5]ระบบการควบคุมฯ!G813+[5]ระบบการควบคุมฯ!H813 -> 0 | H37: =+[5]ระบบการควบคุมฯ!I813+[5]ระบบการควบคุมฯ!J813 -> 0 | I37: =+[5]ระบบการควบคุมฯ!K813+[5]ระบบการควบคุมฯ!L813 -> 0 | J37: =+F37-G37-H37-I37 -> 0 | K37: =+[5]ระบบการควบคุมฯ!D949 -> 0 | L37: =+[5]ระบบการควบคุมฯ!E940 -> 0 | M37: =SUM(K37:L37) -> 0 | N37: =+[5]ระบบการควบคุมฯ!G940+[5]ระบบการควบคุมฯ!H940 -> 0 | P37: =+[5]ระบบการควบคุมฯ!K940+[5]ระบบการควบคุมฯ!L940 -> 0 | Q37: =+M37-N37-O37-P37 -> 0 | Y37: =+D37+K37+R37 -> 0 | Z37: =+E37+S37+L37 -> 0 | AA37: =SUM(Y37:Z37) -> 0 | AB37: =+G37+U37+N37 -> 0 | AC37: =+H37+V37+O37 -> 0 | AD37: =+I37+W37+P37 -> 0 | AE37: =+AA37-AB37-AC37-AD37 -> 0 | AG37: กลุ่มนิเทศติดตามและประเมินผลฯ
A38: =+[5]ระบบการควบคุมฯ!A941 -> 0 | B38: =+[5]ระบบการควบคุมฯ!B941 -> อนุมัติครั้งที่ 2 63,200 บาท | C38: =+[5]ระบบการควบคุมฯ!C941 -> ศธ04002/ว2369 ลว.11 ก.พ.69 ครั้งที่ 294 500,000 บาท | K38: =+[5]ระบบการควบคุมฯ!D950 -> 0 | L38: =+[5]ระบบการควบคุมฯ!E941 -> 0 | M38: =SUM(K38:L38) -> 0 | N38: =+[5]ระบบการควบคุมฯ!G941+[5]ระบบการควบคุมฯ!H941 -> 0 | P38: =+[5]ระบบการควบคุมฯ!K941+[5]ระบบการควบคุมฯ!L941 -> 0 | Q38: =+M38-N38-O38-P38 -> 0 | Y38: =+D38+K38+R38 -> 0 | Z38: =+E38+S38+L38 -> 0 | AA38: =SUM(Y38:Z38) -> 0 | AB38: =+G38+U38+N38 -> 0 | AC38: =+H38+V38+O38 -> 0 | AD38: =+I38+W38+P38 -> 0 | AE38: =+AA38-AB38-AC38-AD38 -> 0
A39: =+[5]ระบบการควบคุมฯ!A943 -> 2.1.6) | B39: =+[5]ระบบการควบคุมฯ!B943 -> โครงการวัดและประเมินผลเพื่อพัฒนาการเรียนรู้ของผู้เรียน 100,000 บาท อนุมัติครั้งที่ 1 82,000 บาท | C39: =+[5]ระบบการควบคุมฯ!C943 -> ศธ04002/ว46832 ลว.17 ต.ค. 68 ครั้งที่ 7 2,000,000 บาท | K39: =+[5]ระบบการควบคุมฯ!D943 -> 0 | L39: =+[5]ระบบการควบคุมฯ!E943 -> 0 | M39: =SUM(K39:L39) -> 0 | N39: =+[5]ระบบการควบคุมฯ!G943+[5]ระบบการควบคุมฯ!H943 -> 0 | P39: =+[5]ระบบการควบคุมฯ!K943+[5]ระบบการควบคุมฯ!L943 -> 0 | Q39: =+M39-N39-O39-P39 -> 0 | Y39: =+D39+K39+R39 -> 0 | Z39: =+E39+S39+L39 -> 0 | AA39: =SUM(Y39:Z39) -> 0 | AB39: =+G39+U39+N39 -> 0 | AC39: =+H39+V39+O39 -> 0 | AD39: =+I39+W39+P39 -> 0 | AE39: =+AA39-AB39-AC39-AD39 -> 0 | AG39: กลุ่มนิเทศติดตามและประเมินผลฯ
A40: =+[5]ระบบการควบคุมฯ!A947 -> 2.2) | B40: =+[5]ระบบการควบคุมฯ!B947 -> กลยุทธ์ที่ 2 เพิ่มโอกาสและความเสมอภาคทางการศึกษา 98,710 บาท จัดสรรครั้งที่ 1 50,000 บาท ยืมงบกลาง 30710 บาท | C40: =+C29 -> ศธ04002/ว11486 ลว.9 ก.ค. 69 ครั้งที่ 698 1,642,500 บาท | D40: =SUM(D41:D44) -> 0 | E40: =SUM(E41:E44) -> 0 | F40: =SUM(F41:F44) -> 0 | G40: =SUM(G41:G44) -> 0 | H40: =SUM(H41:H44) -> 0 | I40: =SUM(I41:I44) -> 0 | J40: =SUM(J41:J44) -> 0 | K40: =SUM(K41:K44) -> 0 | ... AF40: =SUM(AF41:AF44) -> 0
...

Sheet งบสพฐ
A1: งบประมาณของสำนักงานคณะกรรมการการศึกษาขั้นพื้นฐาน
A2: ประจำปีงบประมาณ พ.ศ. 2570
A3: กลุ่มบริหารงานการเงินและสินทรัพย์ สำนักงานเขตพื้นที่การศึกษาประถมศึกษาปทุมธานี เขต 2
B4: =+[5]งบประจำและงบกลยุทธ์!A4 -> ประจำเดือนตุลาคม 2569 | I4: รายละเอียด 4
A5: ที่ | B5: รายการ | C5: รหัสงบประมาณ/หนังสือแจ้งโอน | D5: เงินงวด | E5: ผูกพัน | F5: กันไว้เบิกเหลื่อมปี | G5: เบิกจ่าย | H5: คงเหลือ | I5: ผู้รับผิดชอบ
A6: =+[5]ระบบการควบคุมฯ!A7 -> ก | B6: =+[5]ระบบการควบคุมฯ!B7 -> แผนงานบุคลากรภาครัฐ | C6: =+[5]ระบบการควบคุมฯ!C7 [5]ระบบการควบคุมฯ!C7 -> 20004 1400 0800 | D6: =+D7 -> 3653000 | E6: =+E7 -> 0 | F6: =+F7 -> 0 | G6: =+G7 -> 583295 | H6: =+H7 -> 3069705
A7: =+[5]ระบบการควบคุมฯ!A8 -> 1 | B7: =+[5]ระบบการควบคุมฯ!B8 -> ผลผลิตรายการค่าใช้จ่ายบุคลากรภาครัฐ ยกระดับคุณภาพการศึกษาและการเรียนรู้ตลอดชีวิต | C7: =+[5]ระบบการควบคุมฯ!C8 -> 20004 1400 0800 | D7: =+D8 -> 3653000 | E7: =+E8 -> 0 | F7: =+F8 -> 0 | G7: =+G8 -> 583295 | H7: =+H8 -> 3069705
A8: =+[5]ระบบการควบคุมฯ!A10 -> 1.1 | B8: =+[5]ระบบการควบคุมฯ!B10 -> กิจกรรมค่าใช้จ่ายบุคลากรภาครัฐของสำนักงานคณะกรรมการการศึกษาขั้นพื้นฐาน | C8: =+[5]ระบบการควบคุมฯ!C10 -> 20004 70 79456 00000 | D8: =+D9+D13+D20 -> 3653000 | E8: =+E9+E13+E20 -> 0 | F8: =+F9+F13+F20 -> 0 | G8: =+G9+G13+G20 -> 583295 | H8: =+H9+H13+H20 -> 3069705
B9: =+[5]ระบบการควบคุมฯ!B12 -> งบบุคลากร ค่าจ้างชั่วคราว 7011130 | C9: =+[5]ระบบการควบคุมฯ!C12 -> 20004 14000800 1000000 | D9: =+D10+D11 -> 0 | E9: =+E10+E11 -> 0 | F9: =+F10+F11 -> 0 | G9: =+G10+G11 -> 0 | H9: =+H10+H11 -> 0
A10: =+[5]ระบบการควบคุมฯ!A13 -> 1.2.1 | B10: =+[5]ระบบการควบคุมฯ!_Hlk231936231 -> ค่าจ้างชั่วคราว จำนวน 26 อัตรา จำนวน 2 เดือน (มิถุนายน - กรกฎาคม 2569) 994,300 บาท | C10: =+[5]ระบบการควบคุมฯ!C13 -> ศธ 04002/ว9361 ลว. 4 มิ.ย. 69 ครั้งที่ 691 | D10: =+[5]ระบบการควบคุมฯ!F13 -> 0 | E10: =+[5]ระบบการควบคุมฯ!G13+[5]ระบบการควบคุมฯ!H13 -> 0 | F10: =+[5]ระบบการควบคุมฯ!I13+[5]ระบบการควบคุมฯ!J13 -> 0 | G10: =+[5]ระบบการควบคุมฯ!K13+[5]ระบบการควบคุมฯ!L13 -> 0 | H10: =+D10-E10-F10-G10 -> 0 | I10: กลุ่มบริหารงานการเงินและสินทรัพย์
A11: =+[5]ระบบการควบคุมฯ!A14 -> 1.2.2 | B11: =+[5]ระบบการควบคุมฯ!B14 -> ค่าจ้างชั่วคราว จำนวน 26 อัตรา จำนวน 1 เดือน (สิงหาคม 2569) 497,200 บาท | C11: =+[5]ระบบการควบคุมฯ!C14 -> ศธ 04002/ว13660 ลว. 6 ส.ค. 69 ครั้งที่ 830 | E11: =+[5]ระบบการควบคุมฯ!G14+[5]ระบบการควบคุมฯ!H14 -> 0 | F11: =+[5]ระบบการควบคุมฯ!I14+[5]ระบบการควบคุมฯ!J14 -> 0 | G11: =+[5]ระบบการควบคุมฯ!K14+[5]ระบบการควบคุมฯ!L14 -> 0 | H11: =+D11-E11-F11-G11 -> 0 | I11: กลุ่มบริหารงานการเงินและสินทรัพย์
A12: =+[5]ระบบการควบคุมฯ!A15 -> 1.2.3 | B12: =+[5]ระบบการควบคุมฯ!B15 -> ค่าจ้างชั่วคราว จำนวน 26 อัตรา จำนวน 1 เดือน (กันยายน 2569) 497,200 บาท | C12: =+[5]ระบบการควบคุมฯ!C15 -> ศธ 04002/ว16102 ลว. 10 ก.ย. 69 ครั้งที่ 910 | E12: =+[5]ระบบการควบคุมฯ!G15+[5]ระบบการควบคุมฯ!H15 -> 0 | F12: =+[5]ระบบการควบคุมฯ!I15+[5]ระบบการควบคุมฯ!J15 -> 0 | G12: =+[5]ระบบการควบคุมฯ!K15+[5]ระบบการควบคุมฯ!L15 -> 0 | H12: =+D12-E12-F12-G12 -> 0 | I12: กลุ่มบริหารงานการเงินและสินทรัพย์
B13: =+[5]ระบบการควบคุมฯ!B16 -> งบบุคลากร 7011150 | C13: =+[5]ระบบการควบคุมฯ!C16 -> 20004 14000800 1000000 | D13: =SUM(D14:D18) -> 3522000 | E13: =SUM(E14:E18) -> 0 | F13: =SUM(F14:F18) -> 0 | G13: =SUM(G14:G18) -> 564920 | H13: =SUM(H14:H18) -> 2957080
A14: =+[5]ระบบการควบคุมฯ!A18 -> 1.1.1 | B14: =+[5]ระบบการควบคุมฯ!B18 -> ค่าตอบแทนพนักงานราชการ 22 อัตรา 6 เดือน(ต.ค.69 - มี.ค.70) 3522000 บาท | C14: =+[5]ระบบการควบคุมฯ!C18 -> ศธ 04002/ว18314 ลว.14 ต.ค.69 ครั้งที่ 2 | D14: =+[5]ระบบการควบคุมฯ!F18 -> 3522000 | E14: =+[5]ระบบการควบคุมฯ!G18+[5]ระบบการควบคุมฯ!H18 -> 0 | F14: =+[5]ระบบการควบคุมฯ!I18+[5]ระบบการควบคุมฯ!J18 -> 0 | G14: =+[5]ระบบการควบคุมฯ!K18+[5]ระบบการควบคุมฯ!L18 -> 564920 | H14: =+D14-E14-F14-G14 -> 2957080 | I14: กลุ่มบริหารงานการเงินและสินทรัพย์
A15: =+[5]ระบบการควบคุมฯ!A19 -> 1.1.1.1 | B15: =+[5]ระบบการควบคุมฯ!B19 -> ค่าตอบแทนพนักงานราชการ 22 อัตรา เงินเลื่อนค่าตอบแทนพนักงานราชการประจำปี จำนวน 5 เดือน (ตุลาคม 2568 -กุมภาพันธ์ 2569) 116,000 บาท | C15: =+[5]ระบบการควบคุมฯ!C19 -> ศธ 04002/ว50977 ลว. 22 ธ.ค.68 ครั้งที่ 172
A16: =+[5]ระบบการควบคุมฯ!A20 -> 1.1.1.2 | B16: =+[5]ระบบการควบคุมฯ!B20 -> ค่าตอบแทนพนักงานราชการ 22 อัตรา 5 เดือน (มีค-กค 69) 2,965,000 บาท | C16: =+[5]ระบบการควบคุมฯ!C20 -> ศธ 04002/ว4964 ลว. 23 มีค 69 ครั้งที่ 386
A17: =+[5]ระบบการควบคุมฯ!A21 -> 1.1.1.3 | B17: =+[5]ระบบการควบคุมฯ!B21 -> ค่าตอบแทนพนักงานราชการ 21 อัตรา (ส.ค.69) 317,000 บาท | C17: =+[5]ระบบการควบคุมฯ!C21 -> ศธ 04002/ว13456 ลว. 4 ส.ค.69 ครั้งที่ 808 | D17: =+[5]ระบบการควบคุมฯ!F23 -> 0 | E17: =+[5]ระบบการควบคุมฯ!G23+[5]ระบบการควบคุมฯ!H23 -> 0 | F17: =+[5]ระบบการควบคุมฯ!I23+[5]ระบบการควบคุมฯ!J23 -> 0 | G17: =+[5]ระบบการควบคุมฯ!K23+[5]ระบบการควบคุมฯ!L23 -> 0 | H17: =+D17-E17-F17-G17 -> 0
A18: =+[5]ระบบการควบคุมฯ!A22 -> 1.1.1.4 | B18: =+[5]ระบบการควบคุมฯ!B22 -> ค่าตอบแทนพนักงานราชการ 21 อัตรา (ก.ย.69)570,000 บาท | C18: =+[5]ระบบการควบคุมฯ!C22 -> ศธ 04002/ว16100 ลว. 10 ก.ย. 69 ครั้งที่ 909 | D18: =+[5]ระบบการควบคุมฯ!F24 -> 0 | E18: =+[5]ระบบการควบคุมฯ!G24+[5]ระบบการควบคุมฯ!H24 -> 0 | F18: =+[5]ระบบการควบคุมฯ!I24+[5]ระบบการควบคุมฯ!J24 -> 0 | G18: =+[5]ระบบการควบคุมฯ!K24+[5]ระบบการควบคุมฯ!L24 -> 0 | H18: =+D18-E18-F18-G18 -> 0
A20: =+[5]ระบบการควบคุมฯ!A27 -> 0 | B20: =+[5]ระบบการควบคุมฯ!B27 -> งบดำเนินงาน 7011220 | C20: =+[5]ระบบการควบคุมฯ!C27 -> 20004 1420 0800 2000000 | D20: =SUM(D21:D30) -> 131000 | E20: =SUM(E21:E30) -> 0 | F20: =SUM(F21:F30) -> 0 | G20: =SUM(G21:G30) -> 18375 | H20: =SUM(H21:H30) -> 112625
A21: =+[5]ระบบการควบคุมฯ!A29 -> 1.1.2 | B21: =+[5]ระบบการควบคุมฯ!B29 -> เงินสมทบประกันสังคมพนง.ราชการ 6 เดือน ต.ค. 69 -มี.ค.70)/เงินสมทบกองทุนทดแทน 12 เดือน (มค 70 - ธค 70) 120,000+11,000(131,000 บาท) | C21: =+[5]ระบบการควบคุมฯ!C29 -> ศธ 04002/ว46528 ลว.14 ต.ค.68 ครั้งที่ 2 | D21: =+[5]ระบบการควบคุมฯ!F29 -> 131000 | E21: =+[5]ระบบการควบคุมฯ!G29+[5]ระบบการควบคุมฯ!H29 -> 0 | F21: =+[5]ระบบการควบคุมฯ!I29+[5]ระบบการควบคุมฯ!J29 -> 0 | G21: =+[5]ระบบการควบคุมฯ!K29+[5]ระบบการควบคุมฯ!L29 -> 18375 | H21: =+D21-E21-F21-G21 -> 112625 | I21: กลุ่มบริหารงานการเงินและสินทรัพย์
A22: =+[5]ระบบการควบคุมฯ!A30 -> 1.1.2.1 | B22: =+[5]ระบบการควบคุมฯ!B30 -> เงินสมทบกองทุนประกันสังคม จำนวน 2 เดือน ( ม.ค.-กพ.69) 4,600 | C22: =+[5]ระบบการควบคุมฯ!C30 -> ศธ 04002/ว658 ลว.16 มค 69 ครั้งที่ 227
A23: =+[5]ระบบการควบคุมฯ!A31 -> 1.1.2.2 | B23: =+[5]ระบบการควบคุมฯ!B31 -> เงินสมทบกองทุนประกันสังคม จำนวน 5 เดือน (มี.ค.69 - ก.ค. 2569) 100,000 บาท | C23: =+[5]ระบบการควบคุมฯ!C31 -> ศธ 04002/ว4964 ลว. 23 มีค 69 ครั้งที่ 386
A24: =+[5]ระบบการควบคุมฯ!A32 -> 1.1.2.3 | B24: =+[5]ระบบการควบคุมฯ!B32 -> เงินสมทบกองทุนประกันสังคมพนักงานราชการ จำนวน 2 เดือน ( ส.ค. - กย 69) 7,200 บาท | C24: =+[5]ระบบการควบคุมฯ!C32 -> ศธ 04002/ว13456 ลว. 4 ส.ค. 69 ครั้งที่ 808
A25: =+[5]ระบบการควบคุมฯ!A33 -> 1.1.2.4 | B25: =+[5]ระบบการควบคุมฯ!B33 -> เงินสมทบกองทุนประกันสังคมพนักงานราชการ ( กย 69) 19,000 บาท | C25: =+[5]ระบบการควบคุมฯ!C33 -> ศธ 04002/ว16100 ลว. 10 ก.ย. 69 ครั้งที่ 909
A26: =+[5]ระบบการควบคุมฯ!A34 -> 1.1.3 | B26: =+[5]ระบบการควบคุมฯ!B34 -> เงินสมทบกองทุนประกันสังคม ค่าจ้างชั่วคราว จำนวน 2 เดือน (มิถุนายน - กรกฎาคม 2569 และรายการเงินสมทบกองทุนเงินทดแทน จำนวน 7 เดือน (มิถุนายน - ธันวาคม 2569) 52800 บาท | C26: =+[5]ระบบการควบคุมฯ!C34 -> ศธ 04002/ว9361 ลว. 4 มิ.ย. 69 ครั้งที่ 691 | D26: =+[5]ระบบการควบคุมฯ!F34 -> 0 | E26: =+[5]ระบบการควบคุมฯ!G34+[5]ระบบการควบคุมฯ!H34 -> 0 | F26: =+[5]ระบบการควบคุมฯ!I34+[5]ระบบการควบคุมฯ!J34 -> 0 | G26: =+[5]ระบบการควบคุมฯ!K34+[5]ระบบการควบคุมฯ!L34 -> 0 | H26: =+D26-E26-F26-G26 -> 0
A27: =+[5]ระบบการควบคุมฯ!A35 -> 1.1.3.1 | B27: =+[5]ระบบการควบคุมฯ!B35 -> เงินสมทบกองทุนประกันสังคม ค่าจ้างชั่วคราว จำนวน 1 เดือน (สิงหาคม 2569) 22800 บาท | C27: =+[5]ระบบการควบคุมฯ!C35 -> ศธ 04002/ว13660 ลว. 6 ส.ค. 69 ครั้งที่ 830
A28: =+[5]ระบบการควบคุมฯ!A36 -> 1.1.3.2 | B28: =+[5]ระบบการควบคุมฯ!B36 -> เงินสมทบกองทุนประกันสังคม ค่าจ้างชั่วคราว จำนวน 1 เดือน (กันยายน 2569) 22800 บาท | C28: =+[5]ระบบการควบคุมฯ!C36 -> ศธ 04002/ว16102 ลว. 10 ก.ย. 69 ครั้งที่ 910
A29: =+[5]ระบบการควบคุมฯ!A39 -> 1.1.4 | B29: =+[5]ระบบการควบคุมฯ!B39 -> ค่าเช่าบ้าน (ตุลาคม 2568 - กพ. 2569) ครั้งที่ 1 741,200 บาท | C29: =+[5]ระบบการควบคุมฯ!C39 -> ศธ 04002/ว48512 ลว 11 พ.ย.2025 โอนครั้งที่ 65 | D29: =+[5]ระบบการควบคุมฯ!F39 -> 0 | E29: =+[5]ระบบการควบคุมฯ!G39+[5]ระบบการควบคุมฯ!H39 -> 0 | F29: =+[5]ระบบการควบคุมฯ!I39+[5]ระบบการควบคุมฯ!J39 -> 0 | G29: =+[5]ระบบการควบคุมฯ!K39+[5]ระบบการควบคุมฯ!L39 -> 0 | H29: =+D29-E29-F29-G29 -> 0 | I29: กลุ่มบริหารงานการเงินและสินทรัพย์
A30: =+[5]ระบบการควบคุมฯ!A40 -> 1.1.4.1 | B30: =+[5]ระบบการควบคุมฯ!B40 -> ค่าเช่าบ้าน ครั้งที่ 2 ระยะเวลา 5 เดือน (มีนาคม - กรกฎาคม 2569) 744,900 บาท | C30: =+[5]ระบบการควบคุมฯ!C40 -> ศธ 04002/ว5379 ลว. 30 มี.ค. 69 ครั้งที่ 404
A31: =+[5]ระบบการควบคุมฯ!A41 -> 1.1.4.2 | B31: =+[5]ระบบการควบคุมฯ!B41 -> ค่าเช่าบ้านครั้งที่ 3 (ส.ค.-ก.ย. 69) จำนวนเงิน 215,300 บาท | C31: =+[5]ระบบการควบคุมฯ!C41 -> ก.ย. 69 ครั้งที่ 916
A32: =+[5]ระบบการควบคุมฯ!A44 -> ข | B32: =+[5]ระบบการควบคุมฯ!B44 -> แผนงานยุทธศาสตร์พัฒนาคุณภาพการศึกษาและการเรียนรู้ | C32: =+[5]ระบบการควบคุมฯ!C44 -> 20004 3300 | D32: =+D33+D68+D89+D186+D199+D234 -> 11348200 | E32: =+E33+E68+E89+E186+E199+E234 -> 216000 | F32: =+F33+F68+F89+F186+F199+F234 -> 0 | G32: =+G33+G68+G89+G186+G199+G234 -> 0 | H32: =+H33+H68+H89+H186+H199+H234 -> 11132200 | I32: =+I33+I89 -> 0
A33: =+[3]งบสพฐ!A31 -> 1.1.4.2 | B33: =+[5]ระบบการควบคุมฯ!B50 -> โครงการพัฒนาหลักสูตรกระบวนการเรียนการสอน การวัดและประเมินผล | C33: =+[5]ระบบการควบคุมฯ!C50 -> 20004 3320 3300 2000000 | D33: =+D34+D37+D42+D47+D51+D55+D62+D65 -> 0 | E33: =+E34+E37+E42+E47+E51+E55+E62+E65 -> 0 | F33: =+F34+F37+F42+F47+F51+F55+F62+F65 -> 0 | G33: =+G34+G37+G42+G47+G51+G55+G62+G65 -> 0 | H33: =+H34+H37+H42+H47+H51+H55+H62+H65 -> 0
A34: =+[5]ระบบการควบคุมฯ!A53 -> 1.1 | B34: =+[5]ระบบการควบคุมฯ!B53 -> กิจกรรมการส่งเสริมและพัฒนาระบบการประกันคุณภาพภายในสถานศึกษา | C34: =+[5]ระบบการควบคุมฯ!C53 -> 20004 70 00015 00000 | D34: =+D35 -> 0 | E34: =+E35 -> 0 | F34: =+F35 -> 0 | G34: =+G35 -> 0 | H34: =+H35 -> 0
B35: =+[5]ระบบการควบคุมฯ!B54 -> งบดำเนินงาน 70112xx | C35: =+[5]ระบบการควบคุมฯ!C54 -> 20004 3320 3300 2000000 | D35: =SUM(D36) -> 0 | E35: =SUM(E36) -> 0 | F35: =SUM(F36) -> 0 | G35: =SUM(G36) -> 0 | H35: =SUM(H36) -> 0 | I35: =SUM(I36) -> 0
A36: =+[5]ระบบการควบคุมฯ!A55 -> 1.1.1 | B36: =+[5]ระบบการควบคุมฯ!B55 -> สนับสนุนการคัดเลือกสถานศึกษาเพื่อรับรางวัล IQA AWARD ประจำปีการศึกษา 2568 | C36: =+[5]ระบบการควบคุมฯ!C55 -> ศธ 04002/ว7915 ลว. 11 พ.ค. 69 โอนครั้งที่ 526 | D36: =+[5]ระบบการควบคุมฯ!F55 -> 0 | E36: =+[5]ระบบการควบคุมฯ!G55+[5]ระบบการควบคุมฯ!H55 -> 0 | G36: =+[5]ระบบการควบคุมฯ!K55+[5]ระบบการควบคุมฯ!L55 -> 0 | H36: =+D36-E36-F36-G36 -> 0 | I36: กลุ่มนิเทศติดตามและประเมินผลการจัดการศึกษา
A37: =+[5]ระบบการควบคุมฯ!A59 -> 1.2 | B37: =+[5]ระบบการควบคุมฯ!B59 -> กิจกรรมการยกระดับผลการทดสอบทางการศึกษาระดับชาติที่สอดคล้องกับบริบทพื้นที่ | C37: =+[5]ระบบการควบคุมฯ!C59 -> 20004 70 00040 00000 | D37: =+D38 -> 0 | E37: =+E38 -> 0 | F37: =+F38 -> 0 | G37: =+G38 -> 0 | H37: =+H38 -> 0
B38: =+[5]ระบบการควบคุมฯ!B60 -> งบดำเนินงาน 70112xx | C38: =+[5]ระบบการควบคุมฯ!C60 -> 20004 3320 3300 2000000 | D38: =SUM(D39:D41) -> 0 | E38: =SUM(E39:E41) -> 0 | F38: =SUM(F39:F41) -> 0 | G38: =SUM(G39:G41) -> 0 | H38: =SUM(H39:H41) -> 0
A39: =+[5]ระบบการควบคุมฯ!A61 -> 1.2.1 | B39: =+[5]ระบบการควบคุมฯ!B61 -> ค่าใช้จ่ายในการดำเนินโครงการการประเมินความสามารถด้านการอ่านของผู้เรียน (RT) ชั้นประถมศึกษาปีที่ 1 ปีการศึกษา 2568 จำนวนเงิน 15,540.00 บาท และค่าใช้จ่ายในการดำเนินโครงการการประเมินคุณภาพผู้เรียน (NT) ชั้นประถมศึกษาปีที่ 3 ปีการศึกษา 2568 สำหรับโรงเรียนตามโครงการพระราชดำริ สมเด็จพระกนิษฐาธิราชเจ้า กรมสมเด็จพระเทพรัตนราชสุดาฯ สยามบรมราชกุมารี โรงเรียนกองทุนการศึกษาและโรงเรียนทั่วไป จำนวน 14,660 บาท | C39: =+[5]ระบบการควบคุมฯ!C61 -> ศธ 04002/ว777 ลว. 19 มค 69 โอนครั้งที่ 230 จำนวนเงิน 30,200 บาท | D39: =+[5]ระบบการควบคุมฯ!F61 -> 0 | E39: =+[5]ระบบการควบคุมฯ!G61+[5]ระบบการควบคุมฯ!H61 -> 0 | F39: =+[5]ระบบการควบคุมฯ!I61+[5]ระบบการควบคุมฯ!J61 -> 0 | G39: =+[5]ระบบการควบคุมฯ!K61+[5]ระบบการควบคุมฯ!L61 -> 0 | H39: =+D39-E39-F39-G39 -> 0 | I39: กลุ่มนิเทศติดตามและประเมินผลการจัดการศึกษา
A40: =+[5]ระบบการควบคุมฯ!A62 -> 1.2.2 | B40: =+[5]ระบบการควบคุมฯ!B62 -> ค่าใช้จ่ายในการดำเนินการคัดเลือกนักเรียนและสถานศึกษาเพื่อรับรางวัลพระราชทาน ระดับการศึกษาขั้นพื้นฐาน ประจำปีการศึกษา 2569 (ระดับสำนักงานเขตพื้นที่การศึกษา) | C40: =+[5]ระบบการควบคุมฯ!C62 -> ศธ 04002/ว13341 ลว. 3 ส.ค 69 โอนครั้งที่ 800 | D40: =+[5]ระบบการควบคุมฯ!F62 -> 0 | E40: =+[5]ระบบการควบคุมฯ!G62+[5]ระบบการควบคุมฯ!H62 -> 0 | F40: =+[5]ระบบการควบคุมฯ!I62+[5]ระบบการควบคุมฯ!J62 -> 0 | G40: =+[5]ระบบการควบคุมฯ!K62+[5]ระบบการควบคุมฯ!L62 -> 0 | H40: =+D40-E40-F40-G40 -> 0 | I40: กลุ่มส่งเสริมการจัดการศึกษา
A41: =+[5]ระบบการควบคุมฯ!A63 -> 1.2.3 | B41: =+[5]ระบบการควบคุมฯ!B63 -> ค่าใช้จ่ายในการเดินทางเข้าร่วมการประชุมเชิงปฏิบัติการพัฒนาศักยภาพศึกษานิเทศก์ด้านการประเมินการเรียนรู้และการประกันคุณภาพภายในสถานศึกษาโดยการประยุกต์ใช้ปัญญาประดิษฐ์ ระหว่างวันที่ 23 – 26 สิงหาคม 2569 ณ โรงแรมริเวอร์ไซด์ กรุงเทพหานคร | C41: =+[5]ระบบการควบคุมฯ!C63 -> ศธ 04002/ว13562 ลว. 3 ส.ค 69 โอนครั้งที่ 822 | D41: =+[5]ระบบการควบคุมฯ!F63 -> 0 | E41: =+[5]ระบบการควบคุมฯ!G63+[5]ระบบการควบคุมฯ!H63 -> 0 | F41: =+[5]ระบบการควบคุมฯ!I63+[5]ระบบการควบคุมฯ!J63 -> 0 | G41: =+[5]ระบบการควบคุมฯ!K63+[5]ระบบการควบคุมฯ!L63 -> 0 | H41: =+D41-E41-F41-G41 -> 0 | I41: กลุ่มนิเทศติดตามและประเมินผลการจัดการศึกษา
...

Sheet งบลงทุน
J1: รายละเอียด 2
A2: รายงานผลการเบิกจ่ายเงินงบประมาณ งบลงทุน ประจำปีงบประมาณ พ.ศ. 2570 รายละเอียด 2
A3: กลุ่มบริหารงานการเงินและสินทรัพย์ สำนักงานเขตพื้นที่การศึกษาประถมศึกษาปทุมธานี เขต 2
A4: =+[5]งบประจำและงบกลยุทธ์!A4 -> ประจำเดือนตุลาคม 2569
A5: ที่ | B5: รายการ | C5: รหัสงบประมาณ/หนังสือแจ้งโอน | D5: เงินงวด | E5: ผูกพัน | F5: กันเงินไว้เบิก | G5: เบิกจ่าย | H5: คงเหลือ | I5: การอนุมัติเงินงวด | J5: คงเหลือ | K5: ปัญหาอุปสรรค
A7: =[5]ระบบการควบคุมฯ!A44 -> ข | B7: =[5]ระบบการควบคุมฯ!B44 -> แผนงานยุทธศาสตร์พัฒนาคุณภาพการศึกษาและการเรียนรู้ | D7: =SUM(D8+D9) -> 4283600 | E7: =SUM(E8+E9) -> 0 | F7: =SUM(F8+F9) -> 0 | G7: =SUM(G8+G9) -> 0 | H7: =SUM(H8+H9) -> 0 | I7: =SUM(I8+I9) -> 0 | J7: =SUM(J8+J9) -> 4283600
B8: =+[5]ระบบการควบคุมฯ!B48 -> ครุภัณฑ์ 7011310 | D8: =+D12+D26+D33 -> 320600 | E8: =+E12+E26+E33 -> 0 | F8: =+F12+F26+F33 -> 0 | G8: =+G12+G26+G33 -> 0 | H8: =+H12+H26+H33 -> 0 | I8: =+I12+I26+I33 -> 0 | J8: =+J12+J26+J33 -> 320600
B9: =+[5]ระบบการควบคุมฯ!B49 -> สิ่งก่อสร้าง 7011320 | D9: =+D47+D53 -> 3963000 | E9: =+E47+E53 -> 0 | F9: =+F47+F53 -> 0 | G9: =+G47+G53 -> 0 | H9: =+H47+H53 -> 0 | I9: =+I47+I53 -> 0 | J9: =+J47+J53 -> 3963000 | K9: =+K53+K89 -> 0
A10: =[5]ระบบการควบคุมฯ!A118 -> 3 | B10: =[5]ระบบการควบคุมฯ!B118 -> โครงการขับเคลื่อนการพัฒนาการศึกษาที่ยั่งยืน | D10: =D11 -> 0 | E10: =E11 -> 0 | F10: =F11 -> 0 | G10: =G11 -> 0 | H10: =H11 -> 0 | I10: =I11 -> 0 | J10: =J11 -> 0
A11: =+[5]ระบบการควบคุมฯ!A141 -> 3.4 | B11: =+[5]ระบบการควบคุมฯ!B141 -> กิจกรรมการยกระดับคุณภาพด้านวิทยาศาสตร์ศึกษาเพื่อความเป็นเลิศ | C11: =+[5]ระบบการควบคุมฯ!C141 -> 20004 70 00093 00000 | D11: =D12+D47 -> 0 | E11: =E12+E47 -> 0 | F11: =F12+F47 -> 0 | G11: =G12+G47 -> 0 | H11: =H12+H47 -> 0 | I11: =I12+I47 -> 0 | J11: =J12+J47 -> 0
B12: =+[5]ระบบการควบคุมฯ!B150 -> งบลงทุน 7011310 | D12: =+D13+D20 -> 0 | E12: =+E13+E20 -> 0 | F12: =+F13+F20 -> 0 | G12: =+G13+G20 -> 0 | H12: =+H13+H20 -> 0 | I12: =+I13+I20 -> 0 | J12: =+J13+J20 -> 0
B13: =[5]ระบบการควบคุมฯ!B151 -> ครุภัณฑ์สำนักงาน 120601 | D13: =+D14+D17 -> 0 | E13: =+E14+E17 -> 0 | F13: =+F14+F17 -> 0 | G13: =+G14+G17 -> 0 | H13: =+H14+H17 -> 0 | I13: =+I14+I17 -> 0 | J13: =+J14+J17 -> 0
A14: =[5]ระบบการควบคุมฯ!A152 -> 3.4.1.1 | B14: =[5]ระบบการควบคุมฯ!B152 -> เครื่องปรับอากาศ 24,000 บีทียู ระบบ Inverter | C14: =[5]ระบบการควบคุมฯ!C152 -> โอนเปลี่ยนแปลง 2/2569 | D14: =+D15 -> 0 | E14: =+E15 -> 0 | F14: =+F15 -> 0 | G14: =+G15 -> 0 | H14: =+H15 -> 0 | I14: =+I15 -> 0 | J14: =+J15 -> 0
A15: =[5]ระบบการควบคุมฯ!A153 -> 1) | B15: =[5]ระบบการควบคุมฯ!B153 -> สพป.ปทุมธานี เขต 2 | C15: =[5]ระบบการควบคุมฯ!C153 -> 2000433006300311ส024 | D15: =[5]ระบบการควบคุมฯ!D153 -> 0 | E15: =[5]ระบบการควบคุมฯ!G153+[5]ระบบการควบคุมฯ!H153 -> 0 | F15: =[5]ระบบการควบคุมฯ!I153+[5]ระบบการควบคุมฯ!J153 -> 0 | G15: =[5]ระบบการควบคุมฯ!K153+[5]ระบบการควบคุมฯ!L153 -> 0 | J15: =+D15-E15-F15-G15 -> 0
B16: =+[5]ระบบการควบคุมฯ!B154 -> ผูกพัน ครบ 28 ตค 69
A17: =+[5]ระบบการควบคุมฯ!A155 -> 3.4.1.1 | B17: =[5]ระบบการควบคุมฯ!B155 -> ตู้สาขาโทรศัพท์ | C17: =[5]ระบบการควบคุมฯ!C155 -> โอนเปลี่ยนแปลง 2/2569 | D17: =+D18 -> 0 | E17: =+E18 -> 0 | F17: =+F18 -> 0 | G17: =+G18 -> 0 | H17: =+H18 -> 0 | I17: =+I18 -> 0 | J17: =+J18 -> 0
A18: =[5]ระบบการควบคุมฯ!A156 -> 1) | B18: =[5]ระบบการควบคุมฯ!B156 -> สพป.ปทุมธานี เขต 2 | C18: =[5]ระบบการควบคุมฯ!C156 -> 2000433006300311ส066 | D18: =[5]ระบบการควบคุมฯ!D156 -> 0 | E18: =+[5]ระบบการควบคุมฯ!G156+[5]ระบบการควบคุมฯ!H156 -> 0 | F18: =[5]ระบบการควบคุมฯ!I156+[5]ระบบการควบคุมฯ!J156 -> 0 | G18: =[5]ระบบการควบคุมฯ!K156+[5]ระบบการควบคุมฯ!L156 -> 0 | J18: =+D18-E18-F18-G18 -> 0
B20: =+[5]ระบบการควบคุมฯ!B157 -> ครุภัณฑ์การศึกษา 120611 | D20: =+D21 -> 0 | E20: =+E21 -> 0 | F20: =+F21 -> 0 | G20: =+G21 -> 0 | H20: =+H21 -> 0 | I20: =+I21 -> 0 | J20: =+J21 -> 0
A21: =+[5]ระบบการควบคุมฯ!A158 -> 3.4.2.1 | B21: =+[5]ระบบการควบคุมฯ!B158 -> ครุภัณฑ์ห้องปฏิบัติการวิทยาศาสตร์ | C21: =+[5]ระบบการควบคุมฯ!C158 -> ศธ 04002/ว47614 ลว. 31 ตค 68 โอนครั้งที่ 23 | D21: =SUM(D22:D23) -> 0 | E21: =SUM(E22:E23) -> 0 | F21: =SUM(F22:F23) -> 0 | G21: =SUM(G22:G23) -> 0
A22: =+[5]ระบบการควบคุมฯ!A159 -> 1) | B22: =+[5]ระบบการควบคุมฯ!B159 -> โรงเรียนวัดมูลจินดาราม | C22: =+[5]ระบบการควบคุมฯ!C159 -> 20004 33006300 3110187 | D22: =+[5]ระบบการควบคุมฯ!F159 -> 0 | E22: =+[5]ระบบการควบคุมฯ!G159+[5]ระบบการควบคุมฯ!H159 -> 0 | F22: =+[5]ระบบการควบคุมฯ!I159+[5]ระบบการควบคุมฯ!J159 -> 0 | G22: =+[5]ระบบการควบคุมฯ!K159+[5]ระบบการควบคุมฯ!L159 -> 0 | J22: =+D22-E22-F22-G22 -> 0
A23: =+[5]ระบบการควบคุมฯ!A160 -> 2) | B23: =+[5]ระบบการควบคุมฯ!B160 -> โรงเรียนชุมชนบึงบา | C23: =+[5]ระบบการควบคุมฯ!C160 -> 20004 33006300 3110188 | D23: =+[5]ระบบการควบคุมฯ!F160 -> 0 | E23: =+[5]ระบบการควบคุมฯ!G160+[5]ระบบการควบคุมฯ!H160 -> 0 | F23: =+[5]ระบบการควบคุมฯ!I160+[5]ระบบการควบคุมฯ!J160 -> 0 | G23: =+[5]ระบบการควบคุมฯ!K160+[5]ระบบการควบคุมฯ!L160 -> 0 | J23: =+D23-E23-F23-G23 -> 0
A24: =+[5]ระบบการควบคุมฯ!A320 -> 5 | B24: =+[5]ระบบการควบคุมฯ!B320 -> โครงการโรงเรียนคุณภาพ | C24: =+[5]ระบบการควบคุมฯ!C320 -> 20004 3300 B800 | D24: =+D25+D32+D52+D79 -> 4283600 | E24: =+E25+E32+E52+E79 -> 0 | F24: =+F25+F32+F52+F79 -> 0 | G24: =+G25+G32+G52+G79 -> 0 | H24: =+H25+H32+H52+H79 -> 0 | I24: =+I25+I32+I52+I79 -> 0 | J24: =+J25+J32+J52+J79 -> 4283600
A25: =+[5]ระบบการควบคุมฯ!A339 -> 5.2 | B25: =+[5]ระบบการควบคุมฯ!B339 -> กิจกรรมการยกระดับคุณภาพการศึกษาเพื่อขับเคลื่อนโรงเรียนคุณภาพ | C25: =+[5]ระบบการควบคุมฯ!C339 -> 20004 70 00133 00000 | D25: =+D26 -> 0 | E25: =+E26 -> 0 | F25: =+F26 -> 0 | G25: =+G26 -> 0 | H25: =+H26 -> 0 | I25: =+I26 -> 0 | J25: =+J26 -> 0
B26: =+[5]ระบบการควบคุมฯ!B340 -> ค่าครุภัณฑ์ 7011310 | D26: =+D27 -> 0 | E26: =+E27 -> 0 | F26: =+F27 -> 0 | G26: =+G27 -> 0 | H26: =+H27 -> 0 | I26: =+I27 -> 0 | J26: =+J27 -> 0
B27: =+[5]ระบบการควบคุมฯ!B341 -> ครุภัณฑ์ สำนักงาน 120611 | D27: =+D28+D30 -> 0 | E27: =+E28+E30 -> 0 | F27: =+F28+F30 -> 0 | G27: =+G28+G30 -> 0 | H27: =+H28+H30 -> 0 | I27: =+I28+I30 -> 0 | J27: =+J28+J30 -> 0
A28: =+[5]ระบบการควบคุมฯ!A342 -> 5.1.1 | B28: =+[5]ระบบการควบคุมฯ!B342 -> โต๊ะเก้าอี้นักเรียน สำหรับนักเรียนประถมศึกษา | C28: =+[5]ระบบการควบคุมฯ!C342 -> ที่ ศธ 04087/ว49453/25 พย 68 ครั้งที่ 104 | D28: =SUM(D29) -> 0 | E28: =SUM(E29) -> 0 | F28: =SUM(F29) -> 0 | G28: =SUM(G29) -> 0 | H28: =SUM(H29) -> 0 | I28: =SUM(I29) -> 0 | J28: =SUM(J29) -> 0
A29: =+[5]ระบบการควบคุมฯ!A343 -> 1) | B29: =+[5]ระบบการควบคุมฯ!B343 -> โรงเรียนวัดแสงสรรค์ | C29: =+[5]ระบบการควบคุมฯ!C343 -> 200043300B8003110429 | D29: =+[5]ระบบการควบคุมฯ!F343 -> 0 | E29: =+[5]ระบบการควบคุมฯ!G343+[5]ระบบการควบคุมฯ!H343 -> 0 | G29: =+[5]ระบบการควบคุมฯ!K343+[5]ระบบการควบคุมฯ!L343 -> 0 | J29: =+D29-E29-F29-G29 -> 0
A30: =+[5]ระบบการควบคุมฯ!A344 -> 5.1.2 | B30: =+[5]ระบบการควบคุมฯ!B344 -> โต๊ะเก้าอี้นักเรียน สำหรับนักเรียนก่อนประถมศึกษา | C30: =+[5]ระบบการควบคุมฯ!C344 -> ที่ ศธ 04087/ว49453/25 พย 68 ครั้งที่ 104 | D30: =+D31 -> 0 | E30: =+E31 -> 0 | F30: =+F31 -> 0 | G30: =+G31 -> 0 | H30: =+H31 -> 0 | I30: =+I31 -> 0 | J30: =+J31 -> 0
A31: =+[5]ระบบการควบคุมฯ!A345 -> 1) | B31: =+[5]ระบบการควบคุมฯ!B345 -> โรงเรียนวัดจตุพิธวราวาส | C31: =+[5]ระบบการควบคุมฯ!C345 -> 200043300B8003110430 | D31: =+[5]ระบบการควบคุมฯ!F345 -> 0 | E31: =+[5]ระบบการควบคุมฯ!G345+[5]ระบบการควบคุมฯ!H345 -> 0 | G31: =+[5]ระบบการควบคุมฯ!K345+[5]ระบบการควบคุมฯ!L345 -> 0 | J31: =+D31-E31-F31-G31 -> 0
A32: =+[5]ระบบการควบคุมฯ!A357 -> 5.3 | B32: =+[5]ระบบการควบคุมฯ!B357 -> กิจกรรมการยกระดับคุณภาพการศึกษาสำหรับโรงเรียนคุณภาพตามนโยบาย 1 อำเภอ 1 โรงเรียนคุณภาพ | C32: =+[5]ระบบการควบคุมฯ!C357 -> 20004 70 00134 00000 | D32: =+D33 -> 320600 | E32: =+E33 -> 0 | F32: =+F33 -> 0 | G32: =+G33 -> 0 | H32: =+H33 -> 0 | I32: =+I33 -> 0 | J32: =+J33 -> 320600
A33: =+[5]ระบบการควบคุมฯ!A358 -> 5.3.1 | B33: =+[5]ระบบการควบคุมฯ!B358 -> ค่าครุภัณฑ์ 7011310 | C33: =+[5]ระบบการควบคุมฯ!C358 -> 20004 3300B800 | D33: =+D34+D41 -> 320600 | E33: =+E34+E41 -> 0 | F33: =+F34+F41 -> 0 | G33: =+G34+G41 -> 0 | H33: =+H34+H41 -> 0 | I33: =+I34+I41 -> 0 | J33: =+J34+J41 -> 320600
B34: =+[5]ระบบการควบคุมฯ!B359 -> ครุภัณฑ์สำนักงาน 120601 | C34: =+[5]ระบบการควบคุมฯ!C359 -> 120601 | D34: =+D35+D37+D39 -> 0 | E34: =+E35+E37+E39 -> 0 | F34: =+F35+F37+F39 -> 0 | G34: =+G35+G37+G39 -> 0 | H34: =+H35+H37+H39 -> 0 | I34: =+I35+I37+I39 -> 0 | J34: =+J35+J37+J39 -> 0
A35: =+[5]ระบบการควบคุมฯ!A360 -> 5.3.1.1 | B35: =+[5]ระบบการควบคุมฯ!B360 -> ถังน้ำ แบบสเตนเลส ขนาดความจุ 2,000 ลิตร โรงเรียนวัดลาดสนุ่น | C35: =+[5]ระบบการควบคุมฯ!C360 -> ที่ ศธ 04087/ว49453/25 พย 68 ครั้งที่ 104 | D35: =SUM(D36) -> 0 | E35: =SUM(E36) -> 0 | F35: =SUM(F36) -> 0 | G35: =SUM(G36) -> 0 | H35: =SUM(H36) -> 0 | I35: =SUM(I36) -> 0 | J35: =SUM(J36) -> 0
A36: =+[5]ระบบการควบคุมฯ!A361 -> 1) | B36: =+[5]ระบบการควบคุมฯ!B361 -> โรงเรียนวัดลาดสนุ่น | C36: =+[5]ระบบการควบคุมฯ!C361 -> 200043300B8003111326 | D36: =+[5]ระบบการควบคุมฯ!F361 -> 0 | E36: =+[5]ระบบการควบคุมฯ!G361+[5]ระบบการควบคุมฯ!H361 -> 0 | G36: =+[5]ระบบการควบคุมฯ!K361+[5]ระบบการควบคุมฯ!L361 -> 0 | J36: =+D36-E36-F36-G36 -> 0
