Workbook

Sheet เงินกันไว้เบิกเหลื่อมปี งบปี 
A1: รายงานผลการเบิกจ่ายเงินกันไว้เบิกเหลื่อมปี งบประมาณประจำปี พ.ศ. 2569
A2: =+'[4]สิ่งก่อสร้าง งบอุดหนุน 67'!A3:N3 -> สำนักงานเขตพื้นที่การศึกษาประถมศึกษาปทุมธานี เขต 2
A3: ประจำเดือน ตุลาคม 2569
A4: ที่ | B4: รายการ | C4: รหัสงบประมาณ | D4: เพิ่ม | E4: ผูกพัน | G4: กันไว้เบิก | I4: เบิก | K4: คงเหลือ
C5: แหล่งของเงิน | E5: 220 | F5: 221 | G5: 220 | H5: 221 | I5: 220 | J5: 221
A6: ก | B6: =+'[4]ดำเนินงานครุภัณฑ์ 310061ยั่งยืน'!E6 -> แผนงานยุทธศาสตร์พัฒนาคุณภาพการศึกษาและการเรียนรู้ | D6: =+D7+D16+D24 -> 1111756.5 | E6: =+E7+E16+E24 -> 0 | F6: =+F7+F16+F24 -> 667756.5 | G6: =+G7+G16+G24 -> 0 | H6: =+H7+H16+H24 -> 0 | I6: =+I7+I16+I24 -> 409000 | J6: =+J7+J16+J24 -> 35000 | K6: =+K7+K16+K24 -> 0
A7: =+'[4]ดำเนินงานครุภัณฑ์ 310061ยั่งยืน'!A7 -> 1 | B7: =+'[4]ดำเนินงานครุภัณฑ์ 310061ยั่งยืน'!E7 -> โครงการพัฒนาสมรรถนะครูและบุคลากรทางการศึกษาเพื่อความเป็นเลิศ | C7: =+'[4]ดำเนินงานครุภัณฑ์ 310061ยั่งยืน'!D7 -> 20004 3320 4700 2000000 | D7: =+D8 -> 140000 | E7: =+E8 -> 0 | F7: =+F8 -> 105000 | H7: =+H8 -> 0 | I7: =+I8 -> 0 | J7: =+J8 -> 35000 | K7: =+K8 -> 0
A8: 1.1 | B8: =+'[4]ดำเนินงานครุภัณฑ์ 310061ยั่งยืน'!E8 -> กิจกรรมพัฒนาสมรรถนะครูและบุคลากรทางการศึกษาเพื่อความเป็นเลิศ | C8: =+'[4]ดำเนินงานครุภัณฑ์ 310061ยั่งยืน'!D8 -> 20004 69 00140 00000 | D8: =+D9 -> 140000 | E8: =+E9 -> 0 | F8: =+F9 -> 105000 | G8: =+G9 -> 0 | H8: =+H9 -> 0 | I8: =+I9 -> 0 | J8: =+J9 -> 35000 | K8: =+K9 -> 0
B9: =+'[4]ดำเนินงานครุภัณฑ์ 310061ยั่งยืน'!E9 -> งบดำเนินงาน 69112xx | C9: =+'[4]ดำเนินงานครุภัณฑ์ 310061ยั่งยืน'!D9 -> 69112xx | D9: =+D10 -> 140000 | E9: =+E10 -> 0 | F9: =+F10 -> 105000 | H9: =+H10 -> 0 | I9: =+I10 -> 0 | J9: =+J10 -> 35000 | K9: =+K10 -> 0
A10: =+'[4]ดำเนินงานครุภัณฑ์ 310061ยั่งยืน'!A10 -> 1.1.1 | B10: =+'[4]ดำเนินงานครุภัณฑ์ 310061ยั่งยืน'!E10 -> ค่าใช้จ่ายในการบริหารจัดการสถานการณ์และช่วยเหลือสถานศึกษาที่ได้รับผลกระทบจากเหตุอุทกภัย | C10: =+'[4]ดำเนินงานครุภัณฑ์ 310061ยั่งยืน'!C10 -> 20004 3320 4700 2000000 | D10: =SUM(D11:D14) -> 140000 | E10: =SUM(E11:E14) -> 0 | F10: =SUM(F11:F14) -> 105000 | G10: =SUM(G11:G14) -> 0 | H10: =SUM(H11:H14) -> 0 | I10: =SUM(I11:I14) -> 0 | J10: =SUM(J11:J14) -> 35000 | K10: =SUM(K11:K14) -> 0
A11: 1) | B11: =+'[4]ดำเนินงานครุภัณฑ์ 310061ยั่งยืน'!E11 -> ร.ร.วัดเขียนเขต | C11: =+'[4]ดำเนินงานครุภัณฑ์ 310061ยั่งยืน'!D12 -> ส.30 ก.ย. 69 ครบ 5 ต.ค.69 | D11: =+'[4]ดำเนินงานครุภัณฑ์ 310061ยั่งยืน'!F15 -> 35000 | E11: =+'[4]ดำเนินงานครุภัณฑ์ 310061ยั่งยืน'!G15 -> 0 | F11: =+'[4]ดำเนินงานครุภัณฑ์ 310061ยั่งยืน'!H15 -> 0 | G11: =+'[4]ดำเนินงานครุภัณฑ์ 310061ยั่งยืน'!I15 -> 0 | H11: =+'[4]ดำเนินงานครุภัณฑ์ 310061ยั่งยืน'!J15 -> 0 | I11: =+'[4]ดำเนินงานครุภัณฑ์ 310061ยั่งยืน'!K15 -> 0 | J11: =+'[4]ดำเนินงานครุภัณฑ์ 310061ยั่งยืน'!L15 -> 35000 | K11: =+D11-E11-F11-G11-H11-I11-J11 -> 0
A12: 2) | B12: =+'[4]ดำเนินงานครุภัณฑ์ 310061ยั่งยืน'!E16 -> ร.ร. นิกรราษฎร์บูรณะ | C12: =+'[4]ดำเนินงานครุภัณฑ์ 310061ยั่งยืน'!D17 -> ส. 30 ก.ย. 69 ครบ 7 ต.ค.69 | D12: =+'[4]ดำเนินงานครุภัณฑ์ 310061ยั่งยืน'!F20 -> 35000 | E12: =+'[4]ดำเนินงานครุภัณฑ์ 310061ยั่งยืน'!G20 -> 0 | F12: =+'[4]ดำเนินงานครุภัณฑ์ 310061ยั่งยืน'!H20 -> 35000 | G12: =+'[4]ดำเนินงานครุภัณฑ์ 310061ยั่งยืน'!I20 -> 0 | H12: =+'[4]ดำเนินงานครุภัณฑ์ 310061ยั่งยืน'!J20 -> 0 | I12: =+'[4]ดำเนินงานครุภัณฑ์ 310061ยั่งยืน'!K20 -> 0 | J12: =+'[4]ดำเนินงานครุภัณฑ์ 310061ยั่งยืน'!L20 -> 0 | K12: =+D12-E12-F12-G12-H12-I12-J12 -> 0
A13: 3) | B13: =+'[4]ดำเนินงานครุภัณฑ์ 310061ยั่งยืน'!E21 -> ร.ร. สหราษฎร์บำรุง | C13: =+'[4]ดำเนินงานครุภัณฑ์ 310061ยั่งยืน'!D22 -> ส. 30 ก.ย. 69 ครบ 26 ต.ค.69 | D13: =+'[4]ดำเนินงานครุภัณฑ์ 310061ยั่งยืน'!F26 -> 35000 | E13: =+'[4]ดำเนินงานครุภัณฑ์ 310061ยั่งยืน'!G26 -> 0 | F13: =+'[4]ดำเนินงานครุภัณฑ์ 310061ยั่งยืน'!H26 -> 35000 | G13: =+'[4]ดำเนินงานครุภัณฑ์ 310061ยั่งยืน'!I26 -> 0 | H13: =+'[4]ดำเนินงานครุภัณฑ์ 310061ยั่งยืน'!J26 -> 0 | I13: =+'[4]ดำเนินงานครุภัณฑ์ 310061ยั่งยืน'!K26 -> 0 | J13: =+'[4]ดำเนินงานครุภัณฑ์ 310061ยั่งยืน'!L26 -> 0 | K13: =+D13-E13-F13-G13-H13-I13-J13 -> 0
A14: 4) | B14: =+'[4]ดำเนินงานครุภัณฑ์ 310061ยั่งยืน'!E27 -> ร.ร. ทองพูลอุทิศ | C14: =+'[4]ดำเนินงานครุภัณฑ์ 310061ยั่งยืน'!D28 -> ส. 30 ก.ย. 69 ครบ30 ต.ค.69 | D14: =+'[4]ดำเนินงานครุภัณฑ์ 310061ยั่งยืน'!F32 -> 35000 | E14: =+'[4]ดำเนินงานครุภัณฑ์ 310061ยั่งยืน'!G32 -> 0 | F14: =+'[4]ดำเนินงานครุภัณฑ์ 310061ยั่งยืน'!H32 -> 35000 | G14: =+'[4]ดำเนินงานครุภัณฑ์ 310061ยั่งยืน'!I32 -> 0 | H14: =+'[4]ดำเนินงานครุภัณฑ์ 310061ยั่งยืน'!J32 -> 0 | I14: =+'[4]ดำเนินงานครุภัณฑ์ 310061ยั่งยืน'!K32 -> 0 | J14: =+'[4]ดำเนินงานครุภัณฑ์ 310061ยั่งยืน'!L32 -> 0 | K14: =+D14-E14-F14-G14-H14-I14-J14 -> 0
A16: =+'[4]ดำเนินงานครุภัณฑ์ 310061ยั่งยืน'!A33 -> 2 | B16: =+'[4]ดำเนินงานครุภัณฑ์ 310061ยั่งยืน'!E33 -> โครงการขับเคลื่อนการพัฒนาการศึกษาที่ยั่งยืน | C16: 2000433006300 | D16: =+D17 -> 409000 | E16: =+E17 -> 0 | F16: =+F17 -> 0 | H16: =+H17 -> 0 | I16: =+I17 -> 409000 | J16: =+J17 -> 0 | K16: =+K17 -> 0
A17: =+'[4]ดำเนินงานครุภัณฑ์ 310061ยั่งยืน'!A34 -> 2.1 | B17: =+'[4]ดำเนินงานครุภัณฑ์ 310061ยั่งยืน'!E34 -> กิจกรรมการยกระดับคุณภาพด้านวิทยาศาสตร์ศึกษาเพื่อความเป็นเลิศ | C17: =+'[4]ดำเนินงานครุภัณฑ์ 310061ยั่งยืน'!D34 -> 20004 69 00093 00000 | D17: =+D18 -> 409000 | E17: =+E18 -> 0 | F17: =+F18 -> 0 | G17: =+G18 -> 0 | H17: =+H18 -> 0 | I17: =+I18 -> 409000 | J17: =+J18 -> 0 | K17: =+K18 -> 0
B18: =+'[4]ดำเนินงานครุภัณฑ์ 310061ยั่งยืน'!E35 -> งบลงทุน 6911310 | D18: =+D20 -> 409000 | E18: =+E20 -> 0 | F18: =+F20 -> 0 | H18: =+H20 -> 0 | I18: =+I20 -> 409000 | J18: =+J20 -> 0 | K18: =+K20 -> 0
B19: =+'[4]ดำเนินงานครุภัณฑ์ 310061ยั่งยืน'!E36 -> ครุภัณฑ์สำนักงาน 120601 | D19: =+D21 -> 409000 | E19: =+E21 -> 0 | F19: =+F21 -> 0 | H19: =+H21 -> 0 | I19: =+I21 -> 409000 | J19: =+J21 -> 0 | K19: =+K21 -> 0
A20: =+'[4]ดำเนินงานครุภัณฑ์ 310061ยั่งยืน'!A37 -> 2.1.1 | B20: =+'[4]ดำเนินงานครุภัณฑ์ 310061ยั่งยืน'!E37 -> เครื่องปรับอากาศ 24,000 บีทียู ระบบ Inverter จำนวน 10 เครื่อง | C20: =+'[4]ดำเนินงานครุภัณฑ์ 310061ยั่งยืน'!D37 -> โอนเปลี่ยนแปลง 2/2569 | D20: =+D21 -> 409000 | E20: =+E21 -> 0 | F20: =+F21 -> 0 | G20: =+G21 -> 0 | H20: =+H21 -> 0 | I20: =+I21 -> 409000 | J20: =+J21 -> 0 | K20: =+K21 -> 0
A21: 1) | B21: =+'[4]ดำเนินงานครุภัณฑ์ 310061ยั่งยืน'!E38 -> สพป.ปทุมธานี เขต 2 | C21: =+'[4]ดำเนินงานครุภัณฑ์ 310061ยั่งยืน'!D38 -> 2000433006300311ส024 | D21: =+'[4]ดำเนินงานครุภัณฑ์ 310061ยั่งยืน'!F42 -> 409000 | E21: =+'[4]ดำเนินงานครุภัณฑ์ 310061ยั่งยืน'!G42 -> 0 | F21: =+'[4]ดำเนินงานครุภัณฑ์ 310061ยั่งยืน'!H42 -> 0 | G21: =+'[4]ดำเนินงานครุภัณฑ์ 310061ยั่งยืน'!I42 -> 0 | H21: =+'[4]ดำเนินงานครุภัณฑ์ 310061ยั่งยืน'!J42 -> 0 | I21: =+'[4]ดำเนินงานครุภัณฑ์ 310061ยั่งยืน'!K42 -> 409000 | J21: =+'[4]ดำเนินงานครุภัณฑ์ 310061ยั่งยืน'!L42 -> 0 | K21: =+'[4]ดำเนินงานครุภัณฑ์ 310061ยั่งยืน'!M42 -> 0
B22: =+'[4]ดำเนินงานครุภัณฑ์ 310061ยั่งยืน'!D39 -> ครบ 28 ต.ค.69 | C22: =+'[4]ดำเนินงานครุภัณฑ์ 310061ยั่งยืน'!C38 -> 4100950016
A24: =+'[4]ดำเนินงานครุภัณฑ์ 310061ยั่งยืน'!A43 -> 3 | B24: =+'[4]ดำเนินงานครุภัณฑ์ 310061ยั่งยืน'!E43 -> โครงการส่งเสริมการเรียนรู้ขั้นพื้นฐานทุกที่ทุกเวลา | C24: =+'[4]ดำเนินงานครุภัณฑ์ 310061ยั่งยืน'!D43 -> 20004 3310 C100 2000000 | D24: =+D25 -> 562756.5 | E24: =+E25 -> 0 | F24: =+F25 -> 562756.5 | H24: =+H25 -> 0 | I24: =+I25 -> 0 | J24: =+J25 -> 0 | K24: =+K25 -> 0
A25: =+'[4]ดำเนินงานครุภัณฑ์ 310061ยั่งยืน'!A44 -> 3.1 | B25: =+'[4]ดำเนินงานครุภัณฑ์ 310061ยั่งยืน'!E44 -> กิจกรรมพัฒนาระบบนิเวศทางด้านดิจิทัลเพื่อการเรียนรู้ขั้นพื้นฐาน | C25: =+'[4]ดำเนินงานครุภัณฑ์ 310061ยั่งยืน'!D44 -> 20004 69 00131 00000 | D25: =+D26 -> 562756.5 | E25: =+E26 -> 0 | F25: =+F26 -> 562756.5 | G25: =+G26 -> 0 | H25: =+H26 -> 0 | I25: =+I26 -> 0 | J25: =+J26 -> 0 | K25: =+K26 -> 0
B26: =+'[4]ดำเนินงานครุภัณฑ์ 310061ยั่งยืน'!E156 -> งบดำเนินงาน (รายจ่ายลงทุน) 6911220 | C26: =+'[4]ดำเนินงานครุภัณฑ์ 310061ยั่งยืน'!D156 -> 6911220 | D26: =+D27 -> 562756.5 | E26: =+E27 -> 0 | F26: =+F27 -> 562756.5 | H26: =+H27 -> 0 | I26: =+I27 -> 0 | J26: =+J27 -> 0 | K26: =+K27 -> 0
A27: 3.1.1 | B27: =+'[4]ดำเนินงานครุภัณฑ์ 310061ยั่งยืน'!E157 -> ค่าใช้จ่ายในการดำเนินการเช่าใช้อุปกรณ์การเรียนการสอนสำหรับครูและนักเรียน ภายใต้โครงการส่งเสริมการเรียนรู้ขั้นพื้นฐานทุกที่ทุกเวลา ประจำปีงบประมาณ พ.ศ. 2568 | C27: =+'[4]ดำเนินงานครุภัณฑ์ 310061ยั่งยืน'!D157 -> ศธ 04002/ว41897 ลว.1 ส.ค. 68 โอนครั้งที่ 802 | D27: =SUM(D28:D30) -> 562756.5 | E27: =SUM(E28:E30) -> 0 | F27: =SUM(F28:F30) -> 562756.5 | H27: =SUM(H28:H30) -> 0 | I27: =SUM(I28:I30) -> 0 | J27: =SUM(J28:J30) -> 0 | K27: =SUM(K28:K29) -> 0
A28: 1) | B28: =+'[4]ดำเนินงานครุภัณฑ์ 310061ยั่งยืน'!E47 -> สพป.ปทุมธานี เขต 2 | C28: =+'[4]ดำเนินงานครุภัณฑ์ 310061ยั่งยืน'!E50 -> ผูกพัน งวด 4 ก.ย. 69 - พ.ย. 69 บางส่วน 562,756.50 | D28: =+'[4]ดำเนินงานครุภัณฑ์ 310061ยั่งยืน'!F54 -> 562756.5 | E28: =+'[4]ดำเนินงานครุภัณฑ์ 310061ยั่งยืน'!G54 -> 0 | F28: =+'[4]ดำเนินงานครุภัณฑ์ 310061ยั่งยืน'!H54 -> 562756.5 | G28: =+'[4]ดำเนินงานครุภัณฑ์ 310061ยั่งยืน'!I54 -> 0 | H28: =+'[4]ดำเนินงานครุภัณฑ์ 310061ยั่งยืน'!J54 -> 0 | I28: =+'[4]ดำเนินงานครุภัณฑ์ 310061ยั่งยืน'!K54 -> 0 | J28: =+'[4]ดำเนินงานครุภัณฑ์ 310061ยั่งยืน'!L54 -> 0 | K28: =+'[4]ดำเนินงานครุภัณฑ์ 310061ยั่งยืน'!M54 -> 0
A29: 2) | B29: =+'[4]ดำเนินงานครุภัณฑ์ 310061ยั่งยืน'!B47 -> 1 ต.ค.68 | C29: =+'[4]ดำเนินงานครุภัณฑ์ 310061ยั่งยืน'!C47 -> 4100857056 | K29: =+D29-E29-F29-G29-H29-I29-J29 -> 0
A30: 3)
A31: 2 | B31: =+'[4]ดำเนินงานครุภัณฑ์ 310061ยั่งยืน'!E167 -> โครงการโรงเรียนคุณภาพประจำตำบล | C31: =+'[4]ดำเนินงานครุภัณฑ์ 310061ยั่งยืน'!D167 -> 20004 3100B600 | D31: =+D32 -> 0 | E31: =+E32 -> 0 | F31: =+F32 -> 0 | H31: =+H32 -> 0 | I31: =+I32 -> 0 | J31: =+J32 -> 0 | K31: =+K32 -> 0
A32: 2.1 | B32: =+'[4]ดำเนินงานครุภัณฑ์ 310061ยั่งยืน'!E168 -> กิจกรรมการก่อสร้าง ปรับปรุง ซ่อมแซมอาคารเรียนและสิ่งก่อสร้างประกอบสำหรับโรงเรียนคุณภาพประจำตำบล | C32: =+'[4]ดำเนินงานครุภัณฑ์ 310061ยั่งยืน'!D168 -> 20004 67000 7700000 | D32: =+D33+D53 -> 0 | E32: =+E33+E53 -> 0 | F32: =+F33+F53 -> 0 | H32: =+H33+H53 -> 0 | I32: =+I33+I53 -> 0 | J32: =+J33+J53 -> 0 | K32: =+K33+K53 -> 0
B33: =+'[4]ดำเนินงานครุภัณฑ์ 310061ยั่งยืน'!E169 -> งบลงทุน ค่าสิ่งก่อสร้าง 6711320 | D33: =+D34+D39+D42 -> 0 | E33: =+E34+E39+E42 -> 0 | F33: =+F34+F39+F42 -> 0 | G33: =+G34+G39+G42 -> 0 | H33: =+H34+H39+H42 -> 0 | I33: =+I34+I39+I42 -> 0 | J33: =+J34+J39+J42 -> 0 | K33: =+K34+K39+K42 -> 0
A34: 2.1.1 | B34: =+'[4]ดำเนินงานครุภัณฑ์ 310061ยั่งยืน'!E170 -> ปรับปรุงซ่อมแซมอาคารเรียนอาคารประกอบและสิ่งก่อสร้างอื่น | C34: =+'[4]ดำเนินงานครุภัณฑ์ 310061ยั่งยืน'!D170 -> ศธ04002/ว1787 ลว.7 พค 67 โอนครั้งที่ 5 | D34: =SUM(D35:D38) -> 0 | E34: =SUM(E35:E38) -> 0 | F34: =SUM(F35:F38) -> 0 | G34: =SUM(G35:G38) -> 0 | H34: =SUM(H35:H38) -> 0 | I34: =SUM(I35:I38) -> 0 | J34: =SUM(J35:J38) -> 0 | K34: =SUM(K35:K38) -> 0
A35: 1) | B35: =+'[4]ดำเนินงานครุภัณฑ์ 310061ยั่งยืน'!E171 -> วัดมงคลรัตน์ | C35: =+'[4]ดำเนินงานครุภัณฑ์ 310061ยั่งยืน'!D171 -> 200043100B6003211500 | D35: =+'[4]ดำเนินงานครุภัณฑ์ 310061ยั่งยืน'!F175 -> 0 | E35: =+'[4]ดำเนินงานครุภัณฑ์ 310061ยั่งยืน'!G175 -> 0 | F35: =+'[4]ดำเนินงานครุภัณฑ์ 310061ยั่งยืน'!H175 -> 0 | G35: =+'[4]ดำเนินงานครุภัณฑ์ 310061ยั่งยืน'!I175 -> 0 | H35: =+'[4]ดำเนินงานครุภัณฑ์ 310061ยั่งยืน'!J175 -> 0 | I35: =+'[4]ดำเนินงานครุภัณฑ์ 310061ยั่งยืน'!K175 -> 0 | J35: =+'[4]ดำเนินงานครุภัณฑ์ 310061ยั่งยืน'!L175 -> 0 | K35: =+D35-E35-F35-G35-H35-I35-J35 -> 0
C36: =+'[4]ดำเนินงานครุภัณฑ์ 310061ยั่งยืน'!C171 -> 4100408104
A37: 2) | B37: =+'[4]ดำเนินงานครุภัณฑ์ 310061ยั่งยืน'!E176 -> วัดสุวรรณ | C37: =+'[4]ดำเนินงานครุภัณฑ์ 310061ยั่งยืน'!D176 -> 200043100B6003211501 | D37: =+'[4]ดำเนินงานครุภัณฑ์ 310061ยั่งยืน'!F180 -> 0 | E37: =+'[4]ดำเนินงานครุภัณฑ์ 310061ยั่งยืน'!G180 -> 0 | F37: =+'[4]ดำเนินงานครุภัณฑ์ 310061ยั่งยืน'!H180 -> 0 | G37: =+'[4]ดำเนินงานครุภัณฑ์ 310061ยั่งยืน'!I180 -> 0 | H37: =+'[4]ดำเนินงานครุภัณฑ์ 310061ยั่งยืน'!J180 -> 0 | I37: =+'[4]ดำเนินงานครุภัณฑ์ 310061ยั่งยืน'!K180 -> 0 | J37: =+'[4]ดำเนินงานครุภัณฑ์ 310061ยั่งยืน'!L180 -> 0 | K37: =+D37-E37-F37-G37-H37-I37-J37 -> 0
C38: =+'[4]ดำเนินงานครุภัณฑ์ 310061ยั่งยืน'!C176 -> 4100409854
A39: 2.1.2 | B39: =+'[4]ดำเนินงานครุภัณฑ์ 310061ยั่งยืน'!E181 -> ค่าก่อสร้าง ปรับปรุงซ่อมแซมอาคารเรียนอาคารประกอบและสิ่งก่อสร้างอื่นที่ชำรุดทรุดโทรม และที่ประสบอุบัติภัย | C39: =+'[4]ดำเนินงานครุภัณฑ์ 310061ยั่งยืน'!D181 -> ศธ04002/ว ลว.27 กย 67 โอนครั้งที่ 450 | D39: =+D40 -> 0 | E39: =+E40 -> 0 | F39: =+F40 -> 0 | H39: =+H40 -> 0 | I39: =+I40 -> 0 | J39: =+J40 -> 0 | K39: =+K40 -> 0
A40: 1) | B40: =+'[4]ดำเนินงานครุภัณฑ์ 310061ยั่งยืน'!E182 -> วัดราษฎรบำรุง | C40: =+'[4]ดำเนินงานครุภัณฑ์ 310061ยั่งยืน'!D182 -> 20004 3100B600 321ZZZZ | D40: =+'[4]ดำเนินงานครุภัณฑ์ 310061ยั่งยืน'!F186 -> 0 | E40: =+'[4]ดำเนินงานครุภัณฑ์ 310061ยั่งยืน'!G186 -> 0 | F40: =+'[4]ดำเนินงานครุภัณฑ์ 310061ยั่งยืน'!H186 -> 0 | G40: =+'[4]ดำเนินงานครุภัณฑ์ 310061ยั่งยืน'!I186 -> 0 | H40: =+'[4]ดำเนินงานครุภัณฑ์ 310061ยั่งยืน'!J186 -> 0 | I40: =+'[4]ดำเนินงานครุภัณฑ์ 310061ยั่งยืน'!K186 -> 0 | J40: =+'[4]ดำเนินงานครุภัณฑ์ 310061ยั่งยืน'!L186 -> 0 | K40: =+D40-E40-F40-G40-H40-I40-J40 -> 0
C41: =+'[4]ดำเนินงานครุภัณฑ์ 310061ยั่งยืน'!C182 -> 4100306259
A42: 2.1.3 | B42: =+'[4]ดำเนินงานครุภัณฑ์ 310061ยั่งยืน'!E187 -> อาคารเรียนอนุบาล ขนาด 2 ห้องเรียน | C42: =+'[4]ดำเนินงานครุภัณฑ์ 310061ยั่งยืน'!D187 -> ศธ 04002/ว1787 ลว.7 พค 67 โอนครั้งที่ 5 | D42: =+D43 -> 0 | E42: =+E43 -> 0 | F42: =+F43 -> 0 | H42: =+H43 -> 0 | I42: =+I43 -> 0 | J42: =+J43 -> 0 | K42: =+K43 -> 0
A43: 1) | B43: =+'[4]ดำเนินงานครุภัณฑ์ 310061ยั่งยืน'!E188 -> โรงเรียนนิกรราษฎร์บํารุงวิทย์ | C43: =+'[4]ดำเนินงานครุภัณฑ์ 310061ยั่งยืน'!D188 -> 200043100B6003211498 | D43: =+'[4]ดำเนินงานครุภัณฑ์ 310061ยั่งยืน'!F212 -> 0 | E43: =+'[4]ดำเนินงานครุภัณฑ์ 310061ยั่งยืน'!G212 -> 0 | F43: =+'[4]ดำเนินงานครุภัณฑ์ 310061ยั่งยืน'!H212 -> 0 | G43: =+'[4]ดำเนินงานครุภัณฑ์ 310061ยั่งยืน'!I212 -> 0 | H43: =+'[4]ดำเนินงานครุภัณฑ์ 310061ยั่งยืน'!J212 -> 0 | I43: =+'[4]ดำเนินงานครุภัณฑ์ 310061ยั่งยืน'!K212 -> 0 | J43: =+'[4]ดำเนินงานครุภัณฑ์ 310061ยั่งยืน'!L212 -> 0 | K43: =+D43-E43-F43-G43-H43-I43-J43 -> 0
C44: =+'[4]ดำเนินงานครุภัณฑ์ 310061ยั่งยืน'!C188 -> 4100432393
B45: งบลงทุน ค่าครุภัณฑ์ 6711310 | C45: =+'[4]ดำเนินงานครุภัณฑ์ 310061ยั่งยืน'!D64 -> 0 | D45: =+D48+D50+D52 -> 0 | E45: =+E48+E50+E52 -> 0 | F45: =+F48+F50+F52 -> 0 | H45: =+H48+H50+H52 -> 0 | I45: =+I48+I50+I52 -> 0 | J45: =+J48+J50+J52 -> 0 | K45: =+K48+K50+K52 -> 0
A46: =+'[4]งบกัน69 งบดำเนินงาน37201'!A43 -> 0 | B46: =+'[4]ดำเนินงานครุภัณฑ์ 310061ยั่งยืน'!E63 -> งบลงทุน ค่าครุภัณฑ์ 6611310 | C46: =+'[4]ดำเนินงานครุภัณฑ์ 310061ยั่งยืน'!C63 -> 0 | D46: =+D47 -> 0 | E46: =+E47 -> 0 | F46: =+F47 -> 0 | H46: =+H47 -> 0 | I46: =+I47 -> 0 | J46: =+J47 -> 0 | K46: =+K47 -> 0
A47: =+'[4]ดำเนินงานครุภัณฑ์ 310061ยั่งยืน'!A64 -> 0 | B47: =+'[4]ดำเนินงานครุภัณฑ์ 310061ยั่งยืน'!E64 -> ครุภัณฑ์สำนักงาน 120601 | C47: =+'[4]ดำเนินงานครุภัณฑ์ 310061ยั่งยืน'!D63 -> 6611310 | D47: =+'[4]ดำเนินงานครุภัณฑ์ 310061ยั่งยืน'!F68 -> 0 | E47: =+'[4]ดำเนินงานครุภัณฑ์ 310061ยั่งยืน'!G68 -> 0 | F47: =+'[4]ดำเนินงานครุภัณฑ์ 310061ยั่งยืน'!H68 -> 0 | H47: =+'[4]ดำเนินงานครุภัณฑ์ 310061ยั่งยืน'!I68 -> 0 | I47: =+'[4]ดำเนินงานครุภัณฑ์ 310061ยั่งยืน'!J68 -> 0 | J47: =+'[4]ดำเนินงานครุภัณฑ์ 310061ยั่งยืน'!K68 -> 0 | K47: =+'[4]ดำเนินงานครุภัณฑ์ 310061ยั่งยืน'!L68 -> 0
A48: =+'[4]งบกัน69 งบดำเนินงาน37201'!A45 -> 1.1.1 | B48: =+'[4]ดำเนินงานครุภัณฑ์ 310061ยั่งยืน'!E65 -> เครื่องปรับอากาศแบบตั้งพื้นหรือแขวน (ระบบ INVERTER) ขนาด 20,000 บีทียู | C48: =+'[4]ดำเนินงานครุภัณฑ์ 310061ยั่งยืน'!C65 -> โอนเปลี่ยนแปลงครั้งที่ 1/66 บท.กลุ่มนโยบายและแผน ที่ ศธ 04087/1957 ลว. 28 กย 66 | D48: =+D49 -> 0 | E48: =+E49 -> 0 | F48: =+F49 -> 0 | H48: =+H49 -> 0 | I48: =+I49 -> 0 | J48: =+J49 -> 0 | K48: =+K49 -> 0
A49: =+'[4]ดำเนินงานครุภัณฑ์ 310061ยั่งยืน'!A66 -> 1) | B49: =+'[4]ดำเนินงานครุภัณฑ์ 310061ยั่งยืน'!E66 -> สพป.ปท.2 | C49: =+'[4]ดำเนินงานครุภัณฑ์ 310061ยั่งยืน'!D65 -> 20004 31006100 3110010 | D49: =+'[4]ดำเนินงานครุภัณฑ์ 310061ยั่งยืน'!F70 -> 0 | E49: =+'[4]ดำเนินงานครุภัณฑ์ 310061ยั่งยืน'!G70 -> 0 | F49: =+'[4]ดำเนินงานครุภัณฑ์ 310061ยั่งยืน'!H70 -> 0 | H49: =+'[4]ดำเนินงานครุภัณฑ์ 310061ยั่งยืน'!I70 -> 0 | I49: =+'[4]ดำเนินงานครุภัณฑ์ 310061ยั่งยืน'!J70 -> 0 | J49: =+'[4]ดำเนินงานครุภัณฑ์ 310061ยั่งยืน'!K70 -> 0 | K49: =+'[4]ดำเนินงานครุภัณฑ์ 310061ยั่งยืน'!L70 -> 0
A50: =+'[4]ดำเนินงานครุภัณฑ์ 310061ยั่งยืน'!A71 -> 2 | B50: =+'[4]ดำเนินงานครุภัณฑ์ 310061ยั่งยืน'!E71 -> เครื่องปรับอากาศแบบติดผนัง (ระบบ INVERTER) ขนาด 18,000 บีทียู | C50: =+'[4]ดำเนินงานครุภัณฑ์ 310061ยั่งยืน'!C71 -> โอนเปลี่ยนแปลงครั้งที่ 1/66 บท.กลุ่มนโยบายและแผน ที่ ศธ 04087/1957 ลว. 28 กย 66 | D50: =+D51 -> 0 | E50: =+E51 -> 0 | F50: =+F51 -> 0 | H50: =+H51 -> 0 | I50: =+I51 -> 0 | J50: =+J51 -> 0 | K50: =+K51 -> 0
A51: =+'[4]ดำเนินงานครุภัณฑ์ 310061ยั่งยืน'!A72 -> 1) | B51: =+'[4]ดำเนินงานครุภัณฑ์ 310061ยั่งยืน'!E72 -> สพป.ปท.2 | C51: =+'[4]ดำเนินงานครุภัณฑ์ 310061ยั่งยืน'!D71 -> 20005 31006100 3110011 | D51: =+'[4]ดำเนินงานครุภัณฑ์ 310061ยั่งยืน'!F75 -> 0 | E51: =+'[4]ดำเนินงานครุภัณฑ์ 310061ยั่งยืน'!G75 -> 0 | F51: =+'[4]ดำเนินงานครุภัณฑ์ 310061ยั่งยืน'!H75 -> 0 | H51: =+'[4]ดำเนินงานครุภัณฑ์ 310061ยั่งยืน'!I75 -> 0 | I51: =+'[4]ดำเนินงานครุภัณฑ์ 310061ยั่งยืน'!J75 -> 0 | J51: =+'[4]ดำเนินงานครุภัณฑ์ 310061ยั่งยืน'!K75 -> 0 | K51: =+'[4]ดำเนินงานครุภัณฑ์ 310061ยั่งยืน'!L75 -> 0
A52: =+'[4]ดำเนินงานครุภัณฑ์ 310061ยั่งยืน'!A76 -> 3 | B52: =+'[4]ดำเนินงานครุภัณฑ์ 310061ยั่งยืน'!E76 -> โพเดียม | C52: =+'[4]ดำเนินงานครุภัณฑ์ 310061ยั่งยืน'!C76 -> โอนเปลี่ยนแปลงครั้งที่ 1/66 บท.กลุ่มนโยบายและแผน ที่ ศธ 04087/1957 ลว. 28 กย 66 | D52: =+D53 -> 0 | E52: =+E53 -> 0 | F52: =+F53 -> 0 | H52: =+H53 -> 0 | I52: =+I53 -> 0 | J52: =+J53 -> 0 | K52: =+K53 -> 0
A53: =+'[4]ดำเนินงานครุภัณฑ์ 310061ยั่งยืน'!A77 -> 1) | B53: =+'[4]ดำเนินงานครุภัณฑ์ 310061ยั่งยืน'!E77 -> สพป.ปท.2 | C53: =+'[4]ดำเนินงานครุภัณฑ์ 310061ยั่งยืน'!D76 -> 20008 31006100 3110014 | D53: =+'[4]ดำเนินงานครุภัณฑ์ 310061ยั่งยืน'!F77 -> 0 | E53: =+'[4]ดำเนินงานครุภัณฑ์ 310061ยั่งยืน'!G80 -> 0 | F53: =+'[4]ดำเนินงานครุภัณฑ์ 310061ยั่งยืน'!H80 -> 0 | G53: =+'[4]ดำเนินงานครุภัณฑ์ 310061ยั่งยืน'!I80 -> 0 | H53: =+'[4]ดำเนินงานครุภัณฑ์ 310061ยั่งยืน'!J80 -> 0 | I53: =+'[4]ดำเนินงานครุภัณฑ์ 310061ยั่งยืน'!K80 -> 0 | J53: =+'[4]ดำเนินงานครุภัณฑ์ 310061ยั่งยืน'!L80 -> 0 | K53: =+'[4]ดำเนินงานครุภัณฑ์ 310061ยั่งยืน'!L77 -> 0
B54: =+'[4]ดำเนินงานครุภัณฑ์ 310061ยั่งยืน'!E81 -> ครุภัณฑ์โฆษณาและเผยแพร่ 120601 | C54: =+'[4]ดำเนินงานครุภัณฑ์ 310061ยั่งยืน'!D68 -> 0 | D54: =+D55+D57+D59 -> 0 | E54: =+E55+E57+E59 -> 0 | F54: =+F55+F57+F59 -> 0 | H54: =+H55+H57+H59 -> 0 | I54: =+I55+I57+I59 -> 0 | J54: =+J55+J57+J59 -> 0 | K54: =+K55+K57+K59 -> 0
A55: =+'[4]ดำเนินงานครุภัณฑ์ 310061ยั่งยืน'!A82 -> 1 | B55: =+'[4]ดำเนินงานครุภัณฑ์ 310061ยั่งยืน'!E82 -> โทรทัศน์สีแอล อี ดี (LED TV) แบบ Smart TV ระดับความละเอียดจอภาพ 3840 x 2160 พิกเซล ขนาด 75 นิ้ว | C55: =+'[4]ดำเนินงานครุภัณฑ์ 310061ยั่งยืน'!C82 -> โอนเปลี่ยนแปลงครั้งที่ 1/66 บท.กลุ่มนโยบายและแผน ที่ ศธ 04087/1957 ลว. 28 กย 66 | D55: =+D56 -> 0 | E55: =+E56 -> 0 | F55: =+F56 -> 0 | H55: =+H56 -> 0 | I55: =+I56 -> 0 | J55: =+J56 -> 0 | K55: =+K56 -> 0
A56: =+'[4]ดำเนินงานครุภัณฑ์ 310061ยั่งยืน'!A83 -> 1) | B56: =+'[4]ดำเนินงานครุภัณฑ์ 310061ยั่งยืน'!E94 -> สพป.ปท.2 | C56: =+'[4]ดำเนินงานครุภัณฑ์ 310061ยั่งยืน'!D82 -> 20007 31006100 3110012 | D56: =+'[4]ดำเนินงานครุภัณฑ์ 310061ยั่งยืน'!F87 -> 0 | E56: =+'[4]ดำเนินงานครุภัณฑ์ 310061ยั่งยืน'!G87 -> 0 | F56: =+'[4]ดำเนินงานครุภัณฑ์ 310061ยั่งยืน'!H87 -> 0 | H56: =+'[4]ดำเนินงานครุภัณฑ์ 310061ยั่งยืน'!I87 -> 0 | I56: =+'[4]ดำเนินงานครุภัณฑ์ 310061ยั่งยืน'!J87 -> 0 | J56: =+'[4]ดำเนินงานครุภัณฑ์ 310061ยั่งยืน'!K87 -> 0 | K56: =+'[4]ดำเนินงานครุภัณฑ์ 310061ยั่งยืน'!L87 -> 0
A57: =+'[4]ดำเนินงานครุภัณฑ์ 310061ยั่งยืน'!A88 -> 2 | B57: =+'[4]ดำเนินงานครุภัณฑ์ 310061ยั่งยืน'!E88 -> ไมโครโฟนไร้สาย | C57: =+'[4]ดำเนินงานครุภัณฑ์ 310061ยั่งยืน'!C88 -> โอนเปลี่ยนแปลงครั้งที่ 1/66 บท.กลุ่มนโยบายและแผน ที่ ศธ 04087/1957 ลว. 28 กย 66 | D57: =+D58 -> 0 | E57: =+E58 -> 0 | F57: =+F58 -> 0 | H57: =+H58 -> 0 | I57: =+I58 -> 0 | J57: =+J58 -> 0 | K57: =+K58 -> 0
A58: =+'[4]ดำเนินงานครุภัณฑ์ 310061ยั่งยืน'!A89 -> 1) | B58: =+'[4]ดำเนินงานครุภัณฑ์ 310061ยั่งยืน'!E89 -> สพป.ปท.2 | C58: =+'[4]ดำเนินงานครุภัณฑ์ 310061ยั่งยืน'!D88 -> 20008 31006100 3110013 | D58: =+'[4]ดำเนินงานครุภัณฑ์ 310061ยั่งยืน'!F92 -> 0 | E58: =+'[4]ดำเนินงานครุภัณฑ์ 310061ยั่งยืน'!G92 -> 0 | F58: =+'[4]ดำเนินงานครุภัณฑ์ 310061ยั่งยืน'!H92 -> 0 | H58: =+'[4]ดำเนินงานครุภัณฑ์ 310061ยั่งยืน'!I92 -> 0 | I58: =+'[4]ดำเนินงานครุภัณฑ์ 310061ยั่งยืน'!J92 -> 0 | J58: =+'[4]ดำเนินงานครุภัณฑ์ 310061ยั่งยืน'!K92 -> 0 | K58: =+'[4]ดำเนินงานครุภัณฑ์ 310061ยั่งยืน'!L92 -> 0
A59: =+'[4]ดำเนินงานครุภัณฑ์ 310061ยั่งยืน'!A93 -> 3 | B59: =+'[4]ดำเนินงานครุภัณฑ์ 310061ยั่งยืน'!E93 -> เครื่องมัลติมีเดีย โปรเจคเตอร์ ระดับ XGA ขนาด 5000 ANSI Lumens | C59: =+'[4]ดำเนินงานครุภัณฑ์ 310061ยั่งยืน'!C93 -> โอนเปลี่ยนแปลงครั้งที่ 1/66 บท.กลุ่มนโยบายและแผน ที่ ศธ 04087/1957 ลว. 28 กย 66 | D59: =+D60 -> 0 | E59: =+E60 -> 0 | F59: =+F60 -> 0 | H59: =+H60 -> 0 | I59: =+I60 -> 0 | J59: =+J60 -> 0 | K59: =+K60 -> 0
A60: =+'[4]ดำเนินงานครุภัณฑ์ 310061ยั่งยืน'!A94 -> 1) | B60: =+'[4]ดำเนินงานครุภัณฑ์ 310061ยั่งยืน'!E94 -> สพป.ปท.2 | C60: =+'[4]ดำเนินงานครุภัณฑ์ 310061ยั่งยืน'!D93 -> 20009 31006100 3110015 | D60: =+'[4]ดำเนินงานครุภัณฑ์ 310061ยั่งยืน'!F97 -> 0 | E60: =+'[4]ดำเนินงานครุภัณฑ์ 310061ยั่งยืน'!G97 -> 0 | F60: =+'[4]ดำเนินงานครุภัณฑ์ 310061ยั่งยืน'!H97 -> 0 | H60: =+'[4]ดำเนินงานครุภัณฑ์ 310061ยั่งยืน'!I97 -> 0 | I60: =+'[4]ดำเนินงานครุภัณฑ์ 310061ยั่งยืน'!J97 -> 0 | J60: =+'[4]ดำเนินงานครุภัณฑ์ 310061ยั่งยืน'!K97 -> 0 | K60: =+'[4]ดำเนินงานครุภัณฑ์ 310061ยั่งยืน'!L97 -> 0
A61: =+'[4]งบกัน69 งบดำเนินงาน37201'!A58 -> 0 | B61: =+'[4]ดำเนินงานครุภัณฑ์ 310061ยั่งยืน'!E78 -> เบิก | C61: =+'[4]ดำเนินงานครุภัณฑ์ 310061ยั่งยืน'!C78 -> 20 | D61: =+D62 -> 0 | E61: =+E62 -> 0 | F61: =+F62 -> 0 | H61: =+H62 -> 0 | I61: =+I62 -> 0 | J61: =+J62 -> 0 | K61: =+K62 -> 0
A62: =+'[4]ดำเนินงานครุภัณฑ์ 310061ยั่งยืน'!A79 -> 0 | B62: =+'[4]ดำเนินงานครุภัณฑ์ 310061ยั่งยืน'!E79 -> 0 | C62: =+'[4]ดำเนินงานครุภัณฑ์ 310061ยั่งยืน'!D78 -> KB3100006110 | D62: =+'[4]ดำเนินงานครุภัณฑ์ 310061ยั่งยืน'!F83 -> 0 | E62: =+'[4]ดำเนินงานครุภัณฑ์ 310061ยั่งยืน'!G83 -> 0 | F62: =+'[4]ดำเนินงานครุภัณฑ์ 310061ยั่งยืน'!H83 -> 0 | H62: =+'[4]ดำเนินงานครุภัณฑ์ 310061ยั่งยืน'!I83 -> 0 | I62: =+'[4]ดำเนินงานครุภัณฑ์ 310061ยั่งยืน'!J83 -> 0 | J62: =+'[4]ดำเนินงานครุภัณฑ์ 310061ยั่งยืน'!K83 -> 0 | K62: =+'[4]ดำเนินงานครุภัณฑ์ 310061ยั่งยืน'!L83 -> 0
A65: ข | B65: =+'[4]งบกัน69 งบดำเนินงาน37201'!E5 -> แผนงานพื้นฐานด้านการพัฒนาและเสริมสร้างศักยภาพทรัพยากรมนุษย์ | D65: =+D66 -> 147392 | E65: =+E66 -> 0 | F65: =+F66 -> 59992 | G65: =+G66 -> 0 | H65: =+H66 -> 0 | I65: =+I66 -> 87400 | J65: =+J66 -> 0 | K65: =+K66 -> 0
A66: 1 | B66: =+'[4]งบกัน69 งบดำเนินงาน37201'!E6 -> ผลผลิตผู้จบการศึกษาภาคบังคับ | C66: =+'[4]งบกัน69 งบดำเนินงาน37201'!D6 -> 20004 37001 | D66: =+D67 -> 147392 | E66: =+E67 -> 0 | F66: =+F67 -> 59992 | G66: =+G67 -> 0 | H66: =+H67 -> 0 | I66: =+I67 -> 87400 | J66: =+J67 -> 0 | K66: =+K67 -> 0
B67: งบดำเนินงาน | C67: 69112xx | D67: =+D69+D76 -> 147392 | E67: =+E69+E76 -> 0 | F67: =+F69+F76 -> 59992 | G67: =+G69+G76 -> 0 | H67: =+H69+H76 -> 0 | I67: =+I69+I76 -> 87400 | J67: =+J69+J76 -> 0 | K67: =+K69+K76 -> 0
A68: 1.1 | B68: กิจกรรมการบริหารจัดการในเขตพื้นที่การศึกษา/กิจกรรมการจัดการศึกษาประถมศึกษาสำหรับโรงเรียนปกติ | C68: 20004 69 00148 00000/20004 69 05164 00000 | D68: =+D69 -> 87400 | E68: =+E69 -> 0 | F68: =+F69 -> 0 | G68: =+G69 -> 0 | H68: =+H69 -> 0 | I68: =+I69 -> 87400 | J68: =+J69 -> 0 | K68: =+K69 -> 0
B69: =+'[4]งบกัน69 งบดำเนินงาน37201'!E7 -> งบดำเนินงาน | C69: 69112xx | D69: =+D71 -> 87400 | E69: =+E71 -> 0 | F69: =+F71 -> 0 | G69: =+G71 -> 0 | H69: =+H71 -> 0 | I69: =+I71 -> 87400 | J69: =+J71 -> 0 | K69: =+K71 -> 0
A70: 1.1.1 | B70: ปรับปรุงแซมแซมอาคารสำนักงาน | D70: =+D71 -> 87400 | E70: =+E71 -> 0 | F70: =+F71 -> 0 | G70: =+G71 -> 0 | H70: =+H71 -> 0 | I70: =+I71 -> 87400 | J70: =+J71 -> 0 | K70: =+K71 -> 0
A71: 1) | B71: สพป.ปทุมธานี เขต 2 | C71: 2.000435e+18 | D71: =+'[4]งบกัน69 งบดำเนินงาน37201'!F16 -> 87400 | E71: =+'[4]งบกัน69 งบดำเนินงาน37201'!G16 -> 0 | F71: =+'[4]งบกัน69 งบดำเนินงาน37201'!H16 -> 0 | G71: =+'[4]งบกัน69 งบดำเนินงาน37201'!I16 -> 0 | H71: =+'[4]งบกัน69 งบดำเนินงาน37201'!J16 -> 0 | I71: =+'[4]งบกัน69 งบดำเนินงาน37201'!K16 -> 87400 | J71: =+'[4]งบกัน69 งบดำเนินงาน37201'!L16 -> 0 | K71: =+D71-E71-F71-G71-H71-I71-J71 -> 0
B72: =+'[4]งบกัน69 งบดำเนินงาน37201'!D10 -> ส. 24 ก.ย. 69 ครบ 24 ต.ค. 69 | C72: =+'[4]งบกัน69 งบดำเนินงาน37201'!C10 -> 4100947811
B73: (67355+20045) | H73: =+'[4]สิ่งก่อสร้าง งบอุดหนุน 67'!J76 -> 0 | J73: =+'[4]สิ่งก่อสร้าง งบอุดหนุน 67'!L76 -> 0
A75: =+'[4]งบกัน69 งบดำเนินงาน37201'!A17 -> 1.2 | B75: =+'[4]งบกัน69 งบดำเนินงาน37201'!E17 -> กิจกรรมรองการวิจัยเพื่อพัฒนานวัตกรรมการจัดการศึกษา | C75: =+'[4]งบกัน69 งบดำเนินงาน37201'!D17 -> 20004 69 05165 52018 | D75: =+D76 -> 59992 | E75: =+E76 -> 0 | F75: =+F76 -> 59992 | G75: =+G76 -> 0 | H75: =+H76 -> 0 | I75: =+I76 -> 0 | J75: =+J76 -> 0 | K75: =+K76 -> 0
B76: =+'[4]งบกัน69 งบดำเนินงาน37201'!E18 -> งบดำเนินงาน 69112xx | C76: =+'[4]งบกัน69 งบดำเนินงาน37201'!C26:D26 -> 0 | D76: =+D77 -> 59992 | E76: =+E77 -> 0 | F76: =+F77 -> 59992 | G76: =+G77 -> 0 | H76: =+H77 -> 0 | I76: =+I77 -> 0 | J76: =+J77 -> 0 | K76: =+K77 -> 0
A77: 1.2.1 | B77: =+'[4]งบกัน69 งบดำเนินงาน37201'!E19 -> ค่าใช้จ่ายในการดำเนินโครงการขับเคลื่อนการพัฒนาคุณภาพชีวิตและการเรียนรู้ของนักเรียนในโครงการด้วยรักและห่วงใยในพระบรมราชูปถัมภ์ สมเด็จพระกนิษฐาธิราชเจ้า กรมสมเด็จพระเทพรัตนราชสุดา สยามบรมราชกุมารี | C77: =+[5]มัธยม350002!$C$77:$D$77 -> ที่ ศธ04002/ว16797 ลว 17 ก.ย. 69 ครั้งที่ 931 | D77: =SUM(D78:D82) -> 59992 | E77: =SUM(E78:E82) -> 0 | F77: =SUM(F78:F82) -> 59992 | G77: =SUM(G78:G82) -> 0 | H77: =SUM(H78:H82) -> 0 | I77: =SUM(I78:I82) -> 0 | J77: =SUM(J78:J82) -> 0 | K77: =SUM(K78:K82) -> 0
A78: 1) | B78: =+'[4]งบกัน69 งบดำเนินงาน37201'!E20 -> ร.ร.รวมราษฎร์สามัคคี | C78: =+'[4]งบกัน69 งบดำเนินงาน37201'!C20 -> 4100940013 | D78: =+'[4]งบกัน69 งบดำเนินงาน37201'!F26 -> 29995 | E78: =+'[4]งบกัน69 งบดำเนินงาน37201'!G26 -> 0 | F78: =+'[4]งบกัน69 งบดำเนินงาน37201'!H26 -> 29995 | G78: =+'[4]งบกัน69 งบดำเนินงาน37201'!I26 -> 0 | H78: =+'[4]งบกัน69 งบดำเนินงาน37201'!J26 -> 0 | I78: =+'[4]งบกัน69 งบดำเนินงาน37201'!K26 -> 0 | J78: =+'[4]งบกัน69 งบดำเนินงาน37201'!L26 -> 0 | K78: =+'[4]งบกัน69 งบดำเนินงาน37201'!M26 -> 0
B79: =+'[4]งบกัน69 งบดำเนินงาน37201'!C21 -> ส. 22 ก.ย. 69 ครบ 7 ต.ค. 69 | C79: =+'[4]งบกัน69 งบดำเนินงาน37201'!E21 -> จัดทำแปลงเกษตร
A80: =+'[4]งบกัน69 งบดำเนินงาน37201'!A27 -> 2) | B80: =+'[4]งบกัน69 งบดำเนินงาน37201'!E27 -> ร.ร.ร่วมจิตประสาท | C80: =+'[4]งบกัน69 งบดำเนินงาน37201'!C27 -> 4100947143 | D80: =+'[4]งบกัน69 งบดำเนินงาน37201'!F33 -> 29997 | E80: =+'[4]งบกัน69 งบดำเนินงาน37201'!G33 -> 0 | F80: =+'[4]งบกัน69 งบดำเนินงาน37201'!H33 -> 29997 | G80: =+'[4]งบกัน69 งบดำเนินงาน37201'!I33 -> 0 | H80: =+'[4]งบกัน69 งบดำเนินงาน37201'!J33 -> 0 | I80: =+'[4]งบกัน69 งบดำเนินงาน37201'!K33 -> 0 | J80: =+'[4]งบกัน69 งบดำเนินงาน37201'!L33 -> 0 | K80: =+'[4]งบกัน69 งบดำเนินงาน37201'!M33 -> 0
B81: =+'[4]งบกัน69 งบดำเนินงาน37201'!C28 -> ส. 23 ก.ย. 69 ครบ 8 ต.ค. 69 | C81: =+'[4]งบกัน69 งบดำเนินงาน37201'!E28 -> จัดทำแปลงเกษตร
H82: =+'[4]สิ่งก่อสร้าง งบอุดหนุน 67'!J85 -> 0 | J82: =+'[4]สิ่งก่อสร้าง งบอุดหนุน 67'!L85 -> 0
B84: งบลงทุน 6911320 | C84: =+'[4]งบกัน69 งบดำเนินงาน37201'!D34 -> 6911320
A85: =+'[4]สิ่งก่อสร้าง งบอุดหนุน 67'!A95 -> 1.1.2 | B85: =+'[4]สิ่งก่อสร้าง งบอุดหนุน 67'!E95 -> ปรับปรุงซ่อมแซมระบบไฟฟ้าและประปา สำหรับสถานศึกษาที่ประสบภัยธรรมชาติ | C85: =+'[4]งบกัน69 งบดำเนินงาน37201'!E34 -> งบลงทุน ค่าที่ดินและสิ่งก่อสร้าง | D85: =D86 -> 0 | E85: =E86 -> 0 | F85: =F86 -> 0 | G85: =G86 -> 0 | H85: =H86 -> 0 | I85: =I86 -> 0 | J85: =J86 -> 0 | K85: =K86 -> 0
H86: =+'[4]สิ่งก่อสร้าง งบอุดหนุน 67'!J101 -> 0 | I86: =+'[4]สิ่งก่อสร้าง งบอุดหนุน 67'!L101 -> 0 | K86: =+D86-E86-F86-G86-H86-I86-J86 -> 0
D87: =SUM(D85:D86) -> 0
E88: =+'[4]สิ่งก่อสร้าง งบอุดหนุน 67'!H107 -> 0 | H88: =+'[4]สิ่งก่อสร้าง งบอุดหนุน 67'!J107 -> 0 | I88: =+'[4]สิ่งก่อสร้าง งบอุดหนุน 67'!L107 -> 0 | J88: =+'[4]สิ่งก่อสร้าง งบอุดหนุน 67'!M107 -> 0 | K88: =+'[4]สิ่งก่อสร้าง งบอุดหนุน 67'!N107 -> 0
D89: =+D90 -> 0 | E89: =+E90 -> 0 | F89: =+F90 -> 0 | H89: =+H90 -> 0 | I89: =+I90 -> 0 | J89: =+J90 -> 0 | K89: =+K90 -> 0
E90: =+'[4]สิ่งก่อสร้าง งบอุดหนุน 67'!H113 -> 0 | H90: =+'[4]สิ่งก่อสร้าง งบอุดหนุน 67'!J113 -> 0 | I90: =+'[4]สิ่งก่อสร้าง งบอุดหนุน 67'!L113 -> 0 | J90: =+'[4]สิ่งก่อสร้าง งบอุดหนุน 67'!M113 -> 0 | K90: =+'[4]สิ่งก่อสร้าง งบอุดหนุน 67'!N113 -> 0
B91: =+'[4]งบอุดหนุน 350002'!D7 -> 6911410 | D91: =+D92 -> 0 | E91: =+E92 -> 0 | F91: =+F92 -> 0 | G91: =+G92 -> 0 | H91: =+H92 -> 0 | I91: =+I92 -> 0 | J91: =+J92 -> 0 | K91: =+K92 -> 0
B92: =+'[4]งบอุดหนุน 350002'!E7 -> งบเงินอุดหนุน | C92: =+'[4]งบอุดหนุน 350002'!D7 -> 6911410 | D92: =SUM(D93:D97) -> 0 | E92: =SUM(E93:E97) -> 0 | F92: =SUM(F93:F97) -> 0 | G92: =SUM(G95:G96) -> 0 | H92: =SUM(H95:H96) -> 0 | I92: =SUM(I95:I96) -> 0 | J92: =SUM(J95:J96) -> 0 | K92: =SUM(K95:K96) -> 0
A93: 1.1.2 | B93: =+'[4]งบอุดหนุน 350002'!E9 -> ค่าใช้จ่ายในการปรับปรุงฟื้นฟูอาคาร สิ่งก่อสร้าง และระบบสาธารณูปโภคที่ประสบภัยธรรมชาติ | C93: =+'[4]งบอุดหนุน 350002'!C9:D9 -> 20004350002004100006 | D93: =+'[4]สิ่งก่อสร้าง งบอุดหนุน 67'!G120 -> 0 | E93: =+'[4]สิ่งก่อสร้าง งบอุดหนุน 67'!H120 -> 0 | F93: =+'[4]สิ่งก่อสร้าง งบอุดหนุน 67'!I120 -> 0 | H93: =+'[4]สิ่งก่อสร้าง งบอุดหนุน 67'!J120 -> 0 | I93: =+'[4]สิ่งก่อสร้าง งบอุดหนุน 67'!L120 -> 0 | J93: =+'[4]สิ่งก่อสร้าง งบอุดหนุน 67'!M120 -> 0 | K93: =+'[4]สิ่งก่อสร้าง งบอุดหนุน 67'!N120 -> 0
C94: =+'[4]งบอุดหนุน 350002'!C10:D10 -> ศธ 04002/ว1064 ลว. 17 มีค 68
A95: 1) | B95: =+'[4]งบอุดหนุน 350002'!E10 -> ร.ร.วัดเกตประภา | C95: =+'[4]งบอุดหนุน 350002'!C9:D9 -> 20004350002004100006 | D95: =+'[4]งบอุดหนุน 350002'!F10 -> 0 | E95: =+'[4]งบอุดหนุน 350002'!G16 -> 0 | F95: =+'[4]งบอุดหนุน 350002'!H16 -> 0 | G95: =+'[4]งบอุดหนุน 350002'!I16 -> 0 | H95: =+'[4]งบอุดหนุน 350002'!J16 -> 0 | I95: =+'[4]งบอุดหนุน 350002'!K16 -> 0 | J95: =+'[4]งบอุดหนุน 350002'!L16 -> 0 | K95: =+D95-E95-F95-G95-H95-I95-J95 -> 0
A96: 2) | B96: =+'[4]งบอุดหนุน 350002'!E18 -> ร.ร.วัดเจริญบุญ | C96: =+'[4]งบอุดหนุน 350002'!C9:D9 -> 20004350002004100006 | D96: =+'[4]งบอุดหนุน 350002'!F29 -> 0 | E96: =+'[4]งบอุดหนุน 350002'!G29 -> 0 | F96: =+'[4]งบอุดหนุน 350002'!H29 -> 0 | G96: =+'[4]งบอุดหนุน 350002'!I29 -> 0 | H96: =+'[4]งบอุดหนุน 350002'!J29 -> 0 | I96: =+'[4]งบอุดหนุน 350002'!K29 -> 0 | J96: =+'[4]งบอุดหนุน 350002'!L29 -> 0 | K96: =+D96-E96-F96-G96-H96-I96-J96 -> 0
A98: =+'[4]สิ่งก่อสร้าง งบอุดหนุน 67'!A121 -> 3.1.7 | B98: =+'[4]สิ่งก่อสร้าง งบอุดหนุน 67'!E121 -> เครื่องพิมพ์ Multifunction แบบฉีดหมึกพร้อมติดตั้งถังหมึกพิมพ์ (Ink Tank Printer) | D98: =+'[4]สิ่งก่อสร้าง งบอุดหนุน 67'!G121 -> 0 | E98: =+'[4]สิ่งก่อสร้าง งบอุดหนุน 67'!H121 -> 0 | F98: =+'[4]สิ่งก่อสร้าง งบอุดหนุน 67'!I121 -> 0 | H98: =+'[4]สิ่งก่อสร้าง งบอุดหนุน 67'!J121 -> 0 | I98: =+'[4]สิ่งก่อสร้าง งบอุดหนุน 67'!L121 -> 0 | J98: =+'[4]สิ่งก่อสร้าง งบอุดหนุน 67'!M121 -> 0 | K98: =+'[4]สิ่งก่อสร้าง งบอุดหนุน 67'!N121 -> 0
A99: =+'[4]สิ่งก่อสร้าง งบอุดหนุน 67'!A122 -> 3.1.7.1 | B99: =+'[4]สิ่งก่อสร้าง งบอุดหนุน 67'!E122 -> สพป.ปท.2 จำนวน 3 เครื่อง | C99: =+'[4]สิ่งก่อสร้าง งบอุดหนุน 67'!F122 -> 2000436002110DBW | D99: =+'[4]สิ่งก่อสร้าง งบอุดหนุน 67'!G127 -> 0 | E99: =+'[4]สิ่งก่อสร้าง งบอุดหนุน 67'!H127 -> 0 | F99: =+'[4]สิ่งก่อสร้าง งบอุดหนุน 67'!I127 -> 0 | H99: =+'[4]สิ่งก่อสร้าง งบอุดหนุน 67'!J127 -> 0 | I99: =+'[4]สิ่งก่อสร้าง งบอุดหนุน 67'!L127 -> 0 | J99: =+'[4]สิ่งก่อสร้าง งบอุดหนุน 67'!M127 -> 0 | K99: =+'[4]สิ่งก่อสร้าง งบอุดหนุน 67'!N127 -> 0
A100: =+'[4]สิ่งก่อสร้าง งบอุดหนุน 67'!A128 -> 3.2 | B100: =+'[4]สิ่งก่อสร้าง งบอุดหนุน 67'!E128 -> กิจกรรมการจัดการศึกษามัธยมศึกษาตอนต้นสำหรับโรงเรียนปกติ | C100: =+'[4]สิ่งก่อสร้าง งบอุดหนุน 67'!F128 -> 200041300P2792 | D100: =+'[4]สิ่งก่อสร้าง งบอุดหนุน 67'!G128 -> 0 | E100: =+'[4]สิ่งก่อสร้าง งบอุดหนุน 67'!H128 -> 0 | F100: =+'[4]สิ่งก่อสร้าง งบอุดหนุน 67'!I128 -> 0 | H100: =+'[4]สิ่งก่อสร้าง งบอุดหนุน 67'!J128 -> 0 | I100: =+'[4]สิ่งก่อสร้าง งบอุดหนุน 67'!L128 -> 0 | J100: =+'[4]สิ่งก่อสร้าง งบอุดหนุน 67'!M128 -> 0 | K100: =+'[4]สิ่งก่อสร้าง งบอุดหนุน 67'!N128 -> 0
A101: =+'[4]สิ่งก่อสร้าง งบอุดหนุน 67'!A129 -> 0 | B101: =+'[4]สิ่งก่อสร้าง งบอุดหนุน 67'!E129 -> งบดำเนินงาน | C101: 6711220 | D101: =+'[4]สิ่งก่อสร้าง งบอุดหนุน 67'!G129 -> 0 | E101: =+'[4]สิ่งก่อสร้าง งบอุดหนุน 67'!H129 -> 0 | F101: =+'[4]สิ่งก่อสร้าง งบอุดหนุน 67'!I129 -> 0 | H101: =+'[4]สิ่งก่อสร้าง งบอุดหนุน 67'!J129 -> 0 | I101: =+'[4]สิ่งก่อสร้าง งบอุดหนุน 67'!L129 -> 0 | J101: =+'[4]สิ่งก่อสร้าง งบอุดหนุน 67'!M129 -> 0 | K101: =+'[4]สิ่งก่อสร้าง งบอุดหนุน 67'!N129 -> 0
A102: =+'[4]สิ่งก่อสร้าง งบอุดหนุน 67'!A130 -> 3.2.1 | B102: =+'[4]สิ่งก่อสร้าง งบอุดหนุน 67'!E130 -> ปรับปรุงซ่อมแซมผนังอาคาร ท่อลำเลียงน้ำและซ่อมพื้นดาดฟ้ารั่วซึม | D102: =+'[4]สิ่งก่อสร้าง งบอุดหนุน 67'!G130 -> 0 | E102: =+'[4]สิ่งก่อสร้าง งบอุดหนุน 67'!H130 -> 0 | F102: =+'[4]สิ่งก่อสร้าง งบอุดหนุน 67'!I130 -> 0 | H102: =+'[4]สิ่งก่อสร้าง งบอุดหนุน 67'!J130 -> 0 | I102: =+'[4]สิ่งก่อสร้าง งบอุดหนุน 67'!L130 -> 0 | J102: =+'[4]สิ่งก่อสร้าง งบอุดหนุน 67'!M130 -> 0 | K102: =+'[4]สิ่งก่อสร้าง งบอุดหนุน 67'!N130 -> 0
A103: =+'[4]สิ่งก่อสร้าง งบอุดหนุน 67'!A131 -> 3.2.1.1 | B103: =+'[4]สิ่งก่อสร้าง งบอุดหนุน 67'!E131 -> สพป.ปท.2 | C103: =+'[4]สิ่งก่อสร้าง งบอุดหนุน 67'!F131 -> 2000436002000000 | D103: =+'[4]สิ่งก่อสร้าง งบอุดหนุน 67'!G136 -> 0 | E103: =+'[4]สิ่งก่อสร้าง งบอุดหนุน 67'!H136 -> 0 | F103: =+'[4]สิ่งก่อสร้าง งบอุดหนุน 67'!I136 -> 0 | H103: =+'[4]สิ่งก่อสร้าง งบอุดหนุน 67'!J136 -> 0 | I103: =+'[4]สิ่งก่อสร้าง งบอุดหนุน 67'!L136 -> 0 | J103: =+'[4]สิ่งก่อสร้าง งบอุดหนุน 67'!M136 -> 0 | K103: =+'[4]สิ่งก่อสร้าง งบอุดหนุน 67'!N136 -> 0
A104: 1.2 | B104: =+'[4]งบกัน69 งบดำเนินงาน37201'!E44 -> กิจกรรมก่อสร้างปรับปรุง ซ่อมแซมอาคารเรียนและสิ่งก่อสร้างประกอบสำหรับโรงเรียนปกติ | C104: =+'[4]งบกัน69 งบดำเนินงาน37201'!D44 -> 20004 68 01056 00000 | D104: =+D105 -> 0 | E104: =+E105 -> 0 | F104: =+F105 -> 0 | H104: =+H105 -> 0 | I104: =+I105 -> 0 | J104: =+J105 -> 0 | K104: =+K105 -> 0
A105: =+'[4]สิ่งก่อสร้าง งบอุดหนุน 67'!A138 -> 0 | B105: =+'[4]งบกัน69 งบดำเนินงาน37201'!E34 -> งบลงทุน ค่าที่ดินและสิ่งก่อสร้าง | C105: =+'[4]งบกัน69 งบดำเนินงาน37201'!D34 -> 6911320 | D105: =+D106+D109+D112 -> 0 | E105: =+E106+E109+E112 -> 0 | F105: =+F106+F109+F112 -> 0 | G105: =+G106+G109+G112 -> 0 | H105: =+H106+H109+H112 -> 0 | I105: =+I106+I109+I112 -> 0 | J105: =+J106+J109+J112 -> 0 | K105: =+K106+K109+K112 -> 0
A106: 1.2.1 | B106: =+'[4]งบกัน69 งบดำเนินงาน37201'!E45 -> อาคารเรียนน๊อคดาวน์ | C106: ศธ 04002/ว5187 ลว 21 ตค 67ครั้งที่ 5 | D106: =SUM(D107:D108) -> 0 | E106: =SUM(E107:E108) -> 0 | F106: =SUM(F107:F108) -> 0 | G106: =SUM(G107:G108) -> 0 | H106: =SUM(H107:H108) -> 0 | I106: =SUM(I107:I108) -> 0 | J106: =SUM(J107:J108) -> 0 | K106: =SUM(K107:K108) -> 0
A107: =+'[4]งบกัน69 งบดำเนินงาน37201'!A46 -> 1) | B107: =+'[4]งบกัน69 งบดำเนินงาน37201'!E46 -> โรงเรียนวัดดอนใหญ่ | C107: =+'[4]งบกัน69 งบดำเนินงาน37201'!D46 -> 2000437001000321ZZZZ | D107: =+'[4]งบกัน69 งบดำเนินงาน37201'!F52 -> 0 | E107: =+'[4]งบกัน69 งบดำเนินงาน37201'!G52 -> 0 | F107: =+'[4]งบกัน69 งบดำเนินงาน37201'!H52 -> 0 | G107: =+'[4]งบกัน69 งบดำเนินงาน37201'!I52 -> 0 | H107: =+'[4]งบกัน69 งบดำเนินงาน37201'!J52 -> 0 | I107: =+'[4]งบกัน69 งบดำเนินงาน37201'!K52 -> 0 | J107: =+'[4]งบกัน69 งบดำเนินงาน37201'!L52 -> 0 | K107: =+D107-E107-F107-G107-H107-I107-J107 -> 0
...

Sheet งบบริหารจัดการเขตพื้นที่
A1: รายงานผลการเบิกจ่ายเงินงบประมาณ งบประจำเพื่อการบริหารจัดการสำนักงานและงบพัฒนาคุณภาพการศึกษา
A2: ประจำปีงบประมาณ พ.ศ. 2570
A3: กลุ่มบริหารงานการเงินและสินทรัพย์ สำนักงานเขตพื้นที่การศึกษาประถมศึกษาปทุมธานี เขต 2
A4: ประจำเดือนตุลาคม 2569
A5: ที่ | B5: รายการ | D5: =+[5]ระบบการควบคุมฯ!B772 -> กิจกรรมการบริหารจัดการในเขตพื้นที่การศึกษา | K5: =+[5]ระบบการควบคุมฯ!B901 -> กิจกรรมการจัดการศึกษาประถมศึกษาสำหรับโรงเรียนปกติ | R5: =+[5]งบสพฐ!B367 -> กิจกรรมการสนับสนุนการศึกษาขั้นพื้นฐาน | Y5: รวมกิจกรรมบริหารจัดการในสำนักงานเขตพื้นที่การศึกษา/กิจกรรมการจัดการศึกษาประถมศึกษาฯ/กิจกรรมสนับสนุนการศึกษาขั้นพื้นฐาน | AG5: ผู้รับผิดชอบ
C6: รหัสงบประมาณ | D6: งบบริหารสำนักงาน | E6: งบพัฒนาเพื่อพัฒนาคุณภาพการศึกษา | F6: รวมเงินงวด | G6: ผูกพัน | H6: =+[5]ระบบการควบคุมฯ!I5 -> กันเงินไว้เบิก | I6: เบิก | J6: คงเหลือ | K6: งบบริหารสำนักงาน | L6: งบพัฒนาเพื่อพัฒนาคุณภาพการศึกษา | M6: รวมเงินงวด | N6: ผูกพัน | O6: กันเงินไว้เบิก | P6: เบิก | Q6: คงเหลือ | R6: งบบริหารสำนักงาน | S6: งบพัฒนาเพื่อพัฒนาคุณภาพการศึกษา | T6: รวมเงินงวด | U6: ผูกพัน | V6: กันเงินไว้เบิก | W6: เบิก | X6: คงเหลือ | Y6: งบบริหารสำนักงาน | Z6: งบพัฒนาเพื่อพัฒนาคุณภาพการศึกษา | AA6: รวมเงินงวด | AB6: ผูกพัน | AC6: กันเงินไว้เบิก | AD6: เบิก | AE6: คงเหลือ
C7: หนังสือแจ้งโอน
D8: (1) | E8: (2) | F8: (1)+(2)=3 | G8: (4) | H8: (5) | I8: (6) | J8: (3)-(4)-(6)=7 | K8: (1) | L8: (2) | M8: (1)+(2)=3 | N8: =+[5]ระบบการควบคุมฯ!G857+[5]ระบบการควบคุมฯ!H857 -> 0 | O8: (5) | P8: (6) | Q8: (3)-(4)-(6)=7 | R8: (1) | S8: (2) | T8: (1)+(2)=3 | U8: (4) | V8: (5) | W8: (6) | X8: (3)-(4)-(6)=7 | Y8: (1) | Z8: (2) | AA8: (1)+(2)=3 | AB8: (4) | AC8: (5) | AD8: (6) | AE8: (3)-(4)-(6)=7
A9: =+[5]ระบบการควบคุมฯ!654:654 -> ง | B9: =+[5]ระบบการควบคุมฯ!B654 -> แผนงานพื้นฐานด้านการพัฒนาและเสริมสร้างศักยภาพทรัพยากรมนุษย์ | D9: =+D11 -> 1600000 | E9: =+E11 -> 400000 | F9: =+F11 -> 2000000 | G9: =+G11 -> 0 | H9: =+H11 -> 0 | I9: =+I11 -> 1952.95 | J9: =+J11 -> 1998047.1 | K9: =+K11 -> 0 | ... AE9: =+AE11 -> 1998047.1
B10: =[5]ระบบการควบคุมฯ!B655 -> งบดำเนินงาน 70112xx | C10: =[1]งบประจำและงบกลยุทธ์!C115 -> 0 | D10: =+D11 -> 1600000 | E10: =+E11 -> 400000 | F10: =+F11 -> 2000000 | G10: =+G11 -> 0 | H10: =+H11 -> 0 | I10: =+I11 -> 1952.95 | J10: =+J11 -> 1998047.1 | K10: =+K11 -> 0 | ... AE10: =+AE11 -> 1998047.1
A11: =+[5]ระบบการควบคุมฯ!A748 -> 0 | B11: =+[5]ระบบการควบคุมฯ!B748 -> ผลผลิตผู้จบการศึกษาขั้นพื้นฐาน | C11: =[5]ระบบการควบคุมฯ!C749 -> 20004 3720 1000 2000000 | D11: =+D12 -> 1600000 | E11: =+E12 -> 400000 | F11: =+F12 -> 2000000 | G11: =+G12 -> 0 | H11: =+H12 -> 0 | I11: =+I12 -> 1952.95 | J11: =+J12 -> 1998047.1 | K11: =+K12 -> 0 | ... AE11: =+AE12 -> 1998047.1
A12: =+[5]ระบบการควบคุมฯ!A772 -> 1.4 | B12: กิจกรรมการบริหารจัดการในเขตพื้นที่การศึกษา/กิจกรรมการจัดการศึกษาประถมศึกษาสำหรับโรงเรียนปกติ/กิจกรรมการสนับสนุนการศึกษาขั้นพื้นฐาน | C12: =+[5]ระบบการควบคุมฯ!C772 -> 20004 70 00148 00000 | D12: =+D13 -> 1600000 | E12: =+E13 -> 400000 | F12: =SUM(D12:E12) -> 2000000 | G12: =+G13 -> 0 | H12: =+H13 -> 0 | I12: =+I13 -> 1952.95 | J12: =+J13 -> 1998047.1 | K12: =+K13 -> 0 | L12: =+L13 -> 0 | M12: =SUM(K12:L12) -> 0 | N12: =+N13 -> 0 | O12: =+O13 -> 0 | P12: =+P13 -> 0 | Q12: =+Q13 -> 0 | R12: =+R13 -> 0 | S12: =+S13 -> 0 | T12: =SUM(R12:S12) -> 0 | U12: =+U13 -> 0 | V12: =+V13 -> 0 | W12: =+W13 -> 0 | X12: =+X13 -> 0 | Y12: =+Y13 -> 1600000 | Z12: =+Z13 -> 400000 | AA12: =SUM(Y12:Z12) -> 2000000 | AB12: =+AB13 -> 0 | AC12: =+AC13 -> 0 | AD12: =+AD13 -> 1952.95 | AE12: =+AE13 -> 1998047.1
B13: =[5]ระบบการควบคุมฯ!B749 -> รวมงบดำเนินงาน 70112xx | C13: =[1]งบประจำและงบกลยุทธ์!C152 -> 0 | D13: =+D14+D28 -> 1600000 | E13: =+E14+E28 -> 400000 | F13: =+F14+F28 -> 2000000 | G13: =+G14+G28 -> 0 | H13: =+H14+H28 -> 0 | I13: =+I14+I28 -> 1952.95 | J13: =+J14+J28 -> 1998047.1 | K13: =+K14+K28 -> 0 | ... AE13: =+AE14+AE28 -> 1998047.1
A14: =+[5]ระบบการควบคุมฯ!A779 -> 1.4.1 | B14: =+[5]ระบบการควบคุมฯ!B779 -> งบประจำ บริหารจัดการสำนักงาน 3,000,000 บาท | C14: =+C12 -> 20004 70 00148 00000 | D14: =SUM(D15:D27) -> 1600000 | E14: =SUM(E15:E27) -> 0 | F14: =SUM(F15:F27) -> 1600000 | G14: =SUM(G15:G27) -> 0 | H14: =SUM(H15:H27) -> 0 | I14: =SUM(I15:I27) -> 1952.95 | J14: =SUM(J15:J27) -> 1598047.1 | K14: =SUM(K15:K27) -> 0 | ... AE14: =SUM(AE15:AE27) -> 1598047.1 | AG14: กลุ่มบริหารงานการเงินและสินทรัพย์
A15: =+[5]ระบบการควบคุมฯ!A780 -> 1 | B15: =+[5]ระบบการควบคุมฯ!B907 -> ค่าสาธารณูปโภค 1,000,000 บาท อนุมัตครั้งที่ 1 300,000 บาท ครั้งที่ 2 140,000 บาท | C15: =+[5]ระบบการควบคุมฯ!C906 -> ศธ04002/ว11486 ลว.9 ก.ค. 69 ครั้งที่ 698 1,642,500 บาท | D15: =[5]ระบบการควบคุมฯ!F780 -> 0 | F15: =SUM(D15:E15) -> 0 | G15: =+[5]ระบบการควบคุมฯ!G780+[5]ระบบการควบคุมฯ!H780 -> 0 | H15: =+[5]ระบบการควบคุมฯ!I780+[5]ระบบการควบคุมฯ!J780 -> 0 | I15: =+[5]ระบบการควบคุมฯ!K780+[5]ระบบการควบคุมฯ!L780 -> 0 | J15: =+F15-G15-H15-I15 -> 0 | Y15: =+R15+K15+D15 -> 0 | Z15: =+S15+L15+E15 -> 0 | AA15: =SUM(Y15:Z15) -> 0 | AB15: =+G15+N15+U15 -> 0 | AC15: =+H15+O15+V15 -> 0 | AD15: =+I15+P15+W15 -> 0 | AE15: =+AA15-AB15-AC15-AD15 -> 0
A16: =+[5]ระบบการควบคุมฯ!A782 -> 1) | B16: =+[5]ระบบการควบคุมฯ!B907 -> ค่าสาธารณูปโภค 1,000,000 บาท อนุมัตครั้งที่ 1 300,000 บาท ครั้งที่ 2 140,000 บาท | C16: =+[5]ระบบการควบคุมฯ!C907 -> ศธ04002/ว46832 ลว.17 ต.ค. 68 ครั้งที่ 7 2,000,000 บาท | D16: =+[5]ระบบการควบคุมฯ!F782 -> 510000 | F16: =SUM(D16:E16) -> 510000 | G16: =+[5]ระบบการควบคุมฯ!G782+[5]ระบบการควบคุมฯ!H782 -> 0 | H16: =+[5]ระบบการควบคุมฯ!I782+[5]ระบบการควบคุมฯ!J782 -> 0 | I16: =+[5]ระบบการควบคุมฯ!K782+[5]ระบบการควบคุมฯ!L782 -> 1952.95 | J16: =+F16-G16-H16-I16 -> 508047.05 | K16: =+[5]ระบบการควบคุมฯ!E907 -> 0 | M16: =SUM(K16:K16) -> 0 | N16: =+[5]ระบบการควบคุมฯ!G907+[5]ระบบการควบคุมฯ!H907 -> 0 | P16: =+[5]ระบบการควบคุมฯ!K907+[5]ระบบการควบคุมฯ!L907 -> 0 | Q16: =+M16-N16-O16-P16 -> 0 | Y16: =+R16+K16+D16 -> 510000 | Z16: =+S16+L16+E16 -> 0 | AA16: =SUM(Y16:Z16) -> 510000 | AB16: =+G16+N16+U16 -> 0 | AC16: =+H16+O16+V16 -> 0 | AD16: =+I16+P16+W16 -> 1952.95 | AE16: =+AA16-AB16-AC16-AD16 -> 508047.05 | AG16: กลุ่มบริหารงานการเงินและสินทรัพย์
A17: =+[5]ระบบการควบคุมฯ!A909 -> 2) | B17: =+[5]ระบบการควบคุมฯ!B909 -> ค้าจ้างเหมาบริการ ลูกจ้างสพป.ปท.2 15000x5คนx12 เดือน 900,000 บาท จัดสรรครั้งที่ 1 225,000 บาท | C17: =+[5]ระบบการควบคุมฯ!C909 -> ศธ04002/ว46832 ลว.17 ต.ค. 68 ครั้งที่ 7 2,000,000 บาท | D17: =+[5]ระบบการควบคุมฯ!F784 -> 600000 | F17: =SUM(D17:E17) -> 600000 | G17: =+[5]ระบบการควบคุมฯ!G784+[5]ระบบการควบคุมฯ!H784 -> 0 | H17: =+[5]ระบบการควบคุมฯ!I784+[5]ระบบการควบคุมฯ!J784 -> 0 | I17: =+[5]ระบบการควบคุมฯ!K784+[5]ระบบการควบคุมฯ!L784 -> 0 | J17: =+F17-G17-H17-I17 -> 600000 | K17: =+[5]ระบบการควบคุมฯ!E909 -> 0 | M17: =SUM(K17:K17) -> 0 | N17: =+[5]ระบบการควบคุมฯ!G909+[5]ระบบการควบคุมฯ!H909 -> 0 | P17: =+[5]ระบบการควบคุมฯ!K909+[5]ระบบการควบคุมฯ!L909 -> 0 | Q17: =+M17-N17-O17-P17 -> 0 | Y17: =+R17+K17+D17 -> 600000 | Z17: =+S17+L17+E17 -> 0 | AA17: =SUM(Y17:Z17) -> 600000 | AB17: =+G17+N17+U17 -> 0 | AC17: =+H17+O17+V17 -> 0 | AD17: =+I17+P17+W17 -> 0 | AE17: =+AA17-AB17-AC17-AD17 -> 600000 | AG17: กลุ่มบริหารงานการเงินและสินทรัพย์
A18: =+[5]ระบบการควบคุมฯ!A910 -> 2.1) | B18: =+[5]ระบบการควบคุมฯ!B910 -> ค้าจ้างเหมาบริการ ลูกจ้างสพป.ปท.2 ครั้งที่ 2 75,000 บาท ยืมยกย่องเชิดชูเกียรติ 50,000 บาท | C18: =+[5]ระบบการควบคุมฯ!C910 -> ศธ04002/ว2369 ลว.11 ก.พ.69 ครั้งที่ 294 500,000 บาท | D18: =+[5]ระบบการควบคุมฯ!F786 -> 0 | F18: =SUM(D18:E18) -> 0 | G18: =+[5]ระบบการควบคุมฯ!G786+[5]ระบบการควบคุมฯ!H786 -> 0 | H18: =+[5]ระบบการควบคุมฯ!I786+[5]ระบบการควบคุมฯ!J786 -> 0 | I18: =+[5]ระบบการควบคุมฯ!K786+[5]ระบบการควบคุมฯ!L786 -> 0 | J18: =+F18-G18-H18-I18 -> 0 | K18: =+[5]ระบบการควบคุมฯ!E910 -> 0 | M18: =SUM(K18:K18) -> 0 | N18: =+[5]ระบบการควบคุมฯ!G910+[5]ระบบการควบคุมฯ!H910 -> 0 | P18: =+[5]ระบบการควบคุมฯ!K910+[5]ระบบการควบคุมฯ!L910 -> 0 | Q18: =+M18-N18-O18-P18 -> 0 | Y18: =+R18+K18+D18 -> 0 | Z18: =+S18+L18+E18 -> 0 | AA18: =SUM(Y18:Z18) -> 0 | AB18: =+G18+N18+U18 -> 0 | AC18: =+H18+O18+V18 -> 0 | AD18: =+I18+P18+W18 -> 0 | AE18: =+AA18-AB18-AC18-AD18 -> 0 | AG18: กลุ่มบริหารงานการเงินและสินทรัพย์
A19: =+[5]ระบบการควบคุมฯ!A913 -> 3) | B19: =+[5]ระบบการควบคุมฯ!B913 -> ค่าใช้จ่ายในการประชุม อ.ก.ค.ศ. เขตพื้นที่การศึกษา 60,000 บาท | C19: =+[5]ระบบการควบคุมฯ!C913 -> ศธ04002/ว46832 ลว.17 ต.ค. 68 ครั้งที่ 7 2,000,000 บาท | D19: =+[5]ระบบการควบคุมฯ!F786 -> 0 | F19: =SUM(D19:E19) -> 0 | G19: =+[5]ระบบการควบคุมฯ!G786+[5]ระบบการควบคุมฯ!H786 -> 0 | H19: =+[5]ระบบการควบคุมฯ!I786+[5]ระบบการควบคุมฯ!J786 -> 0 | I19: =+[5]ระบบการควบคุมฯ!K786+[5]ระบบการควบคุมฯ!L786 -> 0 | J19: =+F19-G19-H19-I19 -> 0 | Y19: =+R19+K19+D19 -> 0 | Z19: =+S19+L19+E19 -> 0 | AA19: =SUM(Y19:Z19) -> 0 | AB19: =+G19+N19+U19 -> 0 | AC19: =+H19+O19+V19 -> 0 | AD19: =+I19+P19+W19 -> 0 | AE19: =+AA19-AB19-AC19-AD19 -> 0 | AG19: กลุ่มบริหารงานบุคคล
A20: =+[5]ระบบการควบคุมฯ!A914 -> 3) | B20: =+[5]ระบบการควบคุมฯ!B914 -> ค่าซ่อมแซมยานพาหนะและขนส่ง 240,000 บาท ครั้งที่ 1 25,000 บาท | C20: =+[5]ระบบการควบคุมฯ!C914 -> ศธ04002/ว46832 ลว.17 ต.ค. 68 ครั้งที่ 7 2,000,000 บาท | D20: =+[5]ระบบการควบคุมฯ!F787 -> 90000 | F20: =SUM(D20:E20) -> 90000 | G20: =+[5]ระบบการควบคุมฯ!G787+[5]ระบบการควบคุมฯ!H787 -> 0 | H20: =+[5]ระบบการควบคุมฯ!I787+[5]ระบบการควบคุมฯ!J787 -> 0 | I20: =+[5]ระบบการควบคุมฯ!K787+[5]ระบบการควบคุมฯ!L787 -> 0 | J20: =+F20-G20-H20-I20 -> 90000 | K20: =+[5]ระบบการควบคุมฯ!E914 -> 0 | M20: =SUM(K20:K20) -> 0 | N20: =+[5]ระบบการควบคุมฯ!G914+[5]ระบบการควบคุมฯ!H914 -> 0 | P20: =+[5]ระบบการควบคุมฯ!K914+[5]ระบบการควบคุมฯ!L914 -> 0 | Q20: =+M20-N20-O20-P20 -> 0 | Y20: =+R20+K20+D20 -> 90000 | Z20: =+S20+L20+E20 -> 0 | AA20: =SUM(Y20:Z20) -> 90000 | AB20: =+G20+N20+U20 -> 0 | AC20: =+H20+O20+V20 -> 0 | AD20: =+I20+P20+W20 -> 0 | AE20: =+AA20-AB20-AC20-AD20 -> 90000 | AG20: กลุ่มบริหารงานการเงินและสินทรัพย์
A21: =+[5]ระบบการควบคุมฯ!A916 -> 4) | B21: =+[5]ระบบการควบคุมฯ!B916 -> ค่าซ่อมแซมครุภัณฑ์ 200,000 บาท ครั้งที่ 1 127,290 บาท | C21: =+[5]ระบบการควบคุมฯ!C916 -> ศธ04002/ว46832 ลว.17 ต.ค. 68 ครั้งที่ 7 2,000,000 บาท | D21: =+[5]ระบบการควบคุมฯ!F789 -> 100000 | F21: =SUM(D21:E21) -> 100000 | G21: =+[5]ระบบการควบคุมฯ!G789+[5]ระบบการควบคุมฯ!H789 -> 0 | H21: =+[5]ระบบการควบคุมฯ!I789+[5]ระบบการควบคุมฯ!J789 -> 0 | I21: =+[5]ระบบการควบคุมฯ!K789+[5]ระบบการควบคุมฯ!L789 -> 0 | J21: =+F21-G21-H21-I21 -> 100000 | K21: =+[5]ระบบการควบคุมฯ!E916 -> 0 | M21: =SUM(K21:K21) -> 0 | N21: =+[5]ระบบการควบคุมฯ!G916+[5]ระบบการควบคุมฯ!H916 -> 0 | P21: =+[5]ระบบการควบคุมฯ!K916+[5]ระบบการควบคุมฯ!L916 -> 0 | Q21: =+M21-N21-O21-P21 -> 0 | Y21: =+R21+K21+D21 -> 100000 | Z21: =+S21+L21+E21 -> 0 | AA21: =SUM(Y21:Z21) -> 100000 | AB21: =+G21+N21+U21 -> 0 | AC21: =+H21+O21+V21 -> 0 | AD21: =+I21+P21+W21 -> 0 | AE21: =+AA21-AB21-AC21-AD21 -> 100000 | AG21: กลุ่มบริหารงานการเงินและสินทรัพย์
A22: =+[5]ระบบการควบคุมฯ!A918 -> 5) | B22: =+[5]ระบบการควบคุมฯ!B918 -> ค่าวัสดุสำนักงาน 350000 บาท ครั้งที่ 1 150,000 บาทครั้งที่ 2 25,000 บาท | C22: =+[5]ระบบการควบคุมฯ!C918 -> ศธ04002/ว46832 ลว.17 ต.ค. 68 ครั้งที่ 7 2,000,000 บาท | D22: =+[5]ระบบการควบคุมฯ!F790 -> 100000 | F22: =SUM(D22:E22) -> 100000 | G22: =+[5]ระบบการควบคุมฯ!G790+[5]ระบบการควบคุมฯ!H790 -> 0 | H22: =+[5]ระบบการควบคุมฯ!I790+[5]ระบบการควบคุมฯ!J790 -> 0 | I22: =+[5]ระบบการควบคุมฯ!K790+[5]ระบบการควบคุมฯ!L790 -> 0 | J22: =+F22-G22-H22-I22 -> 100000 | K22: =+[5]ระบบการควบคุมฯ!E918 -> 0 | M22: =SUM(K22:K22) -> 0 | N22: =+[5]ระบบการควบคุมฯ!G918+[5]ระบบการควบคุมฯ!H918 -> 0 | P22: =+[5]ระบบการควบคุมฯ!K918+[5]ระบบการควบคุมฯ!L918 -> 0 | Q22: =+M22-N22-O22-P22 -> 0 | Y22: =+R22+K22+D22 -> 100000 | Z22: =+S22+L22+E22 -> 0 | AA22: =SUM(Y22:Z22) -> 100000 | AB22: =+G22+N22+U22 -> 0 | AC22: =+H22+O22+V22 -> 0 | AD22: =+I22+P22+W22 -> 0 | AE22: =+AA22-AB22-AC22-AD22 -> 100000 | AG22: กลุ่มบริหารงานการเงินและสินทรัพย์
A23: =+[5]ระบบการควบคุมฯ!A919 -> 5.1) | B23: =+[5]ระบบการควบคุมฯ!B919 -> ค่าวัสดุสำนักงาน ครั้งที่ 2 25,000 บาท | C23: =+[5]ระบบการควบคุมฯ!C919 -> ศธ04002/ว2369 ลว.11 ก.พ.69 ครั้งที่ 294 500,000 บาท
A24: =+[5]ระบบการควบคุมฯ!A922 -> 7) | B24: =+[5]ระบบการควบคุมฯ!B922 -> ค่าน้ำมันเชื้อเพลิงและหล่อลื่น 200,000 บาท อนุมัติครั้งที่ 1 60,000 บาท | C24: =+[5]ระบบการควบคุมฯ!C922 -> ศธ04002/ว46832 ลว.17 ต.ค. 68 ครั้งที่ 7 2,000,000 บาท | D24: =+[5]ระบบการควบคุมฯ!F792 -> 100000 | F24: =SUM(D24:E24) -> 100000 | G24: =+[5]ระบบการควบคุมฯ!G792+[5]ระบบการควบคุมฯ!H792 -> 0 | H24: =+[5]ระบบการควบคุมฯ!I792+[5]ระบบการควบคุมฯ!J792 -> 0 | I24: =+[5]ระบบการควบคุมฯ!K792+[5]ระบบการควบคุมฯ!L792 -> 0 | J24: =+F24-G24-H24-I24 -> 100000 | K24: =+[5]ระบบการควบคุมฯ!E922 -> 0 | M24: =SUM(K24:K24) -> 0 | N24: =+[5]ระบบการควบคุมฯ!G922+[5]ระบบการควบคุมฯ!H922 -> 0 | P24: =+[5]ระบบการควบคุมฯ!K922+[5]ระบบการควบคุมฯ!L922 -> 0 | Q24: =+M24-N24-O24-P24 -> 0 | Y24: =+R24+K24+D24 -> 100000 | Z24: =+S24+L24+E24 -> 0 | AA24: =SUM(Y24:Z24) -> 100000 | AB24: =+G24+N24+U24 -> 0 | AC24: =+H24+O24+V24 -> 0 | AD24: =+I24+P24+W24 -> 0 | AE24: =+AA24-AB24-AC24-AD24 -> 100000 | AG24: กลุ่มบริหารงานการเงินและสินทรัพย์
A25: =+[5]ระบบการควบคุมฯ!A923 -> 7.1) | B25: =+[5]ระบบการควบคุมฯ!B796 -> อนุมัติโอนพาหนะ 50,000 บาท | C25: =+[5]ระบบการควบคุมฯ!C796 -> 0 | D25: =+[5]ระบบการควบคุมฯ!F796 -> 0 | F25: =SUM(D25:E25) -> 0 | G25: =+[5]ระบบการควบคุมฯ!G796+[5]ระบบการควบคุมฯ!H796 -> 0 | H25: =+[5]ระบบการควบคุมฯ!I796+[5]ระบบการควบคุมฯ!J796 -> 0 | I25: =+[5]ระบบการควบคุมฯ!K796+[5]ระบบการควบคุมฯ!L796 -> 0 | J25: =+F25-G25-H25-I25 -> 0 | Y25: =+R25+K25+D25 -> 0 | Z25: =+S25+L25+E25 -> 0 | AA25: =SUM(Y25:Z25) -> 0 | AB25: =+G25+N25+U25 -> 0 | AC25: =+H25+O25+V25 -> 0 | AD25: =+I25+P25+W25 -> 0 | AE25: =+AA25-AB25-AC25-AD25 -> 0 | AG25: กลุ่มบริหารงานการเงินและสินทรัพย์
A26: =+[5]ระบบการควบคุมฯ!A924 -> 8.1) | B26: =+[5]ระบบการควบคุมฯ!B924 -> ค่าใช้จ่ายในการเดินทางไปราชการและค่าใช้จ่ายในการประชุม งบประมาณ 110,000 บาท อนุมัติครั้งที่ 1 65,000 บาท บวกครั้งที่ 2-3 55000 บาท | C26: =+[5]ระบบการควบคุมฯ!C924 -> ศธ04002/ว46832 ลว.17 ต.ค. 68 ครั้งที่ 7 2,000,000 บาท | D26: =+[5]ระบบการควบคุมฯ!F793 -> 100000 | F26: =SUM(D26:D26) -> 100000 | G26: =+[5]ระบบการควบคุมฯ!G793+[5]ระบบการควบคุมฯ!H793 -> 0 | H26: =+[5]ระบบการควบคุมฯ!I793+[5]ระบบการควบคุมฯ!J793 -> 0 | I26: =+[5]ระบบการควบคุมฯ!K793+[5]ระบบการควบคุมฯ!L793 -> 0 | J26: =+F26-G26-H26-I26 -> 100000 | K26: =+[5]ระบบการควบคุมฯ!E924 -> 0 | M26: =SUM(K26:K26) -> 0 | N26: =+[5]ระบบการควบคุมฯ!G924+[5]ระบบการควบคุมฯ!H924 -> 0 | P26: =+[5]ระบบการควบคุมฯ!K924+[5]ระบบการควบคุมฯ!L924 -> 0 | Q26: =+M26-N26-O26-P26 -> 0 | Y26: =+R26+K26+D26 -> 100000 | Z26: =+S26+L26+E26 -> 0 | AA26: =SUM(Y26:Z26) -> 100000 | AB26: =+G26+N26+U26 -> 0 | AC26: =+H26+O26+V26 -> 0 | AD26: =+I26+P26+W26 -> 0 | AE26: =+AA26-AB26-AC26-AD26 -> 100000 | AG26: กลุ่มบริหารงานการเงินและสินทรัพย์
A27: =+[5]ระบบการควบคุมฯ!A926 -> 9) | B27: =+[5]ระบบการควบคุมฯ!B926 -> งบกลาง 200,000 บาท +เพิ่มเติม 142,500 บาท อนุมัติพาหนะ 50,000บาท วัสดุ 100,000 บาท | C27: =+[5]ระบบการควบคุมฯ!C926 -> ศธ04002/ว46832 ลว.17 ต.ค. 68 ครั้งที่ 7 2,000,000 บาท | D27: =+[5]ระบบการควบคุมฯ!F795 -> 0 | F27: =SUM(D27:E27) -> 0 | G27: =+[5]ระบบการควบคุมฯ!G795+[5]ระบบการควบคุมฯ!H795 -> 0 | H27: =+[5]ระบบการควบคุมฯ!I795+[5]ระบบการควบคุมฯ!J795 -> 0 | I27: =+[5]ระบบการควบคุมฯ!K795+[5]ระบบการควบคุมฯ!L795 -> 0 | J27: =+F27-G27-H27-I27 -> 0 | K27: =+[5]ระบบการควบคุมฯ!E926 -> 0 | M27: =SUM(K27:K27) -> 0 | N27: =+[5]ระบบการควบคุมฯ!G926+[5]ระบบการควบคุมฯ!H926 -> 0 | P27: =+[5]ระบบการควบคุมฯ!K926+[5]ระบบการควบคุมฯ!L926 -> 0 | Q27: =+M27-N27-O27-P27 -> 0 | Y27: =+R27+K27+D27 -> 0 | Z27: =+S27+L27+E27 -> 0 | AA27: =SUM(Y27:Z27) -> 0 | AB27: =+G27+N27+U27 -> 0 | AC27: =+H27+O27+V27 -> 0 | AD27: =+I27+P27+W27 -> 0 | AE27: =+AA27-AB27-AC27-AD27 -> 0 | AG27: กลุ่มนโยบายและแผน
A28: =+[5]ระบบการควบคุมฯ!A931 -> 2 | B28: =+[5]ระบบการควบคุมฯ!B931 -> งบกลยุทธ์ ของสพป.ปท.2 1,800,000 บาท | C28: =+[5]ระบบการควบคุมฯ!C931 -> ศธ04002/ว11486 ลว.9 ก.ค. 69 ครั้งที่ 698 1,642,500 บาท | D28: =+D29+D40+D45+D48 -> 0 | E28: =+E29+E40+E45+E48 -> 400000 | F28: =+F29+F40+F45+F48 -> 400000 | G28: =+G29+G40+G45+G48 -> 0 | H28: =+H29+H40+H45+H48 -> 0 | I28: =+I29+I40+I45+I48 -> 0 | J28: =+J29+J40+J45+J48 -> 400000 | K28: =+K29+K40+K45+K48 -> 0 | ... AE28: =+AE29+AE40+AE45+AE48 -> 400000 | AF28: =SUM(AF45:AF67) -> 0 | AG28: กลุ่มนิเทศติดตามและประเมินผลฯ
A29: =+[5]ระบบการควบคุมฯ!A932 -> 2.1) | B29: =+[5]ระบบการควบคุมฯ!B932 -> กลยุทธ์ที่ 1 ยกระดับคุณภาพการศึกษา 391,200 บาท จัดสรรครั้งที่ 1 362,000 บาท จัดครั้งที่ 2 4,200 บาท | C29: =+C28 -> ศธ04002/ว11486 ลว.9 ก.ค. 69 ครั้งที่ 698 1,642,500 บาท | D29: =SUM(D30:D39) -> 0 | E29: =SUM(E30:E39) -> 0 | F29: =SUM(F30:F39) -> 0 | G29: =SUM(G30:G39) -> 0 | H29: =SUM(H30:H39) -> 0 | I29: =SUM(I30:I39) -> 0 | J29: =SUM(J30:J39) -> 0 | K29: =SUM(K30:K39) -> 0 | ... AF29: =SUM(AF30:AF39) -> 0
A30: =+[5]ระบบการควบคุมฯ!A933 -> 2.1.1) | B30: =+[5]ระบบการควบคุมฯ!B933 -> โครงการพัฒนาหลักสูตรสถานศึกษาและกระบวนการจัดการเรียนรู้สู่ฐานสมรรถนะ 67,950 บาท | C30: =+[5]ระบบการควบคุมฯ!C933 -> ศธ04002/ว46832 ลว.17 ต.ค. 68 ครั้งที่ 7 2,000,000 บาท | K30: =+[5]ระบบการควบคุมฯ!D941 -> 0 | L30: =+[5]ระบบการควบคุมฯ!E933 -> 0 | M30: =SUM(K30:L30) -> 0 | N30: =+[5]ระบบการควบคุมฯ!G933+[5]ระบบการควบคุมฯ!H933 -> 0 | P30: =+[5]ระบบการควบคุมฯ!K933+[5]ระบบการควบคุมฯ!L933 -> 0 | Q30: =+M30-N30-O30-P30 -> 0 | Y30: =+D30+K30+R30 -> 0 | Z30: =+E30+S30+L30 -> 0 | AA30: =SUM(Y30:Z30) -> 0 | AB30: =+G30+U30+N30 -> 0 | AC30: =+H30+V30+O30 -> 0 | AD30: =+I30+W30+P30 -> 0 | AE30: =+AA30-AB30-AC30-AD30 -> 0 | AG30: กลุ่มนิเทศติดตามและประเมินผลฯ
A31: =+[5]ระบบการควบคุมฯ!A934 -> 0 | B31: =+[5]ระบบการควบคุมฯ!B934 -> อนุมพิ่มครั้งที่ 2 49,950 บาท | C31: =+[5]ระบบการควบคุมฯ!C934 -> ศธ04002/ว2369 ลว.11 ก.พ.69 ครั้งที่ 294 500,000 บาท | K31: =+[5]ระบบการควบคุมฯ!D943 -> 0 | L31: =+[5]ระบบการควบคุมฯ!E934 -> 0 | M31: =SUM(K31:L31) -> 0 | N31: =+[5]ระบบการควบคุมฯ!G934+[5]ระบบการควบคุมฯ!H934 -> 0 | P31: =+[5]ระบบการควบคุมฯ!K934+[5]ระบบการควบคุมฯ!L934 -> 0 | Q31: =+M31-N31-O31-P31 -> 0 | Y31: =+D31+K31+R31 -> 0 | Z31: =+E31+S31+L31 -> 0 | AA31: =SUM(Y31:Z31) -> 0 | AB31: =+G31+U31+N31 -> 0 | AC31: =+H31+V31+O31 -> 0 | AD31: =+I31+W31+P31 -> 0 | AE31: =+AA31-AB31-AC31-AD31 -> 0
A32: =+[5]ระบบการควบคุมฯ!A935 -> 2.1.2) | B32: =+[5]ระบบการควบคุมฯ!B935 -> โครงการขับเคลื่อนพัฒนาระบบการประกันคุณภาพภายในโดยใช้กลุ่มเครือข่ายสถานศึกษาแบบยั่งยืน 50,000 บาท | C32: =+[5]ระบบการควบคุมฯ!C935 -> ศธ04002/ว46832 ลว.17 ต.ค. 68 ครั้งที่ 7 2,000,000 บาท | K32: =+[5]ระบบการควบคุมฯ!D944 -> 0 | L32: =+[5]ระบบการควบคุมฯ!E935 -> 0 | M32: =SUM(K32:L32) -> 0 | N32: =+[5]ระบบการควบคุมฯ!G935+[5]ระบบการควบคุมฯ!H935 -> 0 | P32: =+[5]ระบบการควบคุมฯ!K935+[5]ระบบการควบคุมฯ!L935 -> 0 | Q32: =+M32-N32-O32-P32 -> 0 | Y32: =+D32+K32+R32 -> 0 | Z32: =+E32+S32+L32 -> 0 | AA32: =SUM(Y32:Z32) -> 0 | AB32: =+G32+U32+N32 -> 0 | AC32: =+H32+V32+O32 -> 0 | AD32: =+I32+W32+P32 -> 0 | AE32: =+AA32-AB32-AC32-AD32 -> 0 | AG32: กลุ่มนิเทศติดตามและประเมินผลฯ
A33: =+[5]ระบบการควบคุมฯ!A936 -> 0 | B33: =+[5]ระบบการควบคุมฯ!B936 -> อนุมพิ่มครั้งที่ 2 30,000 บาท | C33: =+[5]ระบบการควบคุมฯ!C936 -> ศธ04002/ว2369 ลว.11 ก.พ.69 ครั้งที่ 294 500,000 บาท | K33: =+[5]ระบบการควบคุมฯ!D945 -> 0 | L33: =+[5]ระบบการควบคุมฯ!E936 -> 0 | M33: =SUM(K33:L33) -> 0 | N33: =+[5]ระบบการควบคุมฯ!G936+[5]ระบบการควบคุมฯ!H936 -> 0 | P33: =+[5]ระบบการควบคุมฯ!K936+[5]ระบบการควบคุมฯ!L936 -> 0 | Q33: =+M33-N33-O33-P33 -> 0 | Y33: =+D33+K33+R33 -> 0 | Z33: =+E33+S33+L33 -> 0 | AA33: =SUM(Y33:Z33) -> 0 | AB33: =+G33+U33+N33 -> 0 | AC33: =+H33+V33+O33 -> 0 | AD33: =+I33+W33+P33 -> 0 | AE33: =+AA33-AB33-AC33-AD33 -> 0
A34: =+[5]ระบบการควบคุมฯ!A937 -> 2.1.3) | B34: =+[5]ระบบการควบคุมฯ!B937 -> โครงการส่งเสริมประสิทธิผลการสอนของครูโดยการใช้ปัญญาประดิษฐ์ (AI) บนแพลตฟอร์ดิจิทัล 43,850 บาท | C34: =+[5]ระบบการควบคุมฯ!C937 -> ศธ04002/ว46832 ลว.17 ต.ค. 68 ครั้งที่ 7 2,000,000 บาท | K34: =+[5]ระบบการควบคุมฯ!D946 -> 0 | L34: =+[5]ระบบการควบคุมฯ!E937 -> 0 | M34: =SUM(K34:L34) -> 0 | N34: =+[5]ระบบการควบคุมฯ!G937+[5]ระบบการควบคุมฯ!H937 -> 0 | P34: =+[5]ระบบการควบคุมฯ!K937+[5]ระบบการควบคุมฯ!L937 -> 0 | Q34: =+M34-N34-O34-P34 -> 0 | Y34: =+D34+K34+R34 -> 0 | Z34: =+E34+S34+L34 -> 0 | AA34: =SUM(Y34:Z34) -> 0 | AB34: =+G34+U34+N34 -> 0 | AC34: =+H34+V34+O34 -> 0 | AD34: =+I34+W34+P34 -> 0 | AE34: =+AA34-AB34-AC34-AD34 -> 0 | AG34: กลุ่มนิเทศติดตามและประเมินผลฯ
A35: =+[5]ระบบการควบคุมฯ!A938 -> 0 | B35: =+[5]ระบบการควบคุมฯ!B938 -> อนุมัติครั้งที่ 2 31850 บาท | C35: =+[5]ระบบการควบคุมฯ!C938 -> ศธ04002/ว2369 ลว.11 ก.พ.69 ครั้งที่ 294 500,000 บาท | K35: =+[5]ระบบการควบคุมฯ!D947 -> 0 | L35: =+[5]ระบบการควบคุมฯ!E938 -> 0 | M35: =SUM(K35:L35) -> 0 | N35: =+[5]ระบบการควบคุมฯ!G938+[5]ระบบการควบคุมฯ!H938 -> 0 | P35: =+[5]ระบบการควบคุมฯ!K938+[5]ระบบการควบคุมฯ!L938 -> 0 | Q35: =+M35-N35-O35-P35 -> 0 | Y35: =+D35+K35+R35 -> 0 | Z35: =+E35+S35+L35 -> 0 | AA35: =SUM(Y35:Z35) -> 0 | AB35: =+G35+U35+N35 -> 0 | AC35: =+H35+V35+O35 -> 0 | AD35: =+I35+W35+P35 -> 0 | AE35: =+AA35-AB35-AC35-AD35 -> 0
A36: =+[5]ระบบการควบคุมฯ!A939 -> 2.1.4 | B36: =+[5]ระบบการควบคุมฯ!B939 -> โครงการโรงเรียนคุณธรรม สพฐ. 25,000 บาท | C36: =+[5]ระบบการควบคุมฯ!C939 -> ศธ04002/ว2369 ลว.11 ก.พ.69 ครั้งที่ 294 500,000 บาท | K36: =+[5]ระบบการควบคุมฯ!D948 -> 0 | L36: =+[5]ระบบการควบคุมฯ!E939 -> 0 | M36: =SUM(K36:L36) -> 0 | N36: =+[5]ระบบการควบคุมฯ!G939+[5]ระบบการควบคุมฯ!H939 -> 0 | P36: =+[5]ระบบการควบคุมฯ!K939+[5]ระบบการควบคุมฯ!L939 -> 0 | Q36: =+M36-N36-O36-P36 -> 0 | Y36: =+D36+K36+R36 -> 0 | Z36: =+E36+S36+L36 -> 0 | AA36: =SUM(Y36:Z36) -> 0 | AB36: =+G36+U36+N36 -> 0 | AC36: =+H36+V36+O36 -> 0 | AD36: =+I36+W36+P36 -> 0 | AE36: =+AA36-AB36-AC36-AD36 -> 0 | AG36: กลุ่มนิเทศติดตามและประเมินผลฯ
A37: =+[5]ระบบการควบคุมฯ!A940 -> 2.1.5 | B37: =+[5]ระบบการควบคุมฯ!B940 -> โครงการส่งเสริมคุณภาพการจัดการเรียนรู้แนวใหม่ จำนวนเงิน 104,400 บาท อนุมัติครั้งที่ 1 30,000 บาทครั้งที่ 2 63,200 บาท ครั้งที่ 3 4200 บาท | C37: =+[5]ระบบการควบคุมฯ!C940 -> ศธ04002/ว46832 ลว.17 ต.ค. 68 ครั้งที่ 7 2,000,000 บาท | D37: =+[5]ระบบการควบคุมฯ!D813 -> 0 | E37: =+[5]ระบบการควบคุมฯ!E813 -> 0 | F37: =SUM(D37:E37) -> 0 | G37: =+[5]ระบบการควบคุมฯ!G813+[5]ระบบการควบคุมฯ!H813 -> 0 | H37: =+[5]ระบบการควบคุมฯ!I813+[5]ระบบการควบคุมฯ!J813 -> 0 | I37: =+[5]ระบบการควบคุมฯ!K813+[5]ระบบการควบคุมฯ!L813 -> 0 | J37: =+F37-G37-H37-I37 -> 0 | K37: =+[5]ระบบการควบคุมฯ!D949 -> 0 | L37: =+[5]ระบบการควบคุมฯ!E940 -> 0 | M37: =SUM(K37:L37) -> 0 | N37: =+[5]ระบบการควบคุมฯ!G940+[5]ระบบการควบคุมฯ!H940 -> 0 | P37: =+[5]ระบบการควบคุมฯ!K940+[5]ระบบการควบคุมฯ!L940 -> 0 | Q37: =+M37-N37-O37-P37 -> 0 | Y37: =+D37+K37+R37 -> 0 | Z37: =+E37+S37+L37 -> 0 | AA37: =SUM(Y37:Z37) -> 0 | AB37: =+G37+U37+N37 -> 0 | AC37: =+H37+V37+O37 -> 0 | AD37: =+I37+W37+P37 -> 0 | AE37: =+AA37-AB37-AC37-AD37 -> 0 | AG37: กลุ่มนิเทศติดตามและประเมินผลฯ
A38: =+[5]ระบบการควบคุมฯ!A941 -> 0 | B38: =+[5]ระบบการควบคุมฯ!B941 -> อนุมัติครั้งที่ 2 63,200 บาท | C38: =+[5]ระบบการควบคุมฯ!C941 -> ศธ04002/ว2369 ลว.11 ก.พ.69 ครั้งที่ 294 500,000 บาท | K38: =+[5]ระบบการควบคุมฯ!D950 -> 0 | L38: =+[5]ระบบการควบคุมฯ!E941 -> 0 | M38: =SUM(K38:L38) -> 0 | N38: =+[5]ระบบการควบคุมฯ!G941+[5]ระบบการควบคุมฯ!H941 -> 0 | P38: =+[5]ระบบการควบคุมฯ!K941+[5]ระบบการควบคุมฯ!L941 -> 0 | Q38: =+M38-N38-O38-P38 -> 0 | Y38: =+D38+K38+R38 -> 0 | Z38: =+E38+S38+L38 -> 0 | AA38: =SUM(Y38:Z38) -> 0 | AB38: =+G38+U38+N38 -> 0 | AC38: =+H38+V38+O38 -> 0 | AD38: =+I38+W38+P38 -> 0 | AE38: =+AA38-AB38-AC38-AD38 -> 0
A39: =+[5]ระบบการควบคุมฯ!A943 -> 2.1.6) | B39: =+[5]ระบบการควบคุมฯ!B943 -> โครงการวัดและประเมินผลเพื่อพัฒนาการเรียนรู้ของผู้เรียน 100,000 บาท อนุมัติครั้งที่ 1 82,000 บาท | C39: =+[5]ระบบการควบคุมฯ!C943 -> ศธ04002/ว46832 ลว.17 ต.ค. 68 ครั้งที่ 7 2,000,000 บาท | K39: =+[5]ระบบการควบคุมฯ!D943 -> 0 | L39: =+[5]ระบบการควบคุมฯ!E943 -> 0 | M39: =SUM(K39:L39) -> 0 | N39: =+[5]ระบบการควบคุมฯ!G943+[5]ระบบการควบคุมฯ!H943 -> 0 | P39: =+[5]ระบบการควบคุมฯ!K943+[5]ระบบการควบคุมฯ!L943 -> 0 | Q39: =+M39-N39-O39-P39 -> 0 | Y39: =+D39+K39+R39 -> 0 | Z39: =+E39+S39+L39 -> 0 | AA39: =SUM(Y39:Z39) -> 0 | AB39: =+G39+U39+N39 -> 0 | AC39: =+H39+V39+O39 -> 0 | AD39: =+I39+W39+P39 -> 0 | AE39: =+AA39-AB39-AC39-AD39 -> 0 | AG39: กลุ่มนิเทศติดตามและประเมินผลฯ
A40: =+[5]ระบบการควบคุมฯ!A947 -> 2.2) | B40: =+[5]ระบบการควบคุมฯ!B947 -> กลยุทธ์ที่ 2 เพิ่มโอกาสและความเสมอภาคทางการศึกษา 98,710 บาท จัดสรรครั้งที่ 1 50,000 บาท ยืมงบกลาง 30710 บาท | C40: =+C29 -> ศธ04002/ว11486 ลว.9 ก.ค. 69 ครั้งที่ 698 1,642,500 บาท | D40: =SUM(D41:D44) -> 0 | E40: =SUM(E41:E44) -> 0 | F40: =SUM(F41:F44) -> 0 | G40: =SUM(G41:G44) -> 0 | H40: =SUM(H41:H44) -> 0 | I40: =SUM(I41:I44) -> 0 | J40: =SUM(J41:J44) -> 0 | K40: =SUM(K41:K44) -> 0 | ... AF40: =SUM(AF41:AF44) -> 0
A41: =+[5]ระบบการควบคุมฯ!A948 -> 2.2.1) | B41: =+[5]ระบบการควบคุมฯ!B948 -> โครงการเสริมสร้างพลเมืองดี วิถีประชาธิปไตยในสถานศึกษา ประจำปี 2569 10,000 บาท | C41: =+[5]ระบบการควบคุมฯ!C948 -> ศธ04002/ว46832 ลว.17 ต.ค. 68 ครั้งที่ 7 2,000,000 บาท | D41: =+[5]ระบบการควบคุมฯ!D816 -> 0 | E41: =+[5]ระบบการควบคุมฯ!E816 -> 0 | F41: =+[5]ระบบการควบคุมฯ!F816 -> 0 | G41: =+[5]ระบบการควบคุมฯ!G816+[5]ระบบการควบคุมฯ!H816 -> 0 | H41: =+[5]ระบบการควบคุมฯ!I816+[5]ระบบการควบคุมฯ!J816 -> 0 | I41: =+[5]ระบบการควบคุมฯ!K816+[5]ระบบการควบคุมฯ!L816 -> 0 | J41: =+F41-G41-H41-I41 -> 0 | L41: =+[5]ระบบการควบคุมฯ!E948 -> 0 | M41: =+K41+L41 -> 0 | N41: =+[5]ระบบการควบคุมฯ!G948+[5]ระบบการควบคุมฯ!H948 -> 0 | P41: =+[5]ระบบการควบคุมฯ!K948+[5]ระบบการควบคุมฯ!L948 -> 0 | Q41: =+M41-N41-O41-P41 -> 0 | Y41: =+R41+K41+D41 -> 0 | Z41: =+S41+L41+E41 -> 0 | AA41: =SUM(Y41:Z41) -> 0 | AB41: =+G41+N41+U41 -> 0 | AC41: =+H41+O41+V41 -> 0 | AD41: =+I41+P41+W41 -> 0 | AE41: =+AA41-AB41-AC41-AD41 -> 0 | AG41: กลุ่มส่งเสริมการจัดการศึกษา
A42: =+[5]ระบบการควบคุมฯ!A949 -> .2.2.2) | B42: =+[5]ระบบการควบคุมฯ!B949 -> โครงการวัดและประเมินผลการจัดการศึกษาโดยครอบครัว ประจำปี 2569 10,710 บาท | C42: =+[5]ระบบการควบคุมฯ!C949 -> ศธ04002/ว46832 ลว.17 ต.ค. 68 ครั้งที่ 7 2,000,000 บาท | D42: =+[5]ระบบการควบคุมฯ!D817 -> 0 | E42: =+[5]ระบบการควบคุมฯ!E817 -> 0 | F42: =+[5]ระบบการควบคุมฯ!F817 -> 0 | G42: =+[5]ระบบการควบคุมฯ!G817+[5]ระบบการควบคุมฯ!H817 -> 0 | H42: =+[5]ระบบการควบคุมฯ!I817+[5]ระบบการควบคุมฯ!J817 -> 0 | I42: =+[5]ระบบการควบคุมฯ!K817+[5]ระบบการควบคุมฯ!L817 -> 0 | J42: =+F42-G42-H42-I42 -> 0 | L42: =+[5]ระบบการควบคุมฯ!E949 -> 0 | M42: =+K42+L42 -> 0 | N42: =+[5]ระบบการควบคุมฯ!G949+[5]ระบบการควบคุมฯ!H949 -> 0 | P42: =+[5]ระบบการควบคุมฯ!K949+[5]ระบบการควบคุมฯ!L949 -> 0 | Q42: =+M42-N42-O42-P42 -> 0 | Y42: =+R42+K42+D42 -> 0 | Z42: =+S42+L42+E42 -> 0 | AA42: =SUM(Y42:Z42) -> 0 | AB42: =+G42+N42+U42 -> 0 | AC42: =+H42+O42+V42 -> 0 | AD42: =+I42+P42+W42 -> 0 | AE42: =+AA42-AB42-AC42-AD42 -> 0 | AG42: กลุ่มส่งเสริมการจัดการศึกษา
A43: =+[5]ระบบการควบคุมฯ!A950 -> 2.2.3) | B43: =+[5]ระบบการควบคุมฯ!B950 -> โครงการพัฒนาสมรรถนะการจัดการเรียนรู้สำหรับเด็กที่มีความต้องการพิเศษ 60,000 บาท | C43: =+[5]ระบบการควบคุมฯ!C950 -> ศธ04002/ว46832 ลว.17 ต.ค. 68 ครั้งที่ 7 2,000,000 บาท | E43: =+[5]ระบบการควบคุมฯ!E818 -> 0 | F43: =SUM(E43) -> 0 | G43: =+[5]ระบบการควบคุมฯ!G818+[5]ระบบการควบคุมฯ!H818 -> 0 | H43: =+[5]ระบบการควบคุมฯ!I818+[5]ระบบการควบคุมฯ!J818 -> 0 | I43: =+[5]ระบบการควบคุมฯ!K818+[5]ระบบการควบคุมฯ!L818 -> 0 | J43: =+F43-G43-H43-I43 -> 0 | L43: =+[5]ระบบการควบคุมฯ!E950 -> 0 | M43: =+K43+L43 -> 0 | N43: =+[5]ระบบการควบคุมฯ!G950+[5]ระบบการควบคุมฯ!H950 -> 0 | P43: =+[5]ระบบการควบคุมฯ!K950+[5]ระบบการควบคุมฯ!L950 -> 0 | Q43: =+M43-N43-O43-P43 -> 0 | Y43: =+R43+K43+D43 -> 0 | Z43: =+S43+L43+E43 -> 0 | AA43: =SUM(Y43:Z43) -> 0 | AB43: =+G43+N43+U43 -> 0 | AC43: =+H43+O43+V43 -> 0 | AD43: =+I43+P43+W43 -> 0 | AE43: =+AA43-AB43-AC43-AD43 -> 0 | AG43: กลุ่มนิเทศติดตามและประเมินผลฯ
A44: =+[5]ระบบการควบคุมฯ!A949 -> .2.2.2) | B44: =+[5]ระบบการควบคุมฯ!B819 -> โครงการพัฒนาระบบแนะแนวการเรียน (Coaching) และแนะแนวเป้าหมายชีวิต 18,000 บาท | C44: =+[5]ระบบการควบคุมฯ!C819 -> ศธ04002/ว19126 ลว. 27 ต.ค. 69 ครั้งที่ 29 | E44: =+[5]ระบบการควบคุมฯ!E819 -> 0 | F44: =SUM(E44) -> 0 | G44: =+[5]ระบบการควบคุมฯ!G819+[5]ระบบการควบคุมฯ!H819 -> 0 | H44: =+[5]ระบบการควบคุมฯ!I819+[5]ระบบการควบคุมฯ!J819 -> 0 | I44: =+[5]ระบบการควบคุมฯ!K819+[5]ระบบการควบคุมฯ!L819 -> 0 | J44: =+F44-G44-H44-I44 -> 0 | Y44: =+R44+K44+D44 -> 0 | Z44: =+S44+L44+E44 -> 0 | AA44: =SUM(Y44:Z44) -> 0 | AB44: =+G44+N44+U44 -> 0 | AC44: =+H44+O44+V44 -> 0 | AD44: =+I44+P44+W44 -> 0 | AE44: =+AA44-AB44-AC44-AD44 -> 0 | AG44: กลุ่มส่งเสริมการจัดการศึกษา
A45: =+[5]ระบบการควบคุมฯ!A954 -> 2.3) | B45: =+[5]ระบบการควบคุมฯ!B954 -> กลยุทธ์ที่ 3 ส่งเสริมความปลอดภัยของผู้เรียน ครูและบุคลากรทางการศึกษาและสถานศึกษา 75,800 บาท จัดสรรครั้งที่ 1 50,000 บาท | C45: =+[5]ระบบการควบคุมฯ!C954 -> ศธ04002/ว46832 ลว.17 ต.ค. 68 ครั้งที่ 7 2,000,000 บาท | D45: =SUM(D46:D47) -> 0 | E45: =SUM(E46:E47) -> 0 | F45: =SUM(F46:F47) -> 0 | G45: =SUM(G46:G47) -> 0 | H45: =SUM(H46:H47) -> 0 | I45: =SUM(I46:I47) -> 0 | J45: =SUM(J46:J47) -> 0 | L45: =SUM(L46:L47) -> 0 | M45: =SUM(M46:M47) -> 0 | N45: =SUM(N46:N47) -> 0 | O45: =SUM(O46:O47) -> 0 | P45: =SUM(P46:P47) -> 0 | Q45: =SUM(Q46:Q47) -> 0 | Y45: =+R45+K45+D45 -> 0 | Z45: =+S45+L45+E45 -> 0 | AA45: =SUM(Y45:Z45) -> 0 | AB45: =+G45+N45+U45 -> 0 | AC45: =+H45+O45+V45 -> 0 | AD45: =+I45+P45+W45 -> 0 | AE45: =+AA45-AB45-AC45-AD45 -> 0
A46: =+[5]ระบบการควบคุมฯ!A955 -> 2.3.1) | B46: =+[5]ระบบการควบคุมฯ!B955 -> โครงการส่งเสริมทักษะชีวิตให้กับนักเรียน 30,000 บาท | C46: =+[5]ระบบการควบคุมฯ!C955 -> ศธ04002/ว46832 ลว.17 ต.ค. 68 ครั้งที่ 7 2,000,000 บาท | D46: =+[5]ระบบการควบคุมฯ!D821 -> 0 | E46: =+[5]ระบบการควบคุมฯ!E821 -> 0 | F46: =+[5]ระบบการควบคุมฯ!F821 -> 0 | G46: =+[5]ระบบการควบคุมฯ!G821+[5]ระบบการควบคุมฯ!H821 -> 0 | H46: =+[5]ระบบการควบคุมฯ!I821+[5]ระบบการควบคุมฯ!J821 -> 0 | I46: =+[5]ระบบการควบคุมฯ!K821+[5]ระบบการควบคุมฯ!L821 -> 0 | J46: =+F46-G46-H46-I46 -> 0 | L46: =+[5]ระบบการควบคุมฯ!E955 -> 0 | M46: =SUM(K46:L46) -> 0 | N46: =+[5]ระบบการควบคุมฯ!G955+[5]ระบบการควบคุมฯ!H955 -> 0 | P46: =+[5]ระบบการควบคุมฯ!K955+[5]ระบบการควบคุมฯ!L955 -> 0 | Q46: =+M46-N46-O46-P46 -> 0 | Y46: =+R46+K46+D46 -> 0 | Z46: =+S46+L46+E46 -> 0 | AA46: =SUM(Y46:Z46) -> 0 | AB46: =+G46+N46+U46 -> 0 | AC46: =+H46+O46+V46 -> 0 | AD46: =+I46+P46+W46 -> 0 | AE46: =+AA46-AB46-AC46-AD46 -> 0 | AG46: กลุ่มนิเทศติดตามและประเมินผลฯ
A47: =+[5]ระบบการควบคุมฯ!A956 -> 2.3.2) | B47: =+[5]ระบบการควบคุมฯ!B956 -> โครงการพัฒนาระบบและกลไกดูแลความปลอดภัย 45,800 บาท อนุมัติครั้งที่ 1 20,000 บาท ครั้งที่ 3 25,800 บาท | C47: =+[5]ระบบการควบคุมฯ!C956 -> ศธ04002/ว46832 ลว.17 ต.ค. 68 ครั้งที่ 7 2,000,000 บาท | D47: =+[5]ระบบการควบคุมฯ!D822 -> 0 | E47: =+[5]ระบบการควบคุมฯ!E822 -> 0 | F47: =+[5]ระบบการควบคุมฯ!F822 -> 0 | G47: =+[5]ระบบการควบคุมฯ!G822+[5]ระบบการควบคุมฯ!H822 -> 0 | H47: =+[5]ระบบการควบคุมฯ!I822+[5]ระบบการควบคุมฯ!J822 -> 0 | I47: =+[5]ระบบการควบคุมฯ!K822+[5]ระบบการควบคุมฯ!L822 -> 0 | J47: =+F47-G47-H47-I47 -> 0 | L47: =+[5]ระบบการควบคุมฯ!E956 -> 0 | M47: =SUM(K47:L47) -> 0 | N47: =+[5]ระบบการควบคุมฯ!G956+[5]ระบบการควบคุมฯ!H956 -> 0 | P47: =+[5]ระบบการควบคุมฯ!K956+[5]ระบบการควบคุมฯ!L956 -> 0 | Q47: =+M47-N47-O47-P47 -> 0 | Y47: =+R47+K47+D47 -> 0 | Z47: =+S47+L47+E47 -> 0 | AA47: =SUM(Y47:Z47) -> 0 | AB47: =+G47+N47+U47 -> 0 | AC47: =+H47+O47+V47 -> 0 | AD47: =+I47+P47+W47 -> 0 | AE47: =+AA47-AB47-AC47-AD47 -> 0 | AG47: กลุ่มส่งเสริมการจัดการศึกษา
A48: =+[5]ระบบการควบคุมฯ!A957 -> 2.4) | B48: =+[5]ระบบการควบคุมฯ!B957 -> กลยุทธ์ที่ 4 เพิ่มประสิทธิภาพการบริหารจัดการศึกษา งบประมาณ 1,234,290 บาท จัดสรรครั้งที่ 1 554,400 บาท - โอนให้กลยุทธ์ที่ 1 ยืม 54400 | C48: =+[5]ระบบการควบคุมฯ!C957 -> ศธ04002/ว46832 ลว.17 ต.ค. 68 ครั้งที่ 7 2,000,000 บาท | D48: =+[5]ระบบการควบคุมฯ!D823 -> 0 | E48: =+[5]ระบบการควบคุมฯ!E823 -> 400000 | F48: =+[5]ระบบการควบคุมฯ!F823 -> 400000 | G48: =+[5]ระบบการควบคุมฯ!G823+[5]ระบบการควบคุมฯ!H823 -> 0 | H48: =+[5]ระบบการควบคุมฯ!I823+[5]ระบบการควบคุมฯ!J823 -> 0 | I48: =+[5]ระบบการควบคุมฯ!K823+[5]ระบบการควบคุมฯ!L823 -> 0 | J48: =+F48-G48-H48-I48 -> 400000 | K48: =SUM(K50:K67) -> 0 | L48: =SUM(L50:L67) -> 0 | M48: =SUM(M50:M67) -> 0 | N48: =SUM(N50:N67) -> 0 | O48: =SUM(O50:O67) -> 0 | P48: =SUM(P50:P67) -> 0 | Q48: =SUM(Q50:Q67) -> 0 | X48: =+T48-U48-V48-W48 -> 0 | Y48: =+R48+K48+D48 -> 0 | Z48: =+S48+L48+E48 -> 400000 | AA48: =SUM(Y48:Z48) -> 400000 | AB48: =+G48+N48+U48 -> 0 | AC48: =+H48+O48+V48 -> 0 | AD48: =+I48+P48+W48 -> 0 | AE48: =+AA48-AB48-AC48-AD48 -> 400000
A49: =+[5]ระบบการควบคุมฯ!A958 -> 1 | B49: =+[5]ระบบการควบคุมฯ!B958 -> งบกลาง กลยุทธ์ที่ 4 | C49: =+[5]ระบบการควบคุมฯ!C958 -> 0 | D49: =+[5]ระบบการควบคุมฯ!D824 -> 0 | E49: =+[5]ระบบการควบคุมฯ!E824 -> 400000 | F49: =+[5]ระบบการควบคุมฯ!F824 -> 400000 | G49: =+[5]ระบบการควบคุมฯ!G824+[5]ระบบการควบคุมฯ!H824 -> 0 | H49: =+[5]ระบบการควบคุมฯ!I824+[5]ระบบการควบคุมฯ!J824 -> 0 | I49: =+[5]ระบบการควบคุมฯ!K824+[5]ระบบการควบคุมฯ!L824 -> 0 | J49: =+F49-G49-H49-I49 -> 400000 | Y49: =+R49+K49+D49 -> 0 | Z49: =+S49+L49+E49 -> 400000 | AA49: =SUM(Y49:Z49) -> 400000 | AB49: =+G49+N49+U49 -> 0 | AC49: =+H49+O49+V49 -> 0 | AD49: =+I49+P49+W49 -> 0 | AE49: =+AA49-AB49-AC49-AD49 -> 400000
A50: =+[5]ระบบการควบคุมฯ!A959 -> 2.4.1) | B50: =+[5]ระบบการควบคุมฯ!B959 -> โครงการเพิ่มประสิทธิภาพการบริหารจัดการงานนโยบายและแผนและการบริหารงบประมาณ 75,000 บาท อนุมัติครั้งที่ 1 47,000 บาท โอนไปประชุมเชิงปฏิบัติการสำนักงานเขตพื้นที่ 34,715 บาท | C50: =+[5]ระบบการควบคุมฯ!C959 -> ศธ04002/ว46832 ลว.17 ต.ค. 68 ครั้งที่ 7 2,000,000 บาท | D50: =+[5]ระบบการควบคุมฯ!D825 -> 0 | E50: =+[5]ระบบการควบคุมฯ!E825 -> 0 | F50: =+[5]ระบบการควบคุมฯ!F825 -> 0 | G50: =+[5]ระบบการควบคุมฯ!G825+[5]ระบบการควบคุมฯ!H825 -> 0 | H50: =+[5]ระบบการควบคุมฯ!I825+[5]ระบบการควบคุมฯ!J825 -> 0 | I50: =+[5]ระบบการควบคุมฯ!K825+[5]ระบบการควบคุมฯ!L825 -> 0 | J50: =+F50-G50-H50-I50 -> 0 | K50: =+[5]ระบบการควบคุมฯ!D959 -> 0 | L50: =+[5]ระบบการควบคุมฯ!E959 -> 0 | M50: =+K50+L50 -> 0 | N50: =+[5]ระบบการควบคุมฯ!G959+[5]ระบบการควบคุมฯ!H959 -> 0 | O50: =+[5]ระบบการควบคุมฯ!I959+[5]ระบบการควบคุมฯ!J959 -> 0 | P50: =+[5]ระบบการควบคุมฯ!K959+[5]ระบบการควบคุมฯ!L959 -> 0 | Q50: =+M50-N50-O50-P50 -> 0 | Y50: =+R50+K50+D50 -> 0 | Z50: =+S50+L50+E50 -> 0 | AA50: =SUM(Y50:Z50) -> 0 | AB50: =+G50+N50+U50 -> 0 | AC50: =+H50+O50+V50 -> 0 | AD50: =+I50+P50+W50 -> 0 | AE50: =+AA50-AB50-AC50-AD50 -> 0 | AG50: กลุ่มนโยบายและแผน
A51: =+[5]ระบบการควบคุมฯ!A826 -> 2.4.2) | B51: =+[5]ระบบการควบคุมฯ!B826 -> โครงการสร้างเครือข่ายตรวจสอบภายใน 25,000 บาท โอนไปกลุ่มอำนวยการอบรมผู้บริหาร 12070 บาท โอนไปประชุมเชิงปฏิบัติการสำนักงานเขตพื้นที่ 12,930 บาท | C51: =+C49 -> 0 | D51: =+[5]ระบบการควบคุมฯ!D826 -> 0 | E51: =+[5]ระบบการควบคุมฯ!E826 -> 0 | F51: =+[5]ระบบการควบคุมฯ!F826 -> 0 | G51: =+[5]ระบบการควบคุมฯ!G826+[5]ระบบการควบคุมฯ!H826 -> 0 | H51: =+[5]ระบบการควบคุมฯ!I826+[5]ระบบการควบคุมฯ!J826 -> 0 | I51: =+[5]ระบบการควบคุมฯ!K826+[5]ระบบการควบคุมฯ!L826 -> 0 | J51: =+F51-G51-H51-I51 -> 0 | K51: =+[5]ระบบการควบคุมฯ!D961 -> 0 | L51: =+[5]ระบบการควบคุมฯ!E961 -> 0 | M51: =+K51+L51 -> 0 | N51: =+[5]ระบบการควบคุมฯ!G961+[5]ระบบการควบคุมฯ!H961 -> 0 | O51: =+[5]ระบบการควบคุมฯ!I961+[5]ระบบการควบคุมฯ!J961 -> 0 | P51: =+[5]ระบบการควบคุมฯ!K961+[5]ระบบการควบคุมฯ!L961 -> 0 | Q51: =+M51-N51-O51-P51 -> 0 | Y51: =+R51+K51+D51 -> 0 | Z51: =+S51+L51+E51 -> 0 | AA51: =SUM(Y51:Z51) -> 0 | AB51: =+G51+N51+U51 -> 0 | AC51: =+H51+O51+V51 -> 0 | AD51: =+I51+P51+W51 -> 0 | AE51: =+AA51-AB51-AC51-AD51 -> 0 | AG51: หน่วยตรวจสอบภายใน
A52: =+[5]ระบบการควบคุมฯ!A827 -> 2.4.3) | B52: =+[5]ระบบการควบคุมฯ!B827 -> โครงการพัฒนาศักยภาพการจัดการศึกษาแบบมีส่วนร่วมของคณะกรรมการติดตาม ตรวจสอบ ประเมินผลและนิเทศการศึกษาของเขตพื้นที่การศึกษา (ก.ต.ป.น.) 92,000 บาท อนุมัติครั้งที่ 1 25,550 บาท | C52: =+C46 -> ศธ04002/ว46832 ลว.17 ต.ค. 68 ครั้งที่ 7 2,000,000 บาท | D52: =+[5]ระบบการควบคุมฯ!D827 -> 0 | E52: =+[5]ระบบการควบคุมฯ!E827 -> 0 | F52: =+[5]ระบบการควบคุมฯ!F827 -> 0 | G52: =+[5]ระบบการควบคุมฯ!G827+[5]ระบบการควบคุมฯ!H827 -> 0 | H52: =+[5]ระบบการควบคุมฯ!I827+[5]ระบบการควบคุมฯ!J827 -> 0 | I52: =+[5]ระบบการควบคุมฯ!K827+[5]ระบบการควบคุมฯ!L827 -> 0 | J52: =+F52-G52-H52-I52 -> 0 | K52: =+[5]ระบบการควบคุมฯ!D963 -> 0 | L52: =+[5]ระบบการควบคุมฯ!E963 -> 0 | M52: =+K52+L52 -> 0 | N52: =+[5]ระบบการควบคุมฯ!G963+[5]ระบบการควบคุมฯ!H963 -> 0 | O52: =+[5]ระบบการควบคุมฯ!I963+[5]ระบบการควบคุมฯ!J963 -> 0 | P52: =+[5]ระบบการควบคุมฯ!K963+[5]ระบบการควบคุมฯ!L963 -> 0 | Q52: =+M52-N52-O52-P52 -> 0 | Y52: =+R52+K52+D52 -> 0 | Z52: =+S52+L52+E52 -> 0 | AA52: =SUM(Y52:Z52) -> 0 | AB52: =+G52+N52+U52 -> 0 | AC52: =+H52+O52+V52 -> 0 | AD52: =+I52+P52+W52 -> 0 | AE52: =+AA52-AB52-AC52-AD52 -> 0 | AG52: กลุ่มนิเทศติดตามและประเมินผลฯ
A53: =+[5]ระบบการควบคุมฯ!A828 -> 2.4.4) | B53: =+[5]ระบบการควบคุมฯ!B828 -> โครงการประชุมเชิงปฏิบัติการเพื่อเพิ่มประสิทธิภาพการบริหารจัดการด้านงบประมาณ ด้านการเงินบัญชีและพัสดุ 65,000 บาท | C53: =+C52 -> ศธ04002/ว46832 ลว.17 ต.ค. 68 ครั้งที่ 7 2,000,000 บาท | D53: =+[5]ระบบการควบคุมฯ!D828 -> 0 | E53: =+[5]ระบบการควบคุมฯ!E828 -> 0 | F53: =+[5]ระบบการควบคุมฯ!F828 -> 0 | G53: =+[5]ระบบการควบคุมฯ!G828+[5]ระบบการควบคุมฯ!H828 -> 0 | H53: =+[5]ระบบการควบคุมฯ!I828+[5]ระบบการควบคุมฯ!J828 -> 0 | I53: =+[5]ระบบการควบคุมฯ!K828+[5]ระบบการควบคุมฯ!L828 -> 0 | J53: =+F53-G53-H53-I53 -> 0 | K53: =+[5]ระบบการควบคุมฯ!D965 -> 0 | L53: =+[5]ระบบการควบคุมฯ!E965 -> 0 | M53: =+K53+L53 -> 0 | N53: =+[5]ระบบการควบคุมฯ!G965+[5]ระบบการควบคุมฯ!H965 -> 0 | O53: =+[5]ระบบการควบคุมฯ!I965+[5]ระบบการควบคุมฯ!J965 -> 0 | P53: =+[5]ระบบการควบคุมฯ!K965+[5]ระบบการควบคุมฯ!L965 -> 0 | Q53: =+M53-N53-O53-P53 -> 0 | Y53: =+R53+K53+D53 -> 0 | Z53: =+S53+L53+E53 -> 0 | AA53: =SUM(Y53:Z53) -> 0 | AB53: =+G53+N53+U53 -> 0 | AC53: =+H53+O53+V53 -> 0 | AD53: =+I53+P53+W53 -> 0 | AE53: =+AA53-AB53-AC53-AD53 -> 0 | AG53: กลุ่มบริหารงานการเงินและสินทรัพย์
A54: =+[5]ระบบการควบคุมฯ!A829 -> 2.4.5) | B54: =+[5]ระบบการควบคุมฯ!B829 -> โครงการงานศิลปหัตถกรรมนักเรียน ระดับเขตพื้นที่การศึกษา ปีการศึกษา 2568 250,000 บาท ศูนย์ประสานการดำเนินงาน ข้อ 13 อนุมัติครั้งที่ 1 24,195 บาท | C54: =+C53 -> ศธ04002/ว46832 ลว.17 ต.ค. 68 ครั้งที่ 7 2,000,000 บาท | D54: =+[5]ระบบการควบคุมฯ!D829 -> 0 | E54: =+[5]ระบบการควบคุมฯ!E829 -> 0 | F54: =+[5]ระบบการควบคุมฯ!F829 -> 0 | G54: =+[5]ระบบการควบคุมฯ!G829+[5]ระบบการควบคุมฯ!H829 -> 0 | H54: =+[5]ระบบการควบคุมฯ!I829+[5]ระบบการควบคุมฯ!J829 -> 0 | I54: =+[5]ระบบการควบคุมฯ!K829+[5]ระบบการควบคุมฯ!L829 -> 0 | J54: =+F54-G54-H54-I54 -> 0 | K54: =+[5]ระบบการควบคุมฯ!D966 -> 0 | L54: =+[5]ระบบการควบคุมฯ!E966 -> 0 | M54: =+K54+L54 -> 0 | N54: =+[5]ระบบการควบคุมฯ!G966+[5]ระบบการควบคุมฯ!H966 -> 0 | O54: =+[5]ระบบการควบคุมฯ!I966+[5]ระบบการควบคุมฯ!J966 -> 0 | P54: =+[5]ระบบการควบคุมฯ!K966+[5]ระบบการควบคุมฯ!L966 -> 0 | Q54: =+M54-N54-O54-P54 -> 0 | Y54: =+R54+K54+D54 -> 0 | Z54: =+S54+L54+E54 -> 0 | AA54: =SUM(Y54:Z54) -> 0 | AB54: =+G54+N54+U54 -> 0 | AC54: =+H54+O54+V54 -> 0 | AD54: =+I54+P54+W54 -> 0 | AE54: =+AA54-AB54-AC54-AD54 -> 0 | AG54: กลุ่มส่งเสริมการจัดการศึกษา
A55: =+[5]ระบบการควบคุมฯ!A830 -> 0 | B55: =+[5]ระบบการควบคุมฯ!B830 -> อนุมัติ ครั้งที่ 2 225,805 บาท | C55: =+C54 -> ศธ04002/ว46832 ลว.17 ต.ค. 68 ครั้งที่ 7 2,000,000 บาท | D55: =+[5]ระบบการควบคุมฯ!D830 -> 0 | E55: =+[5]ระบบการควบคุมฯ!E830 -> 0 | F55: =+[5]ระบบการควบคุมฯ!F830 -> 0 | G55: =+[5]ระบบการควบคุมฯ!G830+[5]ระบบการควบคุมฯ!H830 -> 0 | H55: =+[5]ระบบการควบคุมฯ!I830+[5]ระบบการควบคุมฯ!J830 -> 0 | I55: =+[5]ระบบการควบคุมฯ!K830+[5]ระบบการควบคุมฯ!L830 -> 0 | J55: =+F55-G55-H55-I55 -> 0 | K55: =+[5]ระบบการควบคุมฯ!D967 -> 0 | L55: =+[5]ระบบการควบคุมฯ!E967 -> 0 | M55: =+K55+L55 -> 0 | N55: =+[5]ระบบการควบคุมฯ!G967+[5]ระบบการควบคุมฯ!H967 -> 0 | O55: =+[5]ระบบการควบคุมฯ!I967+[5]ระบบการควบคุมฯ!J967 -> 0 | P55: =+[5]ระบบการควบคุมฯ!K967+[5]ระบบการควบคุมฯ!L967 -> 0 | Q55: =+M55-N55-O55-P55 -> 0 | Y55: =+R55+K55+D55 -> 0 | Z55: =+S55+L55+E55 -> 0 | AA55: =SUM(Y55:Z55) -> 0 | AB55: =+G55+N55+U55 -> 0 | AC55: =+H55+O55+V55 -> 0 | AD55: =+I55+P55+W55 -> 0 | AE55: =+AA55-AB55-AC55-AD55 -> 0
A56: =+[5]ระบบการควบคุมฯ!A831 -> 2.4.6) | B56: =+[5]ระบบการควบคุมฯ!B831 -> โครงการยกย่องเชิดชูเกียรติข้าราชการครูและบุคลากรทางการศึกษา 80,000 บาท อนุมัติครั้งที่ 1 30,000 บาท โอนไปประชุมเชิงปฏิบัติการสำนักงานเขตพื้นที่ 20875,000 บาท | C56: =+C55 -> ศธ04002/ว46832 ลว.17 ต.ค. 68 ครั้งที่ 7 2,000,000 บาท | D56: =+[5]ระบบการควบคุมฯ!D831 -> 0 | E56: =+[5]ระบบการควบคุมฯ!E831 -> 0 | F56: =+[5]ระบบการควบคุมฯ!F831 -> 0 | G56: =+[5]ระบบการควบคุมฯ!G831+[5]ระบบการควบคุมฯ!H831 -> 0 | H56: =+[5]ระบบการควบคุมฯ!I831+[5]ระบบการควบคุมฯ!J831 -> 0 | I56: =+[5]ระบบการควบคุมฯ!K831+[5]ระบบการควบคุมฯ!L831 -> 0 | J56: =+F56-G56-H56-I56 -> 0 | K56: =+[5]ระบบการควบคุมฯ!D968 -> 0 | L56: =+[5]ระบบการควบคุมฯ!E968 -> 0 | M56: =+K56+L56 -> 0 | N56: =+[5]ระบบการควบคุมฯ!G968+[5]ระบบการควบคุมฯ!H968 -> 0 | O56: =+[5]ระบบการควบคุมฯ!I968+[5]ระบบการควบคุมฯ!J968 -> 0 | P56: =+[5]ระบบการควบคุมฯ!K968+[5]ระบบการควบคุมฯ!L968 -> 0 | Q56: =+M56-N56-O56-P56 -> 0 | Y56: =+R56+K56+D56 -> 0 | Z56: =+S56+L56+E56 -> 0 | AA56: =SUM(Y56:Z56) -> 0 | AB56: =+G56+N56+U56 -> 0 | AC56: =+H56+O56+V56 -> 0 | AD56: =+I56+P56+W56 -> 0 | AE56: =+AA56-AB56-AC56-AD56 -> 0 | AG56: กลุ่มพัฒนาครูและบุคลากรทางการศึกษา
A57: =+[5]ระบบการควบคุมฯ!A832 -> 2.4.7) | B57: =+[5]ระบบการควบคุมฯ!B832 -> โครงการเสริมสร้างศักยภาพบุคลากรในสังกัดสพป.ปทุมธานี เขต 2 130,595 บาท | C57: =+C56 -> ศธ04002/ว46832 ลว.17 ต.ค. 68 ครั้งที่ 7 2,000,000 บาท | D57: =+[5]ระบบการควบคุมฯ!D832 -> 0 | E57: =+[5]ระบบการควบคุมฯ!E832 -> 0 | F57: =+[5]ระบบการควบคุมฯ!F832 -> 0 | G57: =+[5]ระบบการควบคุมฯ!G832+[5]ระบบการควบคุมฯ!H832 -> 0 | H57: =+[5]ระบบการควบคุมฯ!I832+[5]ระบบการควบคุมฯ!J832 -> 0 | I57: =+[5]ระบบการควบคุมฯ!K832+[5]ระบบการควบคุมฯ!L832 -> 0 | J57: =+F57-G57-H57-I57 -> 0 | K57: =+[5]ระบบการควบคุมฯ!D970 -> 0 | L57: =+[5]ระบบการควบคุมฯ!E970 -> 0 | M57: =+K57+L57 -> 0 | N57: =+[5]ระบบการควบคุมฯ!G970+[5]ระบบการควบคุมฯ!H970 -> 0 | O57: =+[5]ระบบการควบคุมฯ!I970+[5]ระบบการควบคุมฯ!J970 -> 0 | P57: =+[5]ระบบการควบคุมฯ!K970+[5]ระบบการควบคุมฯ!L970 -> 0 | Q57: =+M57-N57-O57-P57 -> 0 | Y57: =+R57+K57+D57 -> 0 | Z57: =+S57+L57+E57 -> 0 | AA57: =SUM(Y57:Z57) -> 0 | AB57: =+G57+N57+U57 -> 0 | AC57: =+H57+O57+V57 -> 0 | AD57: =+I57+P57+W57 -> 0 | AE57: =+AA57-AB57-AC57-AD57 -> 0 | AG57: =+AG56 -> กลุ่มพัฒนาครูและบุคลากรทางการศึกษา
A58: =+[5]ระบบการควบคุมฯ!A833 -> 2.4.8) | B58: =+[5]ระบบการควบคุมฯ!B833 -> โครงการประชุม อ.ก.ค.ศ. เขตพื้นที่ 258,060 บาท อนุมัติครั้งที่ 1 95,000 บาท โอนไปประชุมเชิงปฏิบัติการสำนักงานเขตพื้นที่ 49,333 บาท | C58: =+C57 -> ศธ04002/ว46832 ลว.17 ต.ค. 68 ครั้งที่ 7 2,000,000 บาท | D58: =+[5]ระบบการควบคุมฯ!D833 -> 0 | E58: =+[5]ระบบการควบคุมฯ!E833 -> 0 | F58: =+[5]ระบบการควบคุมฯ!F833 -> 0 | G58: =+[5]ระบบการควบคุมฯ!G833+[5]ระบบการควบคุมฯ!H833 -> 0 | H58: =+[5]ระบบการควบคุมฯ!I833+[5]ระบบการควบคุมฯ!J833 -> 0 | I58: =+[5]ระบบการควบคุมฯ!K833+[5]ระบบการควบคุมฯ!L833 -> 0 | J58: =+F58-G58-H58-I58 -> 0 | K58: =+[5]ระบบการควบคุมฯ!D971 -> 0 | L58: =+[5]ระบบการควบคุมฯ!E971 -> 0 | M58: =+K58+L58 -> 0 | N58: =+[5]ระบบการควบคุมฯ!G971+[5]ระบบการควบคุมฯ!H971 -> 0 | O58: =+[5]ระบบการควบคุมฯ!I971+[5]ระบบการควบคุมฯ!J971 -> 0 | P58: =+[5]ระบบการควบคุมฯ!K971+[5]ระบบการควบคุมฯ!L971 -> 0 | Q58: =+M58-N58-O58-P58 -> 0 | Y58: =+R58+K58+D58 -> 0 | Z58: =+S58+L58+E58 -> 0 | AA58: =SUM(Y58:Z58) -> 0 | AB58: =+G58+N58+U58 -> 0 | AC58: =+H58+O58+V58 -> 0 | AD58: =+I58+P58+W58 -> 0 | AE58: =+AA58-AB58-AC58-AD58 -> 0 | AG58: กลุ่มบริหารงานบุคคล
A59: =+[5]ระบบการควบคุมฯ!A972 -> 2.4.8.1) | B59: =+[5]ระบบการควบคุมฯ!B972 -> โครงการประชุม อ.ก.ค.ศ. เขตพื้นที่ 258,060 บาท อนุมัติครั้งที่ 4 138,060 บาท
A60: =+[5]ระบบการควบคุมฯ!A834 -> 2.4.9) | B60: =+[5]ระบบการควบคุมฯ!B834 -> โครงการกิจกรรมการบริหารอัตรากำลังในสถานศึกษาระดับเขตพื้นที่การศึกษาฯ 80,145 บาท อนุมัติครั้งที่ 1 30,000 บาทโอนไปกลุ่มอำนวยการอบรมผู้บริหาร 70525 บาท | C60: =+C58 -> ศธ04002/ว46832 ลว.17 ต.ค. 68 ครั้งที่ 7 2,000,000 บาท | D60: =+[5]ระบบการควบคุมฯ!D834 -> 0 | E60: =+[5]ระบบการควบคุมฯ!E834 -> 0 | F60: =+[5]ระบบการควบคุมฯ!F834 -> 0 | G60: =+[5]ระบบการควบคุมฯ!G834+[5]ระบบการควบคุมฯ!H834 -> 0 | H60: =+[5]ระบบการควบคุมฯ!I834+[5]ระบบการควบคุมฯ!J834 -> 0 | I60: =+[5]ระบบการควบคุมฯ!K834+[5]ระบบการควบคุมฯ!L834 -> 0 | J60: =+F60-G60-H60-I60 -> 0 | K60: =+[5]ระบบการควบคุมฯ!D973 -> 0 | L60: =+[5]ระบบการควบคุมฯ!E973 -> 0 | M60: =+K60+L60 -> 0 | N60: =+[5]ระบบการควบคุมฯ!G973+[5]ระบบการควบคุมฯ!H973 -> 0 | O60: =+[5]ระบบการควบคุมฯ!I973+[5]ระบบการควบคุมฯ!J973 -> 0 | P60: =+[5]ระบบการควบคุมฯ!K973+[5]ระบบการควบคุมฯ!L973 -> 0 | Q60: =+M60-N60-O60-P60 -> 0 | Y60: =+R60+K60+D60 -> 0 | Z60: =+S60+L60+E60 -> 0 | AA60: =SUM(Y60:Z60) -> 0 | AB60: =+G60+N60+U60 -> 0 | AC60: =+H60+O60+V60 -> 0 | AD60: =+I60+P60+W60 -> 0 | AE60: =+AA60-AB60-AC60-AD60 -> 0 | AG60: =+AG58 -> กลุ่มบริหารงานบุคคล
A61: =+[5]ระบบการควบคุมฯ!A835 -> 2.4.10) | B61: =+[5]ระบบการควบคุมฯ!B835 -> โครงการพัฒนาประสิทธิภาพการบริหารจัดการงานอำนวยการ 148,490 บาท อนุมัติครั้งที่ 1 41,650 บาท รับโอนจากกลุ่มบุคคล 70,525 บาท ตรวจสอบภายใน 12,070 บาท | C61: =+C60 -> ศธ04002/ว46832 ลว.17 ต.ค. 68 ครั้งที่ 7 2,000,000 บาท | D61: =+[5]ระบบการควบคุมฯ!D835 -> 0 | E61: =+[5]ระบบการควบคุมฯ!E835 -> 0 | F61: =+[5]ระบบการควบคุมฯ!F835 -> 0 | G61: =+[5]ระบบการควบคุมฯ!G835+[5]ระบบการควบคุมฯ!H835 -> 0 | H61: =+[5]ระบบการควบคุมฯ!I835+[5]ระบบการควบคุมฯ!J835 -> 0 | I61: =+[5]ระบบการควบคุมฯ!K835+[5]ระบบการควบคุมฯ!L835 -> 0 | J61: =+F61-G61-H61-I61 -> 0 | K61: =+[5]ระบบการควบคุมฯ!D975 -> 0 | L61: =+[5]ระบบการควบคุมฯ!E975 -> 0 | M61: =+K61+L61 -> 0 | N61: =+[5]ระบบการควบคุมฯ!G975+[5]ระบบการควบคุมฯ!H975 -> 0 | O61: =+[5]ระบบการควบคุมฯ!I975+[5]ระบบการควบคุมฯ!J975 -> 0 | P61: =+[5]ระบบการควบคุมฯ!K975+[5]ระบบการควบคุมฯ!L975 -> 0 | Q61: =+M61-N61-O61-P61 -> 0 | Y61: =+R61+K61+D61 -> 0 | Z61: =+S61+L61+E61 -> 0 | AA61: =SUM(Y61:Z61) -> 0 | AB61: =+G61+N61+U61 -> 0 | AC61: =+H61+O61+V61 -> 0 | AD61: =+I61+P61+W61 -> 0 | AE61: =+AA61-AB61-AC61-AD61 -> 0 | AG61: กลุ่มอำนวยการ
B62: =+[5]ระบบการควบคุมฯ!B976 -> โครงการพัฒนาประสิทธิภาพการบริหารจัดการงานอำนวยการ 148,490 บาท อนุมัติครั้งที่ 4 86,090 บาท
A63: =+[5]ระบบการควบคุมฯ!A836 -> 2.4.11) | B63: =+[5]ระบบการควบคุมฯ!B836 -> โครงการพัฒนาระบบข้อมูลสารสนเทศ 30,000 บาท โอนไปประชุมเชิงปฏิบัติการสำนักงานเขตพื้นที่ 10,000 บาท
A64: =+[5]ระบบการควบคุมฯ!A837 -> 4) | B64: =+[5]ระบบการควบคุมฯ!B837 -> โครงการเพิ่มประสิทธิภาพการบริหารจัดการศึกษา 800,000 บาท อนุมัติครั้งที่ 1 (400,000 บาท)
A65: =+[5]ระบบการควบคุมฯ!A838 -> 0 | B65: =+[5]ระบบการควบคุมฯ!B838 -> 20004 68 00148 00000
A66: =+[5]ระบบการควบคุมฯ!A836 -> 2.4.11) | B66: =+[5]ระบบการควบคุมฯ!B836 -> โครงการพัฒนาระบบข้อมูลสารสนเทศ 30,000 บาท โอนไปประชุมเชิงปฏิบัติการสำนักงานเขตพื้นที่ 10,000 บาท | C66: =+C61 -> ศธ04002/ว46832 ลว.17 ต.ค. 68 ครั้งที่ 7 2,000,000 บาท | D66: =+[5]ระบบการควบคุมฯ!D836 -> 0 | E66: =+[5]ระบบการควบคุมฯ!E836 -> 0 | F66: =+[5]ระบบการควบคุมฯ!F836 -> 0 | G66: =+[5]ระบบการควบคุมฯ!G836+[5]ระบบการควบคุมฯ!H836 -> 0 | H66: =+[5]ระบบการควบคุมฯ!I836+[5]ระบบการควบคุมฯ!J836 -> 0 | I66: =+[5]ระบบการควบคุมฯ!K836+[5]ระบบการควบคุมฯ!L836 -> 0 | J66: =+F66-G66-H66-I66 -> 0 | K66: =+[5]ระบบการควบคุมฯ!D977 -> 0 | L66: =+[5]ระบบการควบคุมฯ!E977 -> 0 | M66: =+K66+L66 -> 0 | N66: =+[5]ระบบการควบคุมฯ!G977+[5]ระบบการควบคุมฯ!H977 -> 0 | O66: =+[5]ระบบการควบคุมฯ!I977+[5]ระบบการควบคุมฯ!J977 -> 0 | P66: =+[5]ระบบการควบคุมฯ!K977+[5]ระบบการควบคุมฯ!L977 -> 0 | Q66: =+M66-N66-O66-P66 -> 0 | Y66: =+R66+K66+D66 -> 0 | Z66: =+S66+L66+E66 -> 0 | AA66: =SUM(Y66:Z66) -> 0 | AB66: =+G66+N66+U66 -> 0 | AC66: =+H66+O66+V66 -> 0 | AD66: =+I66+P66+W66 -> 0 | AE66: =+AA66-AB66-AC66-AD66 -> 0 | AG66: กลุ่มส่งเสริมการศึกษาทางไกลเทคโนโลยีสารสนเทศเพื่อการศึกษา
A67: =+[5]ระบบการควบคุมฯ!A979 -> 2.4.12) | B67: =+[5]ระบบการควบคุมฯ!B979 -> โครงการประชุมเชิงปฏิบัติการพัฒนาศักยภาพบุคลากรทางการศึกษาเพื่อขับเคลื่อนคุณภาพการศึกษาสู่องค์กรแห่งการแห่งการเรียนรู้ | C67: =+[5]ระบบการควบคุมฯ!C979 -> มติที่ประชุมเร่งรัดติดตาม 5 ส.ค.69 | K67: =+[5]ระบบการควบคุมฯ!D978 -> 0 | L67: =+[5]ระบบการควบคุมฯ!E979 -> 0 | M67: =SUM(K67:L67) -> 0 | N67: =+[5]ระบบการควบคุมฯ!G979+[5]ระบบการควบคุมฯ!H979 -> 0 | O67: =+[5]ระบบการควบคุมฯ!I979+[5]ระบบการควบคุมฯ!J979 -> 0 | P67: =+[5]ระบบการควบคุมฯ!K979+[5]ระบบการควบคุมฯ!L979 -> 0 | Q67: =+[5]ระบบการควบคุมฯ!K979+[5]ระบบการควบคุมฯ!L979 -> 0 | Y67: =+R67+K67+D67 -> 0 | Z67: =+S67+L67+E67 -> 0 | AA67: =SUM(Y67:Z67) -> 0 | AB67: =+G67+N67+U67 -> 0 | AC67: =+H67+O67+V67 -> 0 | AD67: =+I67+P67+W67 -> 0 | AE67: =+AA67-AB67-AC67-AD67 -> 0 | AG67: กลุ่มอำนวยการ
B68: รวมทั้งสิ้น | D68: =+D10 -> 1600000 | E68: =+E10 -> 400000 | F68: =+F10 -> 2000000 | G68: =+G10 -> 0 | H68: =+H10 -> 0 | I68: =+I10 -> 1952.95 | J68: =+J10 -> 1998047.1 | K68: =+K10 -> 0 | ... X68: =+X10 -> 0 | Y68: =+Y12 -> 1600000 | Z68: =+Z12 -> 400000 | AA68: =+AA12 -> 2000000 | AB68: =+AB12 -> 0 | AC68: =+AC12 -> 0 | AD68: =+AD12 -> 1952.95 | AE68: =+AE12 -> 1998047.1 | AG68: =+AG12 -> 0
B69: คิดเป็นร้อยละ | P69: 0 | Y69: =+Z68+Y68 -> 2000000 | AA69: =SUM(AB69:AE69) -> 100 | AB69: =+AB68*100/AA68 -> 0 | AC69: =+AC68*100/AA68 -> 0 | AD69: =+AD68*100/AA68 -> 0.0976475 | AE69: =+AE68*100/AA68 -> 99.902353
F70: ตรวจสอบแล้วถูกต้อง | N70: ตรวจแล้วถูกต้อง
Y71: ตรวจสอบแล้วถูกต้อง
A72: ลงชื่อ เลขานุการคณะกรรมการติดตามเร่งรัด | M72: ลงชื่อ ประธานคณะกรรมการติดตามเร่งรัด
A73: (นางพัชรี เรืองรุ่ง) การเบิกจ่ายงบประมาณและการใช้จ่ายฯ | O73: การเบิกจ่ายงบประมาณและการใช้จ่ายฯ | Q73: ลงชื่อ | T73: ประธานคณะกรรมการติดตามเร่งรัด | Y73: ลงชื่อ | AB73: ประธานคณะกรรมการติดตามเร่งรัด
A74: นักวิชาการเงินและบัญชีชำนาญการพิเศษ | AB74: การเบิกจ่ายงบประมาณและการใช้จ่าย

Sheet งบสพฐ
A1: งบประมาณของสำนักงานคณะกรรมการการศึกษาขั้นพื้นฐาน
A2: ประจำปีงบประมาณ พ.ศ. 2570
A3: กลุ่มบริหารงานการเงินและสินทรัพย์ สำนักงานเขตพื้นที่การศึกษาประถมศึกษาปทุมธานี เขต 2
B4: =+[5]งบประจำและงบกลยุทธ์!A4 -> ประจำเดือนตุลาคม 2569 | I4: รายละเอียด 4
A5: ที่ | B5: รายการ | C5: รหัสงบประมาณ/หนังสือแจ้งโอน | D5: เงินงวด | E5: ผูกพัน | F5: กันไว้เบิกเหลื่อมปี | G5: เบิกจ่าย | H5: คงเหลือ | I5: ผู้รับผิดชอบ
A6: =+[5]ระบบการควบคุมฯ!A7 -> ก | B6: =+[5]ระบบการควบคุมฯ!B7 -> แผนงานบุคลากรภาครัฐ | C6: =+[5]ระบบการควบคุมฯ!C7 [5]ระบบการควบคุมฯ!C7 -> 20004 1400 0800 | D6: =+D7 -> 3653000 | E6: =+E7 -> 0 | F6: =+F7 -> 0 | G6: =+G7 -> 583295 | H6: =+H7 -> 3069705
A7: =+[5]ระบบการควบคุมฯ!A8 -> 1 | B7: =+[5]ระบบการควบคุมฯ!B8 -> ผลผลิตรายการค่าใช้จ่ายบุคลากรภาครัฐ ยกระดับคุณภาพการศึกษาและการเรียนรู้ตลอดชีวิต | C7: =+[5]ระบบการควบคุมฯ!C8 -> 20004 1400 0800 | D7: =+D8 -> 3653000 | E7: =+E8 -> 0 | F7: =+F8 -> 0 | G7: =+G8 -> 583295 | H7: =+H8 -> 3069705
A8: =+[5]ระบบการควบคุมฯ!A10 -> 1.1 | B8: =+[5]ระบบการควบคุมฯ!B10 -> กิจกรรมค่าใช้จ่ายบุคลากรภาครัฐของสำนักงานคณะกรรมการการศึกษาขั้นพื้นฐาน | C8: =+[5]ระบบการควบคุมฯ!C10 -> 20004 70 79456 00000 | D8: =+D9+D13+D20 -> 3653000 | E8: =+E9+E13+E20 -> 0 | F8: =+F9+F13+F20 -> 0 | G8: =+G9+G13+G20 -> 583295 | H8: =+H9+H13+H20 -> 3069705
B9: =+[5]ระบบการควบคุมฯ!B12 -> งบบุคลากร ค่าจ้างชั่วคราว 7011130 | C9: =+[5]ระบบการควบคุมฯ!C12 -> 20004 14000800 1000000 | D9: =+D10+D11 -> 0 | E9: =+E10+E11 -> 0 | F9: =+F10+F11 -> 0 | G9: =+G10+G11 -> 0 | H9: =+H10+H11 -> 0
A10: =+[5]ระบบการควบคุมฯ!A13 -> 1.2.1 | B10: =+[5]ระบบการควบคุมฯ!_Hlk231936231 -> ค่าจ้างชั่วคราว จำนวน 26 อัตรา จำนวน 2 เดือน (มิถุนายน - กรกฎาคม 2569) 994,300 บาท | C10: =+[5]ระบบการควบคุมฯ!C13 -> ศธ 04002/ว9361 ลว. 4 มิ.ย. 69 ครั้งที่ 691 | D10: =+[5]ระบบการควบคุมฯ!F13 -> 0 | E10: =+[5]ระบบการควบคุมฯ!G13+[5]ระบบการควบคุมฯ!H13 -> 0 | F10: =+[5]ระบบการควบคุมฯ!I13+[5]ระบบการควบคุมฯ!J13 -> 0 | G10: =+[5]ระบบการควบคุมฯ!K13+[5]ระบบการควบคุมฯ!L13 -> 0 | H10: =+D10-E10-F10-G10 -> 0 | I10: กลุ่มบริหารงานการเงินและสินทรัพย์
A11: =+[5]ระบบการควบคุมฯ!A14 -> 1.2.2 | B11: =+[5]ระบบการควบคุมฯ!B14 -> ค่าจ้างชั่วคราว จำนวน 26 อัตรา จำนวน 1 เดือน (สิงหาคม 2569) 497,200 บาท | C11: =+[5]ระบบการควบคุมฯ!C14 -> ศธ 04002/ว13660 ลว. 6 ส.ค. 69 ครั้งที่ 830 | E11: =+[5]ระบบการควบคุมฯ!G14+[5]ระบบการควบคุมฯ!H14 -> 0 | F11: =+[5]ระบบการควบคุมฯ!I14+[5]ระบบการควบคุมฯ!J14 -> 0 | G11: =+[5]ระบบการควบคุมฯ!K14+[5]ระบบการควบคุมฯ!L14 -> 0 | H11: =+D11-E11-F11-G11 -> 0 | I11: กลุ่มบริหารงานการเงินและสินทรัพย์
A12: =+[5]ระบบการควบคุมฯ!A15 -> 1.2.3 | B12: =+[5]ระบบการควบคุมฯ!B15 -> ค่าจ้างชั่วคราว จำนวน 26 อัตรา จำนวน 1 เดือน (กันยายน 2569) 497,200 บาท | C12: =+[5]ระบบการควบคุมฯ!C15 -> ศธ 04002/ว16102 ลว. 10 ก.ย. 69 ครั้งที่ 910 | E12: =+[5]ระบบการควบคุมฯ!G15+[5]ระบบการควบคุมฯ!H15 -> 0 | F12: =+[5]ระบบการควบคุมฯ!I15+[5]ระบบการควบคุมฯ!J15 -> 0 | G12: =+[5]ระบบการควบคุมฯ!K15+[5]ระบบการควบคุมฯ!L15 -> 0 | H12: =+D12-E12-F12-G12 -> 0 | I12: กลุ่มบริหารงานการเงินและสินทรัพย์
B13: =+[5]ระบบการควบคุมฯ!B16 -> งบบุคลากร 7011150 | C13: =+[5]ระบบการควบคุมฯ!C16 -> 20004 14000800 1000000 | D13: =SUM(D14:D18) -> 3522000 | E13: =SUM(E14:E18) -> 0 | F13: =SUM(F14:F18) -> 0 | G13: =SUM(G14:G18) -> 564920 | H13: =SUM(H14:H18) -> 2957080
A14: =+[5]ระบบการควบคุมฯ!A18 -> 1.1.1 | B14: =+[5]ระบบการควบคุมฯ!B18 -> ค่าตอบแทนพนักงานราชการ 22 อัตรา 6 เดือน(ต.ค.69 - มี.ค.70) 3522000 บาท | C14: =+[5]ระบบการควบคุมฯ!C18 -> ศธ 04002/ว18314 ลว.14 ต.ค.69 ครั้งที่ 2 | D14: =+[5]ระบบการควบคุมฯ!F18 -> 3522000 | E14: =+[5]ระบบการควบคุมฯ!G18+[5]ระบบการควบคุมฯ!H18 -> 0 | F14: =+[5]ระบบการควบคุมฯ!I18+[5]ระบบการควบคุมฯ!J18 -> 0 | G14: =+[5]ระบบการควบคุมฯ!K18+[5]ระบบการควบคุมฯ!L18 -> 564920 | H14: =+D14-E14-F14-G14 -> 2957080 | I14: กลุ่มบริหารงานการเงินและสินทรัพย์
A15: =+[5]ระบบการควบคุมฯ!A19 -> 1.1.1.1 | B15: =+[5]ระบบการควบคุมฯ!B19 -> ค่าตอบแทนพนักงานราชการ 22 อัตรา เงินเลื่อนค่าตอบแทนพนักงานราชการประจำปี จำนวน 5 เดือน (ตุลาคม 2568 -กุมภาพันธ์ 2569) 116,000 บาท | C15: =+[5]ระบบการควบคุมฯ!C19 -> ศธ 04002/ว50977 ลว. 22 ธ.ค.68 ครั้งที่ 172
A16: =+[5]ระบบการควบคุมฯ!A20 -> 1.1.1.2 | B16: =+[5]ระบบการควบคุมฯ!B20 -> ค่าตอบแทนพนักงานราชการ 22 อัตรา 5 เดือน (มีค-กค 69) 2,965,000 บาท | C16: =+[5]ระบบการควบคุมฯ!C20 -> ศธ 04002/ว4964 ลว. 23 มีค 69 ครั้งที่ 386
A17: =+[5]ระบบการควบคุมฯ!A21 -> 1.1.1.3 | B17: =+[5]ระบบการควบคุมฯ!B21 -> ค่าตอบแทนพนักงานราชการ 21 อัตรา (ส.ค.69) 317,000 บาท | C17: =+[5]ระบบการควบคุมฯ!C21 -> ศธ 04002/ว13456 ลว. 4 ส.ค.69 ครั้งที่ 808 | D17: =+[5]ระบบการควบคุมฯ!F23 -> 0 | E17: =+[5]ระบบการควบคุมฯ!G23+[5]ระบบการควบคุมฯ!H23 -> 0 | F17: =+[5]ระบบการควบคุมฯ!I23+[5]ระบบการควบคุมฯ!J23 -> 0 | G17: =+[5]ระบบการควบคุมฯ!K23+[5]ระบบการควบคุมฯ!L23 -> 0 | H17: =+D17-E17-F17-G17 -> 0
A18: =+[5]ระบบการควบคุมฯ!A22 -> 1.1.1.4 | B18: =+[5]ระบบการควบคุมฯ!B22 -> ค่าตอบแทนพนักงานราชการ 21 อัตรา (ก.ย.69)570,000 บาท | C18: =+[5]ระบบการควบคุมฯ!C22 -> ศธ 04002/ว16100 ลว. 10 ก.ย. 69 ครั้งที่ 909 | D18: =+[5]ระบบการควบคุมฯ!F24 -> 0 | E18: =+[5]ระบบการควบคุมฯ!G24+[5]ระบบการควบคุมฯ!H24 -> 0 | F18: =+[5]ระบบการควบคุมฯ!I24+[5]ระบบการควบคุมฯ!J24 -> 0 | G18: =+[5]ระบบการควบคุมฯ!K24+[5]ระบบการควบคุมฯ!L24 -> 0 | H18: =+D18-E18-F18-G18 -> 0
A20: =+[5]ระบบการควบคุมฯ!A27 -> 0 | B20: =+[5]ระบบการควบคุมฯ!B27 -> งบดำเนินงาน 7011220 | C20: =+[5]ระบบการควบคุมฯ!C27 -> 20004 1420 0800 2000000 | D20: =SUM(D21:D30) -> 131000 | E20: =SUM(E21:E30) -> 0 | F20: =SUM(F21:F30) -> 0 | G20: =SUM(G21:G30) -> 18375 | H20: =SUM(H21:H30) -> 112625
A21: =+[5]ระบบการควบคุมฯ!A29 -> 1.1.2 | B21: =+[5]ระบบการควบคุมฯ!B29 -> เงินสมทบประกันสังคมพนง.ราชการ 6 เดือน ต.ค. 69 -มี.ค.70)/เงินสมทบกองทุนทดแทน 12 เดือน (มค 70 - ธค 70) 120,000+11,000(131,000 บาท) | C21: =+[5]ระบบการควบคุมฯ!C29 -> ศธ 04002/ว46528 ลว.14 ต.ค.68 ครั้งที่ 2 | D21: =+[5]ระบบการควบคุมฯ!F29 -> 131000 | E21: =+[5]ระบบการควบคุมฯ!G29+[5]ระบบการควบคุมฯ!H29 -> 0 | F21: =+[5]ระบบการควบคุมฯ!I29+[5]ระบบการควบคุมฯ!J29 -> 0 | G21: =+[5]ระบบการควบคุมฯ!K29+[5]ระบบการควบคุมฯ!L29 -> 18375 | H21: =+D21-E21-F21-G21 -> 112625 | I21: กลุ่มบริหารงานการเงินและสินทรัพย์
A22: =+[5]ระบบการควบคุมฯ!A30 -> 1.1.2.1 | B22: =+[5]ระบบการควบคุมฯ!B30 -> เงินสมทบกองทุนประกันสังคม จำนวน 2 เดือน ( ม.ค.-กพ.69) 4,600 | C22: =+[5]ระบบการควบคุมฯ!C30 -> ศธ 04002/ว658 ลว.16 มค 69 ครั้งที่ 227
A23: =+[5]ระบบการควบคุมฯ!A31 -> 1.1.2.2 | B23: =+[5]ระบบการควบคุมฯ!B31 -> เงินสมทบกองทุนประกันสังคม จำนวน 5 เดือน (มี.ค.69 - ก.ค. 2569) 100,000 บาท | C23: =+[5]ระบบการควบคุมฯ!C31 -> ศธ 04002/ว4964 ลว. 23 มีค 69 ครั้งที่ 386
A24: =+[5]ระบบการควบคุมฯ!A32 -> 1.1.2.3 | B24: =+[5]ระบบการควบคุมฯ!B32 -> เงินสมทบกองทุนประกันสังคมพนักงานราชการ จำนวน 2 เดือน ( ส.ค. - กย 69) 7,200 บาท | C24: =+[5]ระบบการควบคุมฯ!C32 -> ศธ 04002/ว13456 ลว. 4 ส.ค. 69 ครั้งที่ 808
A25: =+[5]ระบบการควบคุมฯ!A33 -> 1.1.2.4 | B25: =+[5]ระบบการควบคุมฯ!B33 -> เงินสมทบกองทุนประกันสังคมพนักงานราชการ ( กย 69) 19,000 บาท | C25: =+[5]ระบบการควบคุมฯ!C33 -> ศธ 04002/ว16100 ลว. 10 ก.ย. 69 ครั้งที่ 909
A26: =+[5]ระบบการควบคุมฯ!A34 -> 1.1.3 | B26: =+[5]ระบบการควบคุมฯ!B34 -> เงินสมทบกองทุนประกันสังคม ค่าจ้างชั่วคราว จำนวน 2 เดือน (มิถุนายน - กรกฎาคม 2569 และรายการเงินสมทบกองทุนเงินทดแทน จำนวน 7 เดือน (มิถุนายน - ธันวาคม 2569) 52800 บาท | C26: =+[5]ระบบการควบคุมฯ!C34 -> ศธ 04002/ว9361 ลว. 4 มิ.ย. 69 ครั้งที่ 691 | D26: =+[5]ระบบการควบคุมฯ!F34 -> 0 | E26: =+[5]ระบบการควบคุมฯ!G34+[5]ระบบการควบคุมฯ!H34 -> 0 | F26: =+[5]ระบบการควบคุมฯ!I34+[5]ระบบการควบคุมฯ!J34 -> 0 | G26: =+[5]ระบบการควบคุมฯ!K34+[5]ระบบการควบคุมฯ!L34 -> 0 | H26: =+D26-E26-F26-G26 -> 0
A27: =+[5]ระบบการควบคุมฯ!A35 -> 1.1.3.1 | B27: =+[5]ระบบการควบคุมฯ!B35 -> เงินสมทบกองทุนประกันสังคม ค่าจ้างชั่วคราว จำนวน 1 เดือน (สิงหาคม 2569) 22800 บาท | C27: =+[5]ระบบการควบคุมฯ!C35 -> ศธ 04002/ว13660 ลว. 6 ส.ค. 69 ครั้งที่ 830
A28: =+[5]ระบบการควบคุมฯ!A36 -> 1.1.3.2 | B28: =+[5]ระบบการควบคุมฯ!B36 -> เงินสมทบกองทุนประกันสังคม ค่าจ้างชั่วคราว จำนวน 1 เดือน (กันยายน 2569) 22800 บาท | C28: =+[5]ระบบการควบคุมฯ!C36 -> ศธ 04002/ว16102 ลว. 10 ก.ย. 69 ครั้งที่ 910
A29: =+[5]ระบบการควบคุมฯ!A39 -> 1.1.4 | B29: =+[5]ระบบการควบคุมฯ!B39 -> ค่าเช่าบ้าน (ตุลาคม 2568 - กพ. 2569) ครั้งที่ 1 741,200 บาท | C29: =+[5]ระบบการควบคุมฯ!C39 -> ศธ 04002/ว48512 ลว 11 พ.ย.2025 โอนครั้งที่ 65 | D29: =+[5]ระบบการควบคุมฯ!F39 -> 0 | E29: =+[5]ระบบการควบคุมฯ!G39+[5]ระบบการควบคุมฯ!H39 -> 0 | F29: =+[5]ระบบการควบคุมฯ!I39+[5]ระบบการควบคุมฯ!J39 -> 0 | G29: =+[5]ระบบการควบคุมฯ!K39+[5]ระบบการควบคุมฯ!L39 -> 0 | H29: =+D29-E29-F29-G29 -> 0 | I29: กลุ่มบริหารงานการเงินและสินทรัพย์
A30: =+[5]ระบบการควบคุมฯ!A40 -> 1.1.4.1 | B30: =+[5]ระบบการควบคุมฯ!B40 -> ค่าเช่าบ้าน ครั้งที่ 2 ระยะเวลา 5 เดือน (มีนาคม - กรกฎาคม 2569) 744,900 บาท | C30: =+[5]ระบบการควบคุมฯ!C40 -> ศธ 04002/ว5379 ลว. 30 มี.ค. 69 ครั้งที่ 404
A31: =+[5]ระบบการควบคุมฯ!A41 -> 1.1.4.2 | B31: =+[5]ระบบการควบคุมฯ!B41 -> ค่าเช่าบ้านครั้งที่ 3 (ส.ค.-ก.ย. 69) จำนวนเงิน 215,300 บาท | C31: =+[5]ระบบการควบคุมฯ!C41 -> ก.ย. 69 ครั้งที่ 916
A32: =+[5]ระบบการควบคุมฯ!A44 -> ข | B32: =+[5]ระบบการควบคุมฯ!B44 -> แผนงานยุทธศาสตร์พัฒนาคุณภาพการศึกษาและการเรียนรู้ | C32: =+[5]ระบบการควบคุมฯ!C44 -> 20004 3300 | D32: =+D33+D68+D89+D186+D199+D234 -> 11348200 | E32: =+E33+E68+E89+E186+E199+E234 -> 216000 | F32: =+F33+F68+F89+F186+F199+F234 -> 0 | G32: =+G33+G68+G89+G186+G199+G234 -> 0 | H32: =+H33+H68+H89+H186+H199+H234 -> 11132200 | I32: =+I33+I89 -> 0
A33: =+[3]งบสพฐ!A31 -> 1.1.4.2 | B33: =+[5]ระบบการควบคุมฯ!B50 -> โครงการพัฒนาหลักสูตรกระบวนการเรียนการสอน การวัดและประเมินผล | C33: =+[5]ระบบการควบคุมฯ!C50 -> 20004 3320 3300 2000000 | D33: =+D34+D37+D42+D47+D51+D55+D62+D65 -> 0 | E33: =+E34+E37+E42+E47+E51+E55+E62+E65 -> 0 | F33: =+F34+F37+F42+F47+F51+F55+F62+F65 -> 0 | G33: =+G34+G37+G42+G47+G51+G55+G62+G65 -> 0 | H33: =+H34+H37+H42+H47+H51+H55+H62+H65 -> 0
A34: =+[5]ระบบการควบคุมฯ!A53 -> 1.1 | B34: =+[5]ระบบการควบคุมฯ!B53 -> กิจกรรมการส่งเสริมและพัฒนาระบบการประกันคุณภาพภายในสถานศึกษา | C34: =+[5]ระบบการควบคุมฯ!C53 -> 20004 70 00015 00000 | D34: =+D35 -> 0 | E34: =+E35 -> 0 | F34: =+F35 -> 0 | G34: =+G35 -> 0 | H34: =+H35 -> 0
B35: =+[5]ระบบการควบคุมฯ!B54 -> งบดำเนินงาน 70112xx | C35: =+[5]ระบบการควบคุมฯ!C54 -> 20004 3320 3300 2000000 | D35: =SUM(D36) -> 0 | E35: =SUM(E36) -> 0 | F35: =SUM(F36) -> 0 | G35: =SUM(G36) -> 0 | H35: =SUM(H36) -> 0 | I35: =SUM(I36) -> 0
A36: =+[5]ระบบการควบคุมฯ!A55 -> 1.1.1 | B36: =+[5]ระบบการควบคุมฯ!B55 -> สนับสนุนการคัดเลือกสถานศึกษาเพื่อรับรางวัล IQA AWARD ประจำปีการศึกษา 2568 | C36: =+[5]ระบบการควบคุมฯ!C55 -> ศธ 04002/ว7915 ลว. 11 พ.ค. 69 โอนครั้งที่ 526 | D36: =+[5]ระบบการควบคุมฯ!F55 -> 0 | E36: =+[5]ระบบการควบคุมฯ!G55+[5]ระบบการควบคุมฯ!H55 -> 0 | G36: =+[5]ระบบการควบคุมฯ!K55+[5]ระบบการควบคุมฯ!L55 -> 0 | H36: =+D36-E36-F36-G36 -> 0 | I36: กลุ่มนิเทศติดตามและประเมินผลการจัดการศึกษา
A37: =+[5]ระบบการควบคุมฯ!A59 -> 1.2 | B37: =+[5]ระบบการควบคุมฯ!B59 -> กิจกรรมการยกระดับผลการทดสอบทางการศึกษาระดับชาติที่สอดคล้องกับบริบทพื้นที่ | C37: =+[5]ระบบการควบคุมฯ!C59 -> 20004 70 00040 00000 | D37: =+D38 -> 0 | E37: =+E38 -> 0 | F37: =+F38 -> 0 | G37: =+G38 -> 0 | H37: =+H38 -> 0
B38: =+[5]ระบบการควบคุมฯ!B60 -> งบดำเนินงาน 70112xx | C38: =+[5]ระบบการควบคุมฯ!C60 -> 20004 3320 3300 2000000 | D38: =SUM(D39:D41) -> 0 | E38: =SUM(E39:E41) -> 0 | F38: =SUM(F39:F41) -> 0 | G38: =SUM(G39:G41) -> 0 | H38: =SUM(H39:H41) -> 0
A39: =+[5]ระบบการควบคุมฯ!A61 -> 1.2.1 | B39: =+[5]ระบบการควบคุมฯ!B61 -> ค่าใช้จ่ายในการดำเนินโครงการการประเมินความสามารถด้านการอ่านของผู้เรียน (RT) ชั้นประถมศึกษาปีที่ 1 ปีการศึกษา 2568 จำนวนเงิน 15,540.00 บาท และค่าใช้จ่ายในการดำเนินโครงการการประเมินคุณภาพผู้เรียน (NT) ชั้นประถมศึกษาปีที่ 3 ปีการศึกษา 2568 สำหรับโรงเรียนตามโครงการพระราชดำริ สมเด็จพระกนิษฐาธิราชเจ้า กรมสมเด็จพระเทพรัตนราชสุดาฯ สยามบรมราชกุมารี โรงเรียนกองทุนการศึกษาและโรงเรียนทั่วไป จำนวน 14,660 บาท | C39: =+[5]ระบบการควบคุมฯ!C61 -> ศธ 04002/ว777 ลว. 19 มค 69 โอนครั้งที่ 230 จำนวนเงิน 30,200 บาท | D39: =+[5]ระบบการควบคุมฯ!F61 -> 0 | E39: =+[5]ระบบการควบคุมฯ!G61+[5]ระบบการควบคุมฯ!H61 -> 0 | F39: =+[5]ระบบการควบคุมฯ!I61+[5]ระบบการควบคุมฯ!J61 -> 0 | G39: =+[5]ระบบการควบคุมฯ!K61+[5]ระบบการควบคุมฯ!L61 -> 0 | H39: =+D39-E39-F39-G39 -> 0 | I39: กลุ่มนิเทศติดตามและประเมินผลการจัดการศึกษา
A40: =+[5]ระบบการควบคุมฯ!A62 -> 1.2.2 | B40: =+[5]ระบบการควบคุมฯ!B62 -> ค่าใช้จ่ายในการดำเนินการคัดเลือกนักเรียนและสถานศึกษาเพื่อรับรางวัลพระราชทาน ระดับการศึกษาขั้นพื้นฐาน ประจำปีการศึกษา 2569 (ระดับสำนักงานเขตพื้นที่การศึกษา) | C40: =+[5]ระบบการควบคุมฯ!C62 -> ศธ 04002/ว13341 ลว. 3 ส.ค 69 โอนครั้งที่ 800 | D40: =+[5]ระบบการควบคุมฯ!F62 -> 0 | E40: =+[5]ระบบการควบคุมฯ!G62+[5]ระบบการควบคุมฯ!H62 -> 0 | F40: =+[5]ระบบการควบคุมฯ!I62+[5]ระบบการควบคุมฯ!J62 -> 0 | G40: =+[5]ระบบการควบคุมฯ!K62+[5]ระบบการควบคุมฯ!L62 -> 0 | H40: =+D40-E40-F40-G40 -> 0 | I40: กลุ่มส่งเสริมการจัดการศึกษา
A41: =+[5]ระบบการควบคุมฯ!A63 -> 1.2.3 | B41: =+[5]ระบบการควบคุมฯ!B63 -> ค่าใช้จ่ายในการเดินทางเข้าร่วมการประชุมเชิงปฏิบัติการพัฒนาศักยภาพศึกษานิเทศก์ด้านการประเมินการเรียนรู้และการประกันคุณภาพภายในสถานศึกษาโดยการประยุกต์ใช้ปัญญาประดิษฐ์ ระหว่างวันที่ 23 – 26 สิงหาคม 2569 ณ โรงแรมริเวอร์ไซด์ กรุงเทพหานคร | C41: =+[5]ระบบการควบคุมฯ!C63 -> ศธ 04002/ว13562 ลว. 3 ส.ค 69 โอนครั้งที่ 822 | D41: =+[5]ระบบการควบคุมฯ!F63 -> 0 | E41: =+[5]ระบบการควบคุมฯ!G63+[5]ระบบการควบคุมฯ!H63 -> 0 | F41: =+[5]ระบบการควบคุมฯ!I63+[5]ระบบการควบคุมฯ!J63 -> 0 | G41: =+[5]ระบบการควบคุมฯ!K63+[5]ระบบการควบคุมฯ!L63 -> 0 | H41: =+D41-E41-F41-G41 -> 0 | I41: กลุ่มนิเทศติดตามและประเมินผลการจัดการศึกษา
A42: =+[5]ระบบการควบคุมฯ!A68 -> 1.3 | B42: =+[5]ระบบการควบคุมฯ!B68 -> กิจกรรมการขับเคลื่อนการจัดการเรียนรู้วิทยาการคำนวณและการออกแบบเทคโนโลยี | C42: =+[5]ระบบการควบคุมฯ!C68 -> 20004 70 00075 00000 | D42: =+D43 -> 0 | E42: =+E43 -> 0 | F42: =+F43 -> 0 | G42: =+G43 -> 0 | H42: =+H43 -> 0
B43: =+[5]ระบบการควบคุมฯ!B69 -> งบดำเนินงาน 7011200 | C43: =+[5]ระบบการควบคุมฯ!C69 -> 20004 3320 3300 2000000 | D43: =SUM(D44:D46) -> 0 | E43: =SUM(E44:E46) -> 0 | F43: =SUM(F44:F46) -> 0 | G43: =SUM(G44:G46) -> 0 | H43: =SUM(H44:H46) -> 0
A44: =+[5]ระบบการควบคุมฯ!A70 -> 1.3.1 | B44: =+[5]ระบบการควบคุมฯ!B70 -> 0 | C44: =+[5]ระบบการควบคุมฯ!C70 -> 0 | H44: =+D44-E44-F44-G44 -> 0 | I44: กลุ่มนิเทศติดตามและประเมินผลการจัดการศึกษา
A45: =+[5]ระบบการควบคุมฯ!A71 -> 1.3.2 | B45: =+[5]ระบบการควบคุมฯ!B71 -> ค่าใช้จ่ายในการดำเนินโครงการประเมินความสามารถด้านการอ่านของผู้เรียน (RT) ชั้นประถมศึกษาปีที่ 1 ปีการศึกษา 2566 จำนวนเงิน 18,440.-บาท (หนึ่งหมื่นแปดพันสี่ร้อยสี่สิบบาทถ้วน) ให้กลุ่มนิเทศติดตามและประเมินผลการจัดการศึกษา และตามบันทึกกลุ่มนโยบายและแผน(ที่ ศธ 04087/128 ลงวันที่ 17 มกราคม 2567) แจ้งการจัดสรรงบประมาณ เป็นค่าใช้จ่ายดำเนินโครงการประเมินคุณภาพผู้เรียน (NT) ชั้นประถมศึกษาปีที่ 3 ปีการศึกษา 2566 สำหรับโรงเรียนตามโครงการพระราชดำริสมเด็จพระกนิษฐาธิราชเจ้า กรมสมเด็จพระเทพรัตนราชสุดาฯ สยามบรมราชกุมารีและโรงเรียนทั่วไป จำนวนเงิน 18,640.-บาท (หนึ่งหมื่นแปดพันหกร้อยสี่สิบบาทถ้วน) ให้กลุ่มนิเทศ | C45: =+[5]ระบบการควบคุมฯ!C71 -> ศธ 04002/ว2439 ลว. 17 มค 67 โอนครั้งที่ 139 | H45: =+D45-E45-F45-G45 -> 0 | I45: กลุ่มนิเทศติดตามและประเมินผลการจัดการศึกษา
A46: =+[5]ระบบการควบคุมฯ!A72 -> 1.1.3 | B46: =+[5]ระบบการควบคุมฯ!B72 -> ค่าใช้จ่ายในการสนับสนุนการขับเคลื่อนการยกระดับคุณภาพการเสริมสร้างสมรรถนะผู้เรียนตามแนวทางการประเมินนานาชาติ (PISA) | C46: =+[5]ระบบการควบคุมฯ!C72 -> ศธ 04002/ว3556 ลว. 15 สค 67 โอนครั้งที่ 324 | H46: =+D46-E46-F46-G46 -> 0 | I46: กลุ่มนิเทศติดตามและประเมินผลการจัดการศึกษา
A47: =+[5]ระบบการควบคุมฯ!A75 -> 1.4 | B47: =+[5]ระบบการควบคุมฯ!B75 -> กิจกรรมการพัฒนาระบบธนาคารหน่วยกิต และผลคะแนนการเรียนเฉลี่ยสะสม | C47: =+[5]ระบบการควบคุมฯ!C75 -> 20004 70 00088 00000 | D47: =+D48 -> 0 | E47: =+E48 -> 0 | F47: =+F48 -> 0 | G47: =+G48 -> 0 | H47: =+H48 -> 0
B48: =+[5]ระบบการควบคุมฯ!B76 -> งบรายจ่ายอื่น 7011500 | C48: =+[2]งบสพฐ!C48 -> 20004 3720 1000 2000000 | D48: =SUM(D49:D50) -> 0 | E48: =SUM(E49:E50) -> 0 | F48: =SUM(F49:F50) -> 0 | G48: =SUM(G49:G50) -> 0 | H48: =SUM(H49:H50) -> 0
A49: =+[5]ระบบการควบคุมฯ!A77 -> 1.4.1 | B49: =+[5]ระบบการควบคุมฯ!B77 -> ค่าใช้จ่ายในการนิเทศ กำกับ ติดตามการจัดการเรียนรู้วิทยาการคำนวณและการออกแบบเทคโนโลยี (CODING) | C49: =+[5]ระบบการควบคุมฯ!C77 -> ศธ 04002/ว2345 ลว.11 มิย 67 โอนครั้งที่ 118 | H49: =+D49-E49-F49-G49 -> 0 | I49: กลุ่มนิเทศติดตามและประเมินผลการจัดการศึกษา สุวรรณศรี
D50: =+[5]ระบบการควบคุมฯ!F78 -> 0 | E50: =+[5]ระบบการควบคุมฯ!G78+[5]ระบบการควบคุมฯ!H78 -> 0 | F50: =+[5]ระบบการควบคุมฯ!I78+[5]ระบบการควบคุมฯ!J78 -> 0 | G50: =+[5]ระบบการควบคุมฯ!K78+[5]ระบบการควบคุมฯ!L78 -> 0 | H50: =+D50-E50-F50-G50 -> 0
A51: =+[5]ระบบการควบคุมฯ!A79 -> 1.5 | B51: =+[5]ระบบการควบคุมฯ!B79 -> กิจกรรมส่งเสริมและพัฒนาศักยภาพตามพหุปัญญาระดับการศึกษาขั้นพื้นฐาน | C51: =+[5]ระบบการควบคุมฯ!C79 -> 20004 70 00107 00000 | D51: =+D52 -> 0 | E51: =+E52 -> 0 | F51: =+F52 -> 0 | G51: =+G52 -> 0 | H51: =+D51-E51-F51-G51 -> 0
B52: =+[5]ระบบการควบคุมฯ!B80 -> งบรายจ่ายอื่น 7011500 | C52: =+[5]ระบบการควบคุมฯ!C80 -> 20004 31003100 5000007 | D52: =SUM(D53:D54) -> 0 | E52: =SUM(E53:E54) -> 0 | F52: =SUM(F53:F54) -> 0 | G52: =SUM(G53:G54) -> 0 | H52: =SUM(H53:H54) -> 0
A53: =+[5]ระบบการควบคุมฯ!A81 -> 1.4.1 | B53: =+[5]ระบบการควบคุมฯ!B81 -> ค่าใช้จ่ายในการประชุมเชิงปฏิบัติการพัฒนาศักยภาพศึกษานิเทศก์พร้อมรับการประเมิน PISA 2025 ระหว่างวันที่ 1- 4 กันยายน 2566 ณ โรงแรมเอวาน่า เขตบางนา กรุงเทพมหานคร | C53: =+[5]ระบบการควบคุมฯ!C81 -> ศธ 04002/ว2988 ลว. 20 ก.ค. 66 โอนครั้งที่ 688 งบ 10800 บาท | D53: =+[5]ระบบการควบคุมฯ!F81 -> 0 | E53: =+[5]ระบบการควบคุมฯ!G81+[5]ระบบการควบคุมฯ!H81 -> 0 | F53: =+[5]ระบบการควบคุมฯ!I81+[5]ระบบการควบคุมฯ!J81 -> 0 | G53: =+[5]ระบบการควบคุมฯ!K81+[5]ระบบการควบคุมฯ!L81 -> 0 | H53: =+D53-E53-F53-G53 -> 0 | I53: กลุ่มนิเทศติดตามและประเมินผลการจัดการศึกษา เศรษฐพล
A54: =+[5]ระบบการควบคุมฯ!A82 -> 1.4.2 | B54: =+[5]ระบบการควบคุมฯ!B82 -> ค่าใช้จ่ายดำเนินงานโครงการยกระดับสมรรถนะความฉลาดรู้ของผู้เรียนตามกรอบการประเมิน PISA 2025 สู่การเพิ่มขีดความสามารถการแข่งขันในศตวรรษที่ 21 | C54: =+[5]ระบบการควบคุมฯ!C82 -> ศธ 04002/ว3528 ลว. 22 ส.ค. 66 โอนครั้งที่ 797 | D54: =+[5]ระบบการควบคุมฯ!F82 -> 0 | E54: =+[5]ระบบการควบคุมฯ!G82+[5]ระบบการควบคุมฯ!H82 -> 0 | F54: =+[5]ระบบการควบคุมฯ!I82+[5]ระบบการควบคุมฯ!J82 -> 0 | G54: =+[5]ระบบการควบคุมฯ!K82+[5]ระบบการควบคุมฯ!L82 -> 0 | H54: =+D54-E54-F54-G54 -> 0 | I54: กลุ่มนิเทศติดตามและประเมินผลการจัดการศึกษา เศรษฐพล
A55: =+[5]ระบบการควบคุมฯ!A84 -> 1.6 | B55: =+[5]ระบบการควบคุมฯ!B84 -> กิจกรรมการขับเคลื่อนการจัดการเรียนรู้สตีมศึกษา | C55: =+[5]ระบบการควบคุมฯ!C84 -> 20004 70 00155 00000 | D55: =+D56 -> 0 | E55: =+E56 -> 0 | F55: =+F56 -> 0 | G55: =+G56 -> 0 | H55: =+H56 -> 0
B56: =+[5]ระบบการควบคุมฯ!B85 -> งบดำเนินงาน 70112xx | C56: =+[5]ระบบการควบคุมฯ!C85 -> 20004 3320 3300 2000000 | D56: =SUM(D57:D61) -> 0 | E56: =SUM(E57:E61) -> 0 | F56: =SUM(F57:F61) -> 0 | G56: =SUM(G57:G61) -> 0 | H56: =SUM(H57:H61) -> 0
A57: =+[5]ระบบการควบคุมฯ!A86 -> 1.6.1 | B57: =+[5]ระบบการควบคุมฯ!B86 -> ค่าใช้จ่ายในการเดินทางเข้าร่วมประชุมเชิงปฏิบัติการฝึกอบรมและพัฒนาศักยภาพครูผู้สอนในประเทศไทยในการจัดการเรียนรู้สตีมศึกษาที่ส่งเสริมและพัฒนาผู้เรียนตามความถนัดและความสนใจ ระหว่างวันที่ 15 – 18 พฤศจิกายน 2567 ณ โรงแรมรอแยล เบญจา กรุงเทพมหานคร | C57: =+[5]ระบบการควบคุมฯ!C86 -> ศธ 04002/ว5614 ลว.18 พย 67 โอนครั้งที่ 67 | D57: =+[5]ระบบการควบคุมฯ!F86 -> 0 | E57: =+[5]ระบบการควบคุมฯ!G86+[5]ระบบการควบคุมฯ!H86 -> 0 | F57: =+[5]ระบบการควบคุมฯ!I86+[5]ระบบการควบคุมฯ!J86 -> 0 | G57: =+[5]ระบบการควบคุมฯ!K86+[5]ระบบการควบคุมฯ!L86 -> 0 | H57: =+D57-E57-F57-G57 -> 0 | I57: กลุ่มนิเทศติดตามและประเมินผลการจัดการศึกษา
A58: =+[5]ระบบการควบคุมฯ!A87 -> 1.6.2 | B58: =+[5]ระบบการควบคุมฯ!B87 -> ค่าใช้จ่ายในการเดินทางเข้าร่วมประชุมเชิงปฏิบัติการส่งเสริมและพัฒนาผู้เรียนตามพหุปัญญาด้วยกระบวนการเรียนรู้สตีมศึกษาสู่ทักษะการเรียนรู้ในศตวรรษที่ 21 ระหว่างวันที่ 6 – 8 สิงหาคม 2568 ณ โรงแรมรอแยล เบญจา กรุงเทพมหานคร | C58: =+[5]ระบบการควบคุมฯ!C87 -> ศธ 04002/ว41875 ลว.1 ส.ค 68 โอนครั้งที่ 791 | D58: =+[5]ระบบการควบคุมฯ!F87 -> 0 | E58: =+[5]ระบบการควบคุมฯ!G87+[5]ระบบการควบคุมฯ!H87 -> 0 | F58: =+[5]ระบบการควบคุมฯ!I87+[5]ระบบการควบคุมฯ!J87 -> 0 | G58: =+[5]ระบบการควบคุมฯ!K87+[5]ระบบการควบคุมฯ!L87 -> 0 | H58: =+D58-E58-F58-G58 -> 0 | I58: โรงเรียนวัดมูลจินดาราม โรงเรียนวัดลาดสนุ่น และโรงเรียนชุมชนบึงบา
A59: =+[5]ระบบการควบคุมฯ!A89 -> 1.6.3 | H59: =+D59-E59-F59-G59 -> 0 | I59: กลุ่มนิเทศติดตามและประเมินผลการจัดการศึกษา
A60: =+[5]ระบบการควบคุมฯ!A89 -> 1.6.3 | D60: =+[5]ระบบการควบคุมฯ!D89 -> 0 | E60: =+[5]ระบบการควบคุมฯ!G89+[5]ระบบการควบคุมฯ!H89 -> 0 | F60: =+[5]ระบบการควบคุมฯ!I89+[5]ระบบการควบคุมฯ!J89 -> 0 | G60: =+[5]ระบบการควบคุมฯ!K89+[5]ระบบการควบคุมฯ!L89 -> 0 | H60: =+D60-E60-F60-G60 -> 0 | I60: กลุ่มนิเทศติดตามและประเมินผลการจัดการศึกษา
D61: =+[2]งบสพฐ!F56 -> 0 | E61: =+[2]งบสพฐ!G56+[2]งบสพฐ!H56 -> 0 | F61: =+[2]งบสพฐ!I56+[2]งบสพฐ!J56 -> 0 | G61: =+[2]งบสพฐ!K56+[2]งบสพฐ!L56 -> 0 | H61: =+D61-E61-F61-G61 -> 0
A63: =+[2]งบสพฐ!A58 -> 1.6.2 | B63: =+[2]งบสพฐ!B58 -> ค่าใช้จ่ายในการเดินทางเข้าร่วมประชุมเชิงปฏิบัติการส่งเสริมและพัฒนาผู้เรียนตามพหุปัญญาด้วยกระบวนการเรียนรู้สตีมศึกษาสู่ทักษะการเรียนรู้ในศตวรรษที่ 21 ระหว่างวันที่ 6 – 8 สิงหาคม 2568 ณ โรงแรมรอแยล เบญจา กรุงเทพมหานคร | C63: =+[2]งบสพฐ!C58 -> ศธ 04002/ว41875 ลว.1 ส.ค 68 โอนครั้งที่ 791 | D63: =+D64 -> 0 | E63: =+E64 -> 0 | F63: =+F64 -> 0 | G63: =+G64 -> 0 | H63: =+H64 -> 0
A65: =+[5]ระบบการควบคุมฯ!A91 -> 1.7 | B65: =+[5]ระบบการควบคุมฯ!B91 -> กิจกรรมการยกระดับสมรรถนะความฉลาดรู้ของผู้เรียนตามกรอบการประเมิน PISA 2025 สู่การเพิ่มขีดความสามารถการแข่งขันของประเทศ | C65: =+[5]ระบบการควบคุมฯ!C91 -> 20004 70 00156 00000 | D65: =+D66 -> 0 | E65: =+E66 -> 0 | F65: =+F66 -> 0 | G65: =+G66 -> 0 | H65: =+H66 -> 0
B66: =+[5]ระบบการควบคุมฯ!B92 -> งบรายจ่ายอื่น 7011500 | C66: =+[5]ระบบการควบคุมฯ!C92 -> 20004 31003170 5000012 | D66: =+D67 -> 0 | E66: =+E67 -> 0 | F66: =+F67 -> 0 | G66: =+G67 -> 0 | H66: =+H67 -> 0
A67: =+[5]ระบบการควบคุมฯ!A93 -> 1.6.1 | B67: =+[5]ระบบการควบคุมฯ!B93 -> 0 | C67: =+[5]ระบบการควบคุมฯ!C93 -> 0 | D67: =+[5]ระบบการควบคุมฯ!F93 -> 0 | E67: =+[5]ระบบการควบคุมฯ!G93+[5]ระบบการควบคุมฯ!H93 -> 0 | F67: =+[5]ระบบการควบคุมฯ!I93+[5]ระบบการควบคุมฯ!J93 -> 0 | G67: =+[5]ระบบการควบคุมฯ!K93+[5]ระบบการควบคุมฯ!L93 -> 0 | H67: =+D67-E67-F67-G67 -> 0 | I67: กลุ่มนิเทศติดตามและประเมินผลการจัดการศึกษา
A68: =+[5]ระบบการควบคุมฯ!A95 -> 2 | B68: =+[5]ระบบการควบคุมฯ!B95 -> โครงการพัฒนาสมรรถนะครูและบุคลากรทางการศึกษาเพื่อความเป็นเลิศ | C68: =+[5]ระบบการควบคุมฯ!C95 -> 20004 3320 4700 | D68: =+D69 -> 0 | E68: =+E69 -> 0 | F68: =+F69 -> 0 | G68: =+G69 -> 0 | H68: =+H69 -> 0 | I68: =+I70 -> 0
B69: =+[5]ระบบการควบคุมฯ!B96 -> งบดำเนินงาน 70112xx | C69: =+[5]ระบบการควบคุมฯ!C96 -> 20004 3320 4700 2000000 | D69: =+D71+D80+D83+D86 -> 0 | E69: =+E71+E80+E83+E86 -> 0 | F69: =+F71+F80+F83+F86 -> 0 | G69: =+G71+G80+G83+G86 -> 0 | H69: =+H71+H80+H83+H86 -> 0 | I69: =SUM(I70) -> 0
A70: =+[3]งบสพฐ!A40 -> 1.2.2 | B70: =+[5]ระบบการควบคุมฯ!B97 -> กิจกรรมพัฒนาสมรรถนะครูและบุคลากรทางการศึกษาเพื่อความเป็นเลิศ | C70: =+[5]ระบบการควบคุมฯ!C97 -> 20004 70 00140 00000 | D70: =+D71 -> 0 | E70: =+E71 -> 0 | F70: =+F71 -> 0 | G70: =+G71 -> 0 | H70: =+H71 -> 0 | I70: =+I71 -> 0
B71: =+[5]ระบบการควบคุมฯ!B98 -> งบดำเนินงาน 70112xx | C71: =+[5]ระบบการควบคุมฯ!C98 -> 20004 3320 4700 2000000 | D71: =SUM(D72:D78) -> 0 | E71: =SUM(E72:E78) -> 0 | F71: =SUM(F72:F78) -> 0 | G71: =SUM(G72:G78) -> 0 | H71: =SUM(H72:H78) -> 0 | I71: =SUM(I75) -> 0
A72: =+[5]ระบบการควบคุมฯ!A99 -> 2.1.1 | B72: โครงการพัฒนาข้าราชการครูและบุคลากรทางการศึกษา ก่อนแต่งตั้งให้ดำรงตำแหน่งผู้บริหารสถานศึกษา ในสังกัดสำนักงานคณะกรรมการการศึกษาขั้นพื้นฐาน ประจำปีงบประมาณ พ.ศ. 2569 1. ค่าใช้จ่ายในการเดินทางไปราชการเพื่อเข้าร่วมการพัฒนาฯ รุ่นที่ 2 ระยะที่ 1 ระหว่างวันที่ 9 – 12 กุมภาพันธ์ 2569 ณ โรงแรมบางกอก พาเลส กรุงเทพมหานคร จำนวนเงิน 4,000.-บาท นางสาวสุธีรา ศุขเขษม ครูโรงเรียนวัดคลองชัน , นางสาวสิริรัตน์ สังสุทธิ ครูโรงเรียนชุมชนประชาธิปัตย์วิทยาคาร และนางสาวกาญจนา ไชยสะอาด ครู โรงเรียนวัดพิรุณศาสตร์ 2.ค่าใช้จ่ายในการ เดินทางไปราชการสำหรับวิทยากรพี่เลี้ยง โครงการพัฒนาข้าราชการครูและบุคลากรทางการศึกษาก่อนแต่งตั้งให้ดำรงตำแหน่งผู้บริหารสถานศึกษา ในสังกัดสพฐ. ประจำปีงบประมาณ พ.ศ. 2569 ในระยะที่ 2 และระยะที่ 3 ระหว่างวันที่ 16 กุมภาพันธ์ 2569 – 1 มีนาคม 2569 นายธนณัฐ ศิริวงษ์ ผอ.ร.ร.วัดเขียนเขต จำนวนเงิน 5,000 บาท | C72: =+[5]ระบบการควบคุมฯ!C99 -> ศธ 04002/ว49618 ลว. 27 พ.ย. 68 โอนครั้งที่ 114 | D72: =+[5]ระบบการควบคุมฯ!D99 -> 0 | E72: =+[5]ระบบการควบคุมฯ!G99+[5]ระบบการควบคุมฯ!H99 -> 0 | F72: =+[5]ระบบการควบคุมฯ!I99+[5]ระบบการควบคุมฯ!J99 -> 0 | G72: =+[5]ระบบการควบคุมฯ!K99+[5]ระบบการควบคุมฯ!L99 -> 0 | H72: =+D72-E72-F72-G72 -> 0 | I72: ร.รและผอ.ธนณํฐ วัดเขียนเขต
A73: =+[5]ระบบการควบคุมฯ!A100 -> 2.1.2 | B73: โครงการพัฒนาข้าราชการครูและบุคลากรทางการศึกษา ก่อนแต่งตั้งให้ดำรงตำแหน่งผู้บริหารสถานศึกษา ในสังกัดสำนักงานคณะกรรมการการศึกษาขั้นพื้นฐาน ประจำปีงบประมาณ พ.ศ. 2569 1. ค่าใช้จ่ายในการเดินทางไปราชการเพื่อเข้าร่วมการพัฒนาฯ รุ่นที่ 2 ระยะที่ 1 ระหว่างวันที่ 9 – 12 กุมภาพันธ์ 2569 ณ โรงแรมบางกอก พาเลส กรุงเทพมหานคร จำนวนเงิน 4,000.-บาท นางสาวสุธีรา ศุขเขษม ครูโรงเรียนวัดคลองชัน , นางสาวสิริรัตน์ สังสุทธิ ครูโรงเรียนชุมชนประชาธิปัตย์วิทยาคาร และนางสาวกาญจนา ไชยสะอาด ครู โรงเรียนวัดพิรุณศาสตร์ 2.ค่าใช้จ่ายในการ เดินทางไปราชการสำหรับวิทยากรพี่เลี้ยง โครงการพัฒนาข้าราชการครูและบุคลากรทางการศึกษาก่อนแต่งตั้งให้ดำรงตำแหน่งผู้บริหารสถานศึกษา ในสังกัดสพฐ. ประจำปีงบประมาณ พ.ศ. 2569 ในระยะที่ 2 และระยะที่ 3 ระหว่างวันที่ 16 กุมภาพันธ์ 2569 – 1 มีนาคม 2569 นายธนณัฐ ศิริวงษ์ ผอ.ร.ร.วัดเขียนเขต จำนวนเงิน 5,000 บาท | C73: =+[5]ระบบการควบคุมฯ!C100 -> ศธ 04002/ว50033 ลว. 4 ธ.ค. 68 โอนครั้งที่ 131 | D73: =+[5]ระบบการควบคุมฯ!D100 -> 0 | E73: =+[5]ระบบการควบคุมฯ!G100+[5]ระบบการควบคุมฯ!H100 -> 0 | F73: =+[5]ระบบการควบคุมฯ!I100+[5]ระบบการควบคุมฯ!J100 -> 0 | G73: =+[5]ระบบการควบคุมฯ!K100+[5]ระบบการควบคุมฯ!L100 -> 0 | H73: =+D73-E73-F73-G73 -> 0 | I73: ร.รและผอ.ธนณํฐ วัดเขียนเขต
A74: =+[5]ระบบการควบคุมฯ!A101 -> 2.1.3 | B74: โครงการพัฒนาข้าราชการครูและบุคลากรทางการศึกษา ก่อนแต่งตั้งให้ดำรงตำแหน่งผู้บริหารสถานศึกษา ในสังกัดสำนักงานคณะกรรมการการศึกษาขั้นพื้นฐาน ประจำปีงบประมาณ พ.ศ. 2569 1. ค่าใช้จ่ายในการเดินทางไปราชการเพื่อเข้าร่วมการพัฒนาฯ รุ่นที่ 2 ระยะที่ 1 ระหว่างวันที่ 9 – 12 กุมภาพันธ์ 2569 ณ โรงแรมบางกอก พาเลส กรุงเทพมหานคร จำนวนเงิน 4,000.-บาท นางสาวสุธีรา ศุขเขษม ครูโรงเรียนวัดคลองชัน , นางสาวสิริรัตน์ สังสุทธิ ครูโรงเรียนชุมชนประชาธิปัตย์วิทยาคาร และนางสาวกาญจนา ไชยสะอาด ครู โรงเรียนวัดพิรุณศาสตร์ 2.ค่าใช้จ่ายในการ เดินทางไปราชการสำหรับวิทยากรพี่เลี้ยง โครงการพัฒนาข้าราชการครูและบุคลากรทางการศึกษาก่อนแต่งตั้งให้ดำรงตำแหน่งผู้บริหารสถานศึกษา ในสังกัดสพฐ. ประจำปีงบประมาณ พ.ศ. 2569 ในระยะที่ 2 และระยะที่ 3 ระหว่างวันที่ 16 กุมภาพันธ์ 2569 – 1 มีนาคม 2569 นายธนณัฐ ศิริวงษ์ ผอ.ร.ร.วัดเขียนเขต จำนวนเงิน 5,000 บาท | C74: =+[5]ระบบการควบคุมฯ!C101 -> ที่ ศธ 04002/ว3378 ลว.26 ก.พ. 69 ครั้งที่ 337 | D74: =+[5]ระบบการควบคุมฯ!D101 -> 0 | E74: =+[5]ระบบการควบคุมฯ!G101+[5]ระบบการควบคุมฯ!H101 -> 0 | F74: =+[5]ระบบการควบคุมฯ!I101+[5]ระบบการควบคุมฯ!J101 -> 0 | G74: =+[5]ระบบการควบคุมฯ!K101+[5]ระบบการควบคุมฯ!L101 -> 0 | H74: =+D74-E74-F74-G74 -> 0 | I74: ร.รและผอ.ธนณํฐ วัดเขียนเขต
A75: =+[5]ระบบการควบคุมฯ!A102 -> 2.1.4 | B75: =+[5]ระบบการควบคุมฯ!B102 -> 1. ค่าใช้จ่ายในการเดินทางสำหรับผู้เข้าร่วมโครงการพัฒนาข้าราชการครูและบุคลากรทางการศึกษาก่อนแต่งตั้งให้ดำรงตำแหน่งผู้บริหารสถานศึกษา ในสังกัดสพฐ. ประจำปีงบประมาณ พ.ศ. 2569 รุ่นที่ 3 ระหว่างวันที่ 9 – 13 พฤษภาคม 2569 ณ โรงแรมบางกอก พาเลส กรุงเทพมหานคร จำนวนเงิน 1,000.-บาท (หนึ่งพันบาทถ้วน) 2. ค่าใช้จ่ายในการเดินทางไปราชการสำหรับวิทยากรพี่เลี้ยง โครงการพัฒนาข้าราชการครูและ บุคลากรทางการศึกษาก่อนแต่งตั้งให้ดำรงตำแหน่งผู้บริหารสถานศึกษา ในสังกัดสพฐ. ประจำปีงบประมาณ พ.ศ. 2569 รุ่นที่ 3 ในระยะที่ 2 และระยะที่ 3 ระหว่างวันที่ 18 – 31 พฤษภาคม 2569 ณ โรงแรมบางกอก พาเลส กรุงเทพมหานคร จำนวนเงิน 8,000.-บาท | C75: =+[5]ระบบการควบคุมฯ!C102 -> ศธ 04002/ว8698 ลว.25 พ.ค. 68 ครั้งที่ 577 | D75: =+[5]ระบบการควบคุมฯ!F102 -> 0 | E75: =+[5]ระบบการควบคุมฯ!G102+[5]ระบบการควบคุมฯ!H102 -> 0 | G75: =+[5]ระบบการควบคุมฯ!K102+[5]ระบบการควบคุมฯ!L102 -> 0 | H75: =+D75-E75-F75-G75 -> 0 | I75: ร.ร.วัดเขียนเขต นายธนณัฐ ศีละวงษ์
A76: =+[5]ระบบการควบคุมฯ!A103 -> 2.1.1.1 | B76: =+[5]ระบบการควบคุมฯ!B103 -> ค่าใช้จ่ายในการเดินทางเข้าร่วมโครงการพัฒนาผู้อำนวยการกลุ่มพัฒนาครูและบุคลากรทางการศึกษาของสำนักงานเขตพื้นที่การศึกษา ประจำปีงบประมาณ พ.ศ. 2569 ระหว่างวันที่ 24 - 27 พฤษภาคม 2569 ณ โรงแรมรอยัล ซิตี้กรุงเทพมหานคร | C76: =+[5]ระบบการควบคุมฯ!C103 -> ศธ 04002/ว9340 ลว.4 มิ.ย. 69 ครั้งที่ 608 | D76: =+[5]ระบบการควบคุมฯ!F103 -> 0 | E76: =+[5]ระบบการควบคุมฯ!G103+[5]ระบบการควบคุมฯ!H103 -> 0 | G76: =+[5]ระบบการควบคุมฯ!K103+[5]ระบบการควบคุมฯ!L103 -> 0 | H76: =+D76-E76-F76-G76 -> 0 | I76: กลุ่มพัฒนาครูและบุคลากรทางการศึกษา
A77: =+[5]ระบบการควบคุมฯ!A104 -> 2.1.1.2 | B77: =+[5]ระบบการควบคุมฯ!B104 -> ค่าใช้จ่ายในการเดินทางเข้าร่วมการอบรมเชิงปฏิบัติการเลขคณิตคิดเร็วด้วยเวทคณิต ระหว่างวันที่ 19 - 21 กรกฎาคม 2569 ณ โรงแรมเดอะ เล็คกาซี่ จังหวัดนนทบุรี | C77: =+[5]ระบบการควบคุมฯ!C104 -> ศธ 04002/ว13217 ลว. 31ก.ค. 69 ครั้งที่ 791 | D77: =+[5]ระบบการควบคุมฯ!F104 -> 0 | E77: =+[5]ระบบการควบคุมฯ!G104+[5]ระบบการควบคุมฯ!H104 -> 0 | G77: =+[5]ระบบการควบคุมฯ!K104+[5]ระบบการควบคุมฯ!L104 -> 0 | H77: =+D77-E77-F77-G77 -> 0
A78: =+[5]ระบบการควบคุมฯ!A105 -> 2.1.1.2 | B78: =+[5]ระบบการควบคุมฯ!B105 -> ค่าใช้จ่ายในการบริหารจัดการสถานการณ์และช่วยเหลือสถานศึกษาที่ได้รับผลกระทบจากเหตุอุทกภัย | C78: =+[5]ระบบการควบคุมฯ!C105 -> ศธ 04002/ว17490 ลว. 29 กย 69 ครั้งที่ 956 | D78: =+[5]ระบบการควบคุมฯ!F105 -> 0 | E78: =+[5]ระบบการควบคุมฯ!G105+[5]ระบบการควบคุมฯ!H105 -> 0 | G78: =+[5]ระบบการควบคุมฯ!K105+[5]ระบบการควบคุมฯ!L105 -> 0 | H78: =+D78-E78-F78-G78 -> 0
A79: =+[5]ระบบการควบคุมฯ!A106 -> 2.2 | B79: =+[5]ระบบการควบคุมฯ!B106 -> กิจกรรมส่งเสริมโอลิมปิกวิชาการสู่ความเป็นเลิศ | C79: =+[5]ระบบการควบคุมฯ!C106 -> 20004 70 00141 00000 | D79: =+D80 -> 0 | E79: =+E80 -> 0 | F79: =+F80 -> 0 | G79: =+G80 -> 0 | H79: =+H80 -> 0
A80: 2.2.1 | B80: =+[5]ระบบการควบคุมฯ!B107 -> งบดำเนินงาน 70112xx | C80: =+[5]ระบบการควบคุมฯ!C107 -> 20004 3320 4700 2000000 | D80: =+D81 -> 0 | E80: =+E81 -> 0 | F80: =+F81 -> 0 | G80: =+G81 -> 0 | H80: =+D80-E80-F80-G80 -> 0
A81: 2.2.1 | B81: =+[5]ระบบการควบคุมฯ!B108 -> เป็นค่าใช้จ่ายในการเดินทางของคณะทำงานและผู้เข้าร่วมการอบรมเชิงปฏิบัติการขั้นเฉพาะทางสำหรับผู้นำเครือข่ายท้องถิ่น (Local Network ; LN) และวิทยากรเครือข่ายท้องถิ่น (Local Trainer ; LT) ระดับปฐมวัย จำนวน 2 คน จำนวน 2,000.-บาท ระดับประถมศึกษา 2 คน จำนวน 2,000 บาท | C81: =+[5]ระบบการควบคุมฯ!C108 -> ที่ ศธ 04002/ว6767 ลว. 24 เม.ย. 69 ครั้งที่ 457 | D81: =+[5]ระบบการควบคุมฯ!F108 -> 0 | E81: =+[5]ระบบการควบคุมฯ!G108+[5]ระบบการควบคุมฯ!H108 -> 0 | F81: =+[5]ระบบการควบคุมฯ!I108+[5]ระบบการควบคุมฯ!J108 -> 0 | G81: =+[5]ระบบการควบคุมฯ!K108+[5]ระบบการควบคุมฯ!L108 -> 0 | H81: =+D81-E81-F81-G81 -> 0 | I81: กลุ่มนิเทศติดตามและประเมินผลการจัดการศึกษา
A82: =+[5]ระบบการควบคุมฯ!A110 -> 2.3 | B82: =+[5]ระบบการควบคุมฯ!B110 -> กิจกรรมยกระดับสมรรถนะทางด้านภาษาอังกฤษ | C82: =+[5]ระบบการควบคุมฯ!C110 -> 20004 70 00142 00000 | D82: =+D83 -> 0 | E82: =+E83 -> 0 | F82: =+F83 -> 0 | G82: =+G83 -> 0 | H82: =+H83 -> 0
B83: =+[5]ระบบการควบคุมฯ!B111 -> งบดำเนินงาน 70112xx | C83: =+[5]ระบบการควบคุมฯ!C111 -> 20004 3320 4700 2000000 | D83: =+D84 -> 0 | E83: =+E84 -> 0 | F83: =+F84 -> 0 | G83: =+G84 -> 0 | H83: =+D83-E83-F83-G83 -> 0
A84: =+[5]ระบบการควบคุมฯ!A112 -> 2.3.1 | B84: =+[5]ระบบการควบคุมฯ!B112 -> ค่าใช้จ่ายในการเดินทางเข้าร่วมโครงการพัฒนาผู้อำนวยการกลุ่มพัฒนาครูและบุคลากรทางการศึกษา ระหว่างวันที่ 4 - 6 มิถุนายน 2568 ณ โรงแรมริเวอร์ไซด์ กรุงเทพมหานคร | C84: =+[5]ระบบการควบคุมฯ!C112 -> ศธ 04002/ว2600 ลว.12 มิ.ย. 68 ครั้งที่ 582 | D84: =+[5]ระบบการควบคุมฯ!F112 -> 0 | E84: =+[5]ระบบการควบคุมฯ!G112+[5]ระบบการควบคุมฯ!H112 -> 0 | G84: =+[5]ระบบการควบคุมฯ!K112+[5]ระบบการควบคุมฯ!L112 -> 0 | H84: =+D84-E84-F84-G84 -> 0 | I84: กลุ่มพัฒนาครูและบุคลากรทางการศึกษา
A85: =+[5]ระบบการควบคุมฯ!A114 -> 2.4 | B85: =+[5]ระบบการควบคุมฯ!B114 -> กิจกรรมพัฒนาครูเพื่อการจัดการเรียนรู้สู่ฐานสมรรถนะ | C85: =+[5]ระบบการควบคุมฯ!C114 -> 20004 70 00140 00000 | D85: =+D86 -> 0 | E85: =+E86 -> 0 | F85: =+F86 -> 0 | G85: =+G86 -> 0 | H85: =+H86 -> 0
A86: =+[5]ระบบการควบคุมฯ!A115 -> 0 | B86: =+[5]ระบบการควบคุมฯ!B115 -> งบดำเนินงาน 70112xx | C86: =+[5]ระบบการควบคุมฯ!C115 -> 20004 3320 4700 2000000 | D86: =SUM(D87) -> 0 | E86: =SUM(E87) -> 0 | F86: =SUM(F87) -> 0 | G86: =SUM(G87) -> 0 | H86: =SUM(H87) -> 0
E87: =+[5]ระบบการควบคุมฯ!G102+[5]ระบบการควบคุมฯ!H102 -> 0
A89: =+[5]ระบบการควบคุมฯ!A118 -> 3 | B89: =+[5]ระบบการควบคุมฯ!B118 -> โครงการขับเคลื่อนการพัฒนาการศึกษาที่ยั่งยืน | C89: =+[5]ระบบการควบคุมฯ!C118 -> 20004 3320 6300 2000000 | D89: =+D90+D91 -> 11126200 | E89: =+E95+E100+E104+E112+E115+E121+E128+E134+E144+E160+E183 -> 0 | F89: =+F95+F100+F104+F112+F115+F121+F128+F134+F144+F160+F183 -> 0 | G89: =+G90+G91 -> 0 | H89: =+H90+H91 -> 11126200
B90: =+[5]ระบบการควบคุมฯ!B119 -> งบดำเนินงาน 70112xx | D90: =+D93+D101+D105+D116+D122 -> 0 | E90: =+E93+E101+E105+E116+E122 -> 0 | F90: =+F93+F101+F105+F116+F122 -> 0 | G90: =+G93+G101+G105+G116+G122 -> 0 | H90: =+H93+H101+H105+H116+H122 -> 0
B91: =+[5]ระบบการควบคุมฯ!B122 -> งบรายจ่ายอื่น 7011500 | D91: =+D96+D113+D129+D135+D145+D161 -> 11126200 | E91: =+E96+E113+E129+E135+E145+E161 -> 0 | F91: =+F96+F113+F129+F135+F145+F161 -> 0 | G91: =+G96+G113+G129+G135+G145+G161 -> 0 | H91: =+H96+H113+H129+H135+H145+H161 -> 11126200
A92: =+[5]ระบบการควบคุมฯ!A124 -> 3.1 | B92: =+[5]ระบบการควบคุมฯ!B124 -> กิจกรรมสร้างจิตสึกในการพัฒนาคุณภาพชีวิตที่เป็นมิตรต่อสิ่งแวดล้อม | C92: =+[5]ระบบการควบคุมฯ!C124 -> 20004 70 00037 00000 | D92: =+D93 -> 0 | E92: =+E93 -> 0 | F92: =+F93 -> 0 | G92: =+G93 -> 0 | H92: =+H93 -> 0 | I92: =+I93 -> 0
A93: =+[5]ระบบการควบคุมฯ!A125 -> 0 | B93: =+[5]ระบบการควบคุมฯ!B125 -> งบดำเนินงาน 70112xx | C93: =+[5]ระบบการควบคุมฯ!C125 -> 20004 3320 6300 2000000 | D93: =SUM(D94:D96) -> 0 | E93: =SUM(E94:E96) -> 0 | F93: =SUM(F94:F96) -> 0 | G93: =SUM(G94:G96) -> 0 | H93: =SUM(H94:H96) -> 0 | I93: =SUM(I94) -> 0
A94: =+[5]ระบบการควบคุมฯ!A126 -> 3.1.1 | B94: =+[5]ระบบการควบคุมฯ!B126 -> ค่าใช้จ่ายในการเดินทางเข้าร่วมการอบรมเชิงปฏิบัติการขับเคลื่อนสิ่งแวดล้อมศึกษาและโครงการอนุรักษ์พันธุกรรมพืชอันเนื่องมาจากพระราชดำริ สมเด็จพระเทพรัตนราชสุดาฯ สยามบรมราชกุมารี ระหว่างวันที่ 9 – 11 สิงหาคม 2569 ณ โรงแรมเอวาน่า กรุงเทพมหานคร | C94: =+[5]ระบบการควบคุมฯ!C126 -> ศธ 04002/ว13902 ลว. 10 ส.ค 69 โอนครั้งที่ 845 | D94: =+[5]ระบบการควบคุมฯ!F126 -> 0 | E94: =+[5]ระบบการควบคุมฯ!G126+[5]ระบบการควบคุมฯ!H126 -> 0 | F94: =+[5]ระบบการควบคุมฯ!I126+[5]ระบบการควบคุมฯ!J126 -> 0 | G94: =+[5]ระบบการควบคุมฯ!K126+[5]ระบบการควบคุมฯ!L126 -> 0 | H94: =+D94-E94-F94-G94 -> 0 | I94: กลุ่มส่งเสริมการจัดการศึกษา/วัดโปรยฝน
A95: =+[5]ระบบการควบคุมฯ!A127 -> 3.2 | B95: =+[5]ระบบการควบคุมฯ!B127 -> กิจกรรมสานความร่วมมือภาคีเครือข่ายด้านการจัดการศึกษา | C95: =+[5]ระบบการควบคุมฯ!C127 -> 20004 70 00078 00000 | D95: =+D96 -> 0 | E95: =+E96 -> 0 | F95: =+F96 -> 0 | G95: =+G96 -> 0 | H95: =+H96 -> 0 | I95: =+I96 -> 0
A96: =+[5]ระบบการควบคุมฯ!A128 -> 1 | B96: =+[5]ระบบการควบคุมฯ!B128 -> งบรายจ่ายอื่น 7011500 | D96: =SUM(D97:D99) -> 0 | E96: =SUM(E97:E99) -> 0 | F96: =SUM(F97:F99) -> 0 | G96: =SUM(G97:G99) -> 0 | H96: =SUM(H97:H99) -> 0 | I96: =SUM(I97) -> 0
A97: =+[5]ระบบการควบคุมฯ!A130 -> 3.1.1.1 | B97: =+[5]ระบบการควบคุมฯ!B130 -> ค่าใช้จ่ายในการเดินทางเข้าร่วมการอบรมเชิงปฏิบัติการส่งเสริมและพัฒนาการจัดการเรียนรู้เพื่อสิ่งแวดล้อมที่ยั่งยืน ตามหลักเศรษฐกิจหมุนเวียน รุ่นที่ 1 ระหว่างวันที่ 24 – 28 เมษายน 2566 ณ โรงแรมเดอะ ลอฟท์ รีสอร์ท กรุงเทพมหานคร | C97: =+[5]ระบบการควบคุมฯ!C130 -> ศธ 04002/ว1915 ลว. 11 พค 66 โอนครั้งที่ 515 | D97: =+[5]ระบบการควบคุมฯ!F130 -> 0 | E97: =+[5]ระบบการควบคุมฯ!G130+[5]ระบบการควบคุมฯ!H130 -> 0 | F97: =+[5]ระบบการควบคุมฯ!I130+[5]ระบบการควบคุมฯ!J130 -> 0 | G97: =+[5]ระบบการควบคุมฯ!K130+[5]ระบบการควบคุมฯ!L130 -> 0 | H97: =+D97-E97-F97-G97 -> 0 | I97: กลุ่มส่งเสริมการจัดการศึกษา/วัดโปรยฝน
A98: =+[5]ระบบการควบคุมฯ!A131 -> 3.1.1 | B98: =+[5]ระบบการควบคุมฯ!B131 -> ค่าใช้จ่ายในการเดินทางเข้าร่วมพิธีมอบเกียรติบัตรให้กับครูผู้เป็นบุคคลที่มีความกล้าหาญ ปกป้องนักเรียนให้พ้นจากอันตราย 29 พย 66 ณ อาคารราชวัลลภ ห้องประชุมจันทรเกษม ชั้น 1 | C98: =+[5]ระบบการควบคุมฯ!C131 -> ศธ 04002/ว5680 ลว. 27 ธค 66 โอนครั้งที่ 110 | H98: =+D98-E98-F98-G98 -> 0
A99: =+[5]ระบบการควบคุมฯ!A132 -> 3.1.2 | B99: =+[5]ระบบการควบคุมฯ!B132 -> ค่าใช้จ่ายในการจัดอบรมหลักสูตรผู้นำด้านเทคโนโลยี เพื่อการศึกษา (ICT Talent) ภาครัฐ รุ่นที่ 5 ระหว่างวันที่ 30 – 31 สิงหาคม 2567 ณ สถานีโทรทัศน์การศึกษาขั้นพื้นฐาน OBEC Channel อาคาร สพฐ. 1 | C99: =+[5]ระบบการควบคุมฯ!C132 -> ศธ 04002/ว3488 ลว. 9 สค 67 โอนครั้งที่ 297 | H99: =+D99-E99-F99-G99 -> 0 | I99: กลุ่มนิเทศติดตามและประเมินผลการจัดการศึกษา กำหนดแล้วเสร็จ 6 กย 67
A100: =+[5]ระบบการควบคุมฯ!A133 -> 3.3 | B100: =+[5]ระบบการควบคุมฯ!B133 -> กิจกรรมขับเคลื่อนนโยบายการแก้ปัญหาเด็กที่อยู่นอกระบบการศึกษาและเด็กออกกลางคันให้เข้าสู่ระบบการศึกษา | C100: =+[5]ระบบการควบคุมฯ!C133 -> 20004 70 00085 00000 | D100: =+D101 -> 0 | E100: =+E101 -> 0 | F100: =+F101 -> 0 | G100: =+G101 -> 0 | H100: =+H101 -> 0 | I100: =+I101 -> 0
A101: =+[5]ระบบการควบคุมฯ!A134 -> 3.3.1 | B101: =+[5]ระบบการควบคุมฯ!B134 -> งบดำเนินงาน 7011xx | C101: =+[5]ระบบการควบคุมฯ!C134 -> 20004 3320 6300 2000000 | D101: =SUM(D102:D103) -> 0 | E101: =SUM(E102:E103) -> 0 | F101: =SUM(F102:F103) -> 0 | G101: =SUM(G102:G103) -> 0 | H101: =SUM(H102:H103) -> 0 | I101: =SUM(I102) -> 0
A102: =+[5]ระบบการควบคุมฯ!A135 -> 3.3.1.1 | B102: =+[5]ระบบการควบคุมฯ!B135 -> ค่าใช้จ่ายในการดำเนินงานโครงการขับเคลื่อนนโยบายการแก้ปัญหาเด็กที่อยู่นอกระบบการศึกษา เด็กตกหล่นและเด็กออกกลางคันให้เข้าสู่ระบบการศึกษา | C102: =+[5]ระบบการควบคุมฯ!C135 -> ศธ 04002/ว7448 ลว. 5 พ.ค. 69 โอนครั้งที่ 495 | D102: =+[5]ระบบการควบคุมฯ!D135 -> 0 | E102: =+[5]ระบบการควบคุมฯ!G135+[5]ระบบการควบคุมฯ!H135 -> 0 | G102: =+[5]ระบบการควบคุมฯ!K135+[5]ระบบการควบคุมฯ!L135 -> 0 | H102: =+D102-E102-F102-G102 -> 0 | I102: กลุ่มส่งเสริมการจัดการศึกษา
A103: =+[5]ระบบการควบคุมฯ!A136 -> 3.3.1.2 | B103: =+[5]ระบบการควบคุมฯ!B136 -> เพื่อสนับสนุนการดำเนินงานของสำนักงานเขตพื้นที่การศึกษาที่จัดส่งผลงานนวัตกรรมการลดอัตราการออกกลางคันของผู้เรียน | C103: =+[5]ระบบการควบคุมฯ!C136 -> ศธ 04002/ว41937 ลว. 4 ส.ค. 68 โอนครั้งที่ 814 | D103: =+[5]ระบบการควบคุมฯ!D136 -> 0 | E103: =+[5]ระบบการควบคุมฯ!G136+[5]ระบบการควบคุมฯ!H136 -> 0 | G103: =+[5]ระบบการควบคุมฯ!K136+[5]ระบบการควบคุมฯ!L136 -> 0 | H103: =+D103-E103-F103-G103 -> 0 | I103: กลุ่มส่งเสริมการจัดการศึกษา
A104: =+[5]ระบบการควบคุมฯ!A141 -> 3.4 | B104: =+[5]ระบบการควบคุมฯ!B141 -> กิจกรรมการยกระดับคุณภาพด้านวิทยาศาสตร์ศึกษาเพื่อความเป็นเลิศ | C104: =+[5]ระบบการควบคุมฯ!C141 -> 20004 70 00093 00000 | D104: =+D105 -> 0 | E104: =+E105 -> 0 | F104: =+F105 -> 0 | G104: =+G105 -> 0 | H104: =+H105 -> 0 | I104: =+I105 -> 0
...

Sheet งบลงทุน
J1: รายละเอียด 2
A2: รายงานผลการเบิกจ่ายเงินงบประมาณ งบลงทุน ประจำปีงบประมาณ พ.ศ. 2570 รายละเอียด 2
A3: กลุ่มบริหารงานการเงินและสินทรัพย์ สำนักงานเขตพื้นที่การศึกษาประถมศึกษาปทุมธานี เขต 2
A4: =+[5]งบประจำและงบกลยุทธ์!A4 -> ประจำเดือนตุลาคม 2569
A5: ที่ | B5: รายการ | C5: รหัสงบประมาณ/หนังสือแจ้งโอน | D5: เงินงวด | E5: ผูกพัน | F5: กันเงินไว้เบิก | G5: เบิกจ่าย | H5: คงเหลือ | I5: การอนุมัติเงินงวด | J5: คงเหลือ | K5: ปัญหาอุปสรรค
A7: =[5]ระบบการควบคุมฯ!A44 -> ข | B7: =[5]ระบบการควบคุมฯ!B44 -> แผนงานยุทธศาสตร์พัฒนาคุณภาพการศึกษาและการเรียนรู้ | D7: =SUM(D8+D9) -> 4283600 | E7: =SUM(E8+E9) -> 0 | F7: =SUM(F8+F9) -> 0 | G7: =SUM(G8+G9) -> 0 | H7: =SUM(H8+H9) -> 0 | I7: =SUM(I8+I9) -> 0 | J7: =SUM(J8+J9) -> 4283600
B8: =+[5]ระบบการควบคุมฯ!B48 -> ครุภัณฑ์ 7011310 | D8: =+D12+D26+D33 -> 320600 | E8: =+E12+E26+E33 -> 0 | F8: =+F12+F26+F33 -> 0 | G8: =+G12+G26+G33 -> 0 | H8: =+H12+H26+H33 -> 0 | I8: =+I12+I26+I33 -> 0 | J8: =+J12+J26+J33 -> 320600
B9: =+[5]ระบบการควบคุมฯ!B49 -> สิ่งก่อสร้าง 7011320 | D9: =+D47+D53 -> 3963000 | E9: =+E47+E53 -> 0 | F9: =+F47+F53 -> 0 | G9: =+G47+G53 -> 0 | H9: =+H47+H53 -> 0 | I9: =+I47+I53 -> 0 | J9: =+J47+J53 -> 3963000 | K9: =+K53+K89 -> 0
A10: =[5]ระบบการควบคุมฯ!A118 -> 3 | B10: =[5]ระบบการควบคุมฯ!B118 -> โครงการขับเคลื่อนการพัฒนาการศึกษาที่ยั่งยืน | D10: =D11 -> 0 | E10: =E11 -> 0 | F10: =F11 -> 0 | G10: =G11 -> 0 | H10: =H11 -> 0 | I10: =I11 -> 0 | J10: =J11 -> 0
A11: =+[5]ระบบการควบคุมฯ!A141 -> 3.4 | B11: =+[5]ระบบการควบคุมฯ!B141 -> กิจกรรมการยกระดับคุณภาพด้านวิทยาศาสตร์ศึกษาเพื่อความเป็นเลิศ | C11: =+[5]ระบบการควบคุมฯ!C141 -> 20004 70 00093 00000 | D11: =D12+D47 -> 0 | E11: =E12+E47 -> 0 | F11: =F12+F47 -> 0 | G11: =G12+G47 -> 0 | H11: =H12+H47 -> 0 | I11: =I12+I47 -> 0 | J11: =J12+J47 -> 0
B12: =+[5]ระบบการควบคุมฯ!B150 -> งบลงทุน 7011310 | D12: =+D13+D20 -> 0 | E12: =+E13+E20 -> 0 | F12: =+F13+F20 -> 0 | G12: =+G13+G20 -> 0 | H12: =+H13+H20 -> 0 | I12: =+I13+I20 -> 0 | J12: =+J13+J20 -> 0
B13: =[5]ระบบการควบคุมฯ!B151 -> ครุภัณฑ์สำนักงาน 120601 | D13: =+D14+D17 -> 0 | E13: =+E14+E17 -> 0 | F13: =+F14+F17 -> 0 | G13: =+G14+G17 -> 0 | H13: =+H14+H17 -> 0 | I13: =+I14+I17 -> 0 | J13: =+J14+J17 -> 0
A14: =[5]ระบบการควบคุมฯ!A152 -> 3.4.1.1 | B14: =[5]ระบบการควบคุมฯ!B152 -> เครื่องปรับอากาศ 24,000 บีทียู ระบบ Inverter | C14: =[5]ระบบการควบคุมฯ!C152 -> โอนเปลี่ยนแปลง 2/2569 | D14: =+D15 -> 0 | E14: =+E15 -> 0 | F14: =+F15 -> 0 | G14: =+G15 -> 0 | H14: =+H15 -> 0 | I14: =+I15 -> 0 | J14: =+J15 -> 0
A15: =[5]ระบบการควบคุมฯ!A153 -> 1) | B15: =[5]ระบบการควบคุมฯ!B153 -> สพป.ปทุมธานี เขต 2 | C15: =[5]ระบบการควบคุมฯ!C153 -> 2000433006300311ส024 | D15: =[5]ระบบการควบคุมฯ!D153 -> 0 | E15: =[5]ระบบการควบคุมฯ!G153+[5]ระบบการควบคุมฯ!H153 -> 0 | F15: =[5]ระบบการควบคุมฯ!I153+[5]ระบบการควบคุมฯ!J153 -> 0 | G15: =[5]ระบบการควบคุมฯ!K153+[5]ระบบการควบคุมฯ!L153 -> 0 | J15: =+D15-E15-F15-G15 -> 0
B16: =+[5]ระบบการควบคุมฯ!B154 -> ผูกพัน ครบ 28 ตค 69
A17: =+[5]ระบบการควบคุมฯ!A155 -> 3.4.1.1 | B17: =[5]ระบบการควบคุมฯ!B155 -> ตู้สาขาโทรศัพท์ | C17: =[5]ระบบการควบคุมฯ!C155 -> โอนเปลี่ยนแปลง 2/2569 | D17: =+D18 -> 0 | E17: =+E18 -> 0 | F17: =+F18 -> 0 | G17: =+G18 -> 0 | H17: =+H18 -> 0 | I17: =+I18 -> 0 | J17: =+J18 -> 0
A18: =[5]ระบบการควบคุมฯ!A156 -> 1) | B18: =[5]ระบบการควบคุมฯ!B156 -> สพป.ปทุมธานี เขต 2 | C18: =[5]ระบบการควบคุมฯ!C156 -> 2000433006300311ส066 | D18: =[5]ระบบการควบคุมฯ!D156 -> 0 | E18: =+[5]ระบบการควบคุมฯ!G156+[5]ระบบการควบคุมฯ!H156 -> 0 | F18: =[5]ระบบการควบคุมฯ!I156+[5]ระบบการควบคุมฯ!J156 -> 0 | G18: =[5]ระบบการควบคุมฯ!K156+[5]ระบบการควบคุมฯ!L156 -> 0 | J18: =+D18-E18-F18-G18 -> 0
B20: =+[5]ระบบการควบคุมฯ!B157 -> ครุภัณฑ์การศึกษา 120611 | D20: =+D21 -> 0 | E20: =+E21 -> 0 | F20: =+F21 -> 0 | G20: =+G21 -> 0 | H20: =+H21 -> 0 | I20: =+I21 -> 0 | J20: =+J21 -> 0
A21: =+[5]ระบบการควบคุมฯ!A158 -> 3.4.2.1 | B21: =+[5]ระบบการควบคุมฯ!B158 -> ครุภัณฑ์ห้องปฏิบัติการวิทยาศาสตร์ | C21: =+[5]ระบบการควบคุมฯ!C158 -> ศธ 04002/ว47614 ลว. 31 ตค 68 โอนครั้งที่ 23 | D21: =SUM(D22:D23) -> 0 | E21: =SUM(E22:E23) -> 0 | F21: =SUM(F22:F23) -> 0 | G21: =SUM(G22:G23) -> 0
A22: =+[5]ระบบการควบคุมฯ!A159 -> 1) | B22: =+[5]ระบบการควบคุมฯ!B159 -> โรงเรียนวัดมูลจินดาราม | C22: =+[5]ระบบการควบคุมฯ!C159 -> 20004 33006300 3110187 | D22: =+[5]ระบบการควบคุมฯ!F159 -> 0 | E22: =+[5]ระบบการควบคุมฯ!G159+[5]ระบบการควบคุมฯ!H159 -> 0 | F22: =+[5]ระบบการควบคุมฯ!I159+[5]ระบบการควบคุมฯ!J159 -> 0 | G22: =+[5]ระบบการควบคุมฯ!K159+[5]ระบบการควบคุมฯ!L159 -> 0 | J22: =+D22-E22-F22-G22 -> 0
A23: =+[5]ระบบการควบคุมฯ!A160 -> 2) | B23: =+[5]ระบบการควบคุมฯ!B160 -> โรงเรียนชุมชนบึงบา | C23: =+[5]ระบบการควบคุมฯ!C160 -> 20004 33006300 3110188 | D23: =+[5]ระบบการควบคุมฯ!F160 -> 0 | E23: =+[5]ระบบการควบคุมฯ!G160+[5]ระบบการควบคุมฯ!H160 -> 0 | F23: =+[5]ระบบการควบคุมฯ!I160+[5]ระบบการควบคุมฯ!J160 -> 0 | G23: =+[5]ระบบการควบคุมฯ!K160+[5]ระบบการควบคุมฯ!L160 -> 0 | J23: =+D23-E23-F23-G23 -> 0
A24: =+[5]ระบบการควบคุมฯ!A320 -> 5 | B24: =+[5]ระบบการควบคุมฯ!B320 -> โครงการโรงเรียนคุณภาพ | C24: =+[5]ระบบการควบคุมฯ!C320 -> 20004 3300 B800 | D24: =+D25+D32+D52+D79 -> 4283600 | E24: =+E25+E32+E52+E79 -> 0 | F24: =+F25+F32+F52+F79 -> 0 | G24: =+G25+G32+G52+G79 -> 0 | H24: =+H25+H32+H52+H79 -> 0 | I24: =+I25+I32+I52+I79 -> 0 | J24: =+J25+J32+J52+J79 -> 4283600
A25: =+[5]ระบบการควบคุมฯ!A339 -> 5.2 | B25: =+[5]ระบบการควบคุมฯ!B339 -> กิจกรรมการยกระดับคุณภาพการศึกษาเพื่อขับเคลื่อนโรงเรียนคุณภาพ | C25: =+[5]ระบบการควบคุมฯ!C339 -> 20004 70 00133 00000 | D25: =+D26 -> 0 | E25: =+E26 -> 0 | F25: =+F26 -> 0 | G25: =+G26 -> 0 | H25: =+H26 -> 0 | I25: =+I26 -> 0 | J25: =+J26 -> 0
B26: =+[5]ระบบการควบคุมฯ!B340 -> ค่าครุภัณฑ์ 7011310 | D26: =+D27 -> 0 | E26: =+E27 -> 0 | F26: =+F27 -> 0 | G26: =+G27 -> 0 | H26: =+H27 -> 0 | I26: =+I27 -> 0 | J26: =+J27 -> 0
B27: =+[5]ระบบการควบคุมฯ!B341 -> ครุภัณฑ์ สำนักงาน 120611 | D27: =+D28+D30 -> 0 | E27: =+E28+E30 -> 0 | F27: =+F28+F30 -> 0 | G27: =+G28+G30 -> 0 | H27: =+H28+H30 -> 0 | I27: =+I28+I30 -> 0 | J27: =+J28+J30 -> 0
A28: =+[5]ระบบการควบคุมฯ!A342 -> 5.1.1 | B28: =+[5]ระบบการควบคุมฯ!B342 -> โต๊ะเก้าอี้นักเรียน สำหรับนักเรียนประถมศึกษา | C28: =+[5]ระบบการควบคุมฯ!C342 -> ที่ ศธ 04087/ว49453/25 พย 68 ครั้งที่ 104 | D28: =SUM(D29) -> 0 | E28: =SUM(E29) -> 0 | F28: =SUM(F29) -> 0 | G28: =SUM(G29) -> 0 | H28: =SUM(H29) -> 0 | I28: =SUM(I29) -> 0 | J28: =SUM(J29) -> 0
A29: =+[5]ระบบการควบคุมฯ!A343 -> 1) | B29: =+[5]ระบบการควบคุมฯ!B343 -> โรงเรียนวัดแสงสรรค์ | C29: =+[5]ระบบการควบคุมฯ!C343 -> 200043300B8003110429 | D29: =+[5]ระบบการควบคุมฯ!F343 -> 0 | E29: =+[5]ระบบการควบคุมฯ!G343+[5]ระบบการควบคุมฯ!H343 -> 0 | G29: =+[5]ระบบการควบคุมฯ!K343+[5]ระบบการควบคุมฯ!L343 -> 0 | J29: =+D29-E29-F29-G29 -> 0
A30: =+[5]ระบบการควบคุมฯ!A344 -> 5.1.2 | B30: =+[5]ระบบการควบคุมฯ!B344 -> โต๊ะเก้าอี้นักเรียน สำหรับนักเรียนก่อนประถมศึกษา | C30: =+[5]ระบบการควบคุมฯ!C344 -> ที่ ศธ 04087/ว49453/25 พย 68 ครั้งที่ 104 | D30: =+D31 -> 0 | E30: =+E31 -> 0 | F30: =+F31 -> 0 | G30: =+G31 -> 0 | H30: =+H31 -> 0 | I30: =+I31 -> 0 | J30: =+J31 -> 0
A31: =+[5]ระบบการควบคุมฯ!A345 -> 1) | B31: =+[5]ระบบการควบคุมฯ!B345 -> โรงเรียนวัดจตุพิธวราวาส | C31: =+[5]ระบบการควบคุมฯ!C345 -> 200043300B8003110430 | D31: =+[5]ระบบการควบคุมฯ!F345 -> 0 | E31: =+[5]ระบบการควบคุมฯ!G345+[5]ระบบการควบคุมฯ!H345 -> 0 | G31: =+[5]ระบบการควบคุมฯ!K345+[5]ระบบการควบคุมฯ!L345 -> 0 | J31: =+D31-E31-F31-G31 -> 0
A32: =+[5]ระบบการควบคุมฯ!A357 -> 5.3 | B32: =+[5]ระบบการควบคุมฯ!B357 -> กิจกรรมการยกระดับคุณภาพการศึกษาสำหรับโรงเรียนคุณภาพตามนโยบาย 1 อำเภอ 1 โรงเรียนคุณภาพ | C32: =+[5]ระบบการควบคุมฯ!C357 -> 20004 70 00134 00000 | D32: =+D33 -> 320600 | E32: =+E33 -> 0 | F32: =+F33 -> 0 | G32: =+G33 -> 0 | H32: =+H33 -> 0 | I32: =+I33 -> 0 | J32: =+J33 -> 320600
A33: =+[5]ระบบการควบคุมฯ!A358 -> 5.3.1 | B33: =+[5]ระบบการควบคุมฯ!B358 -> ค่าครุภัณฑ์ 7011310 | C33: =+[5]ระบบการควบคุมฯ!C358 -> 20004 3300B800 | D33: =+D34+D41 -> 320600 | E33: =+E34+E41 -> 0 | F33: =+F34+F41 -> 0 | G33: =+G34+G41 -> 0 | H33: =+H34+H41 -> 0 | I33: =+I34+I41 -> 0 | J33: =+J34+J41 -> 320600
B34: =+[5]ระบบการควบคุมฯ!B359 -> ครุภัณฑ์สำนักงาน 120601 | C34: =+[5]ระบบการควบคุมฯ!C359 -> 120601 | D34: =+D35+D37+D39 -> 0 | E34: =+E35+E37+E39 -> 0 | F34: =+F35+F37+F39 -> 0 | G34: =+G35+G37+G39 -> 0 | H34: =+H35+H37+H39 -> 0 | I34: =+I35+I37+I39 -> 0 | J34: =+J35+J37+J39 -> 0
A35: =+[5]ระบบการควบคุมฯ!A360 -> 5.3.1.1 | B35: =+[5]ระบบการควบคุมฯ!B360 -> ถังน้ำ แบบสเตนเลส ขนาดความจุ 2,000 ลิตร โรงเรียนวัดลาดสนุ่น | C35: =+[5]ระบบการควบคุมฯ!C360 -> ที่ ศธ 04087/ว49453/25 พย 68 ครั้งที่ 104 | D35: =SUM(D36) -> 0 | E35: =SUM(E36) -> 0 | F35: =SUM(F36) -> 0 | G35: =SUM(G36) -> 0 | H35: =SUM(H36) -> 0 | I35: =SUM(I36) -> 0 | J35: =SUM(J36) -> 0
A36: =+[5]ระบบการควบคุมฯ!A361 -> 1) | B36: =+[5]ระบบการควบคุมฯ!B361 -> โรงเรียนวัดลาดสนุ่น | C36: =+[5]ระบบการควบคุมฯ!C361 -> 200043300B8003111326 | D36: =+[5]ระบบการควบคุมฯ!F361 -> 0 | E36: =+[5]ระบบการควบคุมฯ!G361+[5]ระบบการควบคุมฯ!H361 -> 0 | G36: =+[5]ระบบการควบคุมฯ!K361+[5]ระบบการควบคุมฯ!L361 -> 0 | J36: =+D36-E36-F36-G36 -> 0
A37: =+[5]ระบบการควบคุมฯ!A362 -> 5.3.1.2 | B37: =+[5]ระบบการควบคุมฯ!B362 -> เครื่องทำลายเอกสาร แบบตัดละเอียด ทำลายครั้งละ 30 แผ่น | C37: =+[5]ระบบการควบคุมฯ!C362 -> ที่ ศธ 04087/ว49453/25 พย 68 ครั้งที่ 104 | D37: =SUM(D38) -> 0 | E37: =SUM(E38) -> 0 | F37: =SUM(F38) -> 0 | G37: =SUM(G38) -> 0 | H37: =SUM(H38) -> 0 | I37: =SUM(I38) -> 0 | J37: =SUM(J38) -> 0
A38: =+[5]ระบบการควบคุมฯ!A364 -> 1) | B38: =+[5]ระบบการควบคุมฯ!B364 -> โรงเรียนวัดลาดสนุ่น | C38: =+[5]ระบบการควบคุมฯ!C364 -> 200043300B8003111329 | D38: =+[5]ระบบการควบคุมฯ!F364 -> 0 | E38: =+[5]ระบบการควบคุมฯ!G364+[5]ระบบการควบคุมฯ!H364 -> 0 | G38: =+[5]ระบบการควบคุมฯ!K364+[5]ระบบการควบคุมฯ!L364 -> 0 | J38: =+D38-E38-F38-G38 -> 0
A39: =+[5]ระบบการควบคุมฯ!A365 -> 5.3.1.2 | B39: =+[5]ระบบการควบคุมฯ!B365 -> พัดลม แบบโคจรติดผนัง ขนาดไม่น้อยกว่า 16 นิ้ว (400 มิลลิเมตร) | C39: =+[5]ระบบการควบคุมฯ!C365 -> ที่ ศธ 04087/ว49453/25 พย 68 ครั้งที่ 104 | D39: =SUM(D40) -> 0 | E39: =SUM(E40) -> 0 | F39: =SUM(F40) -> 0 | G39: =SUM(G40) -> 0 | H39: =SUM(H40) -> 0 | I39: =SUM(I40) -> 0 | J39: =SUM(J40) -> 0
A40: =+[5]ระบบการควบคุมฯ!A367 -> 1) | B40: =+[5]ระบบการควบคุมฯ!B367 -> โรงเรียนวัดมูลจินดาราม | C40: =+[5]ระบบการควบคุมฯ!C367 -> 200043300B8003111330 | D40: =+[5]ระบบการควบคุมฯ!F367 -> 0 | E40: =+[5]ระบบการควบคุมฯ!G367+[5]ระบบการควบคุมฯ!H367 -> 0 | G40: =+[5]ระบบการควบคุมฯ!K367+[5]ระบบการควบคุมฯ!L367 -> 0 | J40: =+D40-E40-F40-G40 -> 0
A41: =+[5]ระบบการควบคุมฯ!A368 -> 0 | B41: =+[5]ระบบการควบคุมฯ!B368 -> ครุภัณฑ์การศึกษา 120611 | C41: =+[5]ระบบการควบคุมฯ!C368 -> 120611 | D41: =+D42+D44 -> 320600 | E41: =+E42+E44 -> 0 | F41: =+F42+F44 -> 0 | G41: =+G42+G44 -> 0 | H41: =+H42+H44 -> 0 | I41: =+I42+I44 -> 0 | J41: =+J42+J44 -> 320600
A42: =+[5]ระบบการควบคุมฯ!A369 -> 5.3.1.1 | B42: =+[5]ระบบการควบคุมฯ!B369 -> โต๊ะเก้าอี้นักเรียน สำหรับนักเรียนประถมศึกษา | C42: =+[5]ระบบการควบคุมฯ!C369 -> ที่ ศธ 04087/ว19049/27 ต.ค. 69 ครั้งที่ 27 | D42: =+D43 -> 320600 | E42: =+E43 -> 0 | F42: =+F43 -> 0 | G42: =+G43 -> 0 | H42: =+H43 -> 0 | I42: =+I43 -> 0 | J42: =+J43 -> 320600
A43: =+[5]ระบบการควบคุมฯ!A370 -> 1) | B43: =+[5]ระบบการควบคุมฯ!B370 -> โรงเรียนชุมชนบึงบา | C43: =+[5]ระบบการควบคุมฯ!C370 -> 200043300B8003110294 | D43: =+[5]ระบบการควบคุมฯ!F370 -> 320600 | E43: =+[5]ระบบการควบคุมฯ!G370+[5]ระบบการควบคุมฯ!H370 -> 0 | G43: =+[5]ระบบการควบคุมฯ!K370+[5]ระบบการควบคุมฯ!L370 -> 0 | J43: =+D43-E43-F43-G43 -> 320600
A44: =+[5]ระบบการควบคุมฯ!A371 -> 5.3.1.4 | B44: =+[5]ระบบการควบคุมฯ!B371 -> ตู้แช่อาหาร ขนาด 20 คิวบิกฟุต | C44: =+[5]ระบบการควบคุมฯ!C371 -> ที่ ศธ 04087/ว49453/25 พย 68 ครั้งที่ 104 | D44: =+D45 -> 0 | E44: =+E45 -> 0 | F44: =+F45 -> 0 | G44: =+G45 -> 0 | H44: =+H45 -> 0 | I44: =+I45 -> 0 | J44: =+J45 -> 0
A45: =+[5]ระบบการควบคุมฯ!A372 -> 1) | B45: =+[5]ระบบการควบคุมฯ!B372 -> โรงเรียนวัดมูลจินดาราม | C45: =+[5]ระบบการควบคุมฯ!C372 -> 200043300B8003111328 | D45: =+[5]ระบบการควบคุมฯ!F372 -> 0 | E45: =+[5]ระบบการควบคุมฯ!G372+[5]ระบบการควบคุมฯ!H372 -> 0 | G45: =+[5]ระบบการควบคุมฯ!K372+[5]ระบบการควบคุมฯ!L372 -> 0 | J45: =+D45-E45-F45-G45 -> 0
B47: งบลงทุน 7011320 | D47: =+D49 -> 0 | E47: =+E49 -> 0 | F47: =+F49 -> 0 | G47: =+G49 -> 0 | H47: =+H49 -> 0 | I47: =+I49 -> 0 | J47: =+J49 -> 0
A48: =+[5]ระบบการควบคุมฯ!A163 -> 3.3.2 | B48: =+[5]ระบบการควบคุมฯ!B163 -> ปรับปรุงซ่อมแซมห้องปฏิบัติการวิทยาศาสตร์ | C48: =+[5]ระบบการควบคุมฯ!C163 -> ศธ 04002/ว47614 ลว. 31 ตค 68 โอนครั้งที่ 23
A49: =+[5]ระบบการควบคุมฯ!A164 -> 1) | B49: =+[5]ระบบการควบคุมฯ!B164 -> โรงเรียนวัดเขียนเขต | C49: =+[5]ระบบการควบคุมฯ!C164 -> 20004 33006300 3110064 | D49: =+[5]ระบบการควบคุมฯ!F163 -> 0 | E49: =+[5]ระบบการควบคุมฯ!G163+[5]ระบบการควบคุมฯ!H163 -> 0 | F49: =+[5]ระบบการควบคุมฯ!I163+[5]ระบบการควบคุมฯ!J163 -> 0 | G49: =+[5]ระบบการควบคุมฯ!K163+[5]ระบบการควบคุมฯ!L163 -> 0 | J49: =+D49-E49-F49-G49 -> 0
A52: =+[5]ระบบการควบคุมฯ!A414 -> 5.4 | B52: =+[5]ระบบการควบคุมฯ!B414 -> กิจกรรมการก่อสร้าง ปรับปรุง ซ่อมแซมอาคารเรียนและสิ่งก่อสร้างประกอบเพื่อขับเคลื่อนโรงเรียนคุณภาพตามนโยบาย 1 อำเภอ 1 โรงเรียนคุณภาพ | C52: =+[5]ระบบการควบคุมฯ!C414 -> 20004 70 00135 00000 | D52: =+D53 -> 3963000 | E52: =+E53 -> 0 | F52: =+F53 -> 0 | G52: =+G53 -> 0 | H52: =+H53 -> 0 | I52: =+I53 -> 0 | J52: =+J53 -> 3963000
B53: =+[5]ระบบการควบคุมฯ!B416 -> งบลงทุน ค่าที่ดินและสิ่งก่อสร้าง7011320 | D53: =+D54+D63+D70 -> 3963000 | E53: =+E54+E63+E70 -> 0 | F53: =+F54+F63+F70 -> 0 | G53: =+G54+G63+G70 -> 0 | H53: =+H54+H63+H70 -> 0 | I53: =+I54+I63+I70 -> 0 | J53: =+J54+J63+J70 -> 3963000
A54: =+[5]ระบบการควบคุมฯ!A417 -> 5.4.1 | B54: =+[5]ระบบการควบคุมฯ!B417 -> ปรับปรุงซ่อมแซมอาคารเรียนอาคารประกอบและสิ่งก่อสร้างอื่น | C54: =+[5]ระบบการควบคุมฯ!C417 -> ศธ04002/ว19356 ลว. 29 ต.ค. 69 โอนครั้งที่ 28 | D54: =SUM(D55:D61) -> 3963000 | E54: =SUM(E55:E61) -> 0 | F54: =SUM(F55:F61) -> 0 | G54: =SUM(G55:G61) -> 0 | H54: =SUM(H55:H61) -> 0 | I54: =SUM(I55:I61) -> 0 | J54: =SUM(J55:J61) -> 3963000
A55: =+[5]ระบบการควบคุมฯ!A418 -> 1) | B55: =+[5]ระบบการควบคุมฯ!B418 -> โรงเรียนวัดลาดสนุ่น | C55: =+[5]ระบบการควบคุมฯ!C418 -> 200043300B8003210357 | D55: =+[5]ระบบการควบคุมฯ!D418 -> 499000 | E55: =+[5]ระบบการควบคุมฯ!G418+[5]ระบบการควบคุมฯ!H418 -> 0 | F55: =+[5]ระบบการควบคุมฯ!I418+[5]ระบบการควบคุมฯ!J418 -> 0 | G55: =+[5]ระบบการควบคุมฯ!K418+[5]ระบบการควบคุมฯ!L418 -> 0 | J55: =D55-E55-F55-G55 -> 499000
B56: =+[5]โครงการโรงเรียนคุณภาพ!E275 -> ผูกพัน ครบ
A57: =+[5]ระบบการควบคุมฯ!A420 -> 2) | B57: =+[5]ระบบการควบคุมฯ!B420 -> โรงเรียนวัดมูลจินดาราม | C57: =+[5]ระบบการควบคุมฯ!C420 -> 200043300B8003210359 | D57: =+[5]ระบบการควบคุมฯ!D420 -> 495000 | E57: =+[5]ระบบการควบคุมฯ!G420+[5]ระบบการควบคุมฯ!H420 -> 0 | F57: =+[5]ระบบการควบคุมฯ!I420+[5]ระบบการควบคุมฯ!J420 -> 0 | G57: =+[5]ระบบการควบคุมฯ!K420+[5]ระบบการควบคุมฯ!L420 -> 0 | J57: =D57-E57-F57-G57 -> 495000
B58: =+[5]โครงการโรงเรียนคุณภาพ!E277 -> 0
A59: =+[5]ระบบการควบคุมฯ!A422 -> 3) | B59: =+[5]ระบบการควบคุมฯ!B422 -> โรงเรียนชุมชนบึงบา | C59: =+[5]ระบบการควบคุมฯ!C422 -> 200043300B8003210358 | D59: =+[5]ระบบการควบคุมฯ!D422 -> 2969000 | E59: =+[5]ระบบการควบคุมฯ!G422+[5]ระบบการควบคุมฯ!H422 -> 0 | F59: =+[5]ระบบการควบคุมฯ!I422+[5]ระบบการควบคุมฯ!J422 -> 0 | G59: =+[5]ระบบการควบคุมฯ!K422+[5]ระบบการควบคุมฯ!L422 -> 0 | J59: =D59-E59-F59-G59 -> 2969000
B60: =+[5]โครงการโรงเรียนคุณภาพ!E279 -> 0
A61: =+[5]ระบบการควบคุมฯ!A424 -> 0 | B61: =+[5]ระบบการควบคุมฯ!B424 -> 0 | C61: =+[5]ระบบการควบคุมฯ!C424 -> 0 | J61: =D61-E61-F61-G61 -> 0
B62: =+[5]โครงการโรงเรียนคุณภาพ!E328 -> ผูกพันครบ 20 มีค 68 | C62: =+[5]ระบบการควบคุมฯ!C425 -> 0
A63: =+[5]ระบบการควบคุมฯ!A428 -> 5.4.2 | B63: =+[5]ระบบการควบคุมฯ!B428 -> รายการก่อสร้างปรับปรุงซ่อมแซมอาคารเรียนอาคารประกอบและสิ่งก่อสร้างอื่นที่ชำรุดทรุดโทรมและที่ประสบอุบัติภัย | C63: =+[5]ระบบการควบคุมฯ!C428 -> ศธ04002/ว2239 ลว.27 พค 68 โอนครั้งที่ 519 | D63: =+D64+D66 -> 0 | E63: =+E64+E66 -> 0 | F63: =+F64+F66 -> 0 | G63: =+G64+G66 -> 0 | J63: =D63-E63-F63-G63 -> 0
A64: =+[5]ระบบการควบคุมฯ!A429 -> 1) | B64: =+[5]ระบบการควบคุมฯ!B429 -> โรงเรียนวัดประยูรธรรมาราม | C64: =+[5]ระบบการควบคุมฯ!C429 -> 20004 3300 B800 321ZZZZ | D64: =+[5]ระบบการควบคุมฯ!F429 -> 0 | E64: =+[5]ระบบการควบคุมฯ!G429+[5]ระบบการควบคุมฯ!H429 -> 0 | G64: =+[5]ระบบการควบคุมฯ!K429+[5]ระบบการควบคุมฯ!L429 -> 0 | J64: =D64-E64-F64-G64 -> 0
B65: =+[5]ระบบการควบคุมฯ!B430 -> ผูกพัน 10 มิ.ย. 68 ครบ 9 ส.ค. 68 | J65: =D65-E65-F65-G65 -> 0
A66: =+[5]ระบบการควบคุมฯ!A431 -> 2) | B66: =+[5]ระบบการควบคุมฯ!B431 -> โรงเรียนชุมชนวัดพิชิตปิตยาราม | C66: =+[5]ระบบการควบคุมฯ!C431 -> 20004 3300 B800 321ZZZZ | D66: =+[5]ระบบการควบคุมฯ!F431 -> 0 | E66: =+[5]ระบบการควบคุมฯ!G431+[5]ระบบการควบคุมฯ!H431 -> 0 | G66: =+[5]ระบบการควบคุมฯ!K431+[5]ระบบการควบคุมฯ!L431 -> 0 | J66: =D66-E66-F66-G66 -> 0
B67: =+[5]ระบบการควบคุมฯ!B432 -> ผูกพัน 26 มิ.ย. 68 ครบ 4 ส.ค. 68 | J67: =D67-E67-F67-G67 -> 0
J68: =D68-E68-F68-G68 -> 0
J69: =D69-E69-F69-G69 -> 0
A70: =+[5]ระบบการควบคุมฯ!A440 -> 5.4.3 | B70: =+[5]ระบบการควบคุมฯ!B440 -> ห้องน้ำห้องส้วมนักเรียนหญิง 4 ที่/49 | C70: =+[5]ระบบการควบคุมฯ!C440 -> ศธ04002/ว19356 ลว. 29 ต.ค. 69 โอนครั้งที่ 28 | D70: =SUM(D71:D74) -> 0 | E70: =SUM(E71:E74) -> 0 | F70: =SUM(F71:F74) -> 0 | G70: =SUM(G71:G74) -> 0 | H70: =SUM(H71:H74) -> 0 | I70: =SUM(I71:I74) -> 0 | J70: =SUM(J71:J74) -> 0
A71: =+[5]ระบบการควบคุมฯ!A442 -> 1) | B71: =+[5]ระบบการควบคุมฯ!B442 -> โรงเรียนวัดแสงสรรค์ | C71: =+[5]ระบบการควบคุมฯ!C442 -> 200043300B8003211259 | D71: =+[5]ระบบการควบคุมฯ!D442 -> 0 | E71: =+[5]ระบบการควบคุมฯ!G442+[5]ระบบการควบคุมฯ!H442 -> 0 | F71: =+[5]ระบบการควบคุมฯ!I442+[5]ระบบการควบคุมฯ!J442 -> 0 | G71: =+[5]ระบบการควบคุมฯ!K442+[5]ระบบการควบคุมฯ!L442 -> 0 | J71: =+D71-E71-F71-G71 -> 0
B72: =+[5]ระบบการควบคุมฯ!B443 -> ครบ 20 มีค 68
A73: =+[5]ระบบการควบคุมฯ!A444 -> 2) | B73: =+[5]ระบบการควบคุมฯ!B444 -> โรงเรียนวัดแสงสรรค์ | C73: =+[5]ระบบการควบคุมฯ!C444 -> 200043300B8003211260 | D73: =+[5]ระบบการควบคุมฯ!D444 -> 0 | E73: =+[5]ระบบการควบคุมฯ!G444+[5]ระบบการควบคุมฯ!H444 -> 0 | F73: =+[5]ระบบการควบคุมฯ!I444+[5]ระบบการควบคุมฯ!J444 -> 0 | G73: =+[5]ระบบการควบคุมฯ!K444+[5]ระบบการควบคุมฯ!L444 -> 0 | J73: =+D73-E73-F73-G73 -> 0
B74: =+[5]ระบบการควบคุมฯ!B445 -> ครบ 18 มิย 68
A79: 1.3 | B79: =+[5]ระบบการควบคุมฯ!B453 -> กิจกรรมการยกระดับคุณภาพการศึกษา (โรงเรียนคุณภาพของชุมชนโรงเรียนมัธยมดีสี่มุมเมือง) | C79: =+[5]ระบบการควบคุมฯ!C453 -> 20004 70 00079 00000 | D79: =+D80+D84 -> 0 | E79: =+E80+E84 -> 0 | F79: =+F80+F84 -> 0 | G79: =+G80+G84 -> 0 | H79: =+H80+H84 -> 0 | I79: =+I80+I84 -> 0 | J79: =+J80+J84 -> 0
D80: =+D81+D86 -> 0 | E80: =+E81+E86 -> 0 | F80: =+F81+F86 -> 0 | G80: =+G81+G86 -> 0 | H80: =+H81+H86 -> 0 | I80: =+I81+I86 -> 0 | J80: =+J81+J86 -> 0
A81: 1.3.1 | B81: =+[5]ระบบการควบคุมฯ!B461 -> เงินชดเชยค่างานก่อสร้างตามสัญญาแบบปรับราคาได้ (ค่า K) | C81: =+[5]ระบบการควบคุมฯ!C461 -> ศธ04002/ว4285 ลว.13 กย 67 โอนครั้งที่ 401 | D81: =+D82 -> 0 | E81: =+E82 -> 0 | F81: =+F82 -> 0 | G81: =+G82 -> 0 | H81: =+H82 -> 0 | I81: =+I82 -> 0 | J81: =+J82 -> 0
A82: =+[5]ระบบการควบคุมฯ!A462 -> 1) | B82: =+[5]ระบบการควบคุมฯ!B462 -> โรงเรียนธัญญสิทธิศิลป์ | C82: =+[5]ระบบการควบคุมฯ!C462 -> 20004 3100B600 321YYY | D82: =+[5]ระบบการควบคุมฯ!D462 -> 0 | E82: =+[5]ระบบการควบคุมฯ!E462 -> 0 | F82: =+[5]ระบบการควบคุมฯ!F462 -> 0 | G82: =+[5]ระบบการควบคุมฯ!G462 -> 0 | H82: =+[5]ระบบการควบคุมฯ!H462 -> 0 | ... J82: =+[5]ระบบการควบคุมฯ!J462 -> 0
B83: =+[5]ยุธศาสตร์เรียนดีปร3100116003211!E398 -> ทำสัญญญา 9 มค 66 ครบ 25 มีค 66
B84: =+[5]ระบบการควบคุมฯ!B454 -> งบลงทุน ค่าครุภัณฑ์ 7011310 | C84: =+C80 -> 0 | D84: =+D86 -> 0 | E84: =+E86 -> 0 | F84: =+F86 -> 0 | G84: =+G86 -> 0 | H84: =+H86 -> 0 | I84: =+I86 -> 0 | J84: =+J86 -> 0
B85: =+[5]ระบบการควบคุมฯ!B455 -> ครุภัณฑ์การศึกษา 120611 | D85: =+D86 -> 0 | E85: =+E86 -> 0 | F85: =+F86 -> 0 | G85: =+G86 -> 0 | H85: =+H86 -> 0 | I85: =+I86 -> 0 | J85: =+J86 -> 0
A86: 1.4.1 | B86: =+[5]ระบบการควบคุมฯ!B456 -> โต๊ะเก้าอี้นักเรียนระดับประถมศึกษา ชุดละ 1,500 บาท | C86: =+[5]ระบบการควบคุมฯ!C456 -> ศธ04002/ว1802 ลว.8 พค 67 โอนครั้งที่ 7 | D86: =+D87 -> 0 | E86: =+E87 -> 0 | F86: =+F87 -> 0 | G86: =+G87 -> 0 | H86: =+H87 -> 0 | I86: =+I87 -> 0 | J86: =+J87 -> 0
A87: =+[5]ระบบการควบคุมฯ!A487 -> 1) | B87: =+[5]ระบบการควบคุมฯ!B457 -> โรงเรียนชุมชนบึงบา | C87: =+[5]ระบบการควบคุมฯ!C457 -> 200043100B6003113826 | J87: =D87-E87-F87-G87 -> 0
B88: =+[5]ระบบการควบคุมฯ!B458 -> ผูกพันครบ 19 มิย 67 | C88: =+[5]ระบบการควบคุมฯ!C458 -> 4100392644
B89: =+[5]ระบบการควบคุมฯ!B460 -> งบลงทุน ค่าที่ดินสิ่งก่อสร้าง 6711320 | D89: =+D90 -> 0 | E89: =+E90 -> 0 | F89: =+F90 -> 0 | G89: =+G90 -> 0 | H89: =+H90 -> 0 | I89: =+I90 -> 0 | J89: =+J90 -> 0
A90: =+[5]ระบบการควบคุมฯ!A461 -> 5.3.2 | B90: =+[5]ระบบการควบคุมฯ!B461 -> เงินชดเชยค่างานก่อสร้างตามสัญญาแบบปรับราคาได้ (ค่า K) | C90: =+[5]ระบบการควบคุมฯ!C461 -> ศธ04002/ว4285 ลว.13 กย 67 โอนครั้งที่ 401 | D90: =SUM(D91:D93) -> 0 | E90: =SUM(E91:E93) -> 0 | F90: =SUM(F91:F93) -> 0 | G90: =SUM(G91:G93) -> 0 | H90: =SUM(H91:H93) -> 0 | I90: =SUM(I91:I93) -> 0 | J90: =SUM(J91:J93) -> 0
A91: =+[5]ระบบการควบคุมฯ!A462 -> 1) | B91: =+[5]ระบบการควบคุมฯ!B462 -> โรงเรียนธัญญสิทธิศิลป์ | C91: =+[5]ระบบการควบคุมฯ!C462 -> 20004 3100B600 321YYY | J91: =D91-E91-F91-G91 -> 0
A92: =+[5]ระบบการควบคุมฯ!A463 -> 2) | B92: =+[5]ระบบการควบคุมฯ!B463 -> โรงเรียนชุมชนเลิศพินิจพิทยาคม | C92: =+[5]ระบบการควบคุมฯ!C463 -> 20004 3100B600 321YYY | J92: =D92-E92-F92-G92 -> 0
A93: =+[5]ระบบการควบคุมฯ!A464 -> 3) | B93: =+[5]ระบบการควบคุมฯ!B464 -> โรงเรียนชุมชนประชานิกรณ์อำนวยเวทย์ | C93: =+[5]ระบบการควบคุมฯ!C464 -> 20004 3100B600 321YYY | J93: =D93-E93-F93-G93 -> 0
J94: =D94-E94-F94-G94 -> 0
A95: =+[5]ระบบการควบคุมฯ!A654 -> ง | B95: =+[5]ระบบการควบคุมฯ!B654 -> แผนงานพื้นฐานด้านการพัฒนาและเสริมสร้างศักยภาพทรัพยากรมนุษย์ | D95: =+D96+D112 -> #REF! | E95: =+E96+E112 -> #REF! | F95: =+F96+F112 -> #REF! | G95: =+G96+G112 -> #REF! | H95: =+H96+H112 -> #REF! | I95: =+I96+I112 -> #REF! | J95: =+J96+J112 -> #REF! | K95: =+K96 -> 0
A96: =+[5]ระบบการควบคุมฯ!A657 -> 1 | B96: =+[5]ระบบการควบคุมฯ!B657 -> ผลผลิตผู้จบการศึกษาก่อนประถมศึกษา | C96: =+[5]ระบบการควบคุมฯ!C657 -> 20004 3720 1000 2000000 | D96: =+D97 -> 0 | E96: =+E97 -> 0 | F96: =+F97 -> 0 | G96: =+G97 -> 0 | H96: =+H97 -> 0 | I96: =+I97 -> 0 | J96: =+J97 -> 0 | K96: =+K97 -> 0
A97: 1.1 | B97: =+[5]ระบบการควบคุมฯ!B662 -> กิจกรรมการจัดการศึกษาก่อนประถมศึกษา | C97: =+[5]ระบบการควบคุมฯ!C662 -> 20004 68 05162 00000 | D97: =+D98 -> 0 | E97: =+E98 -> 0 | F97: =+F98 -> 0 | G97: =+G98 -> 0 | H97: =+H98 -> 0 | I97: =+I98 -> 0 | J97: =+J98 -> 0 | K97: =+K98 -> 0
B98: =+[5]ระบบการควบคุมฯ!B660 -> ค่าครุภัณฑ์ 6911310 | D98: =+D99 -> 0 | E98: =+E99 -> 0 | F98: =+F99 -> 0 | G98: =+G99 -> 0 | H98: =+H99 -> 0 | I98: =+I99 -> 0 | J98: =+J99 -> 0
B99: =+[5]ระบบการควบคุมฯ!B719 -> ครุภัณฑ์การศึกษา 120611 | D99: =+D100+D107 -> 0 | E99: =+E100+E107 -> 0 | F99: =+F100+F107 -> 0 | G99: =+G100+G107 -> 0 | H99: =+H100+H107 -> 0 | I99: =+I100+I107 -> 0 | J99: =+J100+J107 -> 0
A100: 1.1.1 | B100: =+[5]ระบบการควบคุมฯ!B720 -> เครื่องเล่นสนามระดับก่อนประถมศึกษาแบบ 2 | C100: =+[5]ระบบการควบคุมฯ!C720 -> ศธ04002/ว1802 ลว.8 พค 67 โอนครั้งที่ 7 | D100: =SUM(D101:D106) -> 0 | E100: =SUM(E101:E106) -> 0 | F100: =SUM(F101:F106) -> 0 | G100: =SUM(G101:G106) -> 0 | H100: =SUM(H101:H106) -> 0 | I100: =SUM(I101:I106) -> 0 | J100: =SUM(J101:J106) -> 0
A101: =+[5]ระบบการควบคุมฯ!A721 -> 1) | B101: =+[5]ระบบการควบคุมฯ!B721 -> โรงเรียนทองพูลอุทิศ | C101: =+[5]ระบบการควบคุมฯ!C721 -> 20004350001003110490 | J101: =D101-E101-F101-G101 -> 0
B102: =+[5]ระบบการควบคุมฯ!B722 -> ผูกพัน ครบ 16 กค 67 | C102: =+[5]ระบบการควบคุมฯ!C722 -> 4100385427 | J102: =D102-E102-F102-G102 -> 0
A103: =+[5]ระบบการควบคุมฯ!A723 -> 2) | B103: =+[5]ระบบการควบคุมฯ!B723 -> โรงเรียนวัดชัยมังคลาราม | C103: =+[5]ระบบการควบคุมฯ!C723 -> 20004350001003110491 | J103: =D103-E103-F103-G103 -> 0
B104: =+[5]ระบบการควบคุมฯ!B724 -> ผูกพัน ครบ 16 กค 67 | C104: =+[5]ระบบการควบคุมฯ!C724 -> 4100398102 | J104: =D104-E104-F104-G104 -> 0
A105: =+[5]ระบบการควบคุมฯ!A725 -> 3) | B105: =+[5]ระบบการควบคุมฯ!B725 -> โรงเรียนวัดดอนใหญ่ | C105: =+[5]ระบบการควบคุมฯ!C725 -> 20004350001003110492 | J105: =D105-E105-F105-G105 -> 0
B106: =+[5]ระบบการควบคุมฯ!B726 -> ผูกพัน ครบ 19 กค 67 | C106: =+[5]ระบบการควบคุมฯ!C726 -> 410034351 | J106: =D106-E106-F106-G106 -> 0
A107: =+[5]ระบบการควบคุมฯ!A733 -> 1.1.2 | B107: =+[5]ระบบการควบคุมฯ!B733 -> เครื่องเล่นสนามระดับก่อนประถมศึกษา แบบ 1 | C107: =+[5]ระบบการควบคุมฯ!C733 -> ศธ04002/ว1802 ลว.8 พค 67 โอนครั้งที่ 7 | D107: =SUM(D108:D109) -> 0 | E107: =SUM(E108:E109) -> 0 | F107: =SUM(F108:F109) -> 0 | G107: =SUM(G108:G109) -> 0 | H107: =SUM(H108:H109) -> 0 | I107: =SUM(I108:I109) -> 0 | J107: =SUM(J108:J109) -> 0
A108: =+[5]ระบบการควบคุมฯ!A734 -> 1) | B108: =+[5]ระบบการควบคุมฯ!B734 -> โรงเรียนวัดแสงมณี | C108: =+[5]ระบบการควบคุมฯ!C734 -> 20004350001003110493 | J108: =D108-E108-F108-G108 -> 0
B109: =+[5]ระบบการควบคุมฯ!B735 -> ผูกพัน ครบ 9 กค 67 | C109: =+[5]ระบบการควบคุมฯ!C735 -> 4100394811 | J109: =D109-E109-F109-G109 -> 0
...

Sheet รายงานผลการเบิกจ่าย
A1: สำนักงานเขตพื้นที่การศึกษาประถมศึกษาปทุมธานี เขต 2
A2: ผลการเบิกจ่ายและใช้จ่ายเงินงบประมาณรายจ่าย ประจำปีงบประมาณ พ.ศ. 2570
A3: ตามมาตรการเร่งรัดการเบิกจ่ายงบประมาณและการใช้จ่ายภาครัฐ ประจำปีงบประมาณ พ.ศ. 2570
A4: หนังสือกรมบัญชีกลาง ด่วนที่สุด ที่ กค 0412.4/ว 764 ลงวันที่ 2 ตุลาคม 2569
C5: =+[5]ระบบการควบคุมฯ!A4 -> ประจำเดือน ตุลาคม 2569 | M5: รายละเอียด 1
A6: รายการ | F6: เป้าหมายการเบิกจ่ายตามมาตรการภาครัฐ (%) | G6: งบประมาณ | H6: ผลการเบิกจ่ายเงินงบประมาณ | J6: เป้าหมายการใช้จ่ายตามมาตรการภาครัฐ(%) | K6: ผลการใช้จ่ายเงินงบประมาณ | M6: สรุปผลการเบิกจ่ายและการใช้จ่ายฯ
H7: บาท | I7: % | K7: บาท | L7: %
A8: 1. | B8: การเบิกจ่ายในภาพรวม(ทั้งปี) | F8: 93 | J8: =+J10 -> 63
A9: 1.1 | B9: ไตรมาสที่ 1 ต.ค.69 - ธ.ค.69 | F9: 39 | G9: =+[5]ระบบการควบคุมฯ!F1713 -> 30137800 | H9: =+[5]ระบบการควบคุมฯ!K1725 -> 585247.95 | I9: =+H9*100/G9 -> 1.9419067 | J9: 43 | K9: =+[5]ระบบการควบคุมฯ!K1725+[5]ระบบการควบคุมฯ!H1729+[5]ระบบการควบคุมฯ!G1725 -> 585247.95 | L9: =+K9*100/G9 -> 1.9419067 | M9: เบิกจ่ายและใช้จ่าย ( ) เป็น ( ) ไม่เป็น ตามมาตรการภาครัฐ
A10: 1.2 | B10: ไตรมาสที่ 2 ม.ค.70 - มี.ค.70 | F10: 58 | J10: 63
A11: 1.3 | B11: ไตรมาสที่ 3 เม.ย.70 - มิ.ย.70 | F11: 80 | J11: 84
A12: 1.4 | B12: ไตรมาสที่ 4 ก.ค.70 - ก.ย.70 | F12: 93 | J12: 100
A13: 2. | B13: การเบิกจ่ายรายจ่ายประจำ | F13: 98 | J13: =+J17 -> 100
A14: 2.1 | B14: ไตรมาสที่ 1 ต.ค.68 - ธ.ค.68 | F14: 41 | G14: =+S9 -> 0 | H14: =+U17 -> 0 | I14: =+H14*100/G14 -> #DIV/0! | J14: 41 | K14: =+H14 -> 0 | L14: =+K14*100/G14 -> #DIV/0! | M14: เบิกจ่ายและใช้จ่าย ( ) เป็น ( ) ไม่เป็น ตามมาตรการภาครัฐ
A15: 2.2 | B15: ไตรมาสที่ 2 ม.ค.69 - มี.ค.69 | F15: 62 | J15: 62
A16: 2.3 | B16: ไตรมาสที่ 3 เม.ย.69 - มิ.ย.69 | F16: 85 | J16: 85
A17: 2.4 | B17: ไตรมาสที่ 4 ก.ค.69 - ก.ย.69 | F17: 98 | I17: =+H17*100/G14 -> #DIV/0! | J17: 100 | L17: =+K17*100/G14 -> #DIV/0!
A18: 3. | B18: การเบิกจ่ายงบลงทุน(ทั้งปี) | F18: 75 | J18: 100
A19: 3.1 | B19: ไตรมาสที่ 1 ต.ค.68 - ธ.ค.68 | F19: 30 | G19: =+[5]ระบบการควบคุมฯ!F1712 -> 13136600 | H19: 0 | J19: 50 | K19: 0 | M19: ผลการเบิกจ่าย ( ) ไม่เป็น ใช้จ่าย ( ) เป็น ตามมาตรการภาครัฐ
A20: 3.2 | B20: ไตรมาสที่ 2 ม.ค.69 - มี.ค.69 | F20: 45 | J20: 65
A21: 3.3 | B21: ไตรมาสที่ 3 เม.ย.69 - มิ.ย.69 | F21: 60 | J21: 80
A22: 3.4 | B22: ไตรมาสที่ 4 ก.ค.69 - ก.ย.69 | F22: 75 | H22: =+[5]ระบบการควบคุมฯ!L1712+[5]ระบบการควบคุมฯ!K1712 -> 0 | J22: 100 | K22: =+[5]ระบบการควบคุมฯ!G1712+[5]ระบบการควบคุมฯ!H1712+[5]ระบบการควบคุมฯ!K1712+[5]ระบบการควบคุมฯ!L1712 -> 0
B23: ก่อหนี้ผูกพัน | H23: =+[5]ระบบการควบคุมฯ!H1712+[5]ระบบการควบคุมฯ!G1712 -> 0
B24: อยู่ระหว่างขอกันไว้เบิกเหลื่อมปี
B25: เหลือจ่าย
B26: อยู่ระหว่างดำเนินการ | H26: =+[5]ระบบการควบคุมฯ!M1712 -> 13136600 | I26: =+H26*100/G19 -> 100
F27: ลงชื่อ | H27: เลขานุการคณะกรรมการติดตามเร่งรัดการใช้จ่ายเงินฯ | J27: ลงชื่อ
F28: (นางพัชรี เรืองรุ่ง)
D29: นักวิชาการเงินและบัญชีชำนาญการพิเศษ
F30: ตรวจสอบแล้วถูกต้อง
D32: ลงชื่อ | H32: ประธานคณะกรรมการติดตามเร่งรัดการใช้จ่ายเงินฯ
F33: (นายคำโพธิ์ บุญสิงห์)
C34: ผู้อำนวยการสำนักงานเขตพื้นที่การศึกษาประถมศึกษาปทุมธานี เขต 2
A35: (นายวิรุฬห์ แสงงาม)
A36: รองผู้อำนวยการสำนักงานเขตพื้นที่การศึกษา รักษาราชการแทน
C37: เป็นไปตามมาตรการภาครัฐ | H37: ตรวจสอบแล้วถูกต้อง
C38: ไม่เป็นไปตามมาตรการภาครัฐ
A39: ลงชื่อ | D39: เลขานุการคณะกรรมการติดตาม | H39: ลงชื่อ | K39: ประธานคณะกรรมการติดตามเร่งรัด
A40: (นางพัชรี เรืองรุ่ง) | D40: เร่งรัดการเบิกจ่ายและใช้จ่ายฯ | H40: (นางสาวสุพิชสิริ ถิรวัฒนาพงศ์) ติดตามเร่งรัดการเบิกจ่ายเงินฯ | K40: การเบิกจ่ายงบประมาณและใช้จ่ายฯ
A41: นักวิชาการเงินและบัญชีชำนาญการพิเศษ | G41: (นางสาวสุพิชสิริ ถิรวัฒนาพงศ์)
G42: รองผู้อำนวยการสำนักงานเขตพื้นที่การศึกษา รักษาราชการแทน
G43: ผู้อำนวยการสำนักงานเขตพื้นที่การศึกษาประถมศึกษาปทุมธานี เขต 2
G44: ผู้อำนวยการสำนักงานเขตพื้นที่การศึกษาประถมศึกษาปทุมธานี เขต 2
