Workbook

Sheet เงินกันไว้เบิกเหลื่อมปี งบปี 
A1: รายงานผลการเบิกจ่ายเงินกันไว้เบิกเหลื่อมปี งบประมาณประจำปี พ.ศ. 2568
A2: =+'[1]สิ่งก่อสร้าง งบอุดหนุน 67'!A3:N3 -> สำนักงานเขตพื้นที่การศึกษาประถมศึกษาปทุมธานี เขต 2
A3: ประจำเดือน กันยายน 2569
A4: ที่ | B4: รายการ | C4: รหัสงบประมาณ | D4: เพิ่ม | E4: ผูกพัน | G4: กันไว้เบิก | I4: เบิก | K4: คงเหลือ
C5: แหล่งของเงิน | E5: 220 | F5: 221 | G5: 220 | H5: 221 | I5: 220 | J5: 221
A6: ก | B6: =+'[1]ดำเนินงานครุภัณฑ์ 310061ยั่งยืน'!E6 -> แผนงานยุทธศาสตร์พัฒนาคุณภาพการศึกษาและการเรียนรู้ | D6: =+D7+D14 -> 1406002.5 | E6: =+E7+E14 -> 0 | F6: =+F7+F14 -> 0 | G6: =+G7+G14 -> 0 | H6: =+H7+H14 -> 0 | I6: =+I7+I14 -> 0 | J6: =+J7+J14 -> 1406002.5 | K6: =+K7+K14 -> 0
A7: 1 | B7: =+'[1]ดำเนินงานครุภัณฑ์ 310061ยั่งยืน'!E7 -> โครงการส่งเสริมการเรียนรู้ขั้นพื้นฐานทุกที่ทุกเวลา | C7: =+'[1]ดำเนินงานครุภัณฑ์ 310061ยั่งยืน'!D7 -> 20004 3310 C100 2000000 | D7: =+D8 -> 1406002.5 | E7: =+E8 -> 0 | F7: =+F8 -> 0 | H7: =+H8 -> 0 | I7: =+I8 -> 0 | J7: =+J8 -> 1406002.5 | K7: =+K8 -> 0
A8: 1.1 | B8: =+'[1]ดำเนินงานครุภัณฑ์ 310061ยั่งยืน'!E8 -> กิจกรรมพัฒนาระบบนิเวศทางด้านดิจิทัลเพื่อการเรียนรู้ขั้นพื้นฐาน | C8: =+'[1]ดำเนินงานครุภัณฑ์ 310061ยั่งยืน'!D8 -> 20004 68 00131 00000 | D8: =+D9 -> 1406002.5 | E8: =+E9 -> 0 | F8: =+F9 -> 0 | G8: =+G9 -> 0 | H8: =+H9 -> 0 | I8: =+I9 -> 0 | J8: =+J9 -> 1406002.5 | K8: =+K9 -> 0
B9: =+'[1]ดำเนินงานครุภัณฑ์ 310061ยั่งยืน'!E115 -> งบดำเนินงาน (รายจ่ายลงทุน) 6811220 | C9: =+'[1]ดำเนินงานครุภัณฑ์ 310061ยั่งยืน'!D115 -> 6811220 | D9: =+D10 -> 1406002.5 | E9: =+E10 -> 0 | F9: =+F10 -> 0 | H9: =+H10 -> 0 | I9: =+I10 -> 0 | J9: =+J10 -> 1406002.5 | K9: =+K10 -> 0
A10: 1.1.1 | B10: =+'[1]ดำเนินงานครุภัณฑ์ 310061ยั่งยืน'!E116 -> ค่าใช้จ่ายในการดำเนินการเช่าใช้อุปกรณ์การเรียนการสอนสำหรับครูและนักเรียน ภายใต้โครงการส่งเสริมการเรียนรู้ขั้นพื้นฐานทุกที่ทุกเวลา ประจำปีงบประมาณ พ.ศ. 2568 | C10: =+'[1]ดำเนินงานครุภัณฑ์ 310061ยั่งยืน'!D116 -> ศธ 04002/ว41897 ลว.1 ส.ค. 68 โอนครั้งที่ 802 | D10: =SUM(D11:D13) -> 1406002.5 | E10: =SUM(E11:E13) -> 0 | F10: =SUM(F11:F13) -> 0 | H10: =SUM(H11:H13) -> 0 | I10: =SUM(I11:I13) -> 0 | J10: =SUM(J11:J13) -> 1406002.5 | K10: =SUM(K11:K12) -> 0
A11: 1) | B11: =+'[1]ดำเนินงานครุภัณฑ์ 310061ยั่งยืน'!E117 -> PO4100722499 | C11: ครบ 30 ก.ย.68 | D11: =+'[1]ดำเนินงานครุภัณฑ์ 310061ยั่งยืน'!F125 -> 1406002.5 | E11: =+'[1]ดำเนินงานครุภัณฑ์ 310061ยั่งยืน'!G125 -> 0 | F11: =+'[1]ดำเนินงานครุภัณฑ์ 310061ยั่งยืน'!H125 -> 0 | G11: =+'[1]ดำเนินงานครุภัณฑ์ 310061ยั่งยืน'!I125 -> 0 | H11: =+'[1]ดำเนินงานครุภัณฑ์ 310061ยั่งยืน'!J125 -> 0 | I11: =+'[1]ดำเนินงานครุภัณฑ์ 310061ยั่งยืน'!K125 -> 0 | J11: =+'[1]ดำเนินงานครุภัณฑ์ 310061ยั่งยืน'!L125 -> 1406002.5 | K11: =+D11-E11-F11-G11-H11-I11-J11 -> 0
A12: 2) | D12: =+'[1]ดำเนินงานครุภัณฑ์ 310061ยั่งยืน'!F16 -> 0 | E12: =+'[1]ดำเนินงานครุภัณฑ์ 310061ยั่งยืน'!G16 -> 0 | F12: =+'[1]ดำเนินงานครุภัณฑ์ 310061ยั่งยืน'!H16 -> 0 | G12: =+'[1]ดำเนินงานครุภัณฑ์ 310061ยั่งยืน'!I16 -> 0 | H12: =+'[1]ดำเนินงานครุภัณฑ์ 310061ยั่งยืน'!J16 -> 0 | I12: =+'[1]ดำเนินงานครุภัณฑ์ 310061ยั่งยืน'!K16 -> 0 | J12: =+'[1]ดำเนินงานครุภัณฑ์ 310061ยั่งยืน'!L16 -> 0 | K12: =+D12-E12-F12-G12-H12-I12-J12 -> 0
A13: 3) | D13: =+'[1]ดำเนินงานครุภัณฑ์ 310061ยั่งยืน'!F21 -> 0 | E13: =+'[1]ดำเนินงานครุภัณฑ์ 310061ยั่งยืน'!G21 -> 0 | F13: =+'[1]ดำเนินงานครุภัณฑ์ 310061ยั่งยืน'!H21 -> 0 | H13: =+'[1]ดำเนินงานครุภัณฑ์ 310061ยั่งยืน'!I21 -> 0 | I13: =+'[1]ดำเนินงานครุภัณฑ์ 310061ยั่งยืน'!J21 -> 0 | J13: =+'[1]ดำเนินงานครุภัณฑ์ 310061ยั่งยืน'!K21 -> 0
A14: 2 | B14: =+'[1]ดำเนินงานครุภัณฑ์ 310061ยั่งยืน'!E126 -> โครงการโรงเรียนคุณภาพประจำตำบล | C14: =+'[1]ดำเนินงานครุภัณฑ์ 310061ยั่งยืน'!D126 -> 20004 3100B600 | D14: =+D15 -> 0 | E14: =+E15 -> 0 | F14: =+F15 -> 0 | H14: =+H15 -> 0 | I14: =+I15 -> 0 | J14: =+J15 -> 0 | K14: =+K15 -> 0
A15: 2.1 | B15: =+'[1]ดำเนินงานครุภัณฑ์ 310061ยั่งยืน'!E127 -> กิจกรรมการก่อสร้าง ปรับปรุง ซ่อมแซมอาคารเรียนและสิ่งก่อสร้างประกอบสำหรับโรงเรียนคุณภาพประจำตำบล | C15: =+'[1]ดำเนินงานครุภัณฑ์ 310061ยั่งยืน'!D127 -> 20004 67000 7700000 | D15: =+D16+D36 -> 0 | E15: =+E16+E36 -> 0 | F15: =+F16+F36 -> 0 | H15: =+H16+H36 -> 0 | I15: =+I16+I36 -> 0 | J15: =+J16+J36 -> 0 | K15: =+K16+K36 -> 0
B16: =+'[1]ดำเนินงานครุภัณฑ์ 310061ยั่งยืน'!E128 -> งบลงทุน ค่าสิ่งก่อสร้าง 6711320 | D16: =+D17+D22+D25 -> 0 | E16: =+E17+E22+E25 -> 0 | F16: =+F17+F22+F25 -> 0 | G16: =+G17+G22+G25 -> 0 | H16: =+H17+H22+H25 -> 0 | I16: =+I17+I22+I25 -> 0 | J16: =+J17+J22+J25 -> 0 | K16: =+K17+K22+K25 -> 0
A17: 2.1.1 | B17: =+'[1]ดำเนินงานครุภัณฑ์ 310061ยั่งยืน'!E129 -> ปรับปรุงซ่อมแซมอาคารเรียนอาคารประกอบและสิ่งก่อสร้างอื่น | C17: =+'[1]ดำเนินงานครุภัณฑ์ 310061ยั่งยืน'!D129 -> ศธ04002/ว1787 ลว.7 พค 67 โอนครั้งที่ 5 | D17: =SUM(D18:D21) -> 0 | E17: =SUM(E18:E21) -> 0 | F17: =SUM(F18:F21) -> 0 | G17: =SUM(G18:G21) -> 0 | H17: =SUM(H18:H21) -> 0 | I17: =SUM(I18:I21) -> 0 | J17: =SUM(J18:J21) -> 0 | K17: =SUM(K18:K21) -> 0
A18: 1) | B18: =+'[1]ดำเนินงานครุภัณฑ์ 310061ยั่งยืน'!E130 -> วัดมงคลรัตน์ | C18: =+'[1]ดำเนินงานครุภัณฑ์ 310061ยั่งยืน'!D130 -> 200043100B6003211500 | D18: =+'[1]ดำเนินงานครุภัณฑ์ 310061ยั่งยืน'!F134 -> 0 | E18: =+'[1]ดำเนินงานครุภัณฑ์ 310061ยั่งยืน'!G134 -> 0 | F18: =+'[1]ดำเนินงานครุภัณฑ์ 310061ยั่งยืน'!H134 -> 0 | G18: =+'[1]ดำเนินงานครุภัณฑ์ 310061ยั่งยืน'!I134 -> 0 | H18: =+'[1]ดำเนินงานครุภัณฑ์ 310061ยั่งยืน'!J134 -> 0 | I18: =+'[1]ดำเนินงานครุภัณฑ์ 310061ยั่งยืน'!K134 -> 0 | J18: =+'[1]ดำเนินงานครุภัณฑ์ 310061ยั่งยืน'!L134 -> 0 | K18: =+D18-E18-F18-G18-H18-I18-J18 -> 0
C19: =+'[1]ดำเนินงานครุภัณฑ์ 310061ยั่งยืน'!C130 -> 4100408104
A20: 2) | B20: =+'[1]ดำเนินงานครุภัณฑ์ 310061ยั่งยืน'!E135 -> วัดสุวรรณ | C20: =+'[1]ดำเนินงานครุภัณฑ์ 310061ยั่งยืน'!D135 -> 200043100B6003211501 | D20: =+'[1]ดำเนินงานครุภัณฑ์ 310061ยั่งยืน'!F139 -> 0 | E20: =+'[1]ดำเนินงานครุภัณฑ์ 310061ยั่งยืน'!G139 -> 0 | F20: =+'[1]ดำเนินงานครุภัณฑ์ 310061ยั่งยืน'!H139 -> 0 | G20: =+'[1]ดำเนินงานครุภัณฑ์ 310061ยั่งยืน'!I139 -> 0 | H20: =+'[1]ดำเนินงานครุภัณฑ์ 310061ยั่งยืน'!J139 -> 0 | I20: =+'[1]ดำเนินงานครุภัณฑ์ 310061ยั่งยืน'!K139 -> 0 | J20: =+'[1]ดำเนินงานครุภัณฑ์ 310061ยั่งยืน'!L139 -> 0 | K20: =+D20-E20-F20-G20-H20-I20-J20 -> 0
C21: =+'[1]ดำเนินงานครุภัณฑ์ 310061ยั่งยืน'!C135 -> 4100409854
A22: 2.1.2 | B22: =+'[1]ดำเนินงานครุภัณฑ์ 310061ยั่งยืน'!E140 -> ค่าก่อสร้าง ปรับปรุงซ่อมแซมอาคารเรียนอาคารประกอบและสิ่งก่อสร้างอื่นที่ชำรุดทรุดโทรม และที่ประสบอุบัติภัย | C22: =+'[1]ดำเนินงานครุภัณฑ์ 310061ยั่งยืน'!D140 -> ศธ04002/ว ลว.27 กย 67 โอนครั้งที่ 450 | D22: =+D23 -> 0 | E22: =+E23 -> 0 | F22: =+F23 -> 0 | H22: =+H23 -> 0 | I22: =+I23 -> 0 | J22: =+J23 -> 0 | K22: =+K23 -> 0
A23: 1) | B23: =+'[1]ดำเนินงานครุภัณฑ์ 310061ยั่งยืน'!E141 -> วัดราษฎรบำรุง | C23: =+'[1]ดำเนินงานครุภัณฑ์ 310061ยั่งยืน'!D141 -> 20004 3100B600 321ZZZZ | D23: =+'[1]ดำเนินงานครุภัณฑ์ 310061ยั่งยืน'!F145 -> 0 | E23: =+'[1]ดำเนินงานครุภัณฑ์ 310061ยั่งยืน'!G145 -> 0 | F23: =+'[1]ดำเนินงานครุภัณฑ์ 310061ยั่งยืน'!H145 -> 0 | G23: =+'[1]ดำเนินงานครุภัณฑ์ 310061ยั่งยืน'!I145 -> 0 | H23: =+'[1]ดำเนินงานครุภัณฑ์ 310061ยั่งยืน'!J145 -> 0 | I23: =+'[1]ดำเนินงานครุภัณฑ์ 310061ยั่งยืน'!K145 -> 0 | J23: =+'[1]ดำเนินงานครุภัณฑ์ 310061ยั่งยืน'!L145 -> 0 | K23: =+D23-E23-F23-G23-H23-I23-J23 -> 0
C24: =+'[1]ดำเนินงานครุภัณฑ์ 310061ยั่งยืน'!C141 -> 4100306259
A25: 2.1.3 | B25: =+'[1]ดำเนินงานครุภัณฑ์ 310061ยั่งยืน'!E146 -> อาคารเรียนอนุบาล ขนาด 2 ห้องเรียน | C25: =+'[1]ดำเนินงานครุภัณฑ์ 310061ยั่งยืน'!D146 -> ศธ 04002/ว1787 ลว.7 พค 67 โอนครั้งที่ 5 | D25: =+D26 -> 0 | E25: =+E26 -> 0 | F25: =+F26 -> 0 | H25: =+H26 -> 0 | I25: =+I26 -> 0 | J25: =+J26 -> 0 | K25: =+K26 -> 0
A26: 1) | B26: =+'[1]ดำเนินงานครุภัณฑ์ 310061ยั่งยืน'!E147 -> โรงเรียนนิกรราษฎร์บํารุงวิทย์ | C26: =+'[1]ดำเนินงานครุภัณฑ์ 310061ยั่งยืน'!D147 -> 200043100B6003211498 | D26: =+'[1]ดำเนินงานครุภัณฑ์ 310061ยั่งยืน'!F171 -> 0 | E26: =+'[1]ดำเนินงานครุภัณฑ์ 310061ยั่งยืน'!G171 -> 0 | F26: =+'[1]ดำเนินงานครุภัณฑ์ 310061ยั่งยืน'!H171 -> 0 | G26: =+'[1]ดำเนินงานครุภัณฑ์ 310061ยั่งยืน'!I171 -> 0 | H26: =+'[1]ดำเนินงานครุภัณฑ์ 310061ยั่งยืน'!J171 -> 0 | I26: =+'[1]ดำเนินงานครุภัณฑ์ 310061ยั่งยืน'!K171 -> 0 | J26: =+'[1]ดำเนินงานครุภัณฑ์ 310061ยั่งยืน'!L171 -> 0 | K26: =+D26-E26-F26-G26-H26-I26-J26 -> 0
C27: =+'[1]ดำเนินงานครุภัณฑ์ 310061ยั่งยืน'!C147 -> 4100432393
B28: งบลงทุน ค่าครุภัณฑ์ 6711310 | C28: =+'[1]ดำเนินงานครุภัณฑ์ 310061ยั่งยืน'!D23 -> 0 | D28: =+D31+D33+D35 -> 0 | E28: =+E31+E33+E35 -> 0 | F28: =+F31+F33+F35 -> 0 | H28: =+H31+H33+H35 -> 0 | I28: =+I31+I33+I35 -> 0 | J28: =+J31+J33+J35 -> 0 | K28: =+K31+K33+K35 -> 0
A29: =+'[1]งบกัน67 350002'!A36 -> 0 | B29: =+'[1]ดำเนินงานครุภัณฑ์ 310061ยั่งยืน'!E22 -> งบลงทุน ค่าครุภัณฑ์ 6611310 | C29: =+'[1]ดำเนินงานครุภัณฑ์ 310061ยั่งยืน'!C22 -> 0 | D29: =+D30 -> 0 | E29: =+E30 -> 0 | F29: =+F30 -> 0 | H29: =+H30 -> 0 | I29: =+I30 -> 0 | J29: =+J30 -> 0 | K29: =+K30 -> 0
A30: =+'[1]ดำเนินงานครุภัณฑ์ 310061ยั่งยืน'!A23 -> 0 | B30: =+'[1]ดำเนินงานครุภัณฑ์ 310061ยั่งยืน'!E23 -> ครุภัณฑ์สำนักงาน 120601 | C30: =+'[1]ดำเนินงานครุภัณฑ์ 310061ยั่งยืน'!D22 -> 6611310 | D30: =+'[1]ดำเนินงานครุภัณฑ์ 310061ยั่งยืน'!F27 -> 0 | E30: =+'[1]ดำเนินงานครุภัณฑ์ 310061ยั่งยืน'!G27 -> 0 | F30: =+'[1]ดำเนินงานครุภัณฑ์ 310061ยั่งยืน'!H27 -> 0 | H30: =+'[1]ดำเนินงานครุภัณฑ์ 310061ยั่งยืน'!I27 -> 0 | I30: =+'[1]ดำเนินงานครุภัณฑ์ 310061ยั่งยืน'!J27 -> 0 | J30: =+'[1]ดำเนินงานครุภัณฑ์ 310061ยั่งยืน'!K27 -> 0 | K30: =+'[1]ดำเนินงานครุภัณฑ์ 310061ยั่งยืน'!L27 -> 0
A31: =+'[1]งบกัน67 350002'!A38 -> 1.1.1 | B31: =+'[1]ดำเนินงานครุภัณฑ์ 310061ยั่งยืน'!E24 -> เครื่องปรับอากาศแบบตั้งพื้นหรือแขวน (ระบบ INVERTER) ขนาด 20,000 บีทียู | C31: =+'[1]ดำเนินงานครุภัณฑ์ 310061ยั่งยืน'!C24 -> โอนเปลี่ยนแปลงครั้งที่ 1/66 บท.กลุ่มนโยบายและแผน ที่ ศธ 04087/1957 ลว. 28 กย 66 | D31: =+D32 -> 0 | E31: =+E32 -> 0 | F31: =+F32 -> 0 | H31: =+H32 -> 0 | I31: =+I32 -> 0 | J31: =+J32 -> 0 | K31: =+K32 -> 0
A32: =+'[1]ดำเนินงานครุภัณฑ์ 310061ยั่งยืน'!A25 -> 1) | B32: =+'[1]ดำเนินงานครุภัณฑ์ 310061ยั่งยืน'!E25 -> สพป.ปท.2 | C32: =+'[1]ดำเนินงานครุภัณฑ์ 310061ยั่งยืน'!D24 -> 20004 31006100 3110010 | D32: =+'[1]ดำเนินงานครุภัณฑ์ 310061ยั่งยืน'!F29 -> 0 | E32: =+'[1]ดำเนินงานครุภัณฑ์ 310061ยั่งยืน'!G29 -> 0 | F32: =+'[1]ดำเนินงานครุภัณฑ์ 310061ยั่งยืน'!H29 -> 0 | H32: =+'[1]ดำเนินงานครุภัณฑ์ 310061ยั่งยืน'!I29 -> 0 | I32: =+'[1]ดำเนินงานครุภัณฑ์ 310061ยั่งยืน'!J29 -> 0 | J32: =+'[1]ดำเนินงานครุภัณฑ์ 310061ยั่งยืน'!K29 -> 0 | K32: =+'[1]ดำเนินงานครุภัณฑ์ 310061ยั่งยืน'!L29 -> 0
A33: =+'[1]ดำเนินงานครุภัณฑ์ 310061ยั่งยืน'!A30 -> 2 | B33: =+'[1]ดำเนินงานครุภัณฑ์ 310061ยั่งยืน'!E30 -> เครื่องปรับอากาศแบบติดผนัง (ระบบ INVERTER) ขนาด 18,000 บีทียู | C33: =+'[1]ดำเนินงานครุภัณฑ์ 310061ยั่งยืน'!C30 -> โอนเปลี่ยนแปลงครั้งที่ 1/66 บท.กลุ่มนโยบายและแผน ที่ ศธ 04087/1957 ลว. 28 กย 66 | D33: =+D34 -> 0 | E33: =+E34 -> 0 | F33: =+F34 -> 0 | H33: =+H34 -> 0 | I33: =+I34 -> 0 | J33: =+J34 -> 0 | K33: =+K34 -> 0
A34: =+'[1]ดำเนินงานครุภัณฑ์ 310061ยั่งยืน'!A31 -> 1) | B34: =+'[1]ดำเนินงานครุภัณฑ์ 310061ยั่งยืน'!E31 -> สพป.ปท.2 | C34: =+'[1]ดำเนินงานครุภัณฑ์ 310061ยั่งยืน'!D30 -> 20005 31006100 3110011 | D34: =+'[1]ดำเนินงานครุภัณฑ์ 310061ยั่งยืน'!F34 -> 0 | E34: =+'[1]ดำเนินงานครุภัณฑ์ 310061ยั่งยืน'!G34 -> 0 | F34: =+'[1]ดำเนินงานครุภัณฑ์ 310061ยั่งยืน'!H34 -> 0 | H34: =+'[1]ดำเนินงานครุภัณฑ์ 310061ยั่งยืน'!I34 -> 0 | I34: =+'[1]ดำเนินงานครุภัณฑ์ 310061ยั่งยืน'!J34 -> 0 | J34: =+'[1]ดำเนินงานครุภัณฑ์ 310061ยั่งยืน'!K34 -> 0 | K34: =+'[1]ดำเนินงานครุภัณฑ์ 310061ยั่งยืน'!L34 -> 0
A35: =+'[1]ดำเนินงานครุภัณฑ์ 310061ยั่งยืน'!A35 -> 3 | B35: =+'[1]ดำเนินงานครุภัณฑ์ 310061ยั่งยืน'!E35 -> โพเดียม | C35: =+'[1]ดำเนินงานครุภัณฑ์ 310061ยั่งยืน'!C35 -> โอนเปลี่ยนแปลงครั้งที่ 1/66 บท.กลุ่มนโยบายและแผน ที่ ศธ 04087/1957 ลว. 28 กย 66 | D35: =+D36 -> 0 | E35: =+E36 -> 0 | F35: =+F36 -> 0 | H35: =+H36 -> 0 | I35: =+I36 -> 0 | J35: =+J36 -> 0 | K35: =+K36 -> 0
A36: =+'[1]ดำเนินงานครุภัณฑ์ 310061ยั่งยืน'!A36 -> 1) | B36: =+'[1]ดำเนินงานครุภัณฑ์ 310061ยั่งยืน'!E36 -> สพป.ปท.2 | C36: =+'[1]ดำเนินงานครุภัณฑ์ 310061ยั่งยืน'!D35 -> 20008 31006100 3110014 | D36: =+'[1]ดำเนินงานครุภัณฑ์ 310061ยั่งยืน'!F36 -> 0 | E36: =+'[1]ดำเนินงานครุภัณฑ์ 310061ยั่งยืน'!G39 -> 0 | F36: =+'[1]ดำเนินงานครุภัณฑ์ 310061ยั่งยืน'!H39 -> 0 | G36: =+'[1]ดำเนินงานครุภัณฑ์ 310061ยั่งยืน'!I39 -> 0 | H36: =+'[1]ดำเนินงานครุภัณฑ์ 310061ยั่งยืน'!J39 -> 0 | I36: =+'[1]ดำเนินงานครุภัณฑ์ 310061ยั่งยืน'!K39 -> 0 | J36: =+'[1]ดำเนินงานครุภัณฑ์ 310061ยั่งยืน'!L39 -> 0 | K36: =+'[1]ดำเนินงานครุภัณฑ์ 310061ยั่งยืน'!L36 -> 0
B37: =+'[1]ดำเนินงานครุภัณฑ์ 310061ยั่งยืน'!E40 -> ครุภัณฑ์โฆษณาและเผยแพร่ 120601 | C37: =+'[1]ดำเนินงานครุภัณฑ์ 310061ยั่งยืน'!D27 -> 0 | D37: =+D38+D40+D42 -> 0 | E37: =+E38+E40+E42 -> 0 | F37: =+F38+F40+F42 -> 0 | H37: =+H38+H40+H42 -> 0 | I37: =+I38+I40+I42 -> 0 | J37: =+J38+J40+J42 -> 0 | K37: =+K38+K40+K42 -> 0
A38: =+'[1]ดำเนินงานครุภัณฑ์ 310061ยั่งยืน'!A41 -> 1 | B38: =+'[1]ดำเนินงานครุภัณฑ์ 310061ยั่งยืน'!E41 -> โทรทัศน์สีแอล อี ดี (LED TV) แบบ Smart TV ระดับความละเอียดจอภาพ 3840 x 2160 พิกเซล ขนาด 75 นิ้ว | C38: =+'[1]ดำเนินงานครุภัณฑ์ 310061ยั่งยืน'!C41 -> โอนเปลี่ยนแปลงครั้งที่ 1/66 บท.กลุ่มนโยบายและแผน ที่ ศธ 04087/1957 ลว. 28 กย 66 | D38: =+D39 -> 0 | E38: =+E39 -> 0 | F38: =+F39 -> 0 | H38: =+H39 -> 0 | I38: =+I39 -> 0 | J38: =+J39 -> 0 | K38: =+K39 -> 0
A39: =+'[1]ดำเนินงานครุภัณฑ์ 310061ยั่งยืน'!A42 -> 1) | B39: =+'[1]ดำเนินงานครุภัณฑ์ 310061ยั่งยืน'!E53 -> สพป.ปท.2 | C39: =+'[1]ดำเนินงานครุภัณฑ์ 310061ยั่งยืน'!D41 -> 20007 31006100 3110012 | D39: =+'[1]ดำเนินงานครุภัณฑ์ 310061ยั่งยืน'!F46 -> 0 | E39: =+'[1]ดำเนินงานครุภัณฑ์ 310061ยั่งยืน'!G46 -> 0 | F39: =+'[1]ดำเนินงานครุภัณฑ์ 310061ยั่งยืน'!H46 -> 0 | H39: =+'[1]ดำเนินงานครุภัณฑ์ 310061ยั่งยืน'!I46 -> 0 | I39: =+'[1]ดำเนินงานครุภัณฑ์ 310061ยั่งยืน'!J46 -> 0 | J39: =+'[1]ดำเนินงานครุภัณฑ์ 310061ยั่งยืน'!K46 -> 0 | K39: =+'[1]ดำเนินงานครุภัณฑ์ 310061ยั่งยืน'!L46 -> 0
A40: =+'[1]ดำเนินงานครุภัณฑ์ 310061ยั่งยืน'!A47 -> 2 | B40: =+'[1]ดำเนินงานครุภัณฑ์ 310061ยั่งยืน'!E47 -> ไมโครโฟนไร้สาย | C40: =+'[1]ดำเนินงานครุภัณฑ์ 310061ยั่งยืน'!C47 -> โอนเปลี่ยนแปลงครั้งที่ 1/66 บท.กลุ่มนโยบายและแผน ที่ ศธ 04087/1957 ลว. 28 กย 66 | D40: =+D41 -> 0 | E40: =+E41 -> 0 | F40: =+F41 -> 0 | H40: =+H41 -> 0 | I40: =+I41 -> 0 | J40: =+J41 -> 0 | K40: =+K41 -> 0
...

Sheet งบบริหารจัดการเขตพื้นที่
A1: รายงานผลการเบิกจ่ายเงินงบประมาณ งบประจำเพื่อการบริหารจัดการสำนักงานและงบพัฒนาคุณภาพการศึกษา
A2: ประจำปีงบประมาณ พ.ศ. 2569
A3: กลุ่มบริหารงานการเงินและสินทรัพย์ สำนักงานเขตพื้นที่การศึกษาประถมศึกษาปทุมธานี เขต 2
A4: ประจำเดือนกันยายน 2569
A5: ที่ | B5: รายการ | D5: =+[2]ระบบการควบคุมฯ!B768 -> กิจกรรมการบริหารจัดการในเขตพื้นที่การศึกษา | K5: =+[2]ระบบการควบคุมฯ!B897 -> กิจกรรมการจัดการศึกษาประถมศึกษาสำหรับโรงเรียนปกติ | R5: =+[2]งบสพฐ!B367 -> กิจกรรมการสนับสนุนการศึกษาขั้นพื้นฐาน | Y5: รวมกิจกรรมบริหารจัดการในสำนักงานเขตพื้นที่การศึกษา/กิจกรรมการจัดการศึกษาประถมศึกษาฯ/กิจกรรมสนับสนุนการศึกษาขั้นพื้นฐาน | AG5: ผู้รับผิดชอบ
C6: รหัสงบประมาณ | D6: งบบริหารสำนักงาน | E6: งบพัฒนาเพื่อพัฒนาคุณภาพการศึกษา | F6: รวมเงินงวด | G6: ผูกพัน | H6: =+[2]ระบบการควบคุมฯ!I5 -> กันเงินไว้เบิก | I6: เบิก | J6: คงเหลือ | K6: งบบริหารสำนักงาน | L6: งบพัฒนาเพื่อพัฒนาคุณภาพการศึกษา | M6: รวมเงินงวด | N6: ผูกพัน | O6: กันเงินไว้เบิก | P6: เบิก | Q6: คงเหลือ | R6: งบบริหารสำนักงาน | S6: งบพัฒนาเพื่อพัฒนาคุณภาพการศึกษา | T6: รวมเงินงวด | U6: ผูกพัน | V6: กันเงินไว้เบิก | W6: เบิก | X6: คงเหลือ | Y6: งบบริหารสำนักงาน | Z6: งบพัฒนาเพื่อพัฒนาคุณภาพการศึกษา | AA6: รวมเงินงวด | AB6: ผูกพัน | AC6: กันเงินไว้เบิก | AD6: เบิก | AE6: คงเหลือ
C7: หนังสือแจ้งโอน
D8: (1) | E8: (2) | F8: (1)+(2)=3 | G8: (4) | H8: (5) | I8: (6) | J8: (3)-(4)-(6)=7 | K8: (1) | L8: (2) | M8: (1)+(2)=3 | N8: =+[2]ระบบการควบคุมฯ!G853+[2]ระบบการควบคุมฯ!H853 -> 0 | O8: (5) | P8: (6) | Q8: (3)-(4)-(6)=7 | R8: (1) | S8: (2) | T8: (1)+(2)=3 | U8: (4) | V8: (5) | W8: (6) | X8: (3)-(4)-(6)=7 | Y8: (1) | Z8: (2) | AA8: (1)+(2)=3 | AB8: (4) | AC8: (5) | AD8: (6) | AE8: (3)-(4)-(6)=7
A9: =+[2]ระบบการควบคุมฯ!650:650 -> ง | B9: =[3]งบประจำและงบพัฒนาคุณภาพการศึกษา!B112 -> 0 | D9: =+D48 -> 1122710 | E9: =+E48 -> 227290 | F9: =+F48 -> 1350000 | G9: =+G48 -> 67355 | H9: =+H48 -> 0 | I9: =+I48 -> 1282645 | J9: =+J48 -> 0 | K9: =+K48 -> 2519790 | ... AE9: =+AE48 -> 0
B10: =[2]ระบบการควบคุมฯ!B651 -> งบดำเนินงาน 69112xx | C10: =[3]งบประจำและงบพัฒนาคุณภาพการศึกษา!C115 -> 0 | D10: =+D48 -> 1122710 | E10: =+E48 -> 227290 | F10: =+F48 -> 1350000 | G10: =+G48 -> 67355 | H10: =+H48 -> 0 | I10: =+I48 -> 1282645 | J10: =+J48 -> 0 | K10: =+K48 -> 2519790 | ... AE10: =+AE48 -> 0
A11: 1 | B11: =[3]งบประจำและงบพัฒนาคุณภาพการศึกษา!B116 -> 0 | C11: =SUM(C13:C22) -> 0 | D11: =SUM(D12:D24) -> 0 | E11: =SUM(E12:E24) -> 0 | F11: =SUM(F12:F24) -> 0 | G11: =SUM(G12:G24) -> 208646472 | H11: =SUM(H12:H24) -> #VALUE! | I11: =SUM(I12:I24) -> 0 | J11: =SUM(J12:J24) -> #VALUE! | AG11: กลุ่มบริหารงานการเงินและสินทรัพย์
B12: =[3]งบประจำและงบพัฒนาคุณภาพการศึกษา!B117 -> 0 | C12: =[3]งบประจำและงบพัฒนาคุณภาพการศึกษา!C117 -> 0
A13: =+[3]งบประจำและงบพัฒนาคุณภาพการศึกษา!A118 -> 0 | B13: =[3]งบประจำและงบพัฒนาคุณภาพการศึกษา!B118 -> 0 | C13: =+[4]งบสพฐ!C254 -> 20004 42002270 4100117 | D13: =+[4]งบสพฐ!E254 -> 0 | F13: =+D13+E13 -> 0 | G13: =+[4]งบสพฐ!G254+[4]งบสพฐ!H254 -> 0 | H13: =+[4]งบสพฐ!I254+[4]งบสพฐ!J254 -> #VALUE! | I13: =+[4]งบสพฐ!K254+[4]งบสพฐ!L254 -> 0 | J13: =+F13-G13-H13-I13 -> #VALUE!
B14: =[3]งบประจำและงบพัฒนาคุณภาพการศึกษา!B119 -> 0 | C14: =[3]งบประจำและงบพัฒนาคุณภาพการศึกษา!F119 -> 0 | D14: =[3]งบประจำและงบพัฒนาคุณภาพการศึกษา!F119 -> 0
A15: =+[3]งบประจำและงบพัฒนาคุณภาพการศึกษา!A120 -> 0 | B15: =[3]งบประจำและงบพัฒนาคุณภาพการศึกษา!B120 -> 0 | C15: =+[4]งบสพฐ!C256 -> 20005 42002270 4100271 | D15: =+[4]งบสพฐ!E256 -> 0 | F15: =+D15+E15 -> 0 | G15: =+[4]งบสพฐ!G256+[4]งบสพฐ!H256 -> 0 | H15: =+[4]งบสพฐ!I256+[4]งบสพฐ!J256 -> #VALUE! | I15: =+[4]งบสพฐ!K256+[4]งบสพฐ!L256 -> 0 | J15: =+F15-G15-H15-I15 -> #VALUE!
A16: =+[3]งบประจำและงบพัฒนาคุณภาพการศึกษา!A121 -> 0 | B16: =[3]งบประจำและงบพัฒนาคุณภาพการศึกษา!B121 -> 0 | C16: =+[4]งบสพฐ!C257 -> 20006 42002270 4100348 | D16: =+[4]งบสพฐ!E257 -> 0 | F16: =+D16+E16 -> 0 | G16: =+[4]งบสพฐ!G257+[4]งบสพฐ!H257 -> 0 | H16: =+[4]งบสพฐ!I257+[4]งบสพฐ!J257 -> #VALUE! | I16: =+[4]งบสพฐ!K257+[4]งบสพฐ!L257 -> 0 | J16: =+F16-G16-H16-I16 -> #VALUE!
A17: =+[3]งบประจำและงบพัฒนาคุณภาพการศึกษา!A122 -> #REF! | B17: =[3]งบประจำและงบพัฒนาคุณภาพการศึกษา!B122 -> #REF! | C17: =+[4]งบสพฐ!C258 -> 0 | D17: =+[4]งบสพฐ!E258 -> 0 | F17: =+D17+E17 -> 0 | G17: =+[4]งบสพฐ!G258+[4]งบสพฐ!H258 -> 135500892 | H17: =+[3]งบประจำและงบพัฒนาคุณภาพการศึกษา!I122+[3]งบประจำและงบพัฒนาคุณภาพการศึกษา!J122 -> #REF! | I17: =+[4]งบสพฐ!K258+[4]งบสพฐ!L258 -> 0 | J17: =+F17-G17-H17-I17 -> #REF!
A18: =+[3]งบประจำและงบพัฒนาคุณภาพการศึกษา!A123 -> #REF! | B18: =[3]งบประจำและงบพัฒนาคุณภาพการศึกษา!B123 -> #REF! | C18: =+[4]งบสพฐ!C259 -> ศธ 04002/ว47248 ลว.22/ต.ค./2025 โอนครั้งที่ 13 | D18: =+[4]งบสพฐ!E259 -> 0 | F18: =+D18+E18 -> 0 | G18: =+[4]งบสพฐ!G259+[4]งบสพฐ!H259 -> 0 | H18: =+[4]งบสพฐ!I259+[4]งบสพฐ!J259 -> 0 | I18: =+[4]งบสพฐ!K259+[4]งบสพฐ!L259 -> 0 | J18: =+F18-G18-H18-I18 -> 0
A19: =+[3]งบประจำและงบพัฒนาคุณภาพการศึกษา!A124 -> #REF! | B19: =[3]งบประจำและงบพัฒนาคุณภาพการศึกษา!B124 -> #REF! | C19: =+[4]งบสพฐ!C260 -> ศธ 04002/ว50952 ลว.22/ธ.ค./2025 โอนครั้งที่ 167 | D19: =+[4]งบสพฐ!E260 -> 0 | F19: =+D19+E19 -> 0 | G19: =+[4]งบสพฐ!G260+[4]งบสพฐ!H260 -> 0 | H19: =+[4]งบสพฐ!I260+[4]งบสพฐ!J260 -> 0 | I19: =+[4]งบสพฐ!K260+[4]งบสพฐ!L260 -> 0 | J19: =+F19-G19-H19-I19 -> 0
A20: =+[3]งบประจำและงบพัฒนาคุณภาพการศึกษา!A125 -> #REF! | B20: =[3]งบประจำและงบพัฒนาคุณภาพการศึกษา!B125 -> #REF! | C20: =+[4]งบสพฐ!C261 -> ศธ 04002/ว5805 ลว.7 เม.ย.69 โอนครั้งที่ 411 | D20: =+[4]งบสพฐ!E261 -> 0 | F20: =+D20+E20 -> 0 | G20: =+[4]งบสพฐ!G261+[4]งบสพฐ!H261 -> 0 | H20: =+[4]งบสพฐ!I260+[4]งบสพฐ!J260 -> 0 | I20: =+[4]งบสพฐ!K261+[4]งบสพฐ!L261 -> 0 | J20: =+F20-G20-H20-I20 -> 0
A21: =+[3]งบประจำและงบพัฒนาคุณภาพการศึกษา!A126 -> #REF! | B21: =[3]งบประจำและงบพัฒนาคุณภาพการศึกษา!B126 -> #REF! | C21: =+[4]งบสพฐ!C262 -> ศธ 04002/ว50952 ลว.22/ธ.ค./2025 โอนครั้งที่ 167 | D21: =+[4]งบสพฐ!E262 -> 0 | F21: =+D21+E21 -> 0 | G21: =+[4]งบสพฐ!G262+[4]งบสพฐ!H262 -> 0 | H21: =+[4]งบสพฐ!I262+[4]งบสพฐ!J262 -> 0 | I21: =+[4]งบสพฐ!K262+[4]งบสพฐ!L262 -> 0 | J21: =+F21-G21-H21-I21 -> 0 | AG21: กลุ่มนโยบายและแผน
A22: =+[3]งบประจำและงบพัฒนาคุณภาพการศึกษา!A127 -> #REF! | B22: =[3]งบประจำและงบพัฒนาคุณภาพการศึกษา!B127 -> #REF! | D22: =+[4]งบสพฐ!E263 -> 0 | F22: =+D22+E22 -> 0 | G22: =+[4]งบสพฐ!G263+[4]งบสพฐ!H263 -> 0 | H22: =+[4]งบสพฐ!I263+[4]งบสพฐ!J263 -> 0 | I22: =+[4]งบสพฐ!K263+[4]งบสพฐ!L263 -> 0 | J22: =+F22-G22-H22-I22 -> 0 | AG22: กลุ่มนโยบายและแผน
A23: =+[4]งบสพฐ!A264 -> 1) | B23: =+[4]งบสพฐ!B264 -> ค่าจัดการเรียนการสอน รหัสบัญชีย่อย 0024315(ครั้งที่ 13 26,075,110) (ครั้งที่ 167 10,547,330) (ครั้งที่ 411 จำนวน 18,414,800)(ครั้งที่ 704 18,108,340) | D23: =+[4]งบสพฐ!E264 -> 0 | F23: =+D23+E23 -> 0 | G23: =+[4]งบสพฐ!G264+[4]งบสพฐ!H264 -> 73145580 | H23: =+[4]งบสพฐ!I264+[4]งบสพฐ!J264 -> #VALUE! | I23: =+[4]งบสพฐ!K264+[4]งบสพฐ!L264 -> 0 | J23: =+F23-G23-H23-I23 -> #VALUE! | AG23: กลุ่มอำนวยการ
A24: =+[4]งบสพฐ!A253 -> 1) | B24: =+[4]งบสพฐ!B253 -> ค่าหนังสือเรียน รหัสบัญชีย่อย 0022001/10,931,200 | C24: =+[4]งบสพฐ!F253 -> 0 | D24: =+[4]งบสพฐ!E253 -> 0 | E24: =+[4]งบสพฐ!H253 -> 0 | F24: =+D24+E24 -> 0 | G24: =+[4]งบสพฐ!G253+[4]งบสพฐ!H253 -> 0 | H24: =+[4]งบสพฐ!I253+[4]งบสพฐ!J253 -> #VALUE! | I24: =+[4]งบสพฐ!K253+[4]งบสพฐ!L253 -> 0 | J24: =+F24-G24-H24-I24 -> #VALUE! | AG24: กลุ่มนโยบายและแผน
A26: 2 | C26: =[3]งบประจำและงบพัฒนาคุณภาพการศึกษา!C129 -> #REF! | D26: =+D27+D38 -> 0 | E26: =+E27+E38 -> 0 | F26: =+F27+F38 -> 0 | G26: =+G27+G38 -> 30384442 | H26: =+H27+H38 -> #VALUE! | I26: =+I27+I38 -> 0 | J26: =+J27+J38 -> #VALUE! | AG26: =+AG27 -> 0
A27: 2.1 | C27: =+[4]งบสพฐ!C266 -> 20005 45002400 4100004 | E27: =SUM(E28:E37) -> 0 | F27: =+E27+D27 -> 0 | G27: =SUM(G28:G33) -> 30384442 | H27: =SUM(H28:H33) -> #VALUE! | I27: =SUM(I28:I33) -> 0 | J27: =SUM(J28:J33) -> #VALUE!
A28: 2.1.1 | E28: =+[4]งบสพฐ!E267 -> 0 | F28: =+E28+D28 -> 0 | G28: =+[4]งบสพฐ!G267+[4]งบสพฐ!H267 -> 19162242 | H28: =+[4]งบสพฐ!I267+[4]งบสพฐ!J267 -> #VALUE! | I28: =+[4]งบสพฐ!K267+[4]งบสพฐ!L267 -> 0 | J28: =+F28-G28-H28-I28 -> #VALUE! | AG28: กลุ่มนิเทศติดตามและประเมินผลฯ
A29: 2.1.2 | E29: =+[4]งบสพฐ!E268 -> 0 | F29: =+E29+D29 -> 0 | G29: =+[4]งบสพฐ!G268+[4]งบสพฐ!H268 -> 11222200 | H29: =+[4]งบสพฐ!I268+[4]งบสพฐ!J268 -> #VALUE! | I29: =+[4]งบสพฐ!K268+[4]งบสพฐ!L268 -> 0 | J29: =+F29-G29-H29-I29 -> #VALUE! | AG29: กลุ่มนิเทศติดตามและประเมินผลฯ
A30: 2.1.3 | E30: =+[4]งบสพฐ!E269 -> 0 | F30: =+E30+D30 -> 0 | G30: =+[4]งบสพฐ!G269+[4]งบสพฐ!H269 -> 0 | H30: =+[4]งบสพฐ!I269+[4]งบสพฐ!J269 -> 0 | I30: =+[4]งบสพฐ!K269+[4]งบสพฐ!L269 -> 0 | J30: =+F30-G30-H30-I30 -> 0 | AG30: กลุ่มนิเทศติดตามและประเมินผลฯ
A31: 2.1.4 | E31: =+[4]งบสพฐ!E270 -> 0 | F31: =+E31+D31 -> 0 | G31: =+[4]งบสพฐ!G270+[4]งบสพฐ!H270 -> 0 | H31: =+[4]งบสพฐ!I270+[4]งบสพฐ!J270 -> #VALUE! | I31: =+[4]งบสพฐ!K270+[4]งบสพฐ!L270 -> 0 | J31: =+F31-G31-H31-I31 -> #VALUE! | AG31: กลุ่มส่งเสริมการจัดการศึกษา
A32: 2.1.5 | E32: =+[4]งบสพฐ!E271 -> 0 | F32: =+E32+D32 -> 0 | G32: =+[4]งบสพฐ!G271+[4]งบสพฐ!H271 -> 0 | H32: =+[4]งบสพฐ!I271+[4]งบสพฐ!J271 -> 0 | I32: =+[4]งบสพฐ!K271+[4]งบสพฐ!L271 -> 0 | J32: =+F32-G32-H32-I32 -> 0 | AG32: กลุ่มอำนวยการ
A33: 2.1.6 | E33: =+[4]งบสพฐ!E272 -> 0 | F33: =+E33+D33 -> 0 | G33: =+[4]งบสพฐ!G272+[4]งบสพฐ!H272 -> 0 | H33: =+[4]งบสพฐ!I272+[4]งบสพฐ!J272 -> #VALUE! | I33: =+[4]งบสพฐ!K272+[4]งบสพฐ!L272 -> 0 | J33: =+F33-G33-H33-I33 -> #VALUE! | AG33: กลุ่มบริหารงานบุคคล
D34: =[3]งบประจำและงบพัฒนาคุณภาพการศึกษา!F137 -> 0 | F34: =+E34+D34 -> 0
D35: =[3]งบประจำและงบพัฒนาคุณภาพการศึกษา!F138 -> 0 | F35: =+E35+D35 -> 0
D36: =[3]งบประจำและงบพัฒนาคุณภาพการศึกษา!F139 -> 0 | F36: =+E36+D36 -> 0
F37: =+E37+D37 -> 0
A38: 2.2 | E38: =SUM(E39:E47) -> 0 | F38: =SUM(F39:F47) -> 0 | G38: =SUM(G39:G47) -> 0 | H38: =SUM(H39:H47) -> #VALUE! | I38: =SUM(I39:I47) -> 0 | J38: =SUM(J39:J46) -> #VALUE!
A39: 2.2.1 | E39: =+[4]งบสพฐ!E277 -> 0 | F39: =+E39+D39 -> 0 | G39: =+[4]งบสพฐ!G277+[4]งบสพฐ!H277 -> 0 | H39: =+[4]งบสพฐ!I277+[4]งบสพฐ!J277 -> #VALUE! | I39: =+[4]งบสพฐ!K277+[4]งบสพฐ!L277 -> 0 | J39: =+F39-G39-H39-I39 -> #VALUE! | AG39: กลุ่มบริหารงานการเงินและสินทรัพย์
A40: 2.2.2 | E40: =+[4]งบสพฐ!E278 -> 0 | F40: =+E40+D40 -> 0 | G40: =+[4]งบสพฐ!G278+[4]งบสพฐ!H278 -> 0 | H40: =+[4]งบสพฐ!I278+[4]งบสพฐ!J278 -> 0 | I40: =+[4]งบสพฐ!K278+[4]งบสพฐ!L278 -> 0 | J40: =+F40-G40-H40-I40 -> 0 | AG40: กลุ่มนิเทศติดตามและประเมินผลฯ
A41: 2.2.3 | B41: =+[4]งบสพฐ!B279 -> ค่าหนังสือเรียน 5,592,137.00 รหัสกิจกรรมย่อย 0024007 1/2568 30% | C41: =+[4]งบสพฐ!C279 -> ศธ 04002/ว40516 ลว.16 กค 68 โอนครั้งที่ 695 | E41: =+[4]งบสพฐ!E279 -> 0 | F41: =+E41+D41 -> 0 | G41: =+[4]งบสพฐ!G279+[4]งบสพฐ!H279 -> 0 | H41: =+[4]งบสพฐ!I279+[4]งบสพฐ!J279 -> 0 | I41: =+[4]งบสพฐ!K279+[4]งบสพฐ!L279 -> 0 | J41: =+F41-G41-H41-I41 -> 0 | AG41: กลุ่มบริหารงานการเงินและสินทรัพย์
...

Sheet งบสพฐ
A1: งบประมาณของสำนักงานคณะกรรมการการศึกษาขั้นพื้นฐาน
A2: ประจำปีงบประมาณ พ.ศ. 2569
A3: กลุ่มบริหารงานการเงินและสินทรัพย์ สำนักงานเขตพื้นที่การศึกษาประถมศึกษาปทุมธานี เขต 2
B4: =+[2]งบประจำและงบกลยุทธ์!A4 -> ประจำเดือนกันยายน 2569 | I4: รายละเอียด 4
A5: ที่ | B5: รายการ | C5: รหัสงบประมาณ/หนังสือแจ้งโอน | D5: เงินงวด | E5: ผูกพัน | F5: กันไว้เบิกเหลื่อมปี | G5: เบิกจ่าย | H5: คงเหลือ | I5: ผู้รับผิดชอบ
A6: =+[2]ระบบการควบคุมฯ!A7 -> ก | B6: =+[2]ระบบการควบคุมฯ!B7 -> แผนงานบุคลากรภาครัฐ | C6: =+[2]ระบบการควบคุมฯ!C7 [2]ระบบการควบคุมฯ!C7 -> 20004 1400 0800 | D6: =+D7 -> 10891300 | E6: =+E7 -> 0 | F6: =+F7 -> 0 | G6: =+G7 -> 10662935 | H6: =+H7 -> 228365.32
A7: =+[2]ระบบการควบคุมฯ!A8 -> 1 | B7: =+[2]ระบบการควบคุมฯ!B8 -> ผลผลิตรายการค่าใช้จ่ายบุคลากรภาครัฐ ยกระดับคุณภาพการศึกษาและการเรียนรู้ตลอดชีวิต | C7: =+[2]ระบบการควบคุมฯ!C8 -> 20004 1400 0800 | D7: =+D8 -> 10891300 | E7: =+E8 -> 0 | F7: =+F8 -> 0 | G7: =+G8 -> 10662935 | H7: =+H8 -> 228365.32
A8: =+[2]ระบบการควบคุมฯ!A10 -> 1.1 | B8: =+[2]ระบบการควบคุมฯ!B10 -> กิจกรรมค่าใช้จ่ายบุคลากรภาครัฐของสำนักงานคณะกรรมการการศึกษาขั้นพื้นฐาน | C8: =+[2]ระบบการควบคุมฯ!C10 -> 20004 69 79456 00000 | D8: =+D9+D13+D20 -> 10891300 | E8: =+E9+E13+E20 -> 0 | F8: =+F9+F13+F20 -> 0 | G8: =+G9+G13+G20 -> 10662935 | H8: =+H9+H13+H20 -> 228365.32
B9: =+[2]ระบบการควบคุมฯ!B12 -> งบบุคลากร ค่าจ้างชั่วคราว 6911130 | C9: =+[2]ระบบการควบคุมฯ!C12 -> 20004 14000800 1000000 | D9: =+D10+D11 -> 1988700 | E9: =+E10+E11 -> 0 | F9: =+F10+F11 -> 0 | G9: =+G10+G11 -> 1832731.1 | H9: =+H10+H11 -> 155968.94
A10: =+[2]ระบบการควบคุมฯ!A13 -> 1.2.1 | B10: =+[2]ระบบการควบคุมฯ!_Hlk231936231 -> #NAME? | C10: =+[2]ระบบการควบคุมฯ!C13 -> ศธ 04002/ว9361 ลว. 4 มิ.ย. 69 ครั้งที่ 691 | D10: =+[2]ระบบการควบคุมฯ!F13 -> 1988700 | E10: =+[2]ระบบการควบคุมฯ!G13+[2]ระบบการควบคุมฯ!H13 -> 0 | F10: =+[2]ระบบการควบคุมฯ!I13+[2]ระบบการควบคุมฯ!J13 -> 0 | G10: =+[2]ระบบการควบคุมฯ!K13+[2]ระบบการควบคุมฯ!L13 -> 1832731.1 | H10: =+D10-E10-F10-G10 -> 155968.94 | I10: กลุ่มบริหารงานการเงินและสินทรัพย์
A11: =+[2]ระบบการควบคุมฯ!A14 -> 1.2.2 | B11: =+[2]ระบบการควบคุมฯ!B14 -> ค่าจ้างชั่วคราว จำนวน 26 อัตรา จำนวน 1 เดือน (สิงหาคม 2569) 497,200 บาท | C11: =+[2]ระบบการควบคุมฯ!C14 -> ศธ 04002/ว13660 ลว. 6 ส.ค. 69 ครั้งที่ 830 | E11: =+[2]ระบบการควบคุมฯ!G14+[2]ระบบการควบคุมฯ!H14 -> 0 | F11: =+[2]ระบบการควบคุมฯ!I14+[2]ระบบการควบคุมฯ!J14 -> 0 | G11: =+[2]ระบบการควบคุมฯ!K14+[2]ระบบการควบคุมฯ!L14 -> 0 | H11: =+D11-E11-F11-G11 -> 0 | I11: กลุ่มบริหารงานการเงินและสินทรัพย์
A12: =+[2]ระบบการควบคุมฯ!A15 -> 1.2.3 | B12: =+[2]ระบบการควบคุมฯ!B15 -> ค่าจ้างชั่วคราว จำนวน 26 อัตรา จำนวน 1 เดือน (กันยายน 2569) 497,200 บาท | C12: =+[2]ระบบการควบคุมฯ!C15 -> ศธ 04002/ว16102 ลว. 10 ก.ย. 69 ครั้งที่ 910 | E12: =+[2]ระบบการควบคุมฯ!G15+[2]ระบบการควบคุมฯ!H15 -> 0 | F12: =+[2]ระบบการควบคุมฯ!I15+[2]ระบบการควบคุมฯ!J15 -> 0 | G12: =+[2]ระบบการควบคุมฯ!K15+[2]ระบบการควบคุมฯ!L15 -> 0 | H12: =+D12-E12-F12-G12 -> 0 | I12: กลุ่มบริหารงานการเงินและสินทรัพย์
B13: =+[2]ระบบการควบคุมฯ!B16 -> งบบุคลากร 6911150 | C13: =+[2]ระบบการควบคุมฯ!C16 -> 20004 14000800 1000000 | D13: =SUM(D14:D18) -> 6863000 | E13: =SUM(E14:E18) -> 0 | F13: =SUM(F14:F18) -> 0 | G13: =SUM(G14:G18) -> 6820497.5 | H13: =SUM(H14:H18) -> 42502.48
A14: =+[2]ระบบการควบคุมฯ!A18 -> 1.1.1 | B14: =+[2]ระบบการควบคุมฯ!B18 -> ค่าตอบแทนพนักงานราชการ 22 อัตรา 5 เดือน(ต.ค.68 - ก.พ 69) 2,895,000 บาท | C14: =+[2]ระบบการควบคุมฯ!C18 -> ศธ 04002/ว46528 ลว.14 ต.ค.68 ครั้งที่ 2 | D14: =+[2]ระบบการควบคุมฯ!F18 -> 6863000 | E14: =+[2]ระบบการควบคุมฯ!G18+[2]ระบบการควบคุมฯ!H18 -> 0 | F14: =+[2]ระบบการควบคุมฯ!I18+[2]ระบบการควบคุมฯ!J18 -> 0 | G14: =+[2]ระบบการควบคุมฯ!K18+[2]ระบบการควบคุมฯ!L18 -> 6820497.5 | H14: =+D14-E14-F14-G14 -> 42502.48 | I14: กลุ่มบริหารงานการเงินและสินทรัพย์
A15: =+[2]ระบบการควบคุมฯ!A19 -> 1.1.1.1 | B15: =+[2]ระบบการควบคุมฯ!B19 -> ค่าตอบแทนพนักงานราชการ 22 อัตรา เงินเลื่อนค่าตอบแทนพนักงานราชการประจำปี จำนวน 5 เดือน (ตุลาคม 2568 -กุมภาพันธ์ 2569) 116,000 บาท | C15: =+[2]ระบบการควบคุมฯ!C19 -> ศธ 04002/ว50977 ลว. 22 ธ.ค.68 ครั้งที่ 172
A16: =+[2]ระบบการควบคุมฯ!A20 -> 1.1.1.2 | B16: =+[2]ระบบการควบคุมฯ!B20 -> ค่าตอบแทนพนักงานราชการ 22 อัตรา 5 เดือน (มีค-กค 69) 2,965,000 บาท | C16: =+[2]ระบบการควบคุมฯ!C20 -> ศธ 04002/ว4964 ลว. 23 มีค 69 ครั้งที่ 386
A17: =+[2]ระบบการควบคุมฯ!A21 -> 1.1.1.3 | B17: =+[2]ระบบการควบคุมฯ!B21 -> ค่าตอบแทนพนักงานราชการ 21 อัตรา (ส.ค.69) 317,000 บาท | C17: =+[2]ระบบการควบคุมฯ!C21 -> ศธ 04002/ว13456 ลว. 4 ส.ค.69 ครั้งที่ 808 | D17: =+[2]ระบบการควบคุมฯ!F23 -> 0 | E17: =+[2]ระบบการควบคุมฯ!G23+[2]ระบบการควบคุมฯ!H23 -> 0 | F17: =+[2]ระบบการควบคุมฯ!I23+[2]ระบบการควบคุมฯ!J23 -> 0 | G17: =+[2]ระบบการควบคุมฯ!K23+[2]ระบบการควบคุมฯ!L23 -> 0 | H17: =+D17-E17-F17-G17 -> 0
A18: =+[2]ระบบการควบคุมฯ!A22 -> 1.1.1.4 | B18: =+[2]ระบบการควบคุมฯ!B22 -> ค่าตอบแทนพนักงานราชการ 21 อัตรา (ก.ย.69)570,000 บาท | C18: =+[2]ระบบการควบคุมฯ!C22 -> ศธ 04002/ว16100 ลว. 10 ก.ย. 69 ครั้งที่ 909 | D18: =+[2]ระบบการควบคุมฯ!F24 -> 0 | E18: =+[2]ระบบการควบคุมฯ!G24+[2]ระบบการควบคุมฯ!H24 -> 0 | F18: =+[2]ระบบการควบคุมฯ!I24+[2]ระบบการควบคุมฯ!J24 -> 0 | G18: =+[2]ระบบการควบคุมฯ!K24+[2]ระบบการควบคุมฯ!L24 -> 0 | H18: =+D18-E18-F18-G18 -> 0
A20: =+[2]ระบบการควบคุมฯ!A27 -> 0 | B20: =+[2]ระบบการควบคุมฯ!B27 -> งบดำเนินงาน 6911220 | C20: =+[2]ระบบการควบคุมฯ!C27 -> 20004 1420 0800 2000000 | D20: =SUM(D21:D30) -> 2039600 | E20: =SUM(E21:E30) -> 0 | F20: =SUM(F21:F30) -> 0 | G20: =SUM(G21:G30) -> 2009706.1 | H20: =SUM(H21:H30) -> 29893.9
A21: =+[2]ระบบการควบคุมฯ!A29 -> 1.1.2 | B21: =+[2]ระบบการควบคุมฯ!B29 -> เงินสมทบกองทุนประกันสังคมพนักงานราชการ 22 อัตรา (ต.ค.68 - ก.ย.69)/เงินสมทบกองทุนทดแทน 12 เดือน (มค 68 - ธค 69) 85,000+24,000(109,000 บาท) | C21: =+[2]ระบบการควบคุมฯ!C29 -> ศธ 04002/ว46528 ลว.14 ต.ค.68 ครั้งที่ 2 | D21: =+[2]ระบบการควบคุมฯ!F29 -> 239800 | E21: =+[2]ระบบการควบคุมฯ!G29+[2]ระบบการควบคุมฯ!H29 -> 0 | F21: =+[2]ระบบการควบคุมฯ!I29+[2]ระบบการควบคุมฯ!J29 -> 0 | G21: =+[2]ระบบการควบคุมฯ!K29+[2]ระบบการควบคุมฯ!L29 -> 219341 | H21: =+D21-E21-F21-G21 -> 20459 | I21: กลุ่มบริหารงานการเงินและสินทรัพย์
A22: =+[2]ระบบการควบคุมฯ!A30 -> 1.1.2.1 | B22: =+[2]ระบบการควบคุมฯ!B30 -> เงินสมทบกองทุนประกันสังคม จำนวน 2 เดือน ( ม.ค.-กพ.69) 4,600 | C22: =+[2]ระบบการควบคุมฯ!C30 -> ศธ 04002/ว658 ลว.16 มค 69 ครั้งที่ 227
A23: =+[2]ระบบการควบคุมฯ!A31 -> 1.1.2.2 | B23: =+[2]ระบบการควบคุมฯ!B31 -> เงินสมทบกองทุนประกันสังคม จำนวน 5 เดือน (มี.ค.69 - ก.ค. 2569) 100,000 บาท | C23: =+[2]ระบบการควบคุมฯ!C31 -> ศธ 04002/ว4964 ลว. 23 มีค 69 ครั้งที่ 386
A24: =+[2]ระบบการควบคุมฯ!A32 -> 1.1.2.3 | B24: =+[2]ระบบการควบคุมฯ!B32 -> เงินสมทบกองทุนประกันสังคมพนักงานราชการ จำนวน 2 เดือน ( ส.ค. - กย 69) 7,200 บาท | C24: =+[2]ระบบการควบคุมฯ!C32 -> ศธ 04002/ว13456 ลว. 4 ส.ค. 69 ครั้งที่ 808
A25: =+[2]ระบบการควบคุมฯ!A33 -> 1.1.2.4 | B25: =+[2]ระบบการควบคุมฯ!B33 -> เงินสมทบกองทุนประกันสังคมพนักงานราชการ ( กย 69) 19,000 บาท | C25: =+[2]ระบบการควบคุมฯ!C33 -> ศธ 04002/ว16100 ลว. 10 ก.ย. 69 ครั้งที่ 909
A26: =+[2]ระบบการควบคุมฯ!A34 -> 1.1.3 | B26: =+[2]ระบบการควบคุมฯ!B34 -> เงินสมทบกองทุนประกันสังคม ค่าจ้างชั่วคราว จำนวน 2 เดือน (มิถุนายน - กรกฎาคม 2569 และรายการเงินสมทบกองทุนเงินทดแทน จำนวน 7 เดือน (มิถุนายน - ธันวาคม 2569) 52800 บาท | C26: =+[2]ระบบการควบคุมฯ!C34 -> ศธ 04002/ว9361 ลว. 4 มิ.ย. 69 ครั้งที่ 691 | D26: =+[2]ระบบการควบคุมฯ!F34 -> 98400 | E26: =+[2]ระบบการควบคุมฯ!G34+[2]ระบบการควบคุมฯ!H34 -> 0 | F26: =+[2]ระบบการควบคุมฯ!I34+[2]ระบบการควบคุมฯ!J34 -> 0 | G26: =+[2]ระบบการควบคุมฯ!K34+[2]ระบบการควบคุมฯ!L34 -> 88965.1 | H26: =+D26-E26-F26-G26 -> 9434.9
A27: =+[2]ระบบการควบคุมฯ!A35 -> 1.1.3.1 | B27: =+[2]ระบบการควบคุมฯ!B35 -> เงินสมทบกองทุนประกันสังคม ค่าจ้างชั่วคราว จำนวน 1 เดือน (สิงหาคม 2569) 22800 บาท | C27: =+[2]ระบบการควบคุมฯ!C35 -> ศธ 04002/ว13660 ลว. 6 ส.ค. 69 ครั้งที่ 830
A28: =+[2]ระบบการควบคุมฯ!A36 -> 1.1.3.2 | B28: =+[2]ระบบการควบคุมฯ!B36 -> เงินสมทบกองทุนประกันสังคม ค่าจ้างชั่วคราว จำนวน 1 เดือน (กันยายน 2569) 22800 บาท | C28: =+[2]ระบบการควบคุมฯ!C36 -> ศธ 04002/ว16102 ลว. 10 ก.ย. 69 ครั้งที่ 910
A29: =+[2]ระบบการควบคุมฯ!A39 -> 1.1.4 | B29: =+[2]ระบบการควบคุมฯ!B39 -> ค่าเช่าบ้าน (ตุลาคม 2568 - กพ. 2569) ครั้งที่ 1 741,200 บาท | C29: =+[2]ระบบการควบคุมฯ!C39 -> ศธ 04002/ว48512 ลว 11 พ.ย.2025 โอนครั้งที่ 65 | D29: =+[2]ระบบการควบคุมฯ!F39 -> 1701400 | E29: =+[2]ระบบการควบคุมฯ!G39+[2]ระบบการควบคุมฯ!H39 -> 0 | F29: =+[2]ระบบการควบคุมฯ!I39+[2]ระบบการควบคุมฯ!J39 -> 0 | G29: =+[2]ระบบการควบคุมฯ!K39+[2]ระบบการควบคุมฯ!L39 -> 1701400 | H29: =+D29-E29-F29-G29 -> 0 | I29: กลุ่มบริหารงานการเงินและสินทรัพย์
A30: =+[2]ระบบการควบคุมฯ!A40 -> 1.1.4.1 | B30: =+[2]ระบบการควบคุมฯ!B40 -> ค่าเช่าบ้าน ครั้งที่ 2 ระยะเวลา 5 เดือน (มีนาคม - กรกฎาคม 2569) 744,900 บาท | C30: =+[2]ระบบการควบคุมฯ!C40 -> ศธ 04002/ว5379 ลว. 30 มี.ค. 69 ครั้งที่ 404
A31: =+[2]ระบบการควบคุมฯ!A41 -> 1.1.4.2 | B31: =+[2]ระบบการควบคุมฯ!B41 -> ค่าเช่าบ้านครั้งที่ 3 (ส.ค.-ก.ย. 69) จำนวนเงิน 215,300 บาท | C31: =+[2]ระบบการควบคุมฯ!C41 -> ก.ย. 69 ครั้งที่ 916
A32: =+[2]ระบบการควบคุมฯ!A44 -> ข | B32: =+[2]ระบบการควบคุมฯ!B44 -> แผนงานยุทธศาสตร์พัฒนาคุณภาพการศึกษาและการเรียนรู้ | C32: =+[2]ระบบการควบคุมฯ!C44 -> 20004 3300 | D32: =+D33+D68+D89+D186+D199+D234 -> 25196992 | E32: =+E33+E68+E89+E186+E199+E234 -> 702756.5 | F32: =+F33+F68+F89+F186+F199+F234 -> 0 | G32: =+G33+G68+G89+G186+G199+G234 -> 24494210 | H32: =+H33+H68+H89+H186+H199+H234 -> 25.09 | I32: =+I33+I89 -> 0
A33: =+[5]งบสพฐ!A31 -> 2.1.4 | B33: =+[2]ระบบการควบคุมฯ!B50 -> โครงการพัฒนาหลักสูตรกระบวนการเรียนการสอน การวัดและประเมินผล | C33: =+[2]ระบบการควบคุมฯ!C50 -> 20004 3320 3300 2000000 | D33: =+D34+D37+D42+D47+D51+D55+D62+D65 -> 40000 | E33: =+E34+E37+E42+E47+E51+E55+E62+E65 -> 0 | F33: =+F34+F37+F42+F47+F51+F55+F62+F65 -> 0 | G33: =+G34+G37+G42+G47+G51+G55+G62+G65 -> 40000 | H33: =+H34+H37+H42+H47+H51+H55+H62+H65 -> 0
A34: =+[2]ระบบการควบคุมฯ!A53 -> 1.1 | B34: =+[2]ระบบการควบคุมฯ!B53 -> กิจกรรมการส่งเสริมและพัฒนาระบบการประกันคุณภาพภายในสถานศึกษา | C34: =+[2]ระบบการควบคุมฯ!C53 -> 20004 69 00015 00000 | D34: =+D35 -> 4000 | E34: =+E35 -> 0 | F34: =+F35 -> 0 | G34: =+G35 -> 4000 | H34: =+H35 -> 0
B35: =+[2]ระบบการควบคุมฯ!B54 -> งบดำเนินงาน 69112xx | C35: =+[2]ระบบการควบคุมฯ!C54 -> 20004 3320 3300 2000000 | D35: =SUM(D36) -> 4000 | E35: =SUM(E36) -> 0 | F35: =SUM(F36) -> 0 | G35: =SUM(G36) -> 4000 | H35: =SUM(H36) -> 0 | I35: =SUM(I36) -> 0
A36: =+[2]ระบบการควบคุมฯ!A55 -> 1.1.1 | B36: =+[2]ระบบการควบคุมฯ!B55 -> สนับสนุนการคัดเลือกสถานศึกษาเพื่อรับรางวัล IQA AWARD ประจำปีการศึกษา 2568 | C36: =+[2]ระบบการควบคุมฯ!C55 -> ศธ 04002/ว7915 ลว. 11 พ.ค. 69 โอนครั้งที่ 526 | D36: =+[2]ระบบการควบคุมฯ!F55 -> 4000 | E36: =+[2]ระบบการควบคุมฯ!G55+[2]ระบบการควบคุมฯ!H55 -> 0 | G36: =+[2]ระบบการควบคุมฯ!K55+[2]ระบบการควบคุมฯ!L55 -> 4000 | H36: =+D36-E36-F36-G36 -> 0 | I36: กลุ่มนิเทศติดตามและประเมินผลการจัดการศึกษา
A37: =+[2]ระบบการควบคุมฯ!A59 -> 1.2 | B37: =+[2]ระบบการควบคุมฯ!B59 -> กิจกรรมการยกระดับผลการทดสอบทางการศึกษาระดับชาติที่สอดคล้องกับบริบทพื้นที่ | C37: =+[2]ระบบการควบคุมฯ!C59 -> 20004 69 00040 00000 | D37: =+D38 -> 36000 | E37: =+E38 -> 0 | F37: =+F38 -> 0 | G37: =+G38 -> 36000 | H37: =+H38 -> 0
B38: =+[2]ระบบการควบคุมฯ!B60 -> งบดำเนินงาน 69112xx | C38: =+[2]ระบบการควบคุมฯ!C60 -> 20004 3320 3300 2000000 | D38: =SUM(D39:D41) -> 36000 | E38: =SUM(E39:E41) -> 0 | F38: =SUM(F39:F41) -> 0 | G38: =SUM(G39:G41) -> 36000 | H38: =SUM(H39:H41) -> 0
A39: =+[2]ระบบการควบคุมฯ!A61 -> 1.2.1 | B39: =+[2]ระบบการควบคุมฯ!B61 -> ค่าใช้จ่ายในการดำเนินโครงการการประเมินความสามารถด้านการอ่านของผู้เรียน (RT) ชั้นประถมศึกษาปีที่ 1 ปีการศึกษา 2568 จำนวนเงิน 15,540.00 บาท และค่าใช้จ่ายในการดำเนินโครงการการประเมินคุณภาพผู้เรียน (NT) ชั้นประถมศึกษาปีที่ 3 ปีการศึกษา 2568 สำหรับโรงเรียนตามโครงการพระราชดำริ สมเด็จพระกนิษฐาธิราชเจ้า กรมสมเด็จพระเทพรัตนราชสุดาฯ สยามบรมราชกุมารี โรงเรียนกองทุนการศึกษาและโรงเรียนทั่วไป จำนวน 14,660 บาท | C39: =+[2]ระบบการควบคุมฯ!C61 -> ศธ 04002/ว777 ลว. 19 มค 69 โอนครั้งที่ 230 จำนวนเงิน 30,200 บาท | D39: =+[2]ระบบการควบคุมฯ!F61 -> 30200 | E39: =+[2]ระบบการควบคุมฯ!G61+[2]ระบบการควบคุมฯ!H61 -> 0 | F39: =+[2]ระบบการควบคุมฯ!I61+[2]ระบบการควบคุมฯ!J61 -> 0 | G39: =+[2]ระบบการควบคุมฯ!K61+[2]ระบบการควบคุมฯ!L61 -> 30200 | H39: =+D39-E39-F39-G39 -> 0 | I39: กลุ่มนิเทศติดตามและประเมินผลการจัดการศึกษา
A40: =+[2]ระบบการควบคุมฯ!A62 -> 1.2.2 | B40: =+[2]ระบบการควบคุมฯ!B62 -> ค่าใช้จ่ายในการดำเนินการคัดเลือกนักเรียนและสถานศึกษาเพื่อรับรางวัลพระราชทาน ระดับการศึกษาขั้นพื้นฐาน ประจำปีการศึกษา 2569 (ระดับสำนักงานเขตพื้นที่การศึกษา) | C40: =+[2]ระบบการควบคุมฯ!C62 -> ศธ 04002/ว13341 ลว. 3 ส.ค 69 โอนครั้งที่ 800 | D40: =+[2]ระบบการควบคุมฯ!F62 -> 5000 | E40: =+[2]ระบบการควบคุมฯ!G62+[2]ระบบการควบคุมฯ!H62 -> 0 | F40: =+[2]ระบบการควบคุมฯ!I62+[2]ระบบการควบคุมฯ!J62 -> 0 | G40: =+[2]ระบบการควบคุมฯ!K62+[2]ระบบการควบคุมฯ!L62 -> 5000 | H40: =+D40-E40-F40-G40 -> 0 | I40: กลุ่มส่งเสริมการจัดการศึกษา
A41: =+[2]ระบบการควบคุมฯ!A63 -> 1.2.3 | B41: =+[2]ระบบการควบคุมฯ!B63 -> ค่าใช้จ่ายในการเดินทางเข้าร่วมการประชุมเชิงปฏิบัติการพัฒนาศักยภาพศึกษานิเทศก์ด้านการประเมินการเรียนรู้และการประกันคุณภาพภายในสถานศึกษาโดยการประยุกต์ใช้ปัญญาประดิษฐ์ ระหว่างวันที่ 23 – 26 สิงหาคม 2569 ณ โรงแรมริเวอร์ไซด์ กรุงเทพหานคร | C41: =+[2]ระบบการควบคุมฯ!C63 -> ศธ 04002/ว13562 ลว. 3 ส.ค 69 โอนครั้งที่ 822 | D41: =+[2]ระบบการควบคุมฯ!F63 -> 800 | E41: =+[2]ระบบการควบคุมฯ!G63+[2]ระบบการควบคุมฯ!H63 -> 0 | F41: =+[2]ระบบการควบคุมฯ!I63+[2]ระบบการควบคุมฯ!J63 -> 0 | G41: =+[2]ระบบการควบคุมฯ!K63+[2]ระบบการควบคุมฯ!L63 -> 800 | H41: =+D41-E41-F41-G41 -> 0 | I41: กลุ่มนิเทศติดตามและประเมินผลการจัดการศึกษา
...

Sheet งบลงทุน
J1: รายละเอียด 2
A2: รายงานผลการเบิกจ่ายเงินงบประมาณ งบลงทุน ประจำปีงบประมาณ พ.ศ. 2569 รายละเอียด 2
A3: กลุ่มบริหารงานการเงินและสินทรัพย์ สำนักงานเขตพื้นที่การศึกษาประถมศึกษาปทุมธานี เขต 2
A4: =+[2]งบประจำและงบกลยุทธ์!A4 -> ประจำเดือนกันยายน 2569
A5: ที่ | B5: รายการ | C5: รหัสงบประมาณ/หนังสือแจ้งโอน | D5: เงินงวด | E5: ผูกพัน | F5: กันเงินไว้เบิก | G5: เบิกจ่าย | H5: คงเหลือ | I5: การอนุมัติเงินงวด | J5: คงเหลือ | K5: ปัญหาอุปสรรค
A7: =[2]ระบบการควบคุมฯ!A44 -> ข | B7: =[2]ระบบการควบคุมฯ!B44 -> แผนงานยุทธศาสตร์พัฒนาคุณภาพการศึกษาและการเรียนรู้ | D7: =SUM(D8+D9) -> 902200 | E7: =SUM(E8+E9) -> 409000 | F7: =SUM(F8+F9) -> 0 | G7: =SUM(G8+G9) -> 493200 | H7: =SUM(H8+H9) -> 0 | I7: =SUM(I8+I9) -> 0 | J7: =SUM(J8+J9) -> 0
B8: =+[2]ระบบการควบคุมฯ!B48 -> ครุภัณฑ์ 6911310 | D8: =+D12+D26+D33 -> 818200 | E8: =+E12+E26+E33 -> 409000 | F8: =+F12+F26+F33 -> 0 | G8: =+G12+G26+G33 -> 409200 | H8: =+H12+H26+H33 -> 0 | I8: =+I12+I26+I33 -> 0 | J8: =+J12+J26+J33 -> 0
B9: =+[2]ระบบการควบคุมฯ!B49 -> สิ่งก่อสร้าง 6911320 | D9: =+D47+D53 -> 84000 | E9: =+E47+E53 -> 0 | F9: =+F47+F53 -> 0 | G9: =+G47+G53 -> 84000 | H9: =+H47+H53 -> 0 | I9: =+I47+I53 -> 0 | J9: =+J47+J53 -> 0 | K9: =+K53+K85 -> 0
A10: =[2]ระบบการควบคุมฯ!A118 -> 3 | B10: =[2]ระบบการควบคุมฯ!B118 -> โครงการขับเคลื่อนการพัฒนาการศึกษาที่ยั่งยืน | D10: =D11 -> 643000 | E10: =E11 -> 409000 | F10: =F11 -> 0 | G10: =G11 -> 234000 | H10: =H11 -> 0 | I10: =I11 -> 0 | J10: =J11 -> 0
A11: =+[2]ระบบการควบคุมฯ!A141 -> 3.4 | B11: =+[2]ระบบการควบคุมฯ!B141 -> กิจกรรมการยกระดับคุณภาพด้านวิทยาศาสตร์ศึกษาเพื่อความเป็นเลิศ | C11: =+[2]ระบบการควบคุมฯ!C141 -> 20004 69 00093 00000 | D11: =D12+D47 -> 643000 | E11: =E12+E47 -> 409000 | F11: =F12+F47 -> 0 | G11: =G12+G47 -> 234000 | H11: =H12+H47 -> 0 | I11: =I12+I47 -> 0 | J11: =J12+J47 -> 0
B12: =+[2]ระบบการควบคุมฯ!B150 -> งบลงทุน 6911310 | D12: =+D13+D20 -> 643000 | E12: =+E13+E20 -> 409000 | F12: =+F13+F20 -> 0 | G12: =+G13+G20 -> 234000 | H12: =+H13+H20 -> 0 | I12: =+I13+I20 -> 0 | J12: =+J13+J20 -> 0
B13: =[2]ระบบการควบคุมฯ!B151 -> ครุภัณฑ์สำนักงาน 120601 | D13: =+D14+D17 -> 444000 | E13: =+E14+E17 -> 409000 | F13: =+F14+F17 -> 0 | G13: =+G14+G17 -> 35000 | H13: =+H14+H17 -> 0 | I13: =+I14+I17 -> 0 | J13: =+J14+J17 -> 0
A14: =[2]ระบบการควบคุมฯ!A152 -> 3.4.1.1 | B14: =[2]ระบบการควบคุมฯ!B152 -> เครื่องปรับอากาศ 24,000 บีทียู ระบบ Inverter | C14: =[2]ระบบการควบคุมฯ!C152 -> โอนเปลี่ยนแปลง 2/2569 | D14: =+D15 -> 409000 | E14: =+E15 -> 409000 | F14: =+F15 -> 0 | G14: =+G15 -> 0 | H14: =+H15 -> 0 | I14: =+I15 -> 0 | J14: =+J15 -> 0
A15: =[2]ระบบการควบคุมฯ!A153 -> 1) | B15: =[2]ระบบการควบคุมฯ!B153 -> สพป.ปทุมธานี เขต 2 | C15: =[2]ระบบการควบคุมฯ!C153 -> 2000433006300311ส024 | D15: =[2]ระบบการควบคุมฯ!D153 -> 409000 | E15: =[2]ระบบการควบคุมฯ!G153+[2]ระบบการควบคุมฯ!H153 -> 409000 | F15: =[2]ระบบการควบคุมฯ!I153+[2]ระบบการควบคุมฯ!J153 -> 0 | G15: =[2]ระบบการควบคุมฯ!K153+[2]ระบบการควบคุมฯ!L153 -> 0 | J15: =+D15-E15-F15-G15 -> 0
B16: =+[2]ระบบการควบคุมฯ!B154 -> ผูกพัน ครบ 28 ตค 69
A17: =+[2]ระบบการควบคุมฯ!A155 -> 3.4.1.1 | B17: =[2]ระบบการควบคุมฯ!B155 -> ตู้สาขาโทรศัพท์ | C17: =[2]ระบบการควบคุมฯ!C155 -> โอนเปลี่ยนแปลง 2/2569 | D17: =+D18 -> 35000 | E17: =+E18 -> 0 | F17: =+F18 -> 0 | G17: =+G18 -> 35000 | H17: =+H18 -> 0 | I17: =+I18 -> 0 | J17: =+J18 -> 0
A18: =[2]ระบบการควบคุมฯ!A156 -> 1) | B18: =[2]ระบบการควบคุมฯ!B156 -> สพป.ปทุมธานี เขต 2 | C18: =[2]ระบบการควบคุมฯ!C156 -> 2000433006300311ส066 | D18: =[2]ระบบการควบคุมฯ!D156 -> 35000 | E18: =+[2]ระบบการควบคุมฯ!G156+[2]ระบบการควบคุมฯ!H156 -> 0 | F18: =[2]ระบบการควบคุมฯ!I156+[2]ระบบการควบคุมฯ!J156 -> 0 | G18: =[2]ระบบการควบคุมฯ!K156+[2]ระบบการควบคุมฯ!L156 -> 35000 | J18: =+D18-E18-F18-G18 -> 0
B20: =+[2]ระบบการควบคุมฯ!B157 -> ครุภัณฑ์การศึกษา 120611 | D20: =+D21 -> 199000 | E20: =+E21 -> 0 | F20: =+F21 -> 0 | G20: =+G21 -> 199000 | H20: =+H21 -> 0 | I20: =+I21 -> 0 | J20: =+J21 -> 0
A21: =+[2]ระบบการควบคุมฯ!A158 -> 3.4.2.1 | B21: =+[2]ระบบการควบคุมฯ!B158 -> ครุภัณฑ์ห้องปฏิบัติการวิทยาศาสตร์ | C21: =+[2]ระบบการควบคุมฯ!C158 -> ศธ 04002/ว47614 ลว. 31 ตค 68 โอนครั้งที่ 23 | D21: =SUM(D22:D23) -> 199000 | E21: =SUM(E22:E23) -> 0 | F21: =SUM(F22:F23) -> 0 | G21: =SUM(G22:G23) -> 199000
A22: =+[2]ระบบการควบคุมฯ!A159 -> 1) | B22: =+[2]ระบบการควบคุมฯ!B159 -> โรงเรียนวัดมูลจินดาราม | C22: =+[2]ระบบการควบคุมฯ!C159 -> 20004 33006300 3110187 | D22: =+[2]ระบบการควบคุมฯ!F159 -> 100000 | E22: =+[2]ระบบการควบคุมฯ!G159+[2]ระบบการควบคุมฯ!H159 -> 0 | F22: =+[2]ระบบการควบคุมฯ!I159+[2]ระบบการควบคุมฯ!J159 -> 0 | G22: =+[2]ระบบการควบคุมฯ!K159+[2]ระบบการควบคุมฯ!L159 -> 100000 | J22: =+D22-E22-F22-G22 -> 0
A23: =+[2]ระบบการควบคุมฯ!A160 -> 2) | B23: =+[2]ระบบการควบคุมฯ!B160 -> โรงเรียนชุมชนบึงบา | C23: =+[2]ระบบการควบคุมฯ!C160 -> 20004 33006300 3110188 | D23: =+[2]ระบบการควบคุมฯ!F160 -> 99000 | E23: =+[2]ระบบการควบคุมฯ!G160+[2]ระบบการควบคุมฯ!H160 -> 0 | F23: =+[2]ระบบการควบคุมฯ!I160+[2]ระบบการควบคุมฯ!J160 -> 0 | G23: =+[2]ระบบการควบคุมฯ!K160+[2]ระบบการควบคุมฯ!L160 -> 99000 | J23: =+D23-E23-F23-G23 -> 0
A24: =+[2]ระบบการควบคุมฯ!A320 -> 5 | B24: =+[2]ระบบการควบคุมฯ!B320 -> โครงการโรงเรียนคุณภาพ | C24: =+[2]ระบบการควบคุมฯ!C320 -> 20004 3300 B800 | D24: =+D25+D32+D52+D75 -> 259200 | E24: =+E25+E32+E52+E75 -> 0 | F24: =+F25+F32+F52+F75 -> 0 | G24: =+G25+G32+G52+G75 -> 259200 | H24: =+H25+H32+H52+H75 -> 0 | I24: =+I25+I32+I52+I75 -> 0 | J24: =+J25+J32+J52+J75 -> 0
A25: =+[2]ระบบการควบคุมฯ!A339 -> 5.2 | B25: =+[2]ระบบการควบคุมฯ!B339 -> กิจกรรมการยกระดับคุณภาพการศึกษาเพื่อขับเคลื่อนโรงเรียนคุณภาพ | C25: =+[2]ระบบการควบคุมฯ!C339 -> 20004 69 00133 00000 | D25: =+D26 -> 29000 | E25: =+E26 -> 0 | F25: =+F26 -> 0 | G25: =+G26 -> 29000 | H25: =+H26 -> 0 | I25: =+I26 -> 0 | J25: =+J26 -> 0
B26: =+[2]ระบบการควบคุมฯ!B340 -> ค่าครุภัณฑ์ 6911310 | D26: =+D27 -> 29000 | E26: =+E27 -> 0 | F26: =+F27 -> 0 | G26: =+G27 -> 29000 | H26: =+H27 -> 0 | I26: =+I27 -> 0 | J26: =+J27 -> 0
B27: =+[2]ระบบการควบคุมฯ!B341 -> ครุภัณฑ์ สำนักงาน 120611 | D27: =+D28+D30 -> 29000 | E27: =+E28+E30 -> 0 | F27: =+F28+F30 -> 0 | G27: =+G28+G30 -> 29000 | H27: =+H28+H30 -> 0 | I27: =+I28+I30 -> 0 | J27: =+J28+J30 -> 0
A28: =+[2]ระบบการควบคุมฯ!A342 -> 5.1.1 | B28: =+[2]ระบบการควบคุมฯ!B342 -> โต๊ะเก้าอี้นักเรียน สำหรับนักเรียนประถมศึกษา | C28: =+[2]ระบบการควบคุมฯ!C342 -> ที่ ศธ 04087/ว49453/25 พย 68 ครั้งที่ 104 | D28: =SUM(D29) -> 15000 | E28: =SUM(E29) -> 0 | F28: =SUM(F29) -> 0 | G28: =SUM(G29) -> 15000 | H28: =SUM(H29) -> 0 | I28: =SUM(I29) -> 0 | J28: =SUM(J29) -> 0
A29: =+[2]ระบบการควบคุมฯ!A343 -> 1) | B29: =+[2]ระบบการควบคุมฯ!B343 -> โรงเรียนวัดแสงสรรค์ | C29: =+[2]ระบบการควบคุมฯ!C343 -> 200043300B8003110429 | D29: =+[2]ระบบการควบคุมฯ!F343 -> 15000 | E29: =+[2]ระบบการควบคุมฯ!G343+[2]ระบบการควบคุมฯ!H343 -> 0 | G29: =+[2]ระบบการควบคุมฯ!K343+[2]ระบบการควบคุมฯ!L343 -> 15000 | J29: =+D29-E29-F29-G29 -> 0
A30: =+[2]ระบบการควบคุมฯ!A344 -> 5.1.2 | B30: =+[2]ระบบการควบคุมฯ!B344 -> โต๊ะเก้าอี้นักเรียน สำหรับนักเรียนก่อนประถมศึกษา | C30: =+[2]ระบบการควบคุมฯ!C344 -> ที่ ศธ 04087/ว49453/25 พย 68 ครั้งที่ 104 | D30: =+D31 -> 14000 | E30: =+E31 -> 0 | F30: =+F31 -> 0 | G30: =+G31 -> 14000 | H30: =+H31 -> 0 | I30: =+I31 -> 0 | J30: =+J31 -> 0
A31: =+[2]ระบบการควบคุมฯ!A345 -> 1) | B31: =+[2]ระบบการควบคุมฯ!B345 -> โรงเรียนวัดจตุพิธวราวาส | C31: =+[2]ระบบการควบคุมฯ!C345 -> 200043300B8003110430 | D31: =+[2]ระบบการควบคุมฯ!F345 -> 14000 | E31: =+[2]ระบบการควบคุมฯ!G345+[2]ระบบการควบคุมฯ!H345 -> 0 | G31: =+[2]ระบบการควบคุมฯ!K345+[2]ระบบการควบคุมฯ!L345 -> 14000 | J31: =+D31-E31-F31-G31 -> 0
A32: =+[2]ระบบการควบคุมฯ!A357 -> 5.3 | B32: =+[2]ระบบการควบคุมฯ!B357 -> กิจกรรมการยกระดับคุณภาพการศึกษาสำหรับโรงเรียนคุณภาพตามนโยบาย 1 อำเภอ 1 โรงเรียนคุณภาพ | C32: =+[2]ระบบการควบคุมฯ!C357 -> 20004 69 00134 00000 | D32: =+D33 -> 146200 | E32: =+E33 -> 0 | F32: =+F33 -> 0 | G32: =+G33 -> 146200 | H32: =+H33 -> 0 | I32: =+I33 -> 0 | J32: =+J33 -> 0
A33: =+[2]ระบบการควบคุมฯ!A358 -> 5.3.1 | B33: =+[2]ระบบการควบคุมฯ!B358 -> ค่าครุภัณฑ์ 6911310 | C33: =+[2]ระบบการควบคุมฯ!C358 -> 20004 3300B800 | D33: =+D34+D41 -> 146200 | E33: =+E34+E41 -> 0 | F33: =+F34+F41 -> 0 | G33: =+G34+G41 -> 146200 | H33: =+H34+H41 -> 0 | I33: =+I34+I41 -> 0 | J33: =+J34+J41 -> 0
B34: =+[2]ระบบการควบคุมฯ!B359 -> ครุภัณฑ์สำนักงาน 120601 | C34: =+[2]ระบบการควบคุมฯ!C359 -> 120601 | D34: =+D35+D37+D39 -> 91800 | E34: =+E35+E37+E39 -> 0 | F34: =+F35+F37+F39 -> 0 | G34: =+G35+G37+G39 -> 91800 | H34: =+H35+H37+H39 -> 0 | I34: =+I35+I37+I39 -> 0 | J34: =+J35+J37+J39 -> 0
A35: =+[2]ระบบการควบคุมฯ!A360 -> 5.3.1.1 | B35: =+[2]ระบบการควบคุมฯ!B360 -> ถังน้ำ แบบสเตนเลส ขนาดความจุ 2,000 ลิตร โรงเรียนวัดลาดสนุ่น | C35: =+[2]ระบบการควบคุมฯ!C360 -> ที่ ศธ 04087/ว49453/25 พย 68 ครั้งที่ 104 | D35: =SUM(D36) -> 16800 | E35: =SUM(E36) -> 0 | F35: =SUM(F36) -> 0 | G35: =SUM(G36) -> 16800 | H35: =SUM(H36) -> 0 | I35: =SUM(I36) -> 0 | J35: =SUM(J36) -> 0
A36: =+[2]ระบบการควบคุมฯ!A361 -> 1) | B36: =+[2]ระบบการควบคุมฯ!B361 -> โรงเรียนวัดลาดสนุ่น | C36: =+[2]ระบบการควบคุมฯ!C361 -> 200043300B8003111326 | D36: =+[2]ระบบการควบคุมฯ!F361 -> 16800 | E36: =+[2]ระบบการควบคุมฯ!G361+[2]ระบบการควบคุมฯ!H361 -> 0 | G36: =+[2]ระบบการควบคุมฯ!K361+[2]ระบบการควบคุมฯ!L361 -> 16800 | J36: =+D36-E36-F36-G36 -> 0
A37: =+[2]ระบบการควบคุมฯ!A362 -> 5.3.1.2 | B37: =+[2]ระบบการควบคุมฯ!B362 -> เครื่องทำลายเอกสาร แบบตัดละเอียด ทำลายครั้งละ 30 แผ่น | C37: =+[2]ระบบการควบคุมฯ!C362 -> ที่ ศธ 04087/ว49453/25 พย 68 ครั้งที่ 104 | D37: =SUM(D38) -> 67000 | E37: =SUM(E38) -> 0 | F37: =SUM(F38) -> 0 | G37: =SUM(G38) -> 67000 | H37: =SUM(H38) -> 0 | I37: =SUM(I38) -> 0 | J37: =SUM(J38) -> 0
A38: =+[2]ระบบการควบคุมฯ!A364 -> 1) | B38: =+[2]ระบบการควบคุมฯ!B364 -> โรงเรียนวัดลาดสนุ่น | C38: =+[2]ระบบการควบคุมฯ!C364 -> 200043300B8003111329 | D38: =+[2]ระบบการควบคุมฯ!F364 -> 67000 | E38: =+[2]ระบบการควบคุมฯ!G364+[2]ระบบการควบคุมฯ!H364 -> 0 | G38: =+[2]ระบบการควบคุมฯ!K364+[2]ระบบการควบคุมฯ!L364 -> 67000 | J38: =+D38-E38-F38-G38 -> 0
A39: =+[2]ระบบการควบคุมฯ!A365 -> 5.3.1.2 | B39: =+[2]ระบบการควบคุมฯ!B365 -> พัดลม แบบโคจรติดผนัง ขนาดไม่น้อยกว่า 16 นิ้ว (400 มิลลิเมตร) | C39: =+[2]ระบบการควบคุมฯ!C365 -> ที่ ศธ 04087/ว49453/25 พย 68 ครั้งที่ 104 | D39: =SUM(D40) -> 8000 | E39: =SUM(E40) -> 0 | F39: =SUM(F40) -> 0 | G39: =SUM(G40) -> 8000 | H39: =SUM(H40) -> 0 | I39: =SUM(I40) -> 0 | J39: =SUM(J40) -> 0
A40: =+[2]ระบบการควบคุมฯ!A367 -> 1) | B40: =+[2]ระบบการควบคุมฯ!B367 -> โรงเรียนวัดมูลจินดาราม | C40: =+[2]ระบบการควบคุมฯ!C367 -> 200043300B8003111330 | D40: =+[2]ระบบการควบคุมฯ!F367 -> 8000 | E40: =+[2]ระบบการควบคุมฯ!G367+[2]ระบบการควบคุมฯ!H367 -> 0 | G40: =+[2]ระบบการควบคุมฯ!K367+[2]ระบบการควบคุมฯ!L367 -> 8000 | J40: =+D40-E40-F40-G40 -> 0
A41: =+[2]ระบบการควบคุมฯ!A368 -> 0 | B41: =+[2]ระบบการควบคุมฯ!B368 -> ครุภัณฑ์งานบ้านงานครัว 120612 | C41: =+[2]ระบบการควบคุมฯ!C368 -> 120612 | D41: =+D42+D44 -> 54400 | E41: =+E42+E44 -> 0 | F41: =+F42+F44 -> 0 | G41: =+G42+G44 -> 54400 | H41: =+H42+H44 -> 0 | I41: =+I42+I44 -> 0 | J41: =+J42+J44 -> 0
A42: =+[2]ระบบการควบคุมฯ!A369 -> 5.3.1.3 | B42: =+[2]ระบบการควบคุมฯ!B369 -> เครื่องตัดแต่งพุ่มไม้ ขนาด 29.5 นิ้ว | C42: =+[2]ระบบการควบคุมฯ!C369 -> ที่ ศธ 04087/ว49453/25 พย 68 ครั้งที่ 104 | D42: =+D43 -> 17400 | E42: =+E43 -> 0 | F42: =+F43 -> 0 | G42: =+G43 -> 17400 | H42: =+H43 -> 0 | I42: =+I43 -> 0 | J42: =+J43 -> 0
...

Sheet รายงานผลการเบิกจ่าย
A1: สำนักงานเขตพื้นที่การศึกษาประถมศึกษาปทุมธานี เขต 2
A2: ผลการเบิกจ่ายและใช้จ่ายเงินงบประมาณรายจ่าย ประจำปีงบประมาณ พ.ศ. 2569
A3: ตามมาตรการเร่งรัดการเบิกจ่ายงบประมาณและการใช้จ่ายภาครัฐ ประจำปีงบประมาณ พ.ศ. 2569
A4: หนังสือกรมบัญชีกลาง ด่วนที่สุด ที่ กค 0412.4/ว7516 ลงวันที่ 28 ตุลาคม 2568
C5: =+[2]ระบบการควบคุมฯ!A4 -> ประจำเดือน กันยายน 2569 | M5: รายละเอียด 1
A6: รายการ | F6: เป้าหมายการเบิกจ่ายตามมาตรการภาครัฐ (%) | G6: งบประมาณ | H6: ผลการเบิกจ่ายเงินงบประมาณ | J6: เป้าหมายการใช้จ่ายตามมาตรการภาครัฐ(%) | K6: ผลการใช้จ่ายเงินงบประมาณ | M6: สรุปผลการเบิกจ่ายและการใช้จ่ายฯ
H7: บาท | I7: % | K7: บาท | L7: %
A8: 1. | B8: การเบิกจ่ายในภาพรวม(ทั้งปี) | F8: 93 | J8: =+J12 -> 100
A9: 1.1 | B9: ไตรมาสที่ 1 ต.ค.68 - ธ.ค.68 | F9: 33 | G9: =+'[7]มาตการ รวมงบบุคลากร'!$G$9 -> 94420392 | H9: =+'[7]มาตการ รวมงบบุคลากร'!$H$9 -> 69966363 | I9: =+H9*100/G9 -> 74.100903 | J9: 38 | K9: =+'[7]มาตการ รวมงบบุคลากร'!$K$9 -> 84105163 | L9: =+K9*100/G9 -> 89.07521 | M9: เบิกจ่ายและใช้จ่าย ( √ ) เป็น ( ) ไม่เป็น ตามมาตรการภาครัฐ
A10: 1.2 | B10: ไตรมาสที่ 2 ม.ค.69 - มี.ค.69 | F10: 55 | G10: =+'[8]มาตการ รวมงบบุคลากร'!$G$10 -> 103356406 | H10: =+'[8]มาตการ รวมงบบุคลากร'!$H$10 -> 87026294 | I10: =+H10*100/G10 -> 84.200194 | J10: 61 | K10: =+'[8]มาตการ รวมงบบุคลากร'!$K$10 -> 94881111 | L10: =+K10*100/G10 -> 91.799932 | M10: เบิกจ่ายและใช้จ่าย ( √ ) เป็น ( ) ไม่เป็น ตามมาตรการภาครัฐ
A11: 1.3 | B11: ไตรมาสที่ 3 เม.ย.69 - มิ.ย.69 | F11: 76 | G11: =+[9]ระบบการควบคุมฯ!F1638 -> 165091362 | H11: =+[9]ระบบการควบคุมฯ!K1650 -> 1.5643074e+08 | I11: =+H11*100/G11 -> 94.754042 | J11: 81 | K11: =+[9]ระบบการควบคุมฯ!K1650+[9]ระบบการควบคุมฯ!G1650 -> 1.5831777e+08 | L11: =+K11*100/G11 -> 95.897066 | M11: เบิกจ่ายและใช้จ่าย ( √ ) เป็น ( ) ไม่เป็น ตามมาตรการภาครัฐ
A12: 1.4 | B12: ไตรมาสที่ 4 ก.ค.69 - ก.ย.69 | F12: 93 | G12: =+[2]ระบบการควบคุมฯ!F1709 -> 214291274 | H12: =+[2]ระบบการควบคุมฯ!K1721 -> 2.127924e+08 | I12: =+H12*100/G12 -> 99.300544 | J12: 100 | K12: =+[2]ระบบการควบคุมฯ!K1721+[2]ระบบการควบคุมฯ!G1721 -> 214051550 | L12: =+K12*100/G12 -> 99.888132 | M12: ผลการเบิกจ่าย (√) เป็น ใช้จ่าย ( √) ไม่เป็น ตามมาตรการภาครัฐ
A13: 2. | B13: การเบิกจ่ายรายจ่ายประจำ | F13: 98 | J13: =+J17 -> 100
A14: 2.1 | B14: ไตรมาสที่ 1 ต.ค.68 - ธ.ค.68 | F14: 37 | G14: =+'[7]มาตการ รวมงบบุคลากร'!$G$14 -> 73078392 | H14: =+'[7]มาตการ รวมงบบุคลากร'!$H$14 -> 66001976 | I14: =+H14*100/G14 -> 90.316677 | J14: 38 | K14: =+'[7]มาตการ รวมงบบุคลากร'!$K$14 -> 66001976 | L14: =+K14*100/G14 -> 90.316677 | M14: เบิกจ่ายและใช้จ่าย ( √ ) เป็น ( ) ไม่เป็น ตามมาตรการภาครัฐ
A15: 2.2 | B15: ไตรมาสที่ 2 ม.ค.69 - มี.ค.69 | F15: 60 | G15: =+'[8]มาตการ รวมงบบุคลากร'!$G$15 -> 82014406 | H15: =+'[8]มาตการ รวมงบบุคลากร'!$H$15 -> 74343257 | I15: =+H15*100/G15 -> 90.646583 | J15: 61 | K15: =+'[8]มาตการ รวมงบบุคลากร'!$K$15 -> 74451474 | L15: =+K15*100/G15 -> 90.778532 | M15: เบิกจ่ายและใช้จ่าย ( √ ) เป็น ( ) ไม่เป็น ตามมาตรการภาครัฐ
A16: 2.3 | B16: ไตรมาสที่ 3 เม.ย.69 - มิ.ย.69 | F16: 83 | G16: 143052112 | H16: 1.372899e+08 | I16: =+H16*100/G16 -> 95.97195 | J16: 84 | K16: 1.3750634e+08 | L16: =+K16*100/G16 -> 96.123248 | M16: เบิกจ่ายและใช้จ่าย ( √ ) เป็น ( ) ไม่เป็น ตามมาตรการภาครัฐ
A17: 2.4 | B17: ไตรมาสที่ 4 ก.ค.69 - ก.ย.69 | F17: 98 | G17: =+S9 -> 0 | H17: =+U9 -> 0 | I17: =+H17*100/G17 -> #DIV/0! | J17: 100 | K17: =+T9+U9 -> 0 | L17: =+K17*100/G17 -> #DIV/0! | M17: ผลการเบิกจ่าย (√) เป็น ใช้จ่าย ( √) ไม่เป็น ตามมาตรการภาครัฐ
A18: 3. | B18: การเบิกจ่ายงบลงทุน(ทั้งปี) | F18: 80 | J18: 100
A19: 3.1 | B19: ไตรมาสที่ 1 ต.ค.68 - ธ.ค.68 | F19: 20 | G19: =+'[7]มาตการ รวมงบบุคลากร'!$G$19 -> 21342000 | H19: =+'[7]มาตการ รวมงบบุคลากร'!$H$19 -> 3964387.3 | I19: =+H19*100/G19 -> 18.575519 | J19: 36 | K19: =+'[7]มาตการ รวมงบบุคลากร'!$K$19 -> 18002987 | L19: =+K19*100/G19 -> 84.354734 | M19: ผลการเบิกจ่าย (√) ไม่เป็น ใช้จ่าย ( √) เป็น ตามมาตรการภาครัฐ
A20: 3.2 | B20: ไตรมาสที่ 2 ม.ค.69 - มี.ค.69 | F20: 38 | G20: =+'[8]มาตการ รวมงบบุคลากร'!$G$20 -> 21342000 | H20: =+'[8]มาตการ รวมงบบุคลากร'!$H$20 -> 12683037 | I20: =+H20*100/G20 -> 59.427595 | J20: 59 | K20: =+'[8]มาตการ รวมงบบุคลากร'!$K$20 -> 20429637 | L20: =+K20*100/G20 -> 95.725037 | M20: เบิกจ่ายและใช้จ่าย ( √ ) เป็น ( ) ไม่เป็น ตามมาตรการภาครัฐ
A21: 3.3 | B21: ไตรมาสที่ 3 เม.ย.69 - มิ.ย.69 | F21: 55 | G21: 21044950 | H21: 18730575 | I21: =+H21*100/G21 -> 89.002708 | J21: 69 | K21: 20401175 | L21: =+K21*100/G21 -> 96.940955 | M21: เบิกจ่ายและใช้จ่าย ( √ ) เป็น ( ) ไม่เป็น ตามมาตรการภาครัฐ
A22: 3.4 | B22: ไตรมาสที่ 4 ก.ค.69 - ก.ย.69 | F22: 75 | G22: =+[2]ระบบการควบคุมฯ!F1708 -> 21487250 | H22: =+[2]ระบบการควบคุมฯ!L1708+[2]ระบบการควบคุมฯ!K1708 -> 21078245 | I22: =+H22*100/G22 -> 98.096524 | J22: 100 | K22: =+[2]ระบบการควบคุมฯ!G1708+[2]ระบบการควบคุมฯ!H1708+[2]ระบบการควบคุมฯ!K1708+[2]ระบบการควบคุมฯ!L1708 -> 21487245 | L22: =+K22*100/G22 -> 99.999979 | M22: เบิกจ่ายและใช้จ่าย ( √ ) เป็น ( ) ไม่เป็น ตามมาตรการภาครัฐ
B23: ก่อหนี้ผูกพัน | H23: =+[2]ระบบการควบคุมฯ!H1708+[2]ระบบการควบคุมฯ!G1708 -> 409000 | I23: =+H23*100/G22 -> 1.9034544
B24: อยู่ระหว่างขอกันไว้เบิกเหลื่อมปี
B25: เหลือจ่าย | H25: =+[2]ระบบการควบคุมฯ!M1708 -> 4.59 | I25: =+H25*100/G22 -> 2.1361505e-05 | L25: งบผูกพัน | M25: =+[2]ระบบการควบคุมฯ!M1451 -> 4.59
B26: อยู่ระหว่างดำเนินการ | I26: =+H26*100/G22 -> 0
F27: ลงชื่อ | H27: เลขานุการคณะกรรมการติดตามเร่งรัดการใช้จ่ายเงินฯ | J27: ลงชื่อ
F28: (นางพัชรี เรืองรุ่ง)
D29: นักวิชาการเงินและบัญชีชำนาญการพิเศษ
F30: ตรวจสอบแล้วถูกต้อง
D32: ลงชื่อ | H32: ประธานคณะกรรมการติดตามเร่งรัดการใช้จ่ายเงินฯ
F33: (นายคำโพธิ์ บุญสิงห์)
C34: ผู้อำนวยการสำนักงานเขตพื้นที่การศึกษาประถมศึกษาปทุมธานี เขต 2
A35: (นายวิรุฬห์ แสงงาม)
A36: รองผู้อำนวยการสำนักงานเขตพื้นที่การศึกษา รักษาราชการแทน
C37: เป็นไปตามมาตรการภาครัฐ | H37: ตรวจสอบแล้วถูกต้อง
C38: ไม่เป็นไปตามมาตรการภาครัฐ
A39: ลงชื่อ | D39: เลขานุการคณะกรรมการติดตาม | H39: ลงชื่อ | K39: ประธานคณะกรรมการติดตามเร่งรัด
A40: (นางพัชรี เรืองรุ่ง) | D40: เร่งรัดการเบิกจ่ายและใช้จ่ายฯ | H40: (นางสาวสุพิชสิริ ถิรวัฒนาพงศ์) ติดตามเร่งรัดการเบิกจ่ายเงินฯ | K40: การเบิกจ่ายงบประมาณและใช้จ่ายฯ
A41: นักวิชาการเงินและบัญชีชำนาญการพิเศษ | G41: (นางสาวสุพิชสิริ ถิรวัฒนาพงศ์)
...
