Workbook

Sheet เงินกันไว้เบิกเหลื่อมปี งบปี 
A1: รายงานผลการเบิกจ่ายเงินกันไว้เบิกเหลื่อมปี งบประมาณประจำปี พ.ศ. 2568
A2: =+'[1]สิ่งก่อสร้าง งบอุดหนุน 67'!A3:N3 -> สำนักงานเขตพื้นที่การศึกษาประถมศึกษาปทุมธานี เขต 2
A3: ประจำเดือน กันยายน 2569
A4: ที่ | B4: รายการ | C4: รหัสงบประมาณ | D4: เพิ่ม | E4: ผูกพัน | G4: กันไว้เบิก | I4: เบิก | K4: คงเหลือ
C5: แหล่งของเงิน | E5: 220 | F5: 221 | G5: 220 | H5: 221 | I5: 220 | J5: 221
A6: ก | B6: =+'[1]ดำเนินงานครุภัณฑ์ 310061ยั่งยืน'!E6 -> แผนงานยุทธศาสตร์พัฒนาคุณภาพการศึกษาและการเรียนรู้ | D6: =+D7+D14 -> 1406002.5 | E6: =+E7+E14 -> 0 | F6: =+F7+F14 -> 0 | G6: =+G7+G14 -> 0 | H6: =+H7+H14 -> 0 | I6: =+I7+I14 -> 0 | J6: =+J7+J14 -> 1406002.5 | K6: =+K7+K14 -> 0
A7: 1 | B7: =+'[1]ดำเนินงานครุภัณฑ์ 310061ยั่งยืน'!E7 -> โครงการส่งเสริมการเรียนรู้ขั้นพื้นฐานทุกที่ทุกเวลา | C7: =+'[1]ดำเนินงานครุภัณฑ์ 310061ยั่งยืน'!D7 -> 20004 3310 C100 2000000 | D7: =+D8 -> 1406002.5 | E7: =+E8 -> 0 | F7: =+F8 -> 0 | H7: =+H8 -> 0 | I7: =+I8 -> 0 | J7: =+J8 -> 1406002.5 | K7: =+K8 -> 0
A8: 1.1 | B8: =+'[1]ดำเนินงานครุภัณฑ์ 310061ยั่งยืน'!E8 -> กิจกรรมพัฒนาระบบนิเวศทางด้านดิจิทัลเพื่อการเรียนรู้ขั้นพื้นฐาน | C8: =+'[1]ดำเนินงานครุภัณฑ์ 310061ยั่งยืน'!D8 -> 20004 68 00131 00000 | D8: =+D9 -> 1406002.5 | E8: =+E9 -> 0 | F8: =+F9 -> 0 | G8: =+G9 -> 0 | H8: =+H9 -> 0 | I8: =+I9 -> 0 | J8: =+J9 -> 1406002.5 | K8: =+K9 -> 0
B9: =+'[1]ดำเนินงานครุภัณฑ์ 310061ยั่งยืน'!E115 -> งบดำเนินงาน (รายจ่ายลงทุน) 6811220 | C9: =+'[1]ดำเนินงานครุภัณฑ์ 310061ยั่งยืน'!D115 -> 6811220 | D9: =+D10 -> 1406002.5 | E9: =+E10 -> 0 | F9: =+F10 -> 0 | H9: =+H10 -> 0 | I9: =+I10 -> 0 | J9: =+J10 -> 1406002.5 | K9: =+K10 -> 0
A10: 1.1.1 | B10: =+'[1]ดำเนินงานครุภัณฑ์ 310061ยั่งยืน'!E116 -> ค่าใช้จ่ายในการดำเนินการเช่าใช้อุปกรณ์การเรียนการสอนสำหรับครูและนักเรียน ภายใต้โครงการส่งเสริมการเรียนรู้ขั้นพื้นฐานทุกที่ทุกเวลา ประจำปีงบประมาณ พ.ศ. 2568 | C10: =+'[1]ดำเนินงานครุภัณฑ์ 310061ยั่งยืน'!D116 -> ศธ 04002/ว41897 ลว.1 ส.ค. 68 โอนครั้งที่ 802 | D10: =SUM(D11:D13) -> 1406002.5 | E10: =SUM(E11:E13) -> 0 | F10: =SUM(F11:F13) -> 0 | H10: =SUM(H11:H13) -> 0 | I10: =SUM(I11:I13) -> 0 | J10: =SUM(J11:J13) -> 1406002.5 | K10: =SUM(K11:K12) -> 0
A11: 1) | B11: =+'[1]ดำเนินงานครุภัณฑ์ 310061ยั่งยืน'!E117 -> PO4100722499 | C11: ครบ 30 ก.ย.68 | D11: =+'[1]ดำเนินงานครุภัณฑ์ 310061ยั่งยืน'!F125 -> 1406002.5 | E11: =+'[1]ดำเนินงานครุภัณฑ์ 310061ยั่งยืน'!G125 -> 0 | F11: =+'[1]ดำเนินงานครุภัณฑ์ 310061ยั่งยืน'!H125 -> 0 | G11: =+'[1]ดำเนินงานครุภัณฑ์ 310061ยั่งยืน'!I125 -> 0 | H11: =+'[1]ดำเนินงานครุภัณฑ์ 310061ยั่งยืน'!J125 -> 0 | I11: =+'[1]ดำเนินงานครุภัณฑ์ 310061ยั่งยืน'!K125 -> 0 | J11: =+'[1]ดำเนินงานครุภัณฑ์ 310061ยั่งยืน'!L125 -> 1406002.5 | K11: =+D11-E11-F11-G11-H11-I11-J11 -> 0
A12: 2) | D12: =+'[1]ดำเนินงานครุภัณฑ์ 310061ยั่งยืน'!F16 -> 0 | E12: =+'[1]ดำเนินงานครุภัณฑ์ 310061ยั่งยืน'!G16 -> 0 | F12: =+'[1]ดำเนินงานครุภัณฑ์ 310061ยั่งยืน'!H16 -> 0 | G12: =+'[1]ดำเนินงานครุภัณฑ์ 310061ยั่งยืน'!I16 -> 0 | H12: =+'[1]ดำเนินงานครุภัณฑ์ 310061ยั่งยืน'!J16 -> 0 | I12: =+'[1]ดำเนินงานครุภัณฑ์ 310061ยั่งยืน'!K16 -> 0 | J12: =+'[1]ดำเนินงานครุภัณฑ์ 310061ยั่งยืน'!L16 -> 0 | K12: =+D12-E12-F12-G12-H12-I12-J12 -> 0
A13: 3) | D13: =+'[1]ดำเนินงานครุภัณฑ์ 310061ยั่งยืน'!F21 -> 0 | E13: =+'[1]ดำเนินงานครุภัณฑ์ 310061ยั่งยืน'!G21 -> 0 | F13: =+'[1]ดำเนินงานครุภัณฑ์ 310061ยั่งยืน'!H21 -> 0 | H13: =+'[1]ดำเนินงานครุภัณฑ์ 310061ยั่งยืน'!I21 -> 0 | I13: =+'[1]ดำเนินงานครุภัณฑ์ 310061ยั่งยืน'!J21 -> 0 | J13: =+'[1]ดำเนินงานครุภัณฑ์ 310061ยั่งยืน'!K21 -> 0
A14: 2 | B14: =+'[1]ดำเนินงานครุภัณฑ์ 310061ยั่งยืน'!E126 -> โครงการโรงเรียนคุณภาพประจำตำบล | C14: =+'[1]ดำเนินงานครุภัณฑ์ 310061ยั่งยืน'!D126 -> 20004 3100B600 | D14: =+D15 -> 0 | E14: =+E15 -> 0 | F14: =+F15 -> 0 | H14: =+H15 -> 0 | I14: =+I15 -> 0 | J14: =+J15 -> 0 | K14: =+K15 -> 0
A15: 2.1 | B15: =+'[1]ดำเนินงานครุภัณฑ์ 310061ยั่งยืน'!E127 -> กิจกรรมการก่อสร้าง ปรับปรุง ซ่อมแซมอาคารเรียนและสิ่งก่อสร้างประกอบสำหรับโรงเรียนคุณภาพประจำตำบล | C15: =+'[1]ดำเนินงานครุภัณฑ์ 310061ยั่งยืน'!D127 -> 20004 67000 7700000 | D15: =+D16+D36 -> 0 | E15: =+E16+E36 -> 0 | F15: =+F16+F36 -> 0 | H15: =+H16+H36 -> 0 | I15: =+I16+I36 -> 0 | J15: =+J16+J36 -> 0 | K15: =+K16+K36 -> 0
B16: =+'[1]ดำเนินงานครุภัณฑ์ 310061ยั่งยืน'!E128 -> งบลงทุน ค่าสิ่งก่อสร้าง 6711320 | D16: =+D17+D22+D25 -> 0 | E16: =+E17+E22+E25 -> 0 | F16: =+F17+F22+F25 -> 0 | G16: =+G17+G22+G25 -> 0 | H16: =+H17+H22+H25 -> 0 | I16: =+I17+I22+I25 -> 0 | J16: =+J17+J22+J25 -> 0 | K16: =+K17+K22+K25 -> 0
A17: 2.1.1 | B17: =+'[1]ดำเนินงานครุภัณฑ์ 310061ยั่งยืน'!E129 -> ปรับปรุงซ่อมแซมอาคารเรียนอาคารประกอบและสิ่งก่อสร้างอื่น | C17: =+'[1]ดำเนินงานครุภัณฑ์ 310061ยั่งยืน'!D129 -> ศธ04002/ว1787 ลว.7 พค 67 โอนครั้งที่ 5 | D17: =SUM(D18:D21) -> 0 | E17: =SUM(E18:E21) -> 0 | F17: =SUM(F18:F21) -> 0 | G17: =SUM(G18:G21) -> 0 | H17: =SUM(H18:H21) -> 0 | I17: =SUM(I18:I21) -> 0 | J17: =SUM(J18:J21) -> 0 | K17: =SUM(K18:K21) -> 0
A18: 1) | B18: =+'[1]ดำเนินงานครุภัณฑ์ 310061ยั่งยืน'!E130 -> วัดมงคลรัตน์ | C18: =+'[1]ดำเนินงานครุภัณฑ์ 310061ยั่งยืน'!D130 -> 200043100B6003211500 | D18: =+'[1]ดำเนินงานครุภัณฑ์ 310061ยั่งยืน'!F134 -> 0 | E18: =+'[1]ดำเนินงานครุภัณฑ์ 310061ยั่งยืน'!G134 -> 0 | F18: =+'[1]ดำเนินงานครุภัณฑ์ 310061ยั่งยืน'!H134 -> 0 | G18: =+'[1]ดำเนินงานครุภัณฑ์ 310061ยั่งยืน'!I134 -> 0 | H18: =+'[1]ดำเนินงานครุภัณฑ์ 310061ยั่งยืน'!J134 -> 0 | I18: =+'[1]ดำเนินงานครุภัณฑ์ 310061ยั่งยืน'!K134 -> 0 | J18: =+'[1]ดำเนินงานครุภัณฑ์ 310061ยั่งยืน'!L134 -> 0 | K18: =+D18-E18-F18-G18-H18-I18-J18 -> 0
C19: =+'[1]ดำเนินงานครุภัณฑ์ 310061ยั่งยืน'!C130 -> 4100408104
A20: 2) | B20: =+'[1]ดำเนินงานครุภัณฑ์ 310061ยั่งยืน'!E135 -> วัดสุวรรณ | C20: =+'[1]ดำเนินงานครุภัณฑ์ 310061ยั่งยืน'!D135 -> 200043100B6003211501 | D20: =+'[1]ดำเนินงานครุภัณฑ์ 310061ยั่งยืน'!F139 -> 0 | E20: =+'[1]ดำเนินงานครุภัณฑ์ 310061ยั่งยืน'!G139 -> 0 | F20: =+'[1]ดำเนินงานครุภัณฑ์ 310061ยั่งยืน'!H139 -> 0 | G20: =+'[1]ดำเนินงานครุภัณฑ์ 310061ยั่งยืน'!I139 -> 0 | H20: =+'[1]ดำเนินงานครุภัณฑ์ 310061ยั่งยืน'!J139 -> 0 | I20: =+'[1]ดำเนินงานครุภัณฑ์ 310061ยั่งยืน'!K139 -> 0 | J20: =+'[1]ดำเนินงานครุภัณฑ์ 310061ยั่งยืน'!L139 -> 0 | K20: =+D20-E20-F20-G20-H20-I20-J20 -> 0
C21: =+'[1]ดำเนินงานครุภัณฑ์ 310061ยั่งยืน'!C135 -> 4100409854
A22: 2.1.2 | B22: =+'[1]ดำเนินงานครุภัณฑ์ 310061ยั่งยืน'!E140 -> ค่าก่อสร้าง ปรับปรุงซ่อมแซมอาคารเรียนอาคารประกอบและสิ่งก่อสร้างอื่นที่ชำรุดทรุดโทรม และที่ประสบอุบัติภัย | C22: =+'[1]ดำเนินงานครุภัณฑ์ 310061ยั่งยืน'!D140 -> ศธ04002/ว ลว.27 กย 67 โอนครั้งที่ 450 | D22: =+D23 -> 0 | E22: =+E23 -> 0 | F22: =+F23 -> 0 | H22: =+H23 -> 0 | I22: =+I23 -> 0 | J22: =+J23 -> 0 | K22: =+K23 -> 0
A23: 1) | B23: =+'[1]ดำเนินงานครุภัณฑ์ 310061ยั่งยืน'!E141 -> วัดราษฎรบำรุง | C23: =+'[1]ดำเนินงานครุภัณฑ์ 310061ยั่งยืน'!D141 -> 20004 3100B600 321ZZZZ | D23: =+'[1]ดำเนินงานครุภัณฑ์ 310061ยั่งยืน'!F145 -> 0 | E23: =+'[1]ดำเนินงานครุภัณฑ์ 310061ยั่งยืน'!G145 -> 0 | F23: =+'[1]ดำเนินงานครุภัณฑ์ 310061ยั่งยืน'!H145 -> 0 | G23: =+'[1]ดำเนินงานครุภัณฑ์ 310061ยั่งยืน'!I145 -> 0 | H23: =+'[1]ดำเนินงานครุภัณฑ์ 310061ยั่งยืน'!J145 -> 0 | I23: =+'[1]ดำเนินงานครุภัณฑ์ 310061ยั่งยืน'!K145 -> 0 | J23: =+'[1]ดำเนินงานครุภัณฑ์ 310061ยั่งยืน'!L145 -> 0 | K23: =+D23-E23-F23-G23-H23-I23-J23 -> 0
C24: =+'[1]ดำเนินงานครุภัณฑ์ 310061ยั่งยืน'!C141 -> 4100306259
A25: 2.1.3 | B25: =+'[1]ดำเนินงานครุภัณฑ์ 310061ยั่งยืน'!E146 -> อาคารเรียนอนุบาล ขนาด 2 ห้องเรียน | C25: =+'[1]ดำเนินงานครุภัณฑ์ 310061ยั่งยืน'!D146 -> ศธ 04002/ว1787 ลว.7 พค 67 โอนครั้งที่ 5 | D25: =+D26 -> 0 | E25: =+E26 -> 0 | F25: =+F26 -> 0 | H25: =+H26 -> 0 | I25: =+I26 -> 0 | J25: =+J26 -> 0 | K25: =+K26 -> 0
A26: 1) | B26: =+'[1]ดำเนินงานครุภัณฑ์ 310061ยั่งยืน'!E147 -> โรงเรียนนิกรราษฎร์บํารุงวิทย์ | C26: =+'[1]ดำเนินงานครุภัณฑ์ 310061ยั่งยืน'!D147 -> 200043100B6003211498 | D26: =+'[1]ดำเนินงานครุภัณฑ์ 310061ยั่งยืน'!F171 -> 0 | E26: =+'[1]ดำเนินงานครุภัณฑ์ 310061ยั่งยืน'!G171 -> 0 | F26: =+'[1]ดำเนินงานครุภัณฑ์ 310061ยั่งยืน'!H171 -> 0 | G26: =+'[1]ดำเนินงานครุภัณฑ์ 310061ยั่งยืน'!I171 -> 0 | H26: =+'[1]ดำเนินงานครุภัณฑ์ 310061ยั่งยืน'!J171 -> 0 | I26: =+'[1]ดำเนินงานครุภัณฑ์ 310061ยั่งยืน'!K171 -> 0 | J26: =+'[1]ดำเนินงานครุภัณฑ์ 310061ยั่งยืน'!L171 -> 0 | K26: =+D26-E26-F26-G26-H26-I26-J26 -> 0
C27: =+'[1]ดำเนินงานครุภัณฑ์ 310061ยั่งยืน'!C147 -> 4100432393
B28: งบลงทุน ค่าครุภัณฑ์ 6711310 | C28: =+'[1]ดำเนินงานครุภัณฑ์ 310061ยั่งยืน'!D23 -> 0 | D28: =+D31+D33+D35 -> 0 | E28: =+E31+E33+E35 -> 0 | F28: =+F31+F33+F35 -> 0 | H28: =+H31+H33+H35 -> 0 | I28: =+I31+I33+I35 -> 0 | J28: =+J31+J33+J35 -> 0 | K28: =+K31+K33+K35 -> 0
A29: =+'[1]งบกัน67 350002'!A36 -> 0 | B29: =+'[1]ดำเนินงานครุภัณฑ์ 310061ยั่งยืน'!E22 -> งบลงทุน ค่าครุภัณฑ์ 6611310 | C29: =+'[1]ดำเนินงานครุภัณฑ์ 310061ยั่งยืน'!C22 -> 0 | D29: =+D30 -> 0 | E29: =+E30 -> 0 | F29: =+F30 -> 0 | H29: =+H30 -> 0 | I29: =+I30 -> 0 | J29: =+J30 -> 0 | K29: =+K30 -> 0
A30: =+'[1]ดำเนินงานครุภัณฑ์ 310061ยั่งยืน'!A23 -> 0 | B30: =+'[1]ดำเนินงานครุภัณฑ์ 310061ยั่งยืน'!E23 -> ครุภัณฑ์สำนักงาน 120601 | C30: =+'[1]ดำเนินงานครุภัณฑ์ 310061ยั่งยืน'!D22 -> 6611310 | D30: =+'[1]ดำเนินงานครุภัณฑ์ 310061ยั่งยืน'!F27 -> 0 | E30: =+'[1]ดำเนินงานครุภัณฑ์ 310061ยั่งยืน'!G27 -> 0 | F30: =+'[1]ดำเนินงานครุภัณฑ์ 310061ยั่งยืน'!H27 -> 0 | H30: =+'[1]ดำเนินงานครุภัณฑ์ 310061ยั่งยืน'!I27 -> 0 | I30: =+'[1]ดำเนินงานครุภัณฑ์ 310061ยั่งยืน'!J27 -> 0 | J30: =+'[1]ดำเนินงานครุภัณฑ์ 310061ยั่งยืน'!K27 -> 0 | K30: =+'[1]ดำเนินงานครุภัณฑ์ 310061ยั่งยืน'!L27 -> 0
A31: =+'[1]งบกัน67 350002'!A38 -> 1.1.1 | B31: =+'[1]ดำเนินงานครุภัณฑ์ 310061ยั่งยืน'!E24 -> เครื่องปรับอากาศแบบตั้งพื้นหรือแขวน (ระบบ INVERTER) ขนาด 20,000 บีทียู | C31: =+'[1]ดำเนินงานครุภัณฑ์ 310061ยั่งยืน'!C24 -> โอนเปลี่ยนแปลงครั้งที่ 1/66 บท.กลุ่มนโยบายและแผน ที่ ศธ 04087/1957 ลว. 28 กย 66 | D31: =+D32 -> 0 | E31: =+E32 -> 0 | F31: =+F32 -> 0 | H31: =+H32 -> 0 | I31: =+I32 -> 0 | J31: =+J32 -> 0 | K31: =+K32 -> 0
A32: =+'[1]ดำเนินงานครุภัณฑ์ 310061ยั่งยืน'!A25 -> 1) | B32: =+'[1]ดำเนินงานครุภัณฑ์ 310061ยั่งยืน'!E25 -> สพป.ปท.2 | C32: =+'[1]ดำเนินงานครุภัณฑ์ 310061ยั่งยืน'!D24 -> 20004 31006100 3110010 | D32: =+'[1]ดำเนินงานครุภัณฑ์ 310061ยั่งยืน'!F29 -> 0 | E32: =+'[1]ดำเนินงานครุภัณฑ์ 310061ยั่งยืน'!G29 -> 0 | F32: =+'[1]ดำเนินงานครุภัณฑ์ 310061ยั่งยืน'!H29 -> 0 | H32: =+'[1]ดำเนินงานครุภัณฑ์ 310061ยั่งยืน'!I29 -> 0 | I32: =+'[1]ดำเนินงานครุภัณฑ์ 310061ยั่งยืน'!J29 -> 0 | J32: =+'[1]ดำเนินงานครุภัณฑ์ 310061ยั่งยืน'!K29 -> 0 | K32: =+'[1]ดำเนินงานครุภัณฑ์ 310061ยั่งยืน'!L29 -> 0
A33: =+'[1]ดำเนินงานครุภัณฑ์ 310061ยั่งยืน'!A30 -> 2 | B33: =+'[1]ดำเนินงานครุภัณฑ์ 310061ยั่งยืน'!E30 -> เครื่องปรับอากาศแบบติดผนัง (ระบบ INVERTER) ขนาด 18,000 บีทียู | C33: =+'[1]ดำเนินงานครุภัณฑ์ 310061ยั่งยืน'!C30 -> โอนเปลี่ยนแปลงครั้งที่ 1/66 บท.กลุ่มนโยบายและแผน ที่ ศธ 04087/1957 ลว. 28 กย 66 | D33: =+D34 -> 0 | E33: =+E34 -> 0 | F33: =+F34 -> 0 | H33: =+H34 -> 0 | I33: =+I34 -> 0 | J33: =+J34 -> 0 | K33: =+K34 -> 0
A34: =+'[1]ดำเนินงานครุภัณฑ์ 310061ยั่งยืน'!A31 -> 1) | B34: =+'[1]ดำเนินงานครุภัณฑ์ 310061ยั่งยืน'!E31 -> สพป.ปท.2 | C34: =+'[1]ดำเนินงานครุภัณฑ์ 310061ยั่งยืน'!D30 -> 20005 31006100 3110011 | D34: =+'[1]ดำเนินงานครุภัณฑ์ 310061ยั่งยืน'!F34 -> 0 | E34: =+'[1]ดำเนินงานครุภัณฑ์ 310061ยั่งยืน'!G34 -> 0 | F34: =+'[1]ดำเนินงานครุภัณฑ์ 310061ยั่งยืน'!H34 -> 0 | H34: =+'[1]ดำเนินงานครุภัณฑ์ 310061ยั่งยืน'!I34 -> 0 | I34: =+'[1]ดำเนินงานครุภัณฑ์ 310061ยั่งยืน'!J34 -> 0 | J34: =+'[1]ดำเนินงานครุภัณฑ์ 310061ยั่งยืน'!K34 -> 0 | K34: =+'[1]ดำเนินงานครุภัณฑ์ 310061ยั่งยืน'!L34 -> 0
A35: =+'[1]ดำเนินงานครุภัณฑ์ 310061ยั่งยืน'!A35 -> 3 | B35: =+'[1]ดำเนินงานครุภัณฑ์ 310061ยั่งยืน'!E35 -> โพเดียม | C35: =+'[1]ดำเนินงานครุภัณฑ์ 310061ยั่งยืน'!C35 -> โอนเปลี่ยนแปลงครั้งที่ 1/66 บท.กลุ่มนโยบายและแผน ที่ ศธ 04087/1957 ลว. 28 กย 66 | D35: =+D36 -> 0 | E35: =+E36 -> 0 | F35: =+F36 -> 0 | H35: =+H36 -> 0 | I35: =+I36 -> 0 | J35: =+J36 -> 0 | K35: =+K36 -> 0
A36: =+'[1]ดำเนินงานครุภัณฑ์ 310061ยั่งยืน'!A36 -> 1) | B36: =+'[1]ดำเนินงานครุภัณฑ์ 310061ยั่งยืน'!E36 -> สพป.ปท.2 | C36: =+'[1]ดำเนินงานครุภัณฑ์ 310061ยั่งยืน'!D35 -> 20008 31006100 3110014 | D36: =+'[1]ดำเนินงานครุภัณฑ์ 310061ยั่งยืน'!F36 -> 0 | E36: =+'[1]ดำเนินงานครุภัณฑ์ 310061ยั่งยืน'!G39 -> 0 | F36: =+'[1]ดำเนินงานครุภัณฑ์ 310061ยั่งยืน'!H39 -> 0 | G36: =+'[1]ดำเนินงานครุภัณฑ์ 310061ยั่งยืน'!I39 -> 0 | H36: =+'[1]ดำเนินงานครุภัณฑ์ 310061ยั่งยืน'!J39 -> 0 | I36: =+'[1]ดำเนินงานครุภัณฑ์ 310061ยั่งยืน'!K39 -> 0 | J36: =+'[1]ดำเนินงานครุภัณฑ์ 310061ยั่งยืน'!L39 -> 0 | K36: =+'[1]ดำเนินงานครุภัณฑ์ 310061ยั่งยืน'!L36 -> 0
B37: =+'[1]ดำเนินงานครุภัณฑ์ 310061ยั่งยืน'!E40 -> ครุภัณฑ์โฆษณาและเผยแพร่ 120601 | C37: =+'[1]ดำเนินงานครุภัณฑ์ 310061ยั่งยืน'!D27 -> 0 | D37: =+D38+D40+D42 -> 0 | E37: =+E38+E40+E42 -> 0 | F37: =+F38+F40+F42 -> 0 | H37: =+H38+H40+H42 -> 0 | I37: =+I38+I40+I42 -> 0 | J37: =+J38+J40+J42 -> 0 | K37: =+K38+K40+K42 -> 0
A38: =+'[1]ดำเนินงานครุภัณฑ์ 310061ยั่งยืน'!A41 -> 1 | B38: =+'[1]ดำเนินงานครุภัณฑ์ 310061ยั่งยืน'!E41 -> โทรทัศน์สีแอล อี ดี (LED TV) แบบ Smart TV ระดับความละเอียดจอภาพ 3840 x 2160 พิกเซล ขนาด 75 นิ้ว | C38: =+'[1]ดำเนินงานครุภัณฑ์ 310061ยั่งยืน'!C41 -> โอนเปลี่ยนแปลงครั้งที่ 1/66 บท.กลุ่มนโยบายและแผน ที่ ศธ 04087/1957 ลว. 28 กย 66 | D38: =+D39 -> 0 | E38: =+E39 -> 0 | F38: =+F39 -> 0 | H38: =+H39 -> 0 | I38: =+I39 -> 0 | J38: =+J39 -> 0 | K38: =+K39 -> 0
A39: =+'[1]ดำเนินงานครุภัณฑ์ 310061ยั่งยืน'!A42 -> 1) | B39: =+'[1]ดำเนินงานครุภัณฑ์ 310061ยั่งยืน'!E53 -> สพป.ปท.2 | C39: =+'[1]ดำเนินงานครุภัณฑ์ 310061ยั่งยืน'!D41 -> 20007 31006100 3110012 | D39: =+'[1]ดำเนินงานครุภัณฑ์ 310061ยั่งยืน'!F46 -> 0 | E39: =+'[1]ดำเนินงานครุภัณฑ์ 310061ยั่งยืน'!G46 -> 0 | F39: =+'[1]ดำเนินงานครุภัณฑ์ 310061ยั่งยืน'!H46 -> 0 | H39: =+'[1]ดำเนินงานครุภัณฑ์ 310061ยั่งยืน'!I46 -> 0 | I39: =+'[1]ดำเนินงานครุภัณฑ์ 310061ยั่งยืน'!J46 -> 0 | J39: =+'[1]ดำเนินงานครุภัณฑ์ 310061ยั่งยืน'!K46 -> 0 | K39: =+'[1]ดำเนินงานครุภัณฑ์ 310061ยั่งยืน'!L46 -> 0
A40: =+'[1]ดำเนินงานครุภัณฑ์ 310061ยั่งยืน'!A47 -> 2 | B40: =+'[1]ดำเนินงานครุภัณฑ์ 310061ยั่งยืน'!E47 -> ไมโครโฟนไร้สาย | C40: =+'[1]ดำเนินงานครุภัณฑ์ 310061ยั่งยืน'!C47 -> โอนเปลี่ยนแปลงครั้งที่ 1/66 บท.กลุ่มนโยบายและแผน ที่ ศธ 04087/1957 ลว. 28 กย 66 | D40: =+D41 -> 0 | E40: =+E41 -> 0 | F40: =+F41 -> 0 | H40: =+H41 -> 0 | I40: =+I41 -> 0 | J40: =+J41 -> 0 | K40: =+K41 -> 0
A41: =+'[1]ดำเนินงานครุภัณฑ์ 310061ยั่งยืน'!A48 -> 1) | B41: =+'[1]ดำเนินงานครุภัณฑ์ 310061ยั่งยืน'!E48 -> สพป.ปท.2 | C41: =+'[1]ดำเนินงานครุภัณฑ์ 310061ยั่งยืน'!D47 -> 20008 31006100 3110013 | D41: =+'[1]ดำเนินงานครุภัณฑ์ 310061ยั่งยืน'!F51 -> 0 | E41: =+'[1]ดำเนินงานครุภัณฑ์ 310061ยั่งยืน'!G51 -> 0 | F41: =+'[1]ดำเนินงานครุภัณฑ์ 310061ยั่งยืน'!H51 -> 0 | H41: =+'[1]ดำเนินงานครุภัณฑ์ 310061ยั่งยืน'!I51 -> 0 | I41: =+'[1]ดำเนินงานครุภัณฑ์ 310061ยั่งยืน'!J51 -> 0 | J41: =+'[1]ดำเนินงานครุภัณฑ์ 310061ยั่งยืน'!K51 -> 0 | K41: =+'[1]ดำเนินงานครุภัณฑ์ 310061ยั่งยืน'!L51 -> 0
A42: =+'[1]ดำเนินงานครุภัณฑ์ 310061ยั่งยืน'!A52 -> 3 | B42: =+'[1]ดำเนินงานครุภัณฑ์ 310061ยั่งยืน'!E52 -> เครื่องมัลติมีเดีย โปรเจคเตอร์ ระดับ XGA ขนาด 5000 ANSI Lumens | C42: =+'[1]ดำเนินงานครุภัณฑ์ 310061ยั่งยืน'!C52 -> โอนเปลี่ยนแปลงครั้งที่ 1/66 บท.กลุ่มนโยบายและแผน ที่ ศธ 04087/1957 ลว. 28 กย 66 | D42: =+D43 -> 0 | E42: =+E43 -> 0 | F42: =+F43 -> 0 | H42: =+H43 -> 0 | I42: =+I43 -> 0 | J42: =+J43 -> 0 | K42: =+K43 -> 0
A43: =+'[1]ดำเนินงานครุภัณฑ์ 310061ยั่งยืน'!A53 -> 1) | B43: =+'[1]ดำเนินงานครุภัณฑ์ 310061ยั่งยืน'!E53 -> สพป.ปท.2 | C43: =+'[1]ดำเนินงานครุภัณฑ์ 310061ยั่งยืน'!D52 -> 20009 31006100 3110015 | D43: =+'[1]ดำเนินงานครุภัณฑ์ 310061ยั่งยืน'!F56 -> 0 | E43: =+'[1]ดำเนินงานครุภัณฑ์ 310061ยั่งยืน'!G56 -> 0 | F43: =+'[1]ดำเนินงานครุภัณฑ์ 310061ยั่งยืน'!H56 -> 0 | H43: =+'[1]ดำเนินงานครุภัณฑ์ 310061ยั่งยืน'!I56 -> 0 | I43: =+'[1]ดำเนินงานครุภัณฑ์ 310061ยั่งยืน'!J56 -> 0 | J43: =+'[1]ดำเนินงานครุภัณฑ์ 310061ยั่งยืน'!K56 -> 0 | K43: =+'[1]ดำเนินงานครุภัณฑ์ 310061ยั่งยืน'!L56 -> 0
A44: 1.1 | B44: =+'[1]ดำเนินงานครุภัณฑ์ 310061ยั่งยืน'!E145 -> รวม | C44: =+'[1]ดำเนินงานครุภัณฑ์ 310061ยั่งยืน'!D145 -> 0 | D44: =+D45+D56 -> 0 | E44: =+E45+E56 -> 0 | F44: =+F45+F56 -> 0 | H44: =+H45+H56 -> 0 | I44: =+I45+I56 -> 0 | J44: =+J45+J56 -> 0 | K44: =+K45+K56 -> 0
A45: =+'[1]งบกัน67 350002'!A51 -> 0 | B45: =+'[1]ดำเนินงานครุภัณฑ์ 310061ยั่งยืน'!E37 -> เบิก | C45: =+'[1]ดำเนินงานครุภัณฑ์ 310061ยั่งยืน'!C37 -> 20 | D45: =+D46 -> 0 | E45: =+E46 -> 0 | F45: =+F46 -> 0 | H45: =+H46 -> 0 | I45: =+I46 -> 0 | J45: =+J46 -> 0 | K45: =+K46 -> 0
A46: =+'[1]ดำเนินงานครุภัณฑ์ 310061ยั่งยืน'!A38 -> 0 | B46: =+'[1]ดำเนินงานครุภัณฑ์ 310061ยั่งยืน'!E38 -> 0 | C46: =+'[1]ดำเนินงานครุภัณฑ์ 310061ยั่งยืน'!D37 -> KB3100006110 | D46: =+'[1]ดำเนินงานครุภัณฑ์ 310061ยั่งยืน'!F42 -> 0 | E46: =+'[1]ดำเนินงานครุภัณฑ์ 310061ยั่งยืน'!G42 -> 0 | F46: =+'[1]ดำเนินงานครุภัณฑ์ 310061ยั่งยืน'!H42 -> 0 | H46: =+'[1]ดำเนินงานครุภัณฑ์ 310061ยั่งยืน'!I42 -> 0 | I46: =+'[1]ดำเนินงานครุภัณฑ์ 310061ยั่งยืน'!J42 -> 0 | J46: =+'[1]ดำเนินงานครุภัณฑ์ 310061ยั่งยืน'!K42 -> 0 | K46: =+'[1]ดำเนินงานครุภัณฑ์ 310061ยั่งยืน'!L42 -> 0
A49: ข | B49: =+'[1]งบกัน67 350002'!E5 -> แผนงานพื้นฐานด้านการพัฒนาและเสริมสร้างศักยภาพทรัพยากรมนุษย์ | D49: =+D50 -> 349000 | E49: =+E50 -> 0 | F49: =+F50 -> 0 | G49: =+G50 -> 0 | H49: =+H50 -> 0 | I49: =+I50 -> 0 | J49: =+J50 -> 349000 | K49: =+K50 -> 0
A50: 1 | B50: =+'[1]งบกัน67 350002'!E6 -> ผลผลิตผู้จบการศึกษาภาคบังคับ | C50: =+'[1]งบกัน67 350002'!D6 -> 20004 37001 | D50: =+D51+D80 -> 349000 | E50: =+E51+E80 -> 0 | F50: =+F51+F80 -> 0 | H50: =+H51+H80 -> 0 | I50: =+I51+I80 -> 0 | J50: =+J51+J80 -> 349000 | K50: =+K51+K80 -> 0
A51: 1.1 | B51: กิจกรรมการจัดการศึกษาประถมศึกษาสำหรับโรงเรียนปกติ /กิจกรรมการจัดการศึกษามัธยมศึกษาตอนต้นสำหรับโรงเรียนปกติ | C51: 20004670516552018/20004670516405272 | D51: =+D52+D53 -> 0 | E51: =+E52+E53 -> 0 | F51: =+F52+F53 -> 0 | G51: =+G52+G53 -> 0 | H51: =+H52+H53 -> 0 | I51: =+I52+I53 -> 0 | J51: =+J52+J53 -> 0 | K51: =+K52+K53 -> 0
B52: =+'[1]งบกัน67 350002'!E7 -> งบดำเนินงาน | C52: 6811220 | D52: =+D56 -> 0 | E52: =+E56 -> 0 | F52: =+F56 -> 0 | G52: =+G56 -> 0 | H52: =+H56 -> 0 | I52: =+I56 -> 0 | J52: =+J56 -> 0 | K52: =+K56 -> 0
B53: งบเงินอุดหนุน | C53: 6811410 | D53: =+D67 -> 0 | E53: =+E67 -> 0 | F53: =+F67 -> 0 | G53: =+G67 -> 0 | H53: =+H67 -> 0 | I53: =+I67 -> 0 | J53: =+J67 -> 0 | K53: =+K67 -> 0
B54: =+B52 -> งบดำเนินงาน | C54: 6811220 | D54: =+D55 -> 0 | E54: =+E55 -> 0 | F54: =+F55 -> 0 | G54: =+G55 -> 0 | H54: =+H55 -> 0 | I54: =+I55 -> 0 | J54: =+J55 -> 0
A55: 1.1.1 | B55: ปรับปรุงแซมแซมอาคารสำนักงานและห้องเก็บของ | D55: =+D56 -> 0 | E55: =+E56 -> 0 | F55: =+F56 -> 0 | G55: =+G56 -> 0 | H55: =+H56 -> 0 | I55: =+I56 -> 0 | J55: =+J56 -> 0 | K55: =+K56 -> 0
A56: 1) | B56: สพป.ปทุมธานี เขต 2 | C56: 2.000435e+18 | D56: =+'[1]งบกัน67 350002'!F16 -> 0 | E56: =+'[1]งบกัน67 350002'!G16 -> 0 | F56: =+'[1]งบกัน67 350002'!H16 -> 0 | G56: =+'[1]งบกัน67 350002'!I16 -> 0 | H56: =+'[1]งบกัน67 350002'!J16 -> 0 | I56: =+'[1]งบกัน67 350002'!K16 -> 0 | J56: =+'[1]งบกัน67 350002'!L16 -> 0 | K56: =+D56-E56-F56-G56-H56-I56-J56 -> 0
H58: =+'[1]สิ่งก่อสร้าง งบอุดหนุน 67'!J76 -> 0 | J58: =+'[1]สิ่งก่อสร้าง งบอุดหนุน 67'!L76 -> 0
B60: งบลงทุน 6711320 | C60: =+'[1]งบกัน67 350002'!D27 -> 6811320
A61: =+'[1]สิ่งก่อสร้าง งบอุดหนุน 67'!A95 -> 1.1.2 | B61: =+'[1]สิ่งก่อสร้าง งบอุดหนุน 67'!E95 -> ปรับปรุงซ่อมแซมระบบไฟฟ้าและประปา สำหรับสถานศึกษาที่ประสบภัยธรรมชาติ | C61: =+'[1]งบกัน67 350002'!E27 -> งบลงทุน ค่าที่ดินและสิ่งก่อสร้าง | D61: =D62 -> 0 | E61: =E62 -> 0 | F61: =F62 -> 0 | G61: =G62 -> 0 | H61: =H62 -> 0 | I61: =I62 -> 0 | J61: =J62 -> 0 | K61: =K62 -> 0
H62: =+'[1]สิ่งก่อสร้าง งบอุดหนุน 67'!J101 -> 0 | I62: =+'[1]สิ่งก่อสร้าง งบอุดหนุน 67'!L101 -> 0 | K62: =+D62-E62-F62-G62-H62-I62-J62 -> 0
D63: =SUM(D61:D62) -> 0
E64: =+'[1]สิ่งก่อสร้าง งบอุดหนุน 67'!H107 -> 0 | H64: =+'[1]สิ่งก่อสร้าง งบอุดหนุน 67'!J107 -> 0 | I64: =+'[1]สิ่งก่อสร้าง งบอุดหนุน 67'!L107 -> 0 | J64: =+'[1]สิ่งก่อสร้าง งบอุดหนุน 67'!M107 -> 0 | K64: =+'[1]สิ่งก่อสร้าง งบอุดหนุน 67'!N107 -> 0
D65: =+D66 -> 0 | E65: =+E66 -> 0 | F65: =+F66 -> 0 | H65: =+H66 -> 0 | I65: =+I66 -> 0 | J65: =+J66 -> 0 | K65: =+K66 -> 0
E66: =+'[1]สิ่งก่อสร้าง งบอุดหนุน 67'!H113 -> 0 | H66: =+'[1]สิ่งก่อสร้าง งบอุดหนุน 67'!J113 -> 0 | I66: =+'[1]สิ่งก่อสร้าง งบอุดหนุน 67'!L113 -> 0 | J66: =+'[1]สิ่งก่อสร้าง งบอุดหนุน 67'!M113 -> 0 | K66: =+'[1]สิ่งก่อสร้าง งบอุดหนุน 67'!N113 -> 0
B67: =+'[1]งบอุดหนุน 350002'!D7 -> 6711410 | D67: =+D68 -> 0 | E67: =+E68 -> 0 | F67: =+F68 -> 0 | G67: =+G68 -> 0 | H67: =+H68 -> 0 | I67: =+I68 -> 0 | J67: =+J68 -> 0 | K67: =+K68 -> 0
B68: =+'[1]งบอุดหนุน 350002'!E7 -> งบเงินอุดหนุน | C68: =+'[1]งบอุดหนุน 350002'!D7 -> 6711410 | D68: =SUM(D69:D73) -> 0 | E68: =SUM(E69:E73) -> 0 | F68: =SUM(F69:F73) -> 0 | G68: =SUM(G71:G72) -> 0 | H68: =SUM(H71:H72) -> 0 | I68: =SUM(I71:I72) -> 0 | J68: =SUM(J71:J72) -> 0 | K68: =SUM(K71:K72) -> 0
A69: 1.1.2 | B69: =+'[1]งบอุดหนุน 350002'!E9 -> ค่าใช้จ่ายในการปรับปรุงฟื้นฟูอาคาร สิ่งก่อสร้าง และระบบสาธารณูปโภคที่ประสบภัยธรรมชาติ | C69: =+'[1]งบอุดหนุน 350002'!C9:D9 -> 20004350002004100006 | D69: =+'[1]สิ่งก่อสร้าง งบอุดหนุน 67'!G120 -> 0 | E69: =+'[1]สิ่งก่อสร้าง งบอุดหนุน 67'!H120 -> 0 | F69: =+'[1]สิ่งก่อสร้าง งบอุดหนุน 67'!I120 -> 0 | H69: =+'[1]สิ่งก่อสร้าง งบอุดหนุน 67'!J120 -> 0 | I69: =+'[1]สิ่งก่อสร้าง งบอุดหนุน 67'!L120 -> 0 | J69: =+'[1]สิ่งก่อสร้าง งบอุดหนุน 67'!M120 -> 0 | K69: =+'[1]สิ่งก่อสร้าง งบอุดหนุน 67'!N120 -> 0
C70: =+'[1]งบอุดหนุน 350002'!C10:D10 -> ศธ 04002/ว1064 ลว. 17 มีค 68
A71: 1) | B71: =+'[1]งบอุดหนุน 350002'!E10 -> ร.ร.วัดเกตประภา | C71: =+'[1]งบอุดหนุน 350002'!C9:D9 -> 20004350002004100006 | D71: =+'[1]งบอุดหนุน 350002'!F10 -> 0 | E71: =+'[1]งบอุดหนุน 350002'!G16 -> 0 | F71: =+'[1]งบอุดหนุน 350002'!H16 -> 0 | G71: =+'[1]งบอุดหนุน 350002'!I16 -> 0 | H71: =+'[1]งบอุดหนุน 350002'!J16 -> 0 | I71: =+'[1]งบอุดหนุน 350002'!K16 -> 0 | J71: =+'[1]งบอุดหนุน 350002'!L16 -> 0 | K71: =+D71-E71-F71-G71-H71-I71-J71 -> 0
A72: 2) | B72: =+'[1]งบอุดหนุน 350002'!E18 -> ร.ร.วัดเจริญบุญ | C72: =+'[1]งบอุดหนุน 350002'!C9:D9 -> 20004350002004100006 | D72: =+'[1]งบอุดหนุน 350002'!F29 -> 0 | E72: =+'[1]งบอุดหนุน 350002'!G29 -> 0 | F72: =+'[1]งบอุดหนุน 350002'!H29 -> 0 | G72: =+'[1]งบอุดหนุน 350002'!I29 -> 0 | H72: =+'[1]งบอุดหนุน 350002'!J29 -> 0 | I72: =+'[1]งบอุดหนุน 350002'!K29 -> 0 | J72: =+'[1]งบอุดหนุน 350002'!L29 -> 0 | K72: =+D72-E72-F72-G72-H72-I72-J72 -> 0
A74: =+'[1]สิ่งก่อสร้าง งบอุดหนุน 67'!A121 -> 3.1.7 | B74: =+'[1]สิ่งก่อสร้าง งบอุดหนุน 67'!E121 -> เครื่องพิมพ์ Multifunction แบบฉีดหมึกพร้อมติดตั้งถังหมึกพิมพ์ (Ink Tank Printer) | D74: =+'[1]สิ่งก่อสร้าง งบอุดหนุน 67'!G121 -> 0 | E74: =+'[1]สิ่งก่อสร้าง งบอุดหนุน 67'!H121 -> 0 | F74: =+'[1]สิ่งก่อสร้าง งบอุดหนุน 67'!I121 -> 0 | H74: =+'[1]สิ่งก่อสร้าง งบอุดหนุน 67'!J121 -> 0 | I74: =+'[1]สิ่งก่อสร้าง งบอุดหนุน 67'!L121 -> 0 | J74: =+'[1]สิ่งก่อสร้าง งบอุดหนุน 67'!M121 -> 0 | K74: =+'[1]สิ่งก่อสร้าง งบอุดหนุน 67'!N121 -> 0
A75: =+'[1]สิ่งก่อสร้าง งบอุดหนุน 67'!A122 -> 3.1.7.1 | B75: =+'[1]สิ่งก่อสร้าง งบอุดหนุน 67'!E122 -> สพป.ปท.2 จำนวน 3 เครื่อง | C75: =+'[1]สิ่งก่อสร้าง งบอุดหนุน 67'!F122 -> 2000436002110DBW | D75: =+'[1]สิ่งก่อสร้าง งบอุดหนุน 67'!G127 -> 0 | E75: =+'[1]สิ่งก่อสร้าง งบอุดหนุน 67'!H127 -> 0 | F75: =+'[1]สิ่งก่อสร้าง งบอุดหนุน 67'!I127 -> 0 | H75: =+'[1]สิ่งก่อสร้าง งบอุดหนุน 67'!J127 -> 0 | I75: =+'[1]สิ่งก่อสร้าง งบอุดหนุน 67'!L127 -> 0 | J75: =+'[1]สิ่งก่อสร้าง งบอุดหนุน 67'!M127 -> 0 | K75: =+'[1]สิ่งก่อสร้าง งบอุดหนุน 67'!N127 -> 0
A76: =+'[1]สิ่งก่อสร้าง งบอุดหนุน 67'!A128 -> 3.2 | B76: =+'[1]สิ่งก่อสร้าง งบอุดหนุน 67'!E128 -> กิจกรรมการจัดการศึกษามัธยมศึกษาตอนต้นสำหรับโรงเรียนปกติ | C76: =+'[1]สิ่งก่อสร้าง งบอุดหนุน 67'!F128 -> 200041300P2792 | D76: =+'[1]สิ่งก่อสร้าง งบอุดหนุน 67'!G128 -> 0 | E76: =+'[1]สิ่งก่อสร้าง งบอุดหนุน 67'!H128 -> 0 | F76: =+'[1]สิ่งก่อสร้าง งบอุดหนุน 67'!I128 -> 0 | H76: =+'[1]สิ่งก่อสร้าง งบอุดหนุน 67'!J128 -> 0 | I76: =+'[1]สิ่งก่อสร้าง งบอุดหนุน 67'!L128 -> 0 | J76: =+'[1]สิ่งก่อสร้าง งบอุดหนุน 67'!M128 -> 0 | K76: =+'[1]สิ่งก่อสร้าง งบอุดหนุน 67'!N128 -> 0
A77: =+'[1]สิ่งก่อสร้าง งบอุดหนุน 67'!A129 -> 0 | B77: =+'[1]สิ่งก่อสร้าง งบอุดหนุน 67'!E129 -> งบดำเนินงาน | C77: 6711220 | D77: =+'[1]สิ่งก่อสร้าง งบอุดหนุน 67'!G129 -> 0 | E77: =+'[1]สิ่งก่อสร้าง งบอุดหนุน 67'!H129 -> 0 | F77: =+'[1]สิ่งก่อสร้าง งบอุดหนุน 67'!I129 -> 0 | H77: =+'[1]สิ่งก่อสร้าง งบอุดหนุน 67'!J129 -> 0 | I77: =+'[1]สิ่งก่อสร้าง งบอุดหนุน 67'!L129 -> 0 | J77: =+'[1]สิ่งก่อสร้าง งบอุดหนุน 67'!M129 -> 0 | K77: =+'[1]สิ่งก่อสร้าง งบอุดหนุน 67'!N129 -> 0
A78: =+'[1]สิ่งก่อสร้าง งบอุดหนุน 67'!A130 -> 3.2.1 | B78: =+'[1]สิ่งก่อสร้าง งบอุดหนุน 67'!E130 -> ปรับปรุงซ่อมแซมผนังอาคาร ท่อลำเลียงน้ำและซ่อมพื้นดาดฟ้ารั่วซึม | D78: =+'[1]สิ่งก่อสร้าง งบอุดหนุน 67'!G130 -> 0 | E78: =+'[1]สิ่งก่อสร้าง งบอุดหนุน 67'!H130 -> 0 | F78: =+'[1]สิ่งก่อสร้าง งบอุดหนุน 67'!I130 -> 0 | H78: =+'[1]สิ่งก่อสร้าง งบอุดหนุน 67'!J130 -> 0 | I78: =+'[1]สิ่งก่อสร้าง งบอุดหนุน 67'!L130 -> 0 | J78: =+'[1]สิ่งก่อสร้าง งบอุดหนุน 67'!M130 -> 0 | K78: =+'[1]สิ่งก่อสร้าง งบอุดหนุน 67'!N130 -> 0
A79: =+'[1]สิ่งก่อสร้าง งบอุดหนุน 67'!A131 -> 3.2.1.1 | B79: =+'[1]สิ่งก่อสร้าง งบอุดหนุน 67'!E131 -> สพป.ปท.2 | C79: =+'[1]สิ่งก่อสร้าง งบอุดหนุน 67'!F131 -> 2000436002000000 | D79: =+'[1]สิ่งก่อสร้าง งบอุดหนุน 67'!G136 -> 0 | E79: =+'[1]สิ่งก่อสร้าง งบอุดหนุน 67'!H136 -> 0 | F79: =+'[1]สิ่งก่อสร้าง งบอุดหนุน 67'!I136 -> 0 | H79: =+'[1]สิ่งก่อสร้าง งบอุดหนุน 67'!J136 -> 0 | I79: =+'[1]สิ่งก่อสร้าง งบอุดหนุน 67'!L136 -> 0 | J79: =+'[1]สิ่งก่อสร้าง งบอุดหนุน 67'!M136 -> 0 | K79: =+'[1]สิ่งก่อสร้าง งบอุดหนุน 67'!N136 -> 0
A80: 1.2 | B80: =+'[1]งบกัน67 350002'!E37 -> กิจกรรมก่อสร้างปรับปรุง ซ่อมแซมอาคารเรียนและสิ่งก่อสร้างประกอบสำหรับโรงเรียนปกติ | C80: =+'[1]งบกัน67 350002'!D37 -> 20004 68 01056 00000 | D80: =+D81 -> 349000 | E80: =+E81 -> 0 | F80: =+F81 -> 0 | H80: =+H81 -> 0 | I80: =+I81 -> 0 | J80: =+J81 -> 349000 | K80: =+K81 -> 0
A81: =+'[1]สิ่งก่อสร้าง งบอุดหนุน 67'!A138 -> 0 | B81: =+'[1]งบกัน67 350002'!E27 -> งบลงทุน ค่าที่ดินและสิ่งก่อสร้าง | C81: =+'[1]งบกัน67 350002'!D27 -> 6811320 | D81: =+D82+D85+D88 -> 349000 | E81: =+E82+E85+E88 -> 0 | F81: =+F82+F85+F88 -> 0 | G81: =+G82+G85+G88 -> 0 | H81: =+H82+H85+H88 -> 0 | I81: =+I82+I85+I88 -> 0 | J81: =+J82+J85+J88 -> 349000 | K81: =+K82+K85+K88 -> 0
A82: 1.2.1 | B82: =+'[1]งบกัน67 350002'!E38 -> อาคารเรียนน๊อคดาวน์ | C82: ศธ 04002/ว5187 ลว 21 ตค 67ครั้งที่ 5 | D82: =SUM(D83:D84) -> 349000 | E82: =SUM(E83:E84) -> 0 | F82: =SUM(F83:F84) -> 0 | G82: =SUM(G83:G84) -> 0 | H82: =SUM(H83:H84) -> 0 | I82: =SUM(I83:I84) -> 0 | J82: =SUM(J83:J84) -> 349000 | K82: =SUM(K83:K84) -> 0
A83: =+'[1]งบกัน67 350002'!A39 -> 1) | B83: =+'[1]งบกัน67 350002'!E39 -> โรงเรียนวัดดอนใหญ่ | C83: =+'[1]งบกัน67 350002'!D39 -> 2000437001000321ZZZZ | D83: =+'[1]งบกัน67 350002'!F45 -> 349000 | E83: =+'[1]งบกัน67 350002'!G45 -> 0 | F83: =+'[1]งบกัน67 350002'!H45 -> 0 | G83: =+'[1]งบกัน67 350002'!I45 -> 0 | H83: =+'[1]งบกัน67 350002'!J45 -> 0 | I83: =+'[1]งบกัน67 350002'!K45 -> 0 | J83: =+'[1]งบกัน67 350002'!L45 -> 349000 | K83: =+D83-E83-F83-G83-H83-I83-J83 -> 0
B84: =+'[1]งบกัน67 350002'!E40 -> ครบ 28 พ.ย. 68 | C84: Po4100728818
A85: 1.2.2 | B85: =+'[1]งบกัน67 350002'!E46 -> 0 | C85: =+'[1]งบกัน67 350002'!D47 -> 0 | D85: =+'[1]งบกัน67 350002'!F53 -> 0 | E85: =+'[1]งบกัน67 350002'!G53 -> 0 | F85: =+'[1]งบกัน67 350002'!H53 -> 0 | G85: =+'[1]งบกัน67 350002'!I53 -> 0 | H85: =+'[1]งบกัน67 350002'!J53 -> 0 | I85: =+'[1]งบกัน67 350002'!K53 -> 0 | J85: =+'[1]งบกัน67 350002'!L53 -> 0 | K85: =+D85-E85-F85-G85-H85-I85-J85 -> 0
A86: 1) | B86: =+'[1]งบกัน67 350002'!E47 -> 0 | C86: =+'[1]งบกัน67 350002'!D47 -> 0 | D86: =+'[1]งบกัน67 350002'!F53 -> 0 | E86: =+'[1]งบกัน67 350002'!G53 -> 0 | F86: =+'[1]งบกัน67 350002'!H53 -> 0 | G86: =+'[1]งบกัน67 350002'!I53 -> 0 | H86: =+'[1]งบกัน67 350002'!J53 -> 0 | I86: =+'[1]งบกัน67 350002'!K53 -> 0 | J86: =+'[1]งบกัน67 350002'!L53 -> 0 | K86: =+D86-E86-F86-G86-H86-I86-J86 -> 0
C87: =+'[1]งบกัน67 350002'!C47 -> 0
A88: 1.2.3 | B88: =+'[1]งบกัน67 350002'!E54 -> อาคารเรียนแบบพิเศษ จัดสรร 38,731,000 บาท ปี67 5,809,700 บาท | C88: =+'[1]งบกัน67 350002'!C54 -> ศธ 04002/ว1803 ลว 8 พค 67ครั้งที่ 8 | D88: =SUM(D89) -> 0 | E88: =SUM(E89) -> 0 | F88: =SUM(F89) -> 0 | H88: =SUM(H89) -> 0 | I88: =SUM(I89) -> 0 | J88: =SUM(J89) -> 0 | K88: =SUM(K89) -> 0
A89: =+'[1]งบกัน67 350002'!A55 -> 1) | B89: =+'[1]งบกัน67 350002'!E55 -> โรงเรียนวัดลาดสนุ่น | C89: =+'[1]งบกัน67 350002'!D55 -> 20004 3500200 3200026 | D89: =+'[1]งบกัน67 350002'!F81 -> 0 | E89: =+'[1]งบกัน67 350002'!G81 -> 0 | F89: =+'[1]งบกัน67 350002'!H81 -> 0 | G89: =+'[1]งบกัน67 350002'!I81 -> 0 | H89: =+'[1]งบกัน67 350002'!J81 -> 0 | I89: =+'[1]งบกัน67 350002'!K81 -> 0 | J89: =+'[1]งบกัน67 350002'!L81 -> 0 | K89: =+D89-E89-F89-G89-H89-I89-J89 -> 0
C90: =+'[1]งบกัน67 350002'!C55 -> 4100484429
A91: =+'[1]สิ่งก่อสร้าง งบอุดหนุน 67'!A48 -> ค | B91: =+'[1]สิ่งก่อสร้าง งบอุดหนุน 67'!E48 -> แผนงานยุทธศาสตร์สร้างความเสมอภาคทางการศึกษา | D91: =+D92+D135 -> 0 | E91: =+E92+E135 -> 0 | F91: =+F92+F135 -> 0 | G91: =+G92+G135 -> 0 | H91: =+H92+H135 -> 0 | I91: =+I92+I135 -> 0 | J91: =+J92+J135 -> 0 | K91: =+K92+K135 -> 0
A92: 1 | B92: =+'[1]สิ่งก่อสร้าง งบอุดหนุน 67'!E60 -> โครงการสนับสนุนค่าใช้จ่ายในการจัดการศึกษาตั้งแต่ระดับอนุบาลจนจบการศึกษาขั้นพื้นฐาน | C92: =+'[1]สิ่งก่อสร้าง งบอุดหนุน 67'!D60 -> 2000442002200 | D92: =+D93 -> 0 | E92: =+E93 -> 0 | F92: =+F93 -> 0 | G92: =+G93 -> 0 | H92: =+H93 -> 0 | I92: =+I93 -> 0 | J92: =+J93 -> 0 | K92: =+K93 -> 0
A93: 1.1 | B93: =+'[1]สิ่งก่อสร้าง งบอุดหนุน 67'!E61 -> กิจกรรมการสนับสนุนค่าใช้จ่ายในการจัดการศึกษาขั้นพื้นฐาน | C93: =+'[1]สิ่งก่อสร้าง งบอุดหนุน 67'!D61 -> 20004685199300000 | D93: =+D95 -> 0 | E93: =+E95 -> 0 | F93: =+F95 -> 0 | G93: =+G95 -> 0 | H93: =+H95 -> 0 | I93: =+I95 -> 0 | J93: =+J95 -> 0 | K93: =+K95 -> 0
A94: 1.1.1 | B94: =+'[1]สิ่งก่อสร้าง งบอุดหนุน 67'!E63 -> รายการเงินอุดหนุนเพื่อสนับสนุนค่าใช้จ่ายในการจัดการศึกษาสำหรับสถานศึกษา ตามความขาดแคลน และที่ประสบภัยธรรมชาติ | D94: =+D95 -> 0 | E94: =+E95 -> 0 | F94: =+F95 -> 0 | G94: =+G95 -> 0 | H94: =+H95 -> 0 | I94: =+I95 -> 0 | J94: =+J95 -> 0 | K94: =+K95 -> 0
A95: =+'[1]สิ่งก่อสร้าง งบอุดหนุน 67'!A147 -> 0 | B95: =+'[1]สิ่งก่อสร้าง งบอุดหนุน 67'!E62 -> งบเงินอุดหนุน | C95: =+'[1]สิ่งก่อสร้าง งบอุดหนุน 67'!D62 -> 6811410 | D95: =+D96+D102 -> 0 | E95: =+E96+E102 -> 0 | F95: =+F96+F102 -> 0 | G95: =+G96+G102 -> 0 | H95: =+H96+H102 -> 0 | I95: =+I96+I102 -> 0 | J95: =+J96+J102 -> 0 | K95: =+K96+K102 -> 0
A96: 1.1.1.1 | B96: =+'[1]สิ่งก่อสร้าง งบอุดหนุน 67'!E64 -> ปรับปรุงซ่อมแซมอาคารเรียน อาคารประกอบและสิ่งก่อสร้างอื่น | C96: =+'[1]สิ่งก่อสร้าง งบอุดหนุน 67'!D64 -> ที่ ศธ 04002/ว5898 ลว. 6 ธ.ค. 2567 ครั้งที่ 5 CK00000128 | D96: =SUM(D97:D101) -> 0 | E96: =SUM(E97:E101) -> 0 | F96: =SUM(F97:F101) -> 0 | G96: =SUM(G97:G101) -> 0 | H96: =SUM(H97:H101) -> 0 | I96: =SUM(I97:I101) -> 0 | J96: =SUM(J97:J101) -> 0 | K96: =SUM(K97:K101) -> 0
A97: =+'[1]งบกัน67 350002'!A86 -> 1) | B97: =+'[1]สิ่งก่อสร้าง งบอุดหนุน 67'!E65 -> โรงเรียนแสนจำหน่ายวิทยา | C97: =+'[1]สิ่งก่อสร้าง งบอุดหนุน 67'!D65 -> 20004420022004100386 | D97: =+'[1]สิ่งก่อสร้าง งบอุดหนุน 67'!G70 -> 0 | E97: =+'[1]สิ่งก่อสร้าง งบอุดหนุน 67'!H70 -> 0 | F97: =+'[1]สิ่งก่อสร้าง งบอุดหนุน 67'!I70 -> 0 | G97: =+'[1]สิ่งก่อสร้าง งบอุดหนุน 67'!J70 -> 0 | H97: =+'[1]สิ่งก่อสร้าง งบอุดหนุน 67'!K70 -> 0 | I97: =+'[1]สิ่งก่อสร้าง งบอุดหนุน 67'!L70 -> 0 | J97: =+'[1]สิ่งก่อสร้าง งบอุดหนุน 67'!M70 -> 0 | K97: =+D97-E97-F97-G97-H97-I97-J97 -> 0
A98: =+'[1]สิ่งก่อสร้าง งบอุดหนุน 67'!A71 -> 2) | B98: =+'[1]สิ่งก่อสร้าง งบอุดหนุน 67'!E71 -> โรงเรียนวัดขุมแก้ว | C98: =+'[1]สิ่งก่อสร้าง งบอุดหนุน 67'!D71 -> 20004420022004100386 | D98: =+'[1]สิ่งก่อสร้าง งบอุดหนุน 67'!G76 -> 0 | E98: =+'[1]สิ่งก่อสร้าง งบอุดหนุน 67'!H76 -> 0 | F98: =+'[1]สิ่งก่อสร้าง งบอุดหนุน 67'!I76 -> 0 | G98: =+'[1]สิ่งก่อสร้าง งบอุดหนุน 67'!J76 -> 0 | H98: =+'[1]สิ่งก่อสร้าง งบอุดหนุน 67'!K76 -> 0 | I98: =+'[1]สิ่งก่อสร้าง งบอุดหนุน 67'!L76 -> 0 | J98: =+'[1]สิ่งก่อสร้าง งบอุดหนุน 67'!M76 -> 0 | K98: =+D98-E98-F98-G98-H98-I98-J98 -> 0
A99: =+'[1]สิ่งก่อสร้าง งบอุดหนุน 67'!A77 -> 3) | B99: =+'[1]สิ่งก่อสร้าง งบอุดหนุน 67'!E77 -> โรงเรียนวัดราษฎรบํารุง | C99: =+'[1]สิ่งก่อสร้าง งบอุดหนุน 67'!D77 -> 20004420022004100386 | D99: =+'[1]สิ่งก่อสร้าง งบอุดหนุน 67'!G82 -> 0 | E99: =+'[1]สิ่งก่อสร้าง งบอุดหนุน 67'!H82 -> 0 | F99: =+'[1]สิ่งก่อสร้าง งบอุดหนุน 67'!I82 -> 0 | G99: =+'[1]สิ่งก่อสร้าง งบอุดหนุน 67'!J82 -> 0 | H99: =+'[1]สิ่งก่อสร้าง งบอุดหนุน 67'!K82 -> 0 | I99: =+'[1]สิ่งก่อสร้าง งบอุดหนุน 67'!L82 -> 0 | J99: =+'[1]สิ่งก่อสร้าง งบอุดหนุน 67'!M82 -> 0 | K99: =+D99-E99-F99-G99-H99-I99-J99 -> 0
A100: =+'[1]สิ่งก่อสร้าง งบอุดหนุน 67'!A83 -> 4) | B100: =+'[1]สิ่งก่อสร้าง งบอุดหนุน 67'!E83 -> โรงเรียนรวมราษฎร์สามัคคี | C100: =+'[1]สิ่งก่อสร้าง งบอุดหนุน 67'!D83 -> 20004420022004100386 | D100: =+'[1]สิ่งก่อสร้าง งบอุดหนุน 67'!G88 -> 0 | E100: =+'[1]สิ่งก่อสร้าง งบอุดหนุน 67'!H88 -> 0 | F100: =+'[1]สิ่งก่อสร้าง งบอุดหนุน 67'!I88 -> 0 | G100: =+'[1]สิ่งก่อสร้าง งบอุดหนุน 67'!J88 -> 0 | H100: =+'[1]สิ่งก่อสร้าง งบอุดหนุน 67'!K88 -> 0 | I100: =+'[1]สิ่งก่อสร้าง งบอุดหนุน 67'!L88 -> 0 | J100: =+'[1]สิ่งก่อสร้าง งบอุดหนุน 67'!M88 -> 0 | K100: =+D100-E100-F100-G100-H100-I100-J100 -> 0
A101: =+'[1]สิ่งก่อสร้าง งบอุดหนุน 67'!A89 -> 5) | B101: =+'[1]สิ่งก่อสร้าง งบอุดหนุน 67'!E89 -> โรงเรียนวัดอดิศร | C101: =+'[1]สิ่งก่อสร้าง งบอุดหนุน 67'!D89 -> 20004420022004100386 | D101: =+'[1]สิ่งก่อสร้าง งบอุดหนุน 67'!G94 -> 0 | E101: =+'[1]สิ่งก่อสร้าง งบอุดหนุน 67'!H94 -> 0 | F101: =+'[1]สิ่งก่อสร้าง งบอุดหนุน 67'!I94 -> 0 | G101: =+'[1]สิ่งก่อสร้าง งบอุดหนุน 67'!J94 -> 0 | H101: =+'[1]สิ่งก่อสร้าง งบอุดหนุน 67'!K94 -> 0 | I101: =+'[1]สิ่งก่อสร้าง งบอุดหนุน 67'!L94 -> 0 | J101: =+'[1]สิ่งก่อสร้าง งบอุดหนุน 67'!M94 -> 0 | K101: =+D101-E101-F101-G101-H101-I101-J101 -> 0
A102: 1.1.1.2 | B102: =+'[1]สิ่งก่อสร้าง งบอุดหนุน 67'!E95 -> ปรับปรุงซ่อมแซมระบบไฟฟ้าและประปา สำหรับสถานศึกษาที่ประสบภัยธรรมชาติ | C102: =+'[1]สิ่งก่อสร้าง งบอุดหนุน 67'!D95 -> ที่ ศธ 04002/ว13 ลว. 2 ม.ค. 2568 ครั้งที่ 10 เลขใบกัน CK00000331 | D102: =SUM(D103:D105) -> 0 | E102: =SUM(E103:E107) -> 0 | F102: =SUM(F103:F105) -> 0 | G102: =SUM(G103:G107) -> 0 | H102: =SUM(H103:H107) -> 0 | I102: =SUM(I103:I107) -> 0 | J102: =SUM(J103:J107) -> 0 | K102: =SUM(K103:K107) -> 0
A103: =+'[1]สิ่งก่อสร้าง งบอุดหนุน 67'!A96 -> 1) | B103: =+'[1]สิ่งก่อสร้าง งบอุดหนุน 67'!E96 -> วัดเกตุประภา | C103: =+'[1]สิ่งก่อสร้าง งบอุดหนุน 67'!D96 -> 20004420022004100386 | D103: =+'[1]สิ่งก่อสร้าง งบอุดหนุน 67'!G101 -> 0 | E103: =+'[1]สิ่งก่อสร้าง งบอุดหนุน 67'!H101 -> 0 | F103: =+'[1]สิ่งก่อสร้าง งบอุดหนุน 67'!I101 -> 0 | G103: =+'[1]สิ่งก่อสร้าง งบอุดหนุน 67'!J101 -> 0 | H103: =+'[1]สิ่งก่อสร้าง งบอุดหนุน 67'!K101 -> 0 | I103: =+'[1]สิ่งก่อสร้าง งบอุดหนุน 67'!L101 -> 0 | J103: =+'[1]สิ่งก่อสร้าง งบอุดหนุน 67'!M101 -> 0 | K103: =+D103-E103-F103-G103-H103-I103-J103 -> 0
A104: =+'[1]สิ่งก่อสร้าง งบอุดหนุน 67'!A102 -> 2) | B104: =+'[1]สิ่งก่อสร้าง งบอุดหนุน 67'!E102 -> วัดปัญจทายิกาวาส | C104: =+'[1]สิ่งก่อสร้าง งบอุดหนุน 67'!D102 -> 20004420022004100386 | D104: =+'[1]สิ่งก่อสร้าง งบอุดหนุน 67'!G107 -> 0 | E104: =+'[1]สิ่งก่อสร้าง งบอุดหนุน 67'!H107 -> 0 | F104: =+'[1]สิ่งก่อสร้าง งบอุดหนุน 67'!I107 -> 0 | G104: =+'[1]สิ่งก่อสร้าง งบอุดหนุน 67'!J107 -> 0 | H104: =+'[1]สิ่งก่อสร้าง งบอุดหนุน 67'!K107 -> 0 | I104: =+'[1]สิ่งก่อสร้าง งบอุดหนุน 67'!L107 -> 0 | J104: =+'[1]สิ่งก่อสร้าง งบอุดหนุน 67'!M107 -> 0 | K104: =+D104-E104-F104-G104-H104-I104-J104 -> 0
A105: =+'[1]สิ่งก่อสร้าง งบอุดหนุน 67'!A108 -> 3) | B105: =+'[1]สิ่งก่อสร้าง งบอุดหนุน 67'!E108 -> วัดพวงแก้ว | C105: =+'[1]สิ่งก่อสร้าง งบอุดหนุน 67'!D108 -> 20004420022004100386 | D105: =+'[1]สิ่งก่อสร้าง งบอุดหนุน 67'!G113 -> 0 | E105: =+'[1]สิ่งก่อสร้าง งบอุดหนุน 67'!H113 -> 0 | F105: =+'[1]สิ่งก่อสร้าง งบอุดหนุน 67'!I113 -> 0 | G105: =+'[1]สิ่งก่อสร้าง งบอุดหนุน 67'!J113 -> 0 | H105: =+'[1]สิ่งก่อสร้าง งบอุดหนุน 67'!K113 -> 0 | I105: =+'[1]สิ่งก่อสร้าง งบอุดหนุน 67'!L113 -> 0 | J105: =+'[1]สิ่งก่อสร้าง งบอุดหนุน 67'!M113 -> 0 | K105: =+D105-E105-F105-G105-H105-I105-J105 -> 0
...

Sheet งบบริหารจัดการเขตพื้นที่
A1: รายงานผลการเบิกจ่ายเงินงบประมาณ งบประจำเพื่อการบริหารจัดการสำนักงานและงบพัฒนาคุณภาพการศึกษา
A2: ประจำปีงบประมาณ พ.ศ. 2569
A3: กลุ่มบริหารงานการเงินและสินทรัพย์ สำนักงานเขตพื้นที่การศึกษาประถมศึกษาปทุมธานี เขต 2
A4: ประจำเดือนกันยายน 2569
A5: ที่ | B5: รายการ | D5: =+[2]ระบบการควบคุมฯ!B768 -> กิจกรรมการบริหารจัดการในเขตพื้นที่การศึกษา | K5: =+[2]ระบบการควบคุมฯ!B897 -> กิจกรรมการจัดการศึกษาประถมศึกษาสำหรับโรงเรียนปกติ | R5: =+[2]งบสพฐ!B367 -> กิจกรรมการสนับสนุนการศึกษาขั้นพื้นฐาน | Y5: รวมกิจกรรมบริหารจัดการในสำนักงานเขตพื้นที่การศึกษา/กิจกรรมการจัดการศึกษาประถมศึกษาฯ/กิจกรรมสนับสนุนการศึกษาขั้นพื้นฐาน | AG5: ผู้รับผิดชอบ
C6: รหัสงบประมาณ | D6: งบบริหารสำนักงาน | E6: งบพัฒนาเพื่อพัฒนาคุณภาพการศึกษา | F6: รวมเงินงวด | G6: ผูกพัน | H6: =+[2]ระบบการควบคุมฯ!I5 -> กันเงินไว้เบิก | I6: เบิก | J6: คงเหลือ | K6: งบบริหารสำนักงาน | L6: งบพัฒนาเพื่อพัฒนาคุณภาพการศึกษา | M6: รวมเงินงวด | N6: ผูกพัน | O6: กันเงินไว้เบิก | P6: เบิก | Q6: คงเหลือ | R6: งบบริหารสำนักงาน | S6: งบพัฒนาเพื่อพัฒนาคุณภาพการศึกษา | T6: รวมเงินงวด | U6: ผูกพัน | V6: กันเงินไว้เบิก | W6: เบิก | X6: คงเหลือ | Y6: งบบริหารสำนักงาน | Z6: งบพัฒนาเพื่อพัฒนาคุณภาพการศึกษา | AA6: รวมเงินงวด | AB6: ผูกพัน | AC6: กันเงินไว้เบิก | AD6: เบิก | AE6: คงเหลือ
C7: หนังสือแจ้งโอน
D8: (1) | E8: (2) | F8: (1)+(2)=3 | G8: (4) | H8: (5) | I8: (6) | J8: (3)-(4)-(6)=7 | K8: (1) | L8: (2) | M8: (1)+(2)=3 | N8: =+[2]ระบบการควบคุมฯ!G853+[2]ระบบการควบคุมฯ!H853 -> 0 | O8: (5) | P8: (6) | Q8: (3)-(4)-(6)=7 | R8: (1) | S8: (2) | T8: (1)+(2)=3 | U8: (4) | V8: (5) | W8: (6) | X8: (3)-(4)-(6)=7 | Y8: (1) | Z8: (2) | AA8: (1)+(2)=3 | AB8: (4) | AC8: (5) | AD8: (6) | AE8: (3)-(4)-(6)=7
A9: =+[2]ระบบการควบคุมฯ!650:650 -> ง | B9: =[3]งบประจำและงบพัฒนาคุณภาพการศึกษา!B112 -> 0 | D9: =+D48 -> 1122710 | E9: =+E48 -> 227290 | F9: =+F48 -> 1350000 | G9: =+G48 -> 67355 | H9: =+H48 -> 0 | I9: =+I48 -> 1282645 | J9: =+J48 -> 0 | K9: =+K48 -> 2519790 | ... AE9: =+AE48 -> 0
B10: =[2]ระบบการควบคุมฯ!B651 -> งบดำเนินงาน 69112xx | C10: =[3]งบประจำและงบพัฒนาคุณภาพการศึกษา!C115 -> 0 | D10: =+D48 -> 1122710 | E10: =+E48 -> 227290 | F10: =+F48 -> 1350000 | G10: =+G48 -> 67355 | H10: =+H48 -> 0 | I10: =+I48 -> 1282645 | J10: =+J48 -> 0 | K10: =+K48 -> 2519790 | ... AE10: =+AE48 -> 0
A11: 1 | B11: =[3]งบประจำและงบพัฒนาคุณภาพการศึกษา!B116 -> 0 | C11: =SUM(C13:C22) -> 0 | D11: =SUM(D12:D24) -> 0 | E11: =SUM(E12:E24) -> 0 | F11: =SUM(F12:F24) -> 0 | G11: =SUM(G12:G24) -> 208646472 | H11: =SUM(H12:H24) -> #VALUE! | I11: =SUM(I12:I24) -> 0 | J11: =SUM(J12:J24) -> #VALUE! | AG11: กลุ่มบริหารงานการเงินและสินทรัพย์
B12: =[3]งบประจำและงบพัฒนาคุณภาพการศึกษา!B117 -> 0 | C12: =[3]งบประจำและงบพัฒนาคุณภาพการศึกษา!C117 -> 0
A13: =+[3]งบประจำและงบพัฒนาคุณภาพการศึกษา!A118 -> 0 | B13: =[3]งบประจำและงบพัฒนาคุณภาพการศึกษา!B118 -> 0 | C13: =+[4]งบสพฐ!C254 -> 20004 42002270 4100117 | D13: =+[4]งบสพฐ!E254 -> 0 | F13: =+D13+E13 -> 0 | G13: =+[4]งบสพฐ!G254+[4]งบสพฐ!H254 -> 0 | H13: =+[4]งบสพฐ!I254+[4]งบสพฐ!J254 -> #VALUE! | I13: =+[4]งบสพฐ!K254+[4]งบสพฐ!L254 -> 0 | J13: =+F13-G13-H13-I13 -> #VALUE!
B14: =[3]งบประจำและงบพัฒนาคุณภาพการศึกษา!B119 -> 0 | C14: =[3]งบประจำและงบพัฒนาคุณภาพการศึกษา!F119 -> 0 | D14: =[3]งบประจำและงบพัฒนาคุณภาพการศึกษา!F119 -> 0
A15: =+[3]งบประจำและงบพัฒนาคุณภาพการศึกษา!A120 -> 0 | B15: =[3]งบประจำและงบพัฒนาคุณภาพการศึกษา!B120 -> 0 | C15: =+[4]งบสพฐ!C256 -> 20005 42002270 4100271 | D15: =+[4]งบสพฐ!E256 -> 0 | F15: =+D15+E15 -> 0 | G15: =+[4]งบสพฐ!G256+[4]งบสพฐ!H256 -> 0 | H15: =+[4]งบสพฐ!I256+[4]งบสพฐ!J256 -> #VALUE! | I15: =+[4]งบสพฐ!K256+[4]งบสพฐ!L256 -> 0 | J15: =+F15-G15-H15-I15 -> #VALUE!
A16: =+[3]งบประจำและงบพัฒนาคุณภาพการศึกษา!A121 -> 0 | B16: =[3]งบประจำและงบพัฒนาคุณภาพการศึกษา!B121 -> 0 | C16: =+[4]งบสพฐ!C257 -> 20006 42002270 4100348 | D16: =+[4]งบสพฐ!E257 -> 0 | F16: =+D16+E16 -> 0 | G16: =+[4]งบสพฐ!G257+[4]งบสพฐ!H257 -> 0 | H16: =+[4]งบสพฐ!I257+[4]งบสพฐ!J257 -> #VALUE! | I16: =+[4]งบสพฐ!K257+[4]งบสพฐ!L257 -> 0 | J16: =+F16-G16-H16-I16 -> #VALUE!
A17: =+[3]งบประจำและงบพัฒนาคุณภาพการศึกษา!A122 -> #REF! | B17: =[3]งบประจำและงบพัฒนาคุณภาพการศึกษา!B122 -> #REF! | C17: =+[4]งบสพฐ!C258 -> 0 | D17: =+[4]งบสพฐ!E258 -> 0 | F17: =+D17+E17 -> 0 | G17: =+[4]งบสพฐ!G258+[4]งบสพฐ!H258 -> 135500892 | H17: =+[3]งบประจำและงบพัฒนาคุณภาพการศึกษา!I122+[3]งบประจำและงบพัฒนาคุณภาพการศึกษา!J122 -> #REF! | I17: =+[4]งบสพฐ!K258+[4]งบสพฐ!L258 -> 0 | J17: =+F17-G17-H17-I17 -> #REF!
A18: =+[3]งบประจำและงบพัฒนาคุณภาพการศึกษา!A123 -> #REF! | B18: =[3]งบประจำและงบพัฒนาคุณภาพการศึกษา!B123 -> #REF! | C18: =+[4]งบสพฐ!C259 -> ศธ 04002/ว47248 ลว.22/ต.ค./2025 โอนครั้งที่ 13 | D18: =+[4]งบสพฐ!E259 -> 0 | F18: =+D18+E18 -> 0 | G18: =+[4]งบสพฐ!G259+[4]งบสพฐ!H259 -> 0 | H18: =+[4]งบสพฐ!I259+[4]งบสพฐ!J259 -> 0 | I18: =+[4]งบสพฐ!K259+[4]งบสพฐ!L259 -> 0 | J18: =+F18-G18-H18-I18 -> 0
A19: =+[3]งบประจำและงบพัฒนาคุณภาพการศึกษา!A124 -> #REF! | B19: =[3]งบประจำและงบพัฒนาคุณภาพการศึกษา!B124 -> #REF! | C19: =+[4]งบสพฐ!C260 -> ศธ 04002/ว50952 ลว.22/ธ.ค./2025 โอนครั้งที่ 167 | D19: =+[4]งบสพฐ!E260 -> 0 | F19: =+D19+E19 -> 0 | G19: =+[4]งบสพฐ!G260+[4]งบสพฐ!H260 -> 0 | H19: =+[4]งบสพฐ!I260+[4]งบสพฐ!J260 -> 0 | I19: =+[4]งบสพฐ!K260+[4]งบสพฐ!L260 -> 0 | J19: =+F19-G19-H19-I19 -> 0
A20: =+[3]งบประจำและงบพัฒนาคุณภาพการศึกษา!A125 -> #REF! | B20: =[3]งบประจำและงบพัฒนาคุณภาพการศึกษา!B125 -> #REF! | C20: =+[4]งบสพฐ!C261 -> ศธ 04002/ว5805 ลว.7 เม.ย.69 โอนครั้งที่ 411 | D20: =+[4]งบสพฐ!E261 -> 0 | F20: =+D20+E20 -> 0 | G20: =+[4]งบสพฐ!G261+[4]งบสพฐ!H261 -> 0 | H20: =+[4]งบสพฐ!I260+[4]งบสพฐ!J260 -> 0 | I20: =+[4]งบสพฐ!K261+[4]งบสพฐ!L261 -> 0 | J20: =+F20-G20-H20-I20 -> 0
A21: =+[3]งบประจำและงบพัฒนาคุณภาพการศึกษา!A126 -> #REF! | B21: =[3]งบประจำและงบพัฒนาคุณภาพการศึกษา!B126 -> #REF! | C21: =+[4]งบสพฐ!C262 -> ศธ 04002/ว50952 ลว.22/ธ.ค./2025 โอนครั้งที่ 167 | D21: =+[4]งบสพฐ!E262 -> 0 | F21: =+D21+E21 -> 0 | G21: =+[4]งบสพฐ!G262+[4]งบสพฐ!H262 -> 0 | H21: =+[4]งบสพฐ!I262+[4]งบสพฐ!J262 -> 0 | I21: =+[4]งบสพฐ!K262+[4]งบสพฐ!L262 -> 0 | J21: =+F21-G21-H21-I21 -> 0 | AG21: กลุ่มนโยบายและแผน
A22: =+[3]งบประจำและงบพัฒนาคุณภาพการศึกษา!A127 -> #REF! | B22: =[3]งบประจำและงบพัฒนาคุณภาพการศึกษา!B127 -> #REF! | D22: =+[4]งบสพฐ!E263 -> 0 | F22: =+D22+E22 -> 0 | G22: =+[4]งบสพฐ!G263+[4]งบสพฐ!H263 -> 0 | H22: =+[4]งบสพฐ!I263+[4]งบสพฐ!J263 -> 0 | I22: =+[4]งบสพฐ!K263+[4]งบสพฐ!L263 -> 0 | J22: =+F22-G22-H22-I22 -> 0 | AG22: กลุ่มนโยบายและแผน
A23: =+[4]งบสพฐ!A264 -> 1) | B23: =+[4]งบสพฐ!B264 -> ค่าจัดการเรียนการสอน รหัสบัญชีย่อย 0024315(ครั้งที่ 13 26,075,110) (ครั้งที่ 167 10,547,330) (ครั้งที่ 411 จำนวน 18,414,800)(ครั้งที่ 704 18,108,340) | D23: =+[4]งบสพฐ!E264 -> 0 | F23: =+D23+E23 -> 0 | G23: =+[4]งบสพฐ!G264+[4]งบสพฐ!H264 -> 73145580 | H23: =+[4]งบสพฐ!I264+[4]งบสพฐ!J264 -> #VALUE! | I23: =+[4]งบสพฐ!K264+[4]งบสพฐ!L264 -> 0 | J23: =+F23-G23-H23-I23 -> #VALUE! | AG23: กลุ่มอำนวยการ
A24: =+[4]งบสพฐ!A253 -> 1) | B24: =+[4]งบสพฐ!B253 -> ค่าหนังสือเรียน รหัสบัญชีย่อย 0022001/10,931,200 | C24: =+[4]งบสพฐ!F253 -> 0 | D24: =+[4]งบสพฐ!E253 -> 0 | E24: =+[4]งบสพฐ!H253 -> 0 | F24: =+D24+E24 -> 0 | G24: =+[4]งบสพฐ!G253+[4]งบสพฐ!H253 -> 0 | H24: =+[4]งบสพฐ!I253+[4]งบสพฐ!J253 -> #VALUE! | I24: =+[4]งบสพฐ!K253+[4]งบสพฐ!L253 -> 0 | J24: =+F24-G24-H24-I24 -> #VALUE! | AG24: กลุ่มนโยบายและแผน
A26: 2 | C26: =[3]งบประจำและงบพัฒนาคุณภาพการศึกษา!C129 -> #REF! | D26: =+D27+D38 -> 0 | E26: =+E27+E38 -> 0 | F26: =+F27+F38 -> 0 | G26: =+G27+G38 -> 30384442 | H26: =+H27+H38 -> #VALUE! | I26: =+I27+I38 -> 0 | J26: =+J27+J38 -> #VALUE! | AG26: =+AG27 -> 0
A27: 2.1 | C27: =+[4]งบสพฐ!C266 -> 20005 45002400 4100004 | E27: =SUM(E28:E37) -> 0 | F27: =+E27+D27 -> 0 | G27: =SUM(G28:G33) -> 30384442 | H27: =SUM(H28:H33) -> #VALUE! | I27: =SUM(I28:I33) -> 0 | J27: =SUM(J28:J33) -> #VALUE!
A28: 2.1.1 | E28: =+[4]งบสพฐ!E267 -> 0 | F28: =+E28+D28 -> 0 | G28: =+[4]งบสพฐ!G267+[4]งบสพฐ!H267 -> 19162242 | H28: =+[4]งบสพฐ!I267+[4]งบสพฐ!J267 -> #VALUE! | I28: =+[4]งบสพฐ!K267+[4]งบสพฐ!L267 -> 0 | J28: =+F28-G28-H28-I28 -> #VALUE! | AG28: กลุ่มนิเทศติดตามและประเมินผลฯ
A29: 2.1.2 | E29: =+[4]งบสพฐ!E268 -> 0 | F29: =+E29+D29 -> 0 | G29: =+[4]งบสพฐ!G268+[4]งบสพฐ!H268 -> 11222200 | H29: =+[4]งบสพฐ!I268+[4]งบสพฐ!J268 -> #VALUE! | I29: =+[4]งบสพฐ!K268+[4]งบสพฐ!L268 -> 0 | J29: =+F29-G29-H29-I29 -> #VALUE! | AG29: กลุ่มนิเทศติดตามและประเมินผลฯ
A30: 2.1.3 | E30: =+[4]งบสพฐ!E269 -> 0 | F30: =+E30+D30 -> 0 | G30: =+[4]งบสพฐ!G269+[4]งบสพฐ!H269 -> 0 | H30: =+[4]งบสพฐ!I269+[4]งบสพฐ!J269 -> 0 | I30: =+[4]งบสพฐ!K269+[4]งบสพฐ!L269 -> 0 | J30: =+F30-G30-H30-I30 -> 0 | AG30: กลุ่มนิเทศติดตามและประเมินผลฯ
A31: 2.1.4 | E31: =+[4]งบสพฐ!E270 -> 0 | F31: =+E31+D31 -> 0 | G31: =+[4]งบสพฐ!G270+[4]งบสพฐ!H270 -> 0 | H31: =+[4]งบสพฐ!I270+[4]งบสพฐ!J270 -> #VALUE! | I31: =+[4]งบสพฐ!K270+[4]งบสพฐ!L270 -> 0 | J31: =+F31-G31-H31-I31 -> #VALUE! | AG31: กลุ่มส่งเสริมการจัดการศึกษา
A32: 2.1.5 | E32: =+[4]งบสพฐ!E271 -> 0 | F32: =+E32+D32 -> 0 | G32: =+[4]งบสพฐ!G271+[4]งบสพฐ!H271 -> 0 | H32: =+[4]งบสพฐ!I271+[4]งบสพฐ!J271 -> 0 | I32: =+[4]งบสพฐ!K271+[4]งบสพฐ!L271 -> 0 | J32: =+F32-G32-H32-I32 -> 0 | AG32: กลุ่มอำนวยการ
A33: 2.1.6 | E33: =+[4]งบสพฐ!E272 -> 0 | F33: =+E33+D33 -> 0 | G33: =+[4]งบสพฐ!G272+[4]งบสพฐ!H272 -> 0 | H33: =+[4]งบสพฐ!I272+[4]งบสพฐ!J272 -> #VALUE! | I33: =+[4]งบสพฐ!K272+[4]งบสพฐ!L272 -> 0 | J33: =+F33-G33-H33-I33 -> #VALUE! | AG33: กลุ่มบริหารงานบุคคล
D34: =[3]งบประจำและงบพัฒนาคุณภาพการศึกษา!F137 -> 0 | F34: =+E34+D34 -> 0
D35: =[3]งบประจำและงบพัฒนาคุณภาพการศึกษา!F138 -> 0 | F35: =+E35+D35 -> 0
D36: =[3]งบประจำและงบพัฒนาคุณภาพการศึกษา!F139 -> 0 | F36: =+E36+D36 -> 0
F37: =+E37+D37 -> 0
A38: 2.2 | E38: =SUM(E39:E47) -> 0 | F38: =SUM(F39:F47) -> 0 | G38: =SUM(G39:G47) -> 0 | H38: =SUM(H39:H47) -> #VALUE! | I38: =SUM(I39:I47) -> 0 | J38: =SUM(J39:J46) -> #VALUE!
A39: 2.2.1 | E39: =+[4]งบสพฐ!E277 -> 0 | F39: =+E39+D39 -> 0 | G39: =+[4]งบสพฐ!G277+[4]งบสพฐ!H277 -> 0 | H39: =+[4]งบสพฐ!I277+[4]งบสพฐ!J277 -> #VALUE! | I39: =+[4]งบสพฐ!K277+[4]งบสพฐ!L277 -> 0 | J39: =+F39-G39-H39-I39 -> #VALUE! | AG39: กลุ่มบริหารงานการเงินและสินทรัพย์
A40: 2.2.2 | E40: =+[4]งบสพฐ!E278 -> 0 | F40: =+E40+D40 -> 0 | G40: =+[4]งบสพฐ!G278+[4]งบสพฐ!H278 -> 0 | H40: =+[4]งบสพฐ!I278+[4]งบสพฐ!J278 -> 0 | I40: =+[4]งบสพฐ!K278+[4]งบสพฐ!L278 -> 0 | J40: =+F40-G40-H40-I40 -> 0 | AG40: กลุ่มนิเทศติดตามและประเมินผลฯ
A41: 2.2.3 | B41: =+[4]งบสพฐ!B279 -> ค่าหนังสือเรียน 5,592,137.00 รหัสกิจกรรมย่อย 0024007 1/2568 30% | C41: =+[4]งบสพฐ!C279 -> ศธ 04002/ว40516 ลว.16 กค 68 โอนครั้งที่ 695 | E41: =+[4]งบสพฐ!E279 -> 0 | F41: =+E41+D41 -> 0 | G41: =+[4]งบสพฐ!G279+[4]งบสพฐ!H279 -> 0 | H41: =+[4]งบสพฐ!I279+[4]งบสพฐ!J279 -> 0 | I41: =+[4]งบสพฐ!K279+[4]งบสพฐ!L279 -> 0 | J41: =+F41-G41-H41-I41 -> 0 | AG41: กลุ่มบริหารงานการเงินและสินทรัพย์
A42: 2.2.4 | B42: =+[4]งบสพฐ!B280 -> ค่าอุปกรณ์การเรียนรหัสบัญชีย่อย 0024084 | C42: =+[4]งบสพฐ!C280 -> 20004450024004100114 | E42: =+[4]งบสพฐ!E280 -> 0 | F42: =+E42+D42 -> 0 | G42: =+[4]งบสพฐ!G280+[4]งบสพฐ!H280 -> 0 | H42: =+[4]งบสพฐ!I280+[4]งบสพฐ!J280 -> #VALUE! | I42: =+[4]งบสพฐ!K280+[4]งบสพฐ!L280 -> 0 | J42: =+F42-G42-H42-I42 -> #VALUE! | AG42: กลุ่มบริหารงานการเงินและสินทรัพย์
A43: 2.2.5 | B43: =+[4]งบสพฐ!B281 -> ค่าอุปกรณ์การเรียน 136,000บาท 1/2568 70% | E43: =+[4]งบสพฐ!E281 -> 0 | F43: =+E43+D43 -> 0 | G43: =+[4]งบสพฐ!G281+[4]งบสพฐ!H281 -> 0 | H43: =+[4]งบสพฐ!I281+[4]งบสพฐ!J281 -> 0 | I43: =+[4]งบสพฐ!K281+[4]งบสพฐ!L281 -> 0 | J43: =+F43-G43-H43-I43 -> 0 | AG43: กลุ่มนิเทศติดตามและประเมินผลฯ
A44: 2.2.6 | B44: =+[4]งบสพฐ!B282 -> ค่าอุปกรณ์การเรียน 1,741,585.00 บาท 1/2568 30% | C44: =+[4]งบสพฐ!C282 -> ศธ 04002/ว40516 ลว.16 กค 68 โอนครั้งที่ 695 | E44: =+[4]งบสพฐ!E282 -> 0 | F44: =+E44+D44 -> 0 | G44: =+[4]งบสพฐ!G282+[4]งบสพฐ!H282 -> 0 | H44: =+[4]งบสพฐ!I282+[4]งบสพฐ!J282 -> 0 | I44: =+[4]งบสพฐ!K282+[4]งบสพฐ!L282 -> 0 | J44: =+F44-G44-H44-I44 -> 0 | AG44: กลุ่มนิเทศติดตามและประเมินผลฯ
A45: 2.2.7 | B45: =+[4]งบสพฐ!B283 -> ค่าเครื่องแบบนักเรียน รหัสบัญชีย่อย 0024162 | C45: =+[4]งบสพฐ!C283 -> 20004450024004100191 | E45: =+[4]งบสพฐ!E283 -> 0 | F45: =+E45+D45 -> 0 | G45: =+[4]งบสพฐ!G283+[4]งบสพฐ!H283 -> 0 | H45: =+[4]งบสพฐ!I283+[4]งบสพฐ!J283 -> #VALUE! | I45: =+[4]งบสพฐ!K283+[4]งบสพฐ!L283 -> 0 | J45: =+F45-G45-H45-I45 -> #VALUE! | AG45: กลุ่มนิเทศติดตามและประเมินผลฯ
A46: 2.2.8 | B46: =+[4]งบสพฐ!B284 -> ค่าเครื่องแบบนักเรียน รหัสบัญชีย่อย 0024162/477,100 1/2568 70% | C46: =+[4]งบสพฐ!C284 -> ศธ 04002/ว2992 ลว.2 กค 68 โอนครั้งที่ 647 | E46: =+[4]งบสพฐ!E284 -> 0 | F46: =+E46+D46 -> 0 | G46: =+[4]งบสพฐ!G284+[4]งบสพฐ!H284 -> 0 | H46: =+[4]งบสพฐ!I284+[4]งบสพฐ!J284 -> 0 | I46: =+[4]งบสพฐ!K284+[4]งบสพฐ!L284 -> 0 | J46: =+F46-G46-H46-I46 -> 0 | AG46: กลุ่มอำนวยการ
A47: 2.2.9 | B47: =+[4]งบสพฐ!B285 -> ค่าเครื่องแบบนักเรียน รหัสบัญชีย่อย 0024162/3,283,175.00 1/2568 30% | C47: =+[4]งบสพฐ!C285 -> ศธ 04002/ว40516 ลว.16 กค 68 โอนครั้งที่ 695 | E47: =+[4]งบสพฐ!E285 -> 0 | F47: =+E47+D47 -> 0 | G47: =+[4]งบสพฐ!G285+[4]งบสพฐ!H285 -> 0 | H47: =+[4]งบสพฐ!I285+[4]งบสพฐ!J285 -> 0 | I47: =+[4]งบสพฐ!K285+[4]งบสพฐ!L285 -> 0 | J47: =+F47-G47-H47-I47 -> 0 | AG47: กลุ่มอำนวยการ
A48: =+[2]ระบบการควบคุมฯ!A744 -> 0 | B48: =+[2]ระบบการควบคุมฯ!B744 -> ผลผลิตผู้จบการศึกษาขั้นพื้นฐาน | C48: =[2]ระบบการควบคุมฯ!C745 -> 20004 3720 1000 2000000 | D48: =+D49 -> 1122710 | E48: =+E49 -> 227290 | F48: =+F49 -> 1350000 | G48: =+G49 -> 67355 | H48: =+H49 -> 0 | I48: =+I49 -> 1282645 | J48: =+J49 -> 0 | K48: =+K49 -> 2519790 | ... AE48: =+AE49 -> 0
A49: =+[2]ระบบการควบคุมฯ!A768 -> 1.4 | B49: กิจกรรมการบริหารจัดการในเขตพื้นที่การศึกษา/กิจกรรมการจัดการศึกษาประถมศึกษาสำหรับโรงเรียนปกติ/กิจกรรมการสนับสนุนการศึกษาขั้นพื้นฐาน | C49: =+[2]ระบบการควบคุมฯ!C768 -> 20004 69 00148 00000 | D49: =+D50 -> 1122710 | E49: =+E50 -> 227290 | F49: =SUM(D49:E49) -> 1350000 | G49: =+G50 -> 67355 | H49: =+H50 -> 0 | I49: =+I50 -> 1282645 | J49: =+J50 -> 0 | K49: =+K50 -> 2519790 | L49: =+L50 -> 1622710 | M49: =SUM(K49:L49) -> 4142500 | N49: =+N50 -> 20045 | O49: =+O50 -> 0 | P49: =+P50 -> 4122455 | Q49: =+Q50 -> 127853 | R49: =+R50 -> 0 | S49: =+S50 -> 0 | T49: =SUM(R49:S49) -> 0 | U49: =+U50 -> 0 | V49: =+V50 -> 0 | W49: =+W50 -> 0 | X49: =+X50 -> 0 | Y49: =+Y50 -> 3642500 | Z49: =+Z50 -> 1850000 | AA49: =SUM(Y49:Z49) -> 5492500 | AB49: =+AB50 -> 87400 | AC49: =+AC50 -> 0 | AD49: =+AD50 -> 5405100 | AE49: =+AE50 -> 0
B50: =[2]ระบบการควบคุมฯ!B745 -> รวมงบดำเนินงาน 69112xx | C50: =+[2]ระบบการควบคุมฯ!C769 -> 0 | D50: =+D51+D65 -> 1122710 | E50: =+E51+E65 -> 227290 | F50: =+F51+F65 -> 1350000 | G50: =+G51+G65 -> 67355 | H50: =+H51+H65 -> 0 | I50: =+I51+I65 -> 1282645 | J50: =+J51+J65 -> 0 | K50: =+K51+K65 -> 2519790 | ... AE50: =+AE51+AE65 -> 0
A51: =+[2]ระบบการควบคุมฯ!A775 -> 1.4.1 | B51: =+[2]ระบบการควบคุมฯ!B775 -> งบประจำ บริหารจัดการสำนักงาน 790,000 บาท | C51: =+C49 -> 20004 69 00148 00000 | D51: =SUM(D52:D64) -> 1122710 | E51: =SUM(E52:E64) -> 50000 | F51: =SUM(F52:F64) -> 1172710 | G51: =SUM(G52:G64) -> 67355 | H51: =SUM(H52:H64) -> 0 | I51: =SUM(I52:I64) -> 1105355 | J51: =SUM(J52:J64) -> 0 | K51: =SUM(K52:K64) -> 2519790 | ... AE51: =SUM(AE52:AE64) -> 0 | AG51: กลุ่มบริหารงานการเงินและสินทรัพย์
A52: =+[2]ระบบการควบคุมฯ!A776 -> 1 | B52: =+[2]ระบบการควบคุมฯ!B903 -> ค่าสาธารณูปโภค 1,000,000 บาท อนุมัตครั้งที่ 1 300,000 บาท ครั้งที่ 2 140,000 บาท | C52: =+[2]ระบบการควบคุมฯ!C902 -> ศธ04002/ว11486 ลว.9 ก.ค. 69 ครั้งที่ 698 1,642,500 บาท | D52: =[2]ระบบการควบคุมฯ!F776 -> 0 | F52: =SUM(D52:E52) -> 0 | G52: =+[2]ระบบการควบคุมฯ!G776+[2]ระบบการควบคุมฯ!H776 -> 0 | H52: =+[2]ระบบการควบคุมฯ!I776+[2]ระบบการควบคุมฯ!J776 -> 0 | I52: =+[2]ระบบการควบคุมฯ!K776+[2]ระบบการควบคุมฯ!L776 -> 0 | J52: =+F52-G52-H52-I52 -> 0 | Y52: =+R52+K52+D52 -> 0 | Z52: =+S52+L52+E52 -> 0 | AA52: =SUM(Y52:Z52) -> 0 | AB52: =+G52+N52+U52 -> 0 | AC52: =+H52+O52+V52 -> 0 | AD52: =+I52+P52+W52 -> 0 | AE52: =+AA52-AB52-AC52-AD52 -> 0
A53: =+[2]ระบบการควบคุมฯ!A778 -> 1) | B53: =+[2]ระบบการควบคุมฯ!B903 -> ค่าสาธารณูปโภค 1,000,000 บาท อนุมัตครั้งที่ 1 300,000 บาท ครั้งที่ 2 140,000 บาท | C53: =+[2]ระบบการควบคุมฯ!C903 -> ศธ04002/ว46832 ลว.17 ต.ค. 68 ครั้งที่ 7 2,000,000 บาท | D53: =+[2]ระบบการควบคุมฯ!F778 -> 440000 | F53: =SUM(D53:E53) -> 440000 | G53: =+[2]ระบบการควบคุมฯ!G778+[2]ระบบการควบคุมฯ!H778 -> 0 | H53: =+[2]ระบบการควบคุมฯ!I778+[2]ระบบการควบคุมฯ!J778 -> 0 | I53: =+[2]ระบบการควบคุมฯ!K778+[2]ระบบการควบคุมฯ!L778 -> 440000 | J53: =+F53-G53-H53-I53 -> 0 | K53: =+[2]ระบบการควบคุมฯ!E903 -> 760000 | M53: =SUM(K53:K53) -> 760000 | N53: =+[2]ระบบการควบคุมฯ!G903+[2]ระบบการควบคุมฯ!H903 -> 0 | P53: =+[2]ระบบการควบคุมฯ!K903+[2]ระบบการควบคุมฯ!L903 -> 760000 | Q53: =+M53-N53-O53-P53 -> 0 | Y53: =+R53+K53+D53 -> 1200000 | Z53: =+S53+L53+E53 -> 0 | AA53: =SUM(Y53:Z53) -> 1200000 | AB53: =+G53+N53+U53 -> 0 | AC53: =+H53+O53+V53 -> 0 | AD53: =+I53+P53+W53 -> 1200000 | AE53: =+AA53-AB53-AC53-AD53 -> 0 | AG53: กลุ่มบริหารงานการเงินและสินทรัพย์
A54: =+[2]ระบบการควบคุมฯ!A905 -> 2) | B54: =+[2]ระบบการควบคุมฯ!B905 -> ค้าจ้างเหมาบริการ ลูกจ้างสพป.ปท.2 15000x5คนx12 เดือน 900,000 บาท จัดสรรครั้งที่ 1 225,000 บาท | C54: =+[2]ระบบการควบคุมฯ!C905 -> ศธ04002/ว46832 ลว.17 ต.ค. 68 ครั้งที่ 7 2,000,000 บาท | D54: =+[2]ระบบการควบคุมฯ!F780 -> 222000 | F54: =SUM(D54:E54) -> 222000 | G54: =+[2]ระบบการควบคุมฯ!G780+[2]ระบบการควบคุมฯ!H780 -> 0 | H54: =+[2]ระบบการควบคุมฯ!I780+[2]ระบบการควบคุมฯ!J780 -> 0 | I54: =+[2]ระบบการควบคุมฯ!K780+[2]ระบบการควบคุมฯ!L780 -> 222000 | J54: =+F54-G54-H54-I54 -> 0 | K54: =+[2]ระบบการควบคุมฯ!E905 -> 678000 | M54: =SUM(K54:K54) -> 678000 | N54: =+[2]ระบบการควบคุมฯ!G905+[2]ระบบการควบคุมฯ!H905 -> 0 | P54: =+[2]ระบบการควบคุมฯ!K905+[2]ระบบการควบคุมฯ!L905 -> 678000 | Q54: =+M54-N54-O54-P54 -> 0 | Y54: =+R54+K54+D54 -> 900000 | Z54: =+S54+L54+E54 -> 0 | AA54: =SUM(Y54:Z54) -> 900000 | AB54: =+G54+N54+U54 -> 0 | AC54: =+H54+O54+V54 -> 0 | AD54: =+I54+P54+W54 -> 900000 | AE54: =+AA54-AB54-AC54-AD54 -> 0 | AG54: กลุ่มบริหารงานการเงินและสินทรัพย์
A55: =+[2]ระบบการควบคุมฯ!A906 -> 2.1) | B55: =+[2]ระบบการควบคุมฯ!B906 -> ค้าจ้างเหมาบริการ ลูกจ้างสพป.ปท.2 ครั้งที่ 2 75,000 บาท ยืมยกย่องเชิดชูเกียรติ 50,000 บาท | C55: =+[2]ระบบการควบคุมฯ!C906 -> ศธ04002/ว2369 ลว.11 ก.พ.69 ครั้งที่ 294 500,000 บาท | D55: =+[2]ระบบการควบคุมฯ!F782 -> 0 | F55: =SUM(D55:E55) -> 0 | G55: =+[2]ระบบการควบคุมฯ!G782+[2]ระบบการควบคุมฯ!H782 -> 0 | H55: =+[2]ระบบการควบคุมฯ!I782+[2]ระบบการควบคุมฯ!J782 -> 0 | I55: =+[2]ระบบการควบคุมฯ!K782+[2]ระบบการควบคุมฯ!L782 -> 0 | J55: =+F55-G55-H55-I55 -> 0 | K55: =+[2]ระบบการควบคุมฯ!E906 -> 0 | M55: =SUM(K55:K55) -> 0 | N55: =+[2]ระบบการควบคุมฯ!G906+[2]ระบบการควบคุมฯ!H906 -> 0 | P55: =+[2]ระบบการควบคุมฯ!K906+[2]ระบบการควบคุมฯ!L906 -> 0 | Q55: =+M55-N55-O55-P55 -> 0 | Y55: =+R55+K55+D55 -> 0 | Z55: =+S55+L55+E55 -> 0 | AA55: =SUM(Y55:Z55) -> 0 | AB55: =+G55+N55+U55 -> 0 | AC55: =+H55+O55+V55 -> 0 | AD55: =+I55+P55+W55 -> 0 | AE55: =+AA55-AB55-AC55-AD55 -> 0 | AG55: กลุ่มบริหารงานการเงินและสินทรัพย์
A56: =+[2]ระบบการควบคุมฯ!A909 -> 3) | B56: =+[2]ระบบการควบคุมฯ!B909 -> ค่าใช้จ่ายในการประชุม อ.ก.ค.ศ. เขตพื้นที่การศึกษา 60,000 บาท | C56: =+[2]ระบบการควบคุมฯ!C909 -> ศธ04002/ว46832 ลว.17 ต.ค. 68 ครั้งที่ 7 2,000,000 บาท | D56: =+[2]ระบบการควบคุมฯ!F782 -> 0 | F56: =SUM(D56:E56) -> 0 | G56: =+[2]ระบบการควบคุมฯ!G782+[2]ระบบการควบคุมฯ!H782 -> 0 | H56: =+[2]ระบบการควบคุมฯ!I782+[2]ระบบการควบคุมฯ!J782 -> 0 | I56: =+[2]ระบบการควบคุมฯ!K782+[2]ระบบการควบคุมฯ!L782 -> 0 | J56: =+F56-G56-H56-I56 -> 0 | Y56: =+R56+K56+D56 -> 0 | Z56: =+S56+L56+E56 -> 0 | AA56: =SUM(Y56:Z56) -> 0 | AB56: =+G56+N56+U56 -> 0 | AC56: =+H56+O56+V56 -> 0 | AD56: =+I56+P56+W56 -> 0 | AE56: =+AA56-AB56-AC56-AD56 -> 0 | AG56: กลุ่มบริหารงานบุคคล
A57: =+[2]ระบบการควบคุมฯ!A910 -> 3) | B57: =+[2]ระบบการควบคุมฯ!B910 -> ค่าซ่อมแซมยานพาหนะและขนส่ง 240,000 บาท ครั้งที่ 1 25,000 บาท | C57: =+[2]ระบบการควบคุมฯ!C910 -> ศธ04002/ว46832 ลว.17 ต.ค. 68 ครั้งที่ 7 2,000,000 บาท | D57: =+[2]ระบบการควบคุมฯ!F783 -> 225000 | F57: =SUM(D57:E57) -> 225000 | G57: =+[2]ระบบการควบคุมฯ!G783+[2]ระบบการควบคุมฯ!H783 -> 67355 | H57: =+[2]ระบบการควบคุมฯ!I783+[2]ระบบการควบคุมฯ!J783 -> 0 | I57: =+[2]ระบบการควบคุมฯ!K783+[2]ระบบการควบคุมฯ!L783 -> 157645 | J57: =+F57-G57-H57-I57 -> 0 | K57: =+[2]ระบบการควบคุมฯ!E910 -> 165000 | M57: =SUM(K57:K57) -> 165000 | N57: =+[2]ระบบการควบคุมฯ!G910+[2]ระบบการควบคุมฯ!H910 -> 0 | P57: =+[2]ระบบการควบคุมฯ!K910+[2]ระบบการควบคุมฯ!L910 -> 165000 | Q57: =+M57-N57-O57-P57 -> 0 | Y57: =+R57+K57+D57 -> 390000 | Z57: =+S57+L57+E57 -> 0 | AA57: =SUM(Y57:Z57) -> 390000 | AB57: =+G57+N57+U57 -> 67355 | AC57: =+H57+O57+V57 -> 0 | AD57: =+I57+P57+W57 -> 322645 | AE57: =+AA57-AB57-AC57-AD57 -> 0 | AG57: กลุ่มบริหารงานการเงินและสินทรัพย์
A58: =+[2]ระบบการควบคุมฯ!A912 -> 4) | B58: =+[2]ระบบการควบคุมฯ!B912 -> ค่าซ่อมแซมครุภัณฑ์ 200,000 บาท ครั้งที่ 1 127,290 บาท | C58: =+[2]ระบบการควบคุมฯ!C912 -> ศธ04002/ว46832 ลว.17 ต.ค. 68 ครั้งที่ 7 2,000,000 บาท | D58: =+[2]ระบบการควบคุมฯ!F785 -> 32710 | F58: =SUM(D58:E58) -> 32710 | G58: =+[2]ระบบการควบคุมฯ!G785+[2]ระบบการควบคุมฯ!H785 -> 0 | H58: =+[2]ระบบการควบคุมฯ!I785+[2]ระบบการควบคุมฯ!J785 -> 0 | I58: =+[2]ระบบการควบคุมฯ!K785+[2]ระบบการควบคุมฯ!L785 -> 32710 | J58: =+F58-G58-H58-I58 -> 0 | K58: =+[2]ระบบการควบคุมฯ!E912 -> 167290 | M58: =SUM(K58:K58) -> 167290 | N58: =+[2]ระบบการควบคุมฯ!G912+[2]ระบบการควบคุมฯ!H912 -> 0 | P58: =+[2]ระบบการควบคุมฯ!K912+[2]ระบบการควบคุมฯ!L912 -> 167290 | Q58: =+M58-N58-O58-P58 -> 0 | Y58: =+R58+K58+D58 -> 200000 | Z58: =+S58+L58+E58 -> 0 | AA58: =SUM(Y58:Z58) -> 200000 | AB58: =+G58+N58+U58 -> 0 | AC58: =+H58+O58+V58 -> 0 | AD58: =+I58+P58+W58 -> 200000 | AE58: =+AA58-AB58-AC58-AD58 -> 0 | AG58: กลุ่มบริหารงานการเงินและสินทรัพย์
A59: =+[2]ระบบการควบคุมฯ!A914 -> 5) | B59: =+[2]ระบบการควบคุมฯ!B914 -> ค่าวัสดุสำนักงาน 350000 บาท ครั้งที่ 1 150,000 บาทครั้งที่ 2 25,000 บาท | C59: =+[2]ระบบการควบคุมฯ!C914 -> ศธ04002/ว46832 ลว.17 ต.ค. 68 ครั้งที่ 7 2,000,000 บาท | D59: =+[2]ระบบการควบคุมฯ!F786 -> 138000 | F59: =SUM(D59:E59) -> 138000 | G59: =+[2]ระบบการควบคุมฯ!G786+[2]ระบบการควบคุมฯ!H786 -> 0 | H59: =+[2]ระบบการควบคุมฯ!I786+[2]ระบบการควบคุมฯ!J786 -> 0 | I59: =+[2]ระบบการควบคุมฯ!K786+[2]ระบบการควบคุมฯ!L786 -> 138000 | J59: =+F59-G59-H59-I59 -> 0 | K59: =+[2]ระบบการควบคุมฯ!E914 -> 312000 | M59: =SUM(K59:K59) -> 312000 | N59: =+[2]ระบบการควบคุมฯ!G914+[2]ระบบการควบคุมฯ!H914 -> 0 | P59: =+[2]ระบบการควบคุมฯ!K914+[2]ระบบการควบคุมฯ!L914 -> 312000 | Q59: =+M59-N59-O59-P59 -> 0 | Y59: =+R59+K59+D59 -> 450000 | Z59: =+S59+L59+E59 -> 0 | AA59: =SUM(Y59:Z59) -> 450000 | AB59: =+G59+N59+U59 -> 0 | AC59: =+H59+O59+V59 -> 0 | AD59: =+I59+P59+W59 -> 450000 | AE59: =+AA59-AB59-AC59-AD59 -> 0 | AG59: กลุ่มบริหารงานการเงินและสินทรัพย์
A60: =+[2]ระบบการควบคุมฯ!A915 -> 5.1) | B60: =+[2]ระบบการควบคุมฯ!B915 -> ค่าวัสดุสำนักงาน ครั้งที่ 2 25,000 บาท | C60: =+[2]ระบบการควบคุมฯ!C915 -> ศธ04002/ว2369 ลว.11 ก.พ.69 ครั้งที่ 294 500,000 บาท
A61: =+[2]ระบบการควบคุมฯ!A918 -> 7) | B61: =+[2]ระบบการควบคุมฯ!B918 -> ค่าน้ำมันเชื้อเพลิงและหล่อลื่น 200,000 บาท อนุมัติครั้งที่ 1 60,000 บาท | C61: =+[2]ระบบการควบคุมฯ!C918 -> ศธ04002/ว46832 ลว.17 ต.ค. 68 ครั้งที่ 7 2,000,000 บาท | D61: =+[2]ระบบการควบคุมฯ!F788 -> 65000 | F61: =SUM(D61:E61) -> 65000 | G61: =+[2]ระบบการควบคุมฯ!G788+[2]ระบบการควบคุมฯ!H788 -> 0 | H61: =+[2]ระบบการควบคุมฯ!I788+[2]ระบบการควบคุมฯ!J788 -> 0 | I61: =+[2]ระบบการควบคุมฯ!K788+[2]ระบบการควบคุมฯ!L788 -> 65000 | J61: =+F61-G61-H61-I61 -> 0 | K61: =+[2]ระบบการควบคุมฯ!E918 -> 135000 | M61: =SUM(K61:K61) -> 135000 | N61: =+[2]ระบบการควบคุมฯ!G918+[2]ระบบการควบคุมฯ!H918 -> 20045 | P61: =+[2]ระบบการควบคุมฯ!K918+[2]ระบบการควบคุมฯ!L918 -> 114955 | Q61: =+M61-N61-O61-P61 -> 0 | Y61: =+R61+K61+D61 -> 200000 | Z61: =+S61+L61+E61 -> 0 | AA61: =SUM(Y61:Z61) -> 200000 | AB61: =+G61+N61+U61 -> 20045 | AC61: =+H61+O61+V61 -> 0 | AD61: =+I61+P61+W61 -> 179955 | AE61: =+AA61-AB61-AC61-AD61 -> 0 | AG61: กลุ่มบริหารงานการเงินและสินทรัพย์
A62: =+[2]ระบบการควบคุมฯ!A919 -> 7.1) | B62: =+[2]ระบบการควบคุมฯ!B792 -> อนุมัติโอนพาหนะ 50,000 บาท | C62: =+[2]ระบบการควบคุมฯ!C792 -> 0 | D62: =+[2]ระบบการควบคุมฯ!F792 -> 0 | F62: =SUM(D62:E62) -> 0 | G62: =+[2]ระบบการควบคุมฯ!G792+[2]ระบบการควบคุมฯ!H792 -> 0 | H62: =+[2]ระบบการควบคุมฯ!I792+[2]ระบบการควบคุมฯ!J792 -> 0 | I62: =+[2]ระบบการควบคุมฯ!K792+[2]ระบบการควบคุมฯ!L792 -> 0 | J62: =+F62-G62-H62-I62 -> 0 | Y62: =+R62+K62+D62 -> 0 | Z62: =+S62+L62+E62 -> 0 | AA62: =SUM(Y62:Z62) -> 0 | AB62: =+G62+N62+U62 -> 0 | AC62: =+H62+O62+V62 -> 0 | AD62: =+I62+P62+W62 -> 0 | AE62: =+AA62-AB62-AC62-AD62 -> 0 | AG62: กลุ่มบริหารงานการเงินและสินทรัพย์
A63: =+[2]ระบบการควบคุมฯ!A920 -> 8.1) | B63: =+[2]ระบบการควบคุมฯ!B920 -> ค่าใช้จ่ายในการเดินทางไปราชการและค่าใช้จ่ายในการประชุม งบประมาณ 110,000 บาท อนุมัติครั้งที่ 1 65,000 บาท บวกครั้งที่ 2-3 55000 บาท | C63: =+[2]ระบบการควบคุมฯ!C920 -> ศธ04002/ว46832 ลว.17 ต.ค. 68 ครั้งที่ 7 2,000,000 บาท | E63: =+[2]ระบบการควบคุมฯ!F789 -> 50000 | F63: =SUM(D63:E63) -> 50000 | G63: =+[2]ระบบการควบคุมฯ!G789+[2]ระบบการควบคุมฯ!H789 -> 0 | H63: =+[2]ระบบการควบคุมฯ!I789+[2]ระบบการควบคุมฯ!J789 -> 0 | I63: =+[2]ระบบการควบคุมฯ!K789+[2]ระบบการควบคุมฯ!L789 -> 50000 | J63: =+F63-G63-H63-I63 -> 0 | K63: =+[2]ระบบการควบคุมฯ!E920 -> 110000 | M63: =SUM(K63:K63) -> 110000 | N63: =+[2]ระบบการควบคุมฯ!G920+[2]ระบบการควบคุมฯ!H920 -> 0 | P63: =+[2]ระบบการควบคุมฯ!K920+[2]ระบบการควบคุมฯ!L920 -> 110000 | Q63: =+M63-N63-O63-P63 -> 0 | Y63: =+R63+K63+D63 -> 110000 | Z63: =+S63+L63+E63 -> 50000 | AA63: =SUM(Y63:Z63) -> 160000 | AB63: =+G63+N63+U63 -> 0 | AC63: =+H63+O63+V63 -> 0 | AD63: =+I63+P63+W63 -> 160000 | AE63: =+AA63-AB63-AC63-AD63 -> 0 | AG63: กลุ่มบริหารงานการเงินและสินทรัพย์
A64: =+[2]ระบบการควบคุมฯ!A922 -> 9) | B64: =+[2]ระบบการควบคุมฯ!B922 -> งบกลาง 200,000 บาท +เพิ่มเติม 142,500 บาท อนุมัติพาหนะ 50,000บาท วัสดุ 100,000 บาท | C64: =+[2]ระบบการควบคุมฯ!C922 -> ศธ04002/ว46832 ลว.17 ต.ค. 68 ครั้งที่ 7 2,000,000 บาท | D64: =+[2]ระบบการควบคุมฯ!F791 -> 0 | F64: =SUM(D64:E64) -> 0 | G64: =+[2]ระบบการควบคุมฯ!G791+[2]ระบบการควบคุมฯ!H791 -> 0 | H64: =+[2]ระบบการควบคุมฯ!I791+[2]ระบบการควบคุมฯ!J791 -> 0 | I64: =+[2]ระบบการควบคุมฯ!K791+[2]ระบบการควบคุมฯ!L791 -> 0 | J64: =+F64-G64-H64-I64 -> 0 | K64: =+[2]ระบบการควบคุมฯ!E922 -> 192500 | M64: =SUM(K64:K64) -> 192500 | N64: =+[2]ระบบการควบคุมฯ!G922+[2]ระบบการควบคุมฯ!H922 -> 0 | P64: =+[2]ระบบการควบคุมฯ!K922+[2]ระบบการควบคุมฯ!L922 -> 192500 | Q64: =+M64-N64-O64-P64 -> 0 | Y64: =+R64+K64+D64 -> 192500 | Z64: =+S64+L64+E64 -> 0 | AA64: =SUM(Y64:Z64) -> 192500 | AB64: =+G64+N64+U64 -> 0 | AC64: =+H64+O64+V64 -> 0 | AD64: =+I64+P64+W64 -> 192500 | AE64: =+AA64-AB64-AC64-AD64 -> 0 | AG64: กลุ่มนโยบายและแผน
A65: =+[2]ระบบการควบคุมฯ!A927 -> 2 | B65: =+[2]ระบบการควบคุมฯ!B927 -> งบกลยุทธ์ ของสพป.ปท.2 1,800,000 บาท | C65: =+[2]ระบบการควบคุมฯ!C927 -> ศธ04002/ว11486 ลว.9 ก.ค. 69 ครั้งที่ 698 1,642,500 บาท | D65: =+D66+D77+D82+D85 -> 0 | E65: =+E66+E77+E82+E85 -> 177290 | F65: =+F66+F77+F82+F85 -> 177290 | G65: =+G66+G77+G82+G85 -> 0 | H65: =+H66+H77+H82+H85 -> 0 | I65: =+I66+I77+I82+I85 -> 177290 | J65: =+J66+J77+J82+J85 -> 0 | K65: =+K66+K77+K82+K85 -> 0 | ... AE65: =+AE66+AE77+AE82+AE85 -> 0 | AF65: =SUM(AF82:AF104) -> 0 | AG65: กลุ่มนิเทศติดตามและประเมินผลฯ
A66: =+[2]ระบบการควบคุมฯ!A928 -> 2.1) | B66: =+[2]ระบบการควบคุมฯ!B928 -> กลยุทธ์ที่ 1 ยกระดับคุณภาพการศึกษา 391,200 บาท จัดสรรครั้งที่ 1 362,000 บาท จัดครั้งที่ 2 4,200 บาท | C66: =+C65 -> ศธ04002/ว11486 ลว.9 ก.ค. 69 ครั้งที่ 698 1,642,500 บาท | D66: =SUM(D67:D76) -> 0 | E66: =SUM(E67:E76) -> 4200 | F66: =SUM(F67:F76) -> 4200 | G66: =SUM(G67:G76) -> 0 | H66: =SUM(H67:H76) -> 0 | I66: =SUM(I67:I76) -> 4200 | J66: =SUM(J67:J76) -> 0 | K66: =SUM(K67:K76) -> 0 | ... AF66: =SUM(AF67:AF76) -> 0
A67: =+[2]ระบบการควบคุมฯ!A929 -> 2.1.1) | B67: =+[2]ระบบการควบคุมฯ!B929 -> โครงการพัฒนาหลักสูตรสถานศึกษาและกระบวนการจัดการเรียนรู้สู่ฐานสมรรถนะ 67,950 บาท | C67: =+[2]ระบบการควบคุมฯ!C929 -> ศธ04002/ว46832 ลว.17 ต.ค. 68 ครั้งที่ 7 2,000,000 บาท | K67: =+[2]ระบบการควบคุมฯ!D937 -> 0 | L67: =+[2]ระบบการควบคุมฯ!E929 -> 67950 | M67: =SUM(K67:L67) -> 67950 | N67: =+[2]ระบบการควบคุมฯ!G929+[2]ระบบการควบคุมฯ!H929 -> 0 | P67: =+[2]ระบบการควบคุมฯ!K929+[2]ระบบการควบคุมฯ!L929 -> 67950 | Q67: =+M67-N67-O67-P67 -> 0 | Y67: =+D67+K67+R67 -> 0 | Z67: =+E67+S67+L67 -> 67950 | AA67: =SUM(Y67:Z67) -> 67950 | AB67: =+G67+U67+N67 -> 0 | AC67: =+H67+V67+O67 -> 0 | AD67: =+I67+W67+P67 -> 67950 | AE67: =+AA67-AB67-AC67-AD67 -> 0 | AG67: กลุ่มนิเทศติดตามและประเมินผลฯ
A68: =+[2]ระบบการควบคุมฯ!A930 -> 0 | B68: =+[2]ระบบการควบคุมฯ!B930 -> อนุมพิ่มครั้งที่ 2 49,950 บาท | C68: =+[2]ระบบการควบคุมฯ!C930 -> ศธ04002/ว2369 ลว.11 ก.พ.69 ครั้งที่ 294 500,000 บาท | K68: =+[2]ระบบการควบคุมฯ!D939 -> 0 | L68: =+[2]ระบบการควบคุมฯ!E930 -> 0 | M68: =SUM(K68:L68) -> 0 | N68: =+[2]ระบบการควบคุมฯ!G930+[2]ระบบการควบคุมฯ!H930 -> 0 | P68: =+[2]ระบบการควบคุมฯ!K930+[2]ระบบการควบคุมฯ!L930 -> 0 | Q68: =+M68-N68-O68-P68 -> 0 | Y68: =+D68+K68+R68 -> 0 | Z68: =+E68+S68+L68 -> 0 | AA68: =SUM(Y68:Z68) -> 0 | AB68: =+G68+U68+N68 -> 0 | AC68: =+H68+V68+O68 -> 0 | AD68: =+I68+W68+P68 -> 0 | AE68: =+AA68-AB68-AC68-AD68 -> 0
A69: =+[2]ระบบการควบคุมฯ!A931 -> 2.1.2) | B69: =+[2]ระบบการควบคุมฯ!B931 -> โครงการขับเคลื่อนพัฒนาระบบการประกันคุณภาพภายในโดยใช้กลุ่มเครือข่ายสถานศึกษาแบบยั่งยืน 50,000 บาท | C69: =+[2]ระบบการควบคุมฯ!C931 -> ศธ04002/ว46832 ลว.17 ต.ค. 68 ครั้งที่ 7 2,000,000 บาท | K69: =+[2]ระบบการควบคุมฯ!D940 -> 0 | L69: =+[2]ระบบการควบคุมฯ!E931 -> 50000 | M69: =SUM(K69:L69) -> 50000 | N69: =+[2]ระบบการควบคุมฯ!G931+[2]ระบบการควบคุมฯ!H931 -> 0 | P69: =+[2]ระบบการควบคุมฯ!K931+[2]ระบบการควบคุมฯ!L931 -> 50000 | Q69: =+M69-N69-O69-P69 -> 0 | Y69: =+D69+K69+R69 -> 0 | Z69: =+E69+S69+L69 -> 50000 | AA69: =SUM(Y69:Z69) -> 50000 | AB69: =+G69+U69+N69 -> 0 | AC69: =+H69+V69+O69 -> 0 | AD69: =+I69+W69+P69 -> 50000 | AE69: =+AA69-AB69-AC69-AD69 -> 0 | AG69: กลุ่มนิเทศติดตามและประเมินผลฯ
A70: =+[2]ระบบการควบคุมฯ!A932 -> 0 | B70: =+[2]ระบบการควบคุมฯ!B932 -> อนุมพิ่มครั้งที่ 2 30,000 บาท | C70: =+[2]ระบบการควบคุมฯ!C932 -> ศธ04002/ว2369 ลว.11 ก.พ.69 ครั้งที่ 294 500,000 บาท | K70: =+[2]ระบบการควบคุมฯ!D941 -> 0 | L70: =+[2]ระบบการควบคุมฯ!E932 -> 0 | M70: =SUM(K70:L70) -> 0 | N70: =+[2]ระบบการควบคุมฯ!G932+[2]ระบบการควบคุมฯ!H932 -> 0 | P70: =+[2]ระบบการควบคุมฯ!K932+[2]ระบบการควบคุมฯ!L932 -> 0 | Q70: =+M70-N70-O70-P70 -> 0 | Y70: =+D70+K70+R70 -> 0 | Z70: =+E70+S70+L70 -> 0 | AA70: =SUM(Y70:Z70) -> 0 | AB70: =+G70+U70+N70 -> 0 | AC70: =+H70+V70+O70 -> 0 | AD70: =+I70+W70+P70 -> 0 | AE70: =+AA70-AB70-AC70-AD70 -> 0
A71: =+[2]ระบบการควบคุมฯ!A933 -> 2.1.3) | B71: =+[2]ระบบการควบคุมฯ!B933 -> โครงการส่งเสริมประสิทธิผลการสอนของครูโดยการใช้ปัญญาประดิษฐ์ (AI) บนแพลตฟอร์ดิจิทัล 43,850 บาท | C71: =+[2]ระบบการควบคุมฯ!C933 -> ศธ04002/ว46832 ลว.17 ต.ค. 68 ครั้งที่ 7 2,000,000 บาท | K71: =+[2]ระบบการควบคุมฯ!D942 -> 0 | L71: =+[2]ระบบการควบคุมฯ!E933 -> 43850 | M71: =SUM(K71:L71) -> 43850 | N71: =+[2]ระบบการควบคุมฯ!G933+[2]ระบบการควบคุมฯ!H933 -> 0 | P71: =+[2]ระบบการควบคุมฯ!K933+[2]ระบบการควบคุมฯ!L933 -> 43850 | Q71: =+M71-N71-O71-P71 -> 0 | Y71: =+D71+K71+R71 -> 0 | Z71: =+E71+S71+L71 -> 43850 | AA71: =SUM(Y71:Z71) -> 43850 | AB71: =+G71+U71+N71 -> 0 | AC71: =+H71+V71+O71 -> 0 | AD71: =+I71+W71+P71 -> 43850 | AE71: =+AA71-AB71-AC71-AD71 -> 0 | AG71: กลุ่มนิเทศติดตามและประเมินผลฯ
A72: =+[2]ระบบการควบคุมฯ!A934 -> 0 | B72: =+[2]ระบบการควบคุมฯ!B934 -> อนุมัติครั้งที่ 2 31850 บาท | C72: =+[2]ระบบการควบคุมฯ!C934 -> ศธ04002/ว2369 ลว.11 ก.พ.69 ครั้งที่ 294 500,000 บาท | K72: =+[2]ระบบการควบคุมฯ!D943 -> 0 | L72: =+[2]ระบบการควบคุมฯ!E934 -> 0 | M72: =SUM(K72:L72) -> 0 | N72: =+[2]ระบบการควบคุมฯ!G934+[2]ระบบการควบคุมฯ!H934 -> 0 | P72: =+[2]ระบบการควบคุมฯ!K934+[2]ระบบการควบคุมฯ!L934 -> 0 | Q72: =+M72-N72-O72-P72 -> 0 | Y72: =+D72+K72+R72 -> 0 | Z72: =+E72+S72+L72 -> 0 | AA72: =SUM(Y72:Z72) -> 0 | AB72: =+G72+U72+N72 -> 0 | AC72: =+H72+V72+O72 -> 0 | AD72: =+I72+W72+P72 -> 0 | AE72: =+AA72-AB72-AC72-AD72 -> 0
A73: =+[2]ระบบการควบคุมฯ!A935 -> 2.1.4 | B73: =+[2]ระบบการควบคุมฯ!B935 -> โครงการโรงเรียนคุณธรรม สพฐ. 25,000 บาท | C73: =+[2]ระบบการควบคุมฯ!C935 -> ศธ04002/ว2369 ลว.11 ก.พ.69 ครั้งที่ 294 500,000 บาท | K73: =+[2]ระบบการควบคุมฯ!D944 -> 0 | L73: =+[2]ระบบการควบคุมฯ!E935 -> 25000 | M73: =SUM(K73:L73) -> 25000 | N73: =+[2]ระบบการควบคุมฯ!G935+[2]ระบบการควบคุมฯ!H935 -> 0 | P73: =+[2]ระบบการควบคุมฯ!K935+[2]ระบบการควบคุมฯ!L935 -> 25000 | Q73: =+M73-N73-O73-P73 -> 0 | Y73: =+D73+K73+R73 -> 0 | Z73: =+E73+S73+L73 -> 25000 | AA73: =SUM(Y73:Z73) -> 25000 | AB73: =+G73+U73+N73 -> 0 | AC73: =+H73+V73+O73 -> 0 | AD73: =+I73+W73+P73 -> 25000 | AE73: =+AA73-AB73-AC73-AD73 -> 0 | AG73: กลุ่มนิเทศติดตามและประเมินผลฯ
A74: =+[2]ระบบการควบคุมฯ!A936 -> 2.1.5 | B74: =+[2]ระบบการควบคุมฯ!B936 -> โครงการส่งเสริมคุณภาพการจัดการเรียนรู้แนวใหม่ จำนวนเงิน 104,400 บาท อนุมัติครั้งที่ 1 30,000 บาทครั้งที่ 2 63,200 บาท ครั้งที่ 3 4200 บาท | C74: =+[2]ระบบการควบคุมฯ!C936 -> ศธ04002/ว46832 ลว.17 ต.ค. 68 ครั้งที่ 7 2,000,000 บาท | D74: =+[2]ระบบการควบคุมฯ!D809 -> 0 | E74: =+[2]ระบบการควบคุมฯ!E809 -> 4200 | F74: =SUM(D74:E74) -> 4200 | G74: =+[2]ระบบการควบคุมฯ!G809+[2]ระบบการควบคุมฯ!H809 -> 0 | H74: =+[2]ระบบการควบคุมฯ!I809+[2]ระบบการควบคุมฯ!J809 -> 0 | I74: =+[2]ระบบการควบคุมฯ!K809+[2]ระบบการควบคุมฯ!L809 -> 4200 | J74: =+F74-G74-H74-I74 -> 0 | K74: =+[2]ระบบการควบคุมฯ!D945 -> 0 | L74: =+[2]ระบบการควบคุมฯ!E936 -> 100200 | M74: =SUM(K74:L74) -> 100200 | N74: =+[2]ระบบการควบคุมฯ!G936+[2]ระบบการควบคุมฯ!H936 -> 0 | P74: =+[2]ระบบการควบคุมฯ!K936+[2]ระบบการควบคุมฯ!L936 -> 100200 | Q74: =+M74-N74-O74-P74 -> 0 | Y74: =+D74+K74+R74 -> 0 | Z74: =+E74+S74+L74 -> 104400 | AA74: =SUM(Y74:Z74) -> 104400 | AB74: =+G74+U74+N74 -> 0 | AC74: =+H74+V74+O74 -> 0 | AD74: =+I74+W74+P74 -> 104400 | AE74: =+AA74-AB74-AC74-AD74 -> 0 | AG74: กลุ่มนิเทศติดตามและประเมินผลฯ
A75: =+[2]ระบบการควบคุมฯ!A937 -> 0 | B75: =+[2]ระบบการควบคุมฯ!B937 -> อนุมัติครั้งที่ 2 63,200 บาท | C75: =+[2]ระบบการควบคุมฯ!C937 -> ศธ04002/ว2369 ลว.11 ก.พ.69 ครั้งที่ 294 500,000 บาท | K75: =+[2]ระบบการควบคุมฯ!D946 -> 0 | L75: =+[2]ระบบการควบคุมฯ!E937 -> 0 | M75: =SUM(K75:L75) -> 0 | N75: =+[2]ระบบการควบคุมฯ!G937+[2]ระบบการควบคุมฯ!H937 -> 0 | P75: =+[2]ระบบการควบคุมฯ!K937+[2]ระบบการควบคุมฯ!L937 -> 0 | Q75: =+M75-N75-O75-P75 -> 0 | Y75: =+D75+K75+R75 -> 0 | Z75: =+E75+S75+L75 -> 0 | AA75: =SUM(Y75:Z75) -> 0 | AB75: =+G75+U75+N75 -> 0 | AC75: =+H75+V75+O75 -> 0 | AD75: =+I75+W75+P75 -> 0 | AE75: =+AA75-AB75-AC75-AD75 -> 0
A76: =+[2]ระบบการควบคุมฯ!A939 -> 2.1.6) | B76: =+[2]ระบบการควบคุมฯ!B939 -> โครงการวัดและประเมินผลเพื่อพัฒนาการเรียนรู้ของผู้เรียน 100,000 บาท อนุมัติครั้งที่ 1 82,000 บาท | C76: =+[2]ระบบการควบคุมฯ!C939 -> ศธ04002/ว46832 ลว.17 ต.ค. 68 ครั้งที่ 7 2,000,000 บาท | K76: =+[2]ระบบการควบคุมฯ!D939 -> 0 | L76: =+[2]ระบบการควบคุมฯ!E939 -> 100000 | M76: =SUM(K76:L76) -> 100000 | N76: =+[2]ระบบการควบคุมฯ!G939+[2]ระบบการควบคุมฯ!H939 -> 0 | P76: =+[2]ระบบการควบคุมฯ!K939+[2]ระบบการควบคุมฯ!L939 -> 100000 | Q76: =+M76-N76-O76-P76 -> 0 | Y76: =+D76+K76+R76 -> 0 | Z76: =+E76+S76+L76 -> 100000 | AA76: =SUM(Y76:Z76) -> 100000 | AB76: =+G76+U76+N76 -> 0 | AC76: =+H76+V76+O76 -> 0 | AD76: =+I76+W76+P76 -> 100000 | AE76: =+AA76-AB76-AC76-AD76 -> 0 | AG76: กลุ่มนิเทศติดตามและประเมินผลฯ
A77: =+[2]ระบบการควบคุมฯ!A943 -> 2.2) | B77: =+[2]ระบบการควบคุมฯ!B943 -> กลยุทธ์ที่ 2 เพิ่มโอกาสและความเสมอภาคทางการศึกษา 98,710 บาท จัดสรรครั้งที่ 1 50,000 บาท ยืมงบกลาง 30710 บาท | C77: =+C66 -> ศธ04002/ว11486 ลว.9 ก.ค. 69 ครั้งที่ 698 1,642,500 บาท | D77: =SUM(D78:D81) -> 0 | E77: =SUM(E78:E81) -> 18000 | F77: =SUM(F78:F81) -> 18000 | G77: =SUM(G78:G81) -> 0 | H77: =SUM(H78:H81) -> 0 | I77: =SUM(I78:I81) -> 18000 | J77: =SUM(J78:J81) -> 0 | K77: =SUM(K78:K81) -> 0 | ... AF77: =SUM(AF78:AF81) -> 0
A78: =+[2]ระบบการควบคุมฯ!A944 -> 2.2.1) | B78: =+[2]ระบบการควบคุมฯ!B944 -> โครงการเสริมสร้างพลเมืองดี วิถีประชาธิปไตยในสถานศึกษา ประจำปี 2569 10,000 บาท | C78: =+[2]ระบบการควบคุมฯ!C944 -> ศธ04002/ว46832 ลว.17 ต.ค. 68 ครั้งที่ 7 2,000,000 บาท | D78: =+[2]ระบบการควบคุมฯ!D812 -> 0 | E78: =+[2]ระบบการควบคุมฯ!E812 -> 0 | F78: =+[2]ระบบการควบคุมฯ!F812 -> 0 | G78: =+[2]ระบบการควบคุมฯ!G812+[2]ระบบการควบคุมฯ!H812 -> 0 | H78: =+[2]ระบบการควบคุมฯ!I812+[2]ระบบการควบคุมฯ!J812 -> 0 | I78: =+[2]ระบบการควบคุมฯ!K812+[2]ระบบการควบคุมฯ!L812 -> 0 | J78: =+F78-G78-H78-I78 -> 0 | L78: =+[2]ระบบการควบคุมฯ!E944 -> 10000 | M78: =+K78+L78 -> 10000 | N78: =+[2]ระบบการควบคุมฯ!G944+[2]ระบบการควบคุมฯ!H944 -> 0 | P78: =+[2]ระบบการควบคุมฯ!K944+[2]ระบบการควบคุมฯ!L944 -> 10000 | Q78: =+M78-N78-O78-P78 -> 0 | Y78: =+R78+K78+D78 -> 0 | Z78: =+S78+L78+E78 -> 10000 | AA78: =SUM(Y78:Z78) -> 10000 | AB78: =+G78+N78+U78 -> 0 | AC78: =+H78+O78+V78 -> 0 | AD78: =+I78+P78+W78 -> 10000 | AE78: =+AA78-AB78-AC78-AD78 -> 0 | AG78: กลุ่มส่งเสริมการจัดการศึกษา
A79: =+[2]ระบบการควบคุมฯ!A945 -> .2.2.2) | B79: =+[2]ระบบการควบคุมฯ!B945 -> โครงการวัดและประเมินผลการจัดการศึกษาโดยครอบครัว ประจำปี 2569 10,710 บาท | C79: =+[2]ระบบการควบคุมฯ!C945 -> ศธ04002/ว46832 ลว.17 ต.ค. 68 ครั้งที่ 7 2,000,000 บาท | D79: =+[2]ระบบการควบคุมฯ!D813 -> 0 | E79: =+[2]ระบบการควบคุมฯ!E813 -> 0 | F79: =+[2]ระบบการควบคุมฯ!F813 -> 0 | G79: =+[2]ระบบการควบคุมฯ!G813+[2]ระบบการควบคุมฯ!H813 -> 0 | H79: =+[2]ระบบการควบคุมฯ!I813+[2]ระบบการควบคุมฯ!J813 -> 0 | I79: =+[2]ระบบการควบคุมฯ!K813+[2]ระบบการควบคุมฯ!L813 -> 0 | J79: =+F79-G79-H79-I79 -> 0 | L79: =+[2]ระบบการควบคุมฯ!E945 -> 10710 | M79: =+K79+L79 -> 10710 | N79: =+[2]ระบบการควบคุมฯ!G945+[2]ระบบการควบคุมฯ!H945 -> 0 | P79: =+[2]ระบบการควบคุมฯ!K945+[2]ระบบการควบคุมฯ!L945 -> 10710 | Q79: =+M79-N79-O79-P79 -> 0 | Y79: =+R79+K79+D79 -> 0 | Z79: =+S79+L79+E79 -> 10710 | AA79: =SUM(Y79:Z79) -> 10710 | AB79: =+G79+N79+U79 -> 0 | AC79: =+H79+O79+V79 -> 0 | AD79: =+I79+P79+W79 -> 10710 | AE79: =+AA79-AB79-AC79-AD79 -> 0 | AG79: กลุ่มส่งเสริมการจัดการศึกษา
A80: =+[2]ระบบการควบคุมฯ!A946 -> 2.2.3) | B80: =+[2]ระบบการควบคุมฯ!B946 -> โครงการพัฒนาสมรรถนะการจัดการเรียนรู้สำหรับเด็กที่มีความต้องการพิเศษ 60,000 บาท | C80: =+[2]ระบบการควบคุมฯ!C946 -> ศธ04002/ว46832 ลว.17 ต.ค. 68 ครั้งที่ 7 2,000,000 บาท | E80: =+[2]ระบบการควบคุมฯ!E814 -> 0 | F80: =SUM(E80) -> 0 | G80: =+[2]ระบบการควบคุมฯ!G814+[2]ระบบการควบคุมฯ!H814 -> 0 | H80: =+[2]ระบบการควบคุมฯ!I814+[2]ระบบการควบคุมฯ!J814 -> 0 | I80: =+[2]ระบบการควบคุมฯ!K814+[2]ระบบการควบคุมฯ!L814 -> 0 | J80: =+F80-G80-H80-I80 -> 0 | L80: =+[2]ระบบการควบคุมฯ!E946 -> 60000 | M80: =+K80+L80 -> 60000 | N80: =+[2]ระบบการควบคุมฯ!G946+[2]ระบบการควบคุมฯ!H946 -> 0 | P80: =+[2]ระบบการควบคุมฯ!K946+[2]ระบบการควบคุมฯ!L946 -> 60000 | Q80: =+M80-N80-O80-P80 -> 0 | Y80: =+R80+K80+D80 -> 0 | Z80: =+S80+L80+E80 -> 60000 | AA80: =SUM(Y80:Z80) -> 60000 | AB80: =+G80+N80+U80 -> 0 | AC80: =+H80+O80+V80 -> 0 | AD80: =+I80+P80+W80 -> 60000 | AE80: =+AA80-AB80-AC80-AD80 -> 0 | AG80: กลุ่มนิเทศติดตามและประเมินผลฯ
A81: =+[2]ระบบการควบคุมฯ!A945 -> .2.2.2) | B81: =+[2]ระบบการควบคุมฯ!B815 -> โครงการพัฒนาระบบแนะแนวการเรียน (Coaching) และแนะแนวเป้าหมายชีวิต 18,000 บาท | C81: =+[2]ระบบการควบคุมฯ!C815 -> ศธ04002/ว6334 ลว.21 เม.ย. 69 ครั้งที่ 3 โอนครั้งที่ 440 | E81: =+[2]ระบบการควบคุมฯ!E815 -> 18000 | F81: =SUM(E81) -> 18000 | G81: =+[2]ระบบการควบคุมฯ!G815+[2]ระบบการควบคุมฯ!H815 -> 0 | H81: =+[2]ระบบการควบคุมฯ!I815+[2]ระบบการควบคุมฯ!J815 -> 0 | I81: =+[2]ระบบการควบคุมฯ!K815+[2]ระบบการควบคุมฯ!L815 -> 18000 | J81: =+F81-G81-H81-I81 -> 0 | Y81: =+R81+K81+D81 -> 0 | Z81: =+S81+L81+E81 -> 18000 | AA81: =SUM(Y81:Z81) -> 18000 | AB81: =+G81+N81+U81 -> 0 | AC81: =+H81+O81+V81 -> 0 | AD81: =+I81+P81+W81 -> 18000 | AE81: =+AA81-AB81-AC81-AD81 -> 0 | AG81: กลุ่มส่งเสริมการจัดการศึกษา
A82: =+[2]ระบบการควบคุมฯ!A950 -> 2.3) | B82: =+[2]ระบบการควบคุมฯ!B950 -> กลยุทธ์ที่ 3 ส่งเสริมความปลอดภัยของผู้เรียน ครูและบุคลากรทางการศึกษาและสถานศึกษา 75,800 บาท จัดสรรครั้งที่ 1 50,000 บาท | C82: =+[2]ระบบการควบคุมฯ!C950 -> ศธ04002/ว46832 ลว.17 ต.ค. 68 ครั้งที่ 7 2,000,000 บาท | D82: =SUM(D83:D84) -> 0 | E82: =SUM(E83:E84) -> 25800 | F82: =SUM(F83:F84) -> 25800 | G82: =SUM(G83:G84) -> 0 | H82: =SUM(H83:H84) -> 0 | I82: =SUM(I83:I84) -> 25800 | J82: =SUM(J83:J84) -> 0 | L82: =SUM(L83:L84) -> 50000 | M82: =SUM(M83:M84) -> 50000 | N82: =SUM(N83:N84) -> 0 | O82: =SUM(O83:O84) -> 0 | P82: =SUM(P83:P84) -> 50000 | Q82: =SUM(Q83:Q84) -> 0 | Y82: =+R82+K82+D82 -> 0 | Z82: =+S82+L82+E82 -> 75800 | AA82: =SUM(Y82:Z82) -> 75800 | AB82: =+G82+N82+U82 -> 0 | AC82: =+H82+O82+V82 -> 0 | AD82: =+I82+P82+W82 -> 75800 | AE82: =+AA82-AB82-AC82-AD82 -> 0
A83: =+[2]ระบบการควบคุมฯ!A951 -> 2.3.1) | B83: =+[2]ระบบการควบคุมฯ!B951 -> โครงการส่งเสริมทักษะชีวิตให้กับนักเรียน 30,000 บาท | C83: =+[2]ระบบการควบคุมฯ!C951 -> ศธ04002/ว46832 ลว.17 ต.ค. 68 ครั้งที่ 7 2,000,000 บาท | D83: =+[2]ระบบการควบคุมฯ!D817 -> 0 | E83: =+[2]ระบบการควบคุมฯ!E817 -> 0 | F83: =+[2]ระบบการควบคุมฯ!F817 -> 0 | G83: =+[2]ระบบการควบคุมฯ!G817+[2]ระบบการควบคุมฯ!H817 -> 0 | H83: =+[2]ระบบการควบคุมฯ!I817+[2]ระบบการควบคุมฯ!J817 -> 0 | I83: =+[2]ระบบการควบคุมฯ!K817+[2]ระบบการควบคุมฯ!L817 -> 0 | J83: =+F83-G83-H83-I83 -> 0 | L83: =+[2]ระบบการควบคุมฯ!E951 -> 30000 | M83: =SUM(K83:L83) -> 30000 | N83: =+[2]ระบบการควบคุมฯ!G951+[2]ระบบการควบคุมฯ!H951 -> 0 | P83: =+[2]ระบบการควบคุมฯ!K951+[2]ระบบการควบคุมฯ!L951 -> 30000 | Q83: =+M83-N83-O83-P83 -> 0 | Y83: =+R83+K83+D83 -> 0 | Z83: =+S83+L83+E83 -> 30000 | AA83: =SUM(Y83:Z83) -> 30000 | AB83: =+G83+N83+U83 -> 0 | AC83: =+H83+O83+V83 -> 0 | AD83: =+I83+P83+W83 -> 30000 | AE83: =+AA83-AB83-AC83-AD83 -> 0 | AG83: กลุ่มนิเทศติดตามและประเมินผลฯ
A84: =+[2]ระบบการควบคุมฯ!A952 -> 2.3.2) | B84: =+[2]ระบบการควบคุมฯ!B952 -> โครงการพัฒนาระบบและกลไกดูแลความปลอดภัย 45,800 บาท อนุมัติครั้งที่ 1 20,000 บาท ครั้งที่ 3 25,800 บาท | C84: =+[2]ระบบการควบคุมฯ!C952 -> ศธ04002/ว46832 ลว.17 ต.ค. 68 ครั้งที่ 7 2,000,000 บาท | D84: =+[2]ระบบการควบคุมฯ!D818 -> 0 | E84: =+[2]ระบบการควบคุมฯ!E818 -> 25800 | F84: =+[2]ระบบการควบคุมฯ!F818 -> 25800 | G84: =+[2]ระบบการควบคุมฯ!G818+[2]ระบบการควบคุมฯ!H818 -> 0 | H84: =+[2]ระบบการควบคุมฯ!I818+[2]ระบบการควบคุมฯ!J818 -> 0 | I84: =+[2]ระบบการควบคุมฯ!K818+[2]ระบบการควบคุมฯ!L818 -> 25800 | J84: =+F84-G84-H84-I84 -> 0 | L84: =+[2]ระบบการควบคุมฯ!E952 -> 20000 | M84: =SUM(K84:L84) -> 20000 | N84: =+[2]ระบบการควบคุมฯ!G952+[2]ระบบการควบคุมฯ!H952 -> 0 | P84: =+[2]ระบบการควบคุมฯ!K952+[2]ระบบการควบคุมฯ!L952 -> 20000 | Q84: =+M84-N84-O84-P84 -> 0 | Y84: =+R84+K84+D84 -> 0 | Z84: =+S84+L84+E84 -> 45800 | AA84: =SUM(Y84:Z84) -> 45800 | AB84: =+G84+N84+U84 -> 0 | AC84: =+H84+O84+V84 -> 0 | AD84: =+I84+P84+W84 -> 45800 | AE84: =+AA84-AB84-AC84-AD84 -> 0 | AG84: กลุ่มส่งเสริมการจัดการศึกษา
A85: =+[2]ระบบการควบคุมฯ!A953 -> 2.4) | B85: =+[2]ระบบการควบคุมฯ!B953 -> กลยุทธ์ที่ 4 เพิ่มประสิทธิภาพการบริหารจัดการศึกษา งบประมาณ 1,234,290 บาท จัดสรรครั้งที่ 1 554,400 บาท - โอนให้กลยุทธ์ที่ 1 ยืม 54400 | C85: =+[2]ระบบการควบคุมฯ!C953 -> ศธ04002/ว46832 ลว.17 ต.ค. 68 ครั้งที่ 7 2,000,000 บาท | D85: =+[2]ระบบการควบคุมฯ!D819 -> 0 | E85: =+[2]ระบบการควบคุมฯ!E819 -> 129290 | F85: =+[2]ระบบการควบคุมฯ!F819 -> 129290 | G85: =+[2]ระบบการควบคุมฯ!G819+[2]ระบบการควบคุมฯ!H819 -> 0 | H85: =+[2]ระบบการควบคุมฯ!I819+[2]ระบบการควบคุมฯ!J819 -> 0 | I85: =+[2]ระบบการควบคุมฯ!K819+[2]ระบบการควบคุมฯ!L819 -> 129290 | J85: =+F85-G85-H85-I85 -> 0 | K85: =SUM(K87:K104) -> 0 | L85: =SUM(L87:L104) -> 1105000 | M85: =SUM(M87:M104) -> 1105000 | N85: =SUM(N87:N104) -> 0 | O85: =SUM(O87:O104) -> 0 | P85: =SUM(P87:P104) -> 1105000 | Q85: =SUM(Q87:Q104) -> 127853 | X85: =+T85-U85-V85-W85 -> 0 | Y85: =+R85+K85+D85 -> 0 | Z85: =+S85+L85+E85 -> 1234290 | AA85: =SUM(Y85:Z85) -> 1234290 | AB85: =+G85+N85+U85 -> 0 | AC85: =+H85+O85+V85 -> 0 | AD85: =+I85+P85+W85 -> 1234290 | AE85: =+AA85-AB85-AC85-AD85 -> 0
A86: =+[2]ระบบการควบคุมฯ!A954 -> 1 | B86: =+[2]ระบบการควบคุมฯ!B954 -> งบกลาง กลยุทธ์ที่ 4 | C86: =+[2]ระบบการควบคุมฯ!C954 -> 0 | D86: =+[2]ระบบการควบคุมฯ!D820 -> 0 | E86: =+[2]ระบบการควบคุมฯ!E820 -> 0 | F86: =+[2]ระบบการควบคุมฯ!F820 -> 0 | G86: =+[2]ระบบการควบคุมฯ!G820+[2]ระบบการควบคุมฯ!H820 -> 0 | H86: =+[2]ระบบการควบคุมฯ!I820+[2]ระบบการควบคุมฯ!J820 -> 0 | I86: =+[2]ระบบการควบคุมฯ!K820+[2]ระบบการควบคุมฯ!L820 -> 0 | J86: =+F86-G86-H86-I86 -> 0 | Y86: =+R86+K86+D86 -> 0 | Z86: =+S86+L86+E86 -> 0 | AA86: =SUM(Y86:Z86) -> 0 | AB86: =+G86+N86+U86 -> 0 | AC86: =+H86+O86+V86 -> 0 | AD86: =+I86+P86+W86 -> 0 | AE86: =+AA86-AB86-AC86-AD86 -> 0
A87: =+[2]ระบบการควบคุมฯ!A955 -> 2.4.1) | B87: =+[2]ระบบการควบคุมฯ!B955 -> โครงการเพิ่มประสิทธิภาพการบริหารจัดการงานนโยบายและแผนและการบริหารงบประมาณ 75,000 บาท อนุมัติครั้งที่ 1 47,000 บาท โอนไปประชุมเชิงปฏิบัติการสำนักงานเขตพื้นที่ 34,715 บาท | C87: =+[2]ระบบการควบคุมฯ!C955 -> ศธ04002/ว46832 ลว.17 ต.ค. 68 ครั้งที่ 7 2,000,000 บาท | D87: =+[2]ระบบการควบคุมฯ!D821 -> 0 | E87: =+[2]ระบบการควบคุมฯ!E821 -> 0 | F87: =+[2]ระบบการควบคุมฯ!F821 -> 0 | G87: =+[2]ระบบการควบคุมฯ!G821+[2]ระบบการควบคุมฯ!H821 -> 0 | H87: =+[2]ระบบการควบคุมฯ!I821+[2]ระบบการควบคุมฯ!J821 -> 0 | I87: =+[2]ระบบการควบคุมฯ!K821+[2]ระบบการควบคุมฯ!L821 -> 0 | J87: =+F87-G87-H87-I87 -> 0 | K87: =+[2]ระบบการควบคุมฯ!D955 -> 0 | L87: =+[2]ระบบการควบคุมฯ!E955 -> 40285 | M87: =+K87+L87 -> 40285 | N87: =+[2]ระบบการควบคุมฯ!G955+[2]ระบบการควบคุมฯ!H955 -> 0 | O87: =+[2]ระบบการควบคุมฯ!I955+[2]ระบบการควบคุมฯ!J955 -> 0 | P87: =+[2]ระบบการควบคุมฯ!K955+[2]ระบบการควบคุมฯ!L955 -> 40285 | Q87: =+M87-N87-O87-P87 -> 0 | Y87: =+R87+K87+D87 -> 0 | Z87: =+S87+L87+E87 -> 40285 | AA87: =SUM(Y87:Z87) -> 40285 | AB87: =+G87+N87+U87 -> 0 | AC87: =+H87+O87+V87 -> 0 | AD87: =+I87+P87+W87 -> 40285 | AE87: =+AA87-AB87-AC87-AD87 -> 0 | AG87: กลุ่มนโยบายและแผน
A88: =+[2]ระบบการควบคุมฯ!A822 -> 2.4.2) | B88: =+[2]ระบบการควบคุมฯ!B822 -> โครงการสร้างเครือข่ายตรวจสอบภายใน 25,000 บาท โอนไปกลุ่มอำนวยการอบรมผู้บริหาร 12070 บาท โอนไปประชุมเชิงปฏิบัติการสำนักงานเขตพื้นที่ 12,930 บาท | C88: =+C86 -> 0 | D88: =+[2]ระบบการควบคุมฯ!D822 -> 0 | E88: =+[2]ระบบการควบคุมฯ!E822 -> 0 | F88: =+[2]ระบบการควบคุมฯ!F822 -> 0 | G88: =+[2]ระบบการควบคุมฯ!G822+[2]ระบบการควบคุมฯ!H822 -> 0 | H88: =+[2]ระบบการควบคุมฯ!I822+[2]ระบบการควบคุมฯ!J822 -> 0 | I88: =+[2]ระบบการควบคุมฯ!K822+[2]ระบบการควบคุมฯ!L822 -> 0 | J88: =+F88-G88-H88-I88 -> 0 | K88: =+[2]ระบบการควบคุมฯ!D957 -> 0 | L88: =+[2]ระบบการควบคุมฯ!E957 -> 0 | M88: =+K88+L88 -> 0 | N88: =+[2]ระบบการควบคุมฯ!G957+[2]ระบบการควบคุมฯ!H957 -> 0 | O88: =+[2]ระบบการควบคุมฯ!I957+[2]ระบบการควบคุมฯ!J957 -> 0 | P88: =+[2]ระบบการควบคุมฯ!K957+[2]ระบบการควบคุมฯ!L957 -> 0 | Q88: =+M88-N88-O88-P88 -> 0 | Y88: =+R88+K88+D88 -> 0 | Z88: =+S88+L88+E88 -> 0 | AA88: =SUM(Y88:Z88) -> 0 | AB88: =+G88+N88+U88 -> 0 | AC88: =+H88+O88+V88 -> 0 | AD88: =+I88+P88+W88 -> 0 | AE88: =+AA88-AB88-AC88-AD88 -> 0 | AG88: หน่วยตรวจสอบภายใน
A89: =+[2]ระบบการควบคุมฯ!A823 -> 2.4.3) | B89: =+[2]ระบบการควบคุมฯ!B823 -> โครงการพัฒนาศักยภาพการจัดการศึกษาแบบมีส่วนร่วมของคณะกรรมการติดตาม ตรวจสอบ ประเมินผลและนิเทศการศึกษาของเขตพื้นที่การศึกษา (ก.ต.ป.น.) 92,000 บาท อนุมัติครั้งที่ 1 25,550 บาท | C89: =+C83 -> ศธ04002/ว46832 ลว.17 ต.ค. 68 ครั้งที่ 7 2,000,000 บาท | D89: =+[2]ระบบการควบคุมฯ!D823 -> 0 | E89: =+[2]ระบบการควบคุมฯ!E823 -> 0 | F89: =+[2]ระบบการควบคุมฯ!F823 -> 0 | G89: =+[2]ระบบการควบคุมฯ!G823+[2]ระบบการควบคุมฯ!H823 -> 0 | H89: =+[2]ระบบการควบคุมฯ!I823+[2]ระบบการควบคุมฯ!J823 -> 0 | I89: =+[2]ระบบการควบคุมฯ!K823+[2]ระบบการควบคุมฯ!L823 -> 0 | J89: =+F89-G89-H89-I89 -> 0 | K89: =+[2]ระบบการควบคุมฯ!D959 -> 0 | L89: =+[2]ระบบการควบคุมฯ!E959 -> 92000 | M89: =+K89+L89 -> 92000 | N89: =+[2]ระบบการควบคุมฯ!G959+[2]ระบบการควบคุมฯ!H959 -> 0 | O89: =+[2]ระบบการควบคุมฯ!I959+[2]ระบบการควบคุมฯ!J959 -> 0 | P89: =+[2]ระบบการควบคุมฯ!K959+[2]ระบบการควบคุมฯ!L959 -> 92000 | Q89: =+M89-N89-O89-P89 -> 0 | Y89: =+R89+K89+D89 -> 0 | Z89: =+S89+L89+E89 -> 92000 | AA89: =SUM(Y89:Z89) -> 92000 | AB89: =+G89+N89+U89 -> 0 | AC89: =+H89+O89+V89 -> 0 | AD89: =+I89+P89+W89 -> 92000 | AE89: =+AA89-AB89-AC89-AD89 -> 0 | AG89: กลุ่มนิเทศติดตามและประเมินผลฯ
A90: =+[2]ระบบการควบคุมฯ!A824 -> 2.4.4) | B90: =+[2]ระบบการควบคุมฯ!B824 -> โครงการประชุมเชิงปฏิบัติการเพื่อเพิ่มประสิทธิภาพการบริหารจัดการด้านงบประมาณ ด้านการเงินบัญชีและพัสดุ 65,000 บาท | C90: =+C89 -> ศธ04002/ว46832 ลว.17 ต.ค. 68 ครั้งที่ 7 2,000,000 บาท | D90: =+[2]ระบบการควบคุมฯ!D824 -> 0 | E90: =+[2]ระบบการควบคุมฯ!E824 -> 65000 | F90: =+[2]ระบบการควบคุมฯ!F824 -> 65000 | G90: =+[2]ระบบการควบคุมฯ!G824+[2]ระบบการควบคุมฯ!H824 -> 0 | H90: =+[2]ระบบการควบคุมฯ!I824+[2]ระบบการควบคุมฯ!J824 -> 0 | I90: =+[2]ระบบการควบคุมฯ!K824+[2]ระบบการควบคุมฯ!L824 -> 65000 | J90: =+F90-G90-H90-I90 -> 0 | K90: =+[2]ระบบการควบคุมฯ!D961 -> 0 | L90: =+[2]ระบบการควบคุมฯ!E961 -> 0 | M90: =+K90+L90 -> 0 | N90: =+[2]ระบบการควบคุมฯ!G961+[2]ระบบการควบคุมฯ!H961 -> 0 | O90: =+[2]ระบบการควบคุมฯ!I961+[2]ระบบการควบคุมฯ!J961 -> 0 | P90: =+[2]ระบบการควบคุมฯ!K961+[2]ระบบการควบคุมฯ!L961 -> 0 | Q90: =+M90-N90-O90-P90 -> 0 | Y90: =+R90+K90+D90 -> 0 | Z90: =+S90+L90+E90 -> 65000 | AA90: =SUM(Y90:Z90) -> 65000 | AB90: =+G90+N90+U90 -> 0 | AC90: =+H90+O90+V90 -> 0 | AD90: =+I90+P90+W90 -> 65000 | AE90: =+AA90-AB90-AC90-AD90 -> 0 | AG90: กลุ่มบริหารงานการเงินและสินทรัพย์
A91: =+[2]ระบบการควบคุมฯ!A825 -> 2.4.5) | B91: =+[2]ระบบการควบคุมฯ!B825 -> โครงการงานศิลปหัตถกรรมนักเรียน ระดับเขตพื้นที่การศึกษา ปีการศึกษา 2568 250,000 บาท ศูนย์ประสานการดำเนินงาน ข้อ 13 อนุมัติครั้งที่ 1 24,195 บาท | C91: =+C90 -> ศธ04002/ว46832 ลว.17 ต.ค. 68 ครั้งที่ 7 2,000,000 บาท | D91: =+[2]ระบบการควบคุมฯ!D825 -> 0 | E91: =+[2]ระบบการควบคุมฯ!E825 -> 0 | F91: =+[2]ระบบการควบคุมฯ!F825 -> 0 | G91: =+[2]ระบบการควบคุมฯ!G825+[2]ระบบการควบคุมฯ!H825 -> 0 | H91: =+[2]ระบบการควบคุมฯ!I825+[2]ระบบการควบคุมฯ!J825 -> 0 | I91: =+[2]ระบบการควบคุมฯ!K825+[2]ระบบการควบคุมฯ!L825 -> 0 | J91: =+F91-G91-H91-I91 -> 0 | K91: =+[2]ระบบการควบคุมฯ!D962 -> 0 | L91: =+[2]ระบบการควบคุมฯ!E962 -> 250000 | M91: =+K91+L91 -> 250000 | N91: =+[2]ระบบการควบคุมฯ!G962+[2]ระบบการควบคุมฯ!H962 -> 0 | O91: =+[2]ระบบการควบคุมฯ!I962+[2]ระบบการควบคุมฯ!J962 -> 0 | P91: =+[2]ระบบการควบคุมฯ!K962+[2]ระบบการควบคุมฯ!L962 -> 250000 | Q91: =+M91-N91-O91-P91 -> 0 | Y91: =+R91+K91+D91 -> 0 | Z91: =+S91+L91+E91 -> 250000 | AA91: =SUM(Y91:Z91) -> 250000 | AB91: =+G91+N91+U91 -> 0 | AC91: =+H91+O91+V91 -> 0 | AD91: =+I91+P91+W91 -> 250000 | AE91: =+AA91-AB91-AC91-AD91 -> 0 | AG91: กลุ่มส่งเสริมการจัดการศึกษา
A92: =+[2]ระบบการควบคุมฯ!A826 -> 0 | B92: =+[2]ระบบการควบคุมฯ!B826 -> อนุมัติ ครั้งที่ 2 225,805 บาท | C92: =+C91 -> ศธ04002/ว46832 ลว.17 ต.ค. 68 ครั้งที่ 7 2,000,000 บาท | D92: =+[2]ระบบการควบคุมฯ!D826 -> 0 | E92: =+[2]ระบบการควบคุมฯ!E826 -> 0 | F92: =+[2]ระบบการควบคุมฯ!F826 -> 0 | G92: =+[2]ระบบการควบคุมฯ!G826+[2]ระบบการควบคุมฯ!H826 -> 0 | H92: =+[2]ระบบการควบคุมฯ!I826+[2]ระบบการควบคุมฯ!J826 -> 0 | I92: =+[2]ระบบการควบคุมฯ!K826+[2]ระบบการควบคุมฯ!L826 -> 0 | J92: =+F92-G92-H92-I92 -> 0 | K92: =+[2]ระบบการควบคุมฯ!D963 -> 0 | L92: =+[2]ระบบการควบคุมฯ!E963 -> 0 | M92: =+K92+L92 -> 0 | N92: =+[2]ระบบการควบคุมฯ!G963+[2]ระบบการควบคุมฯ!H963 -> 0 | O92: =+[2]ระบบการควบคุมฯ!I963+[2]ระบบการควบคุมฯ!J963 -> 0 | P92: =+[2]ระบบการควบคุมฯ!K963+[2]ระบบการควบคุมฯ!L963 -> 0 | Q92: =+M92-N92-O92-P92 -> 0 | Y92: =+R92+K92+D92 -> 0 | Z92: =+S92+L92+E92 -> 0 | AA92: =SUM(Y92:Z92) -> 0 | AB92: =+G92+N92+U92 -> 0 | AC92: =+H92+O92+V92 -> 0 | AD92: =+I92+P92+W92 -> 0 | AE92: =+AA92-AB92-AC92-AD92 -> 0
A93: =+[2]ระบบการควบคุมฯ!A827 -> 2.4.6) | B93: =+[2]ระบบการควบคุมฯ!B827 -> โครงการยกย่องเชิดชูเกียรติข้าราชการครูและบุคลากรทางการศึกษา 80,000 บาท อนุมัติครั้งที่ 1 30,000 บาท โอนไปประชุมเชิงปฏิบัติการสำนักงานเขตพื้นที่ 20875,000 บาท | C93: =+C92 -> ศธ04002/ว46832 ลว.17 ต.ค. 68 ครั้งที่ 7 2,000,000 บาท | D93: =+[2]ระบบการควบคุมฯ!D827 -> 0 | E93: =+[2]ระบบการควบคุมฯ!E827 -> 0 | F93: =+[2]ระบบการควบคุมฯ!F827 -> 0 | G93: =+[2]ระบบการควบคุมฯ!G827+[2]ระบบการควบคุมฯ!H827 -> 0 | H93: =+[2]ระบบการควบคุมฯ!I827+[2]ระบบการควบคุมฯ!J827 -> 0 | I93: =+[2]ระบบการควบคุมฯ!K827+[2]ระบบการควบคุมฯ!L827 -> 0 | J93: =+F93-G93-H93-I93 -> 0 | K93: =+[2]ระบบการควบคุมฯ!D964 -> 0 | L93: =+[2]ระบบการควบคุมฯ!E964 -> 59125 | M93: =+K93+L93 -> 59125 | N93: =+[2]ระบบการควบคุมฯ!G964+[2]ระบบการควบคุมฯ!H964 -> 0 | O93: =+[2]ระบบการควบคุมฯ!I964+[2]ระบบการควบคุมฯ!J964 -> 0 | P93: =+[2]ระบบการควบคุมฯ!K964+[2]ระบบการควบคุมฯ!L964 -> 59125 | Q93: =+M93-N93-O93-P93 -> 0 | Y93: =+R93+K93+D93 -> 0 | Z93: =+S93+L93+E93 -> 59125 | AA93: =SUM(Y93:Z93) -> 59125 | AB93: =+G93+N93+U93 -> 0 | AC93: =+H93+O93+V93 -> 0 | AD93: =+I93+P93+W93 -> 59125 | AE93: =+AA93-AB93-AC93-AD93 -> 0 | AG93: กลุ่มพัฒนาครูและบุคลากรทางการศึกษา
A94: =+[2]ระบบการควบคุมฯ!A828 -> 2.4.7) | B94: =+[2]ระบบการควบคุมฯ!B828 -> โครงการเสริมสร้างศักยภาพบุคลากรในสังกัดสพป.ปทุมธานี เขต 2 130,595 บาท | C94: =+C93 -> ศธ04002/ว46832 ลว.17 ต.ค. 68 ครั้งที่ 7 2,000,000 บาท | D94: =+[2]ระบบการควบคุมฯ!D828 -> 0 | E94: =+[2]ระบบการควบคุมฯ!E828 -> 0 | F94: =+[2]ระบบการควบคุมฯ!F828 -> 0 | G94: =+[2]ระบบการควบคุมฯ!G828+[2]ระบบการควบคุมฯ!H828 -> 0 | H94: =+[2]ระบบการควบคุมฯ!I828+[2]ระบบการควบคุมฯ!J828 -> 0 | I94: =+[2]ระบบการควบคุมฯ!K828+[2]ระบบการควบคุมฯ!L828 -> 0 | J94: =+F94-G94-H94-I94 -> 0 | K94: =+[2]ระบบการควบคุมฯ!D966 -> 0 | L94: =+[2]ระบบการควบคุมฯ!E966 -> 130595 | M94: =+K94+L94 -> 130595 | N94: =+[2]ระบบการควบคุมฯ!G966+[2]ระบบการควบคุมฯ!H966 -> 0 | O94: =+[2]ระบบการควบคุมฯ!I966+[2]ระบบการควบคุมฯ!J966 -> 0 | P94: =+[2]ระบบการควบคุมฯ!K966+[2]ระบบการควบคุมฯ!L966 -> 130595 | Q94: =+M94-N94-O94-P94 -> 0 | Y94: =+R94+K94+D94 -> 0 | Z94: =+S94+L94+E94 -> 130595 | AA94: =SUM(Y94:Z94) -> 130595 | AB94: =+G94+N94+U94 -> 0 | AC94: =+H94+O94+V94 -> 0 | AD94: =+I94+P94+W94 -> 130595 | AE94: =+AA94-AB94-AC94-AD94 -> 0 | AG94: =+AG93 -> กลุ่มพัฒนาครูและบุคลากรทางการศึกษา
A95: =+[2]ระบบการควบคุมฯ!A829 -> 2.4.8) | B95: =+[2]ระบบการควบคุมฯ!B829 -> โครงการประชุม อ.ก.ค.ศ. เขตพื้นที่ 258,060 บาท อนุมัติครั้งที่ 1 95,000 บาท โอนไปประชุมเชิงปฏิบัติการสำนักงานเขตพื้นที่ 49,333 บาท | C95: =+C94 -> ศธ04002/ว46832 ลว.17 ต.ค. 68 ครั้งที่ 7 2,000,000 บาท | D95: =+[2]ระบบการควบคุมฯ!D829 -> 0 | E95: =+[2]ระบบการควบคุมฯ!E829 -> 25000 | F95: =+[2]ระบบการควบคุมฯ!F829 -> 25000 | G95: =+[2]ระบบการควบคุมฯ!G829+[2]ระบบการควบคุมฯ!H829 -> 0 | H95: =+[2]ระบบการควบคุมฯ!I829+[2]ระบบการควบคุมฯ!J829 -> 0 | I95: =+[2]ระบบการควบคุมฯ!K829+[2]ระบบการควบคุมฯ!L829 -> 25000 | J95: =+F95-G95-H95-I95 -> 0 | K95: =+[2]ระบบการควบคุมฯ!D967 -> 0 | L95: =+[2]ระบบการควบคุมฯ!E967 -> 183727 | M95: =+K95+L95 -> 183727 | N95: =+[2]ระบบการควบคุมฯ!G967+[2]ระบบการควบคุมฯ!H967 -> 0 | O95: =+[2]ระบบการควบคุมฯ!I967+[2]ระบบการควบคุมฯ!J967 -> 0 | P95: =+[2]ระบบการควบคุมฯ!K967+[2]ระบบการควบคุมฯ!L967 -> 183727 | Q95: =+M95-N95-O95-P95 -> 0 | Y95: =+R95+K95+D95 -> 0 | Z95: =+S95+L95+E95 -> 208727 | AA95: =SUM(Y95:Z95) -> 208727 | AB95: =+G95+N95+U95 -> 0 | AC95: =+H95+O95+V95 -> 0 | AD95: =+I95+P95+W95 -> 208727 | AE95: =+AA95-AB95-AC95-AD95 -> 0 | AG95: กลุ่มบริหารงานบุคคล
A96: =+[2]ระบบการควบคุมฯ!A968 -> 2.4.8.1) | B96: =+[2]ระบบการควบคุมฯ!B968 -> โครงการประชุม อ.ก.ค.ศ. เขตพื้นที่ 258,060 บาท อนุมัติครั้งที่ 4 138,060 บาท
A97: =+[2]ระบบการควบคุมฯ!A830 -> 2.4.9) | B97: =+[2]ระบบการควบคุมฯ!B830 -> โครงการกิจกรรมการบริหารอัตรากำลังในสถานศึกษาระดับเขตพื้นที่การศึกษาฯ 80,145 บาท อนุมัติครั้งที่ 1 30,000 บาทโอนไปกลุ่มอำนวยการอบรมผู้บริหาร 70525 บาท | C97: =+C95 -> ศธ04002/ว46832 ลว.17 ต.ค. 68 ครั้งที่ 7 2,000,000 บาท | D97: =+[2]ระบบการควบคุมฯ!D830 -> 0 | E97: =+[2]ระบบการควบคุมฯ!E830 -> 0 | F97: =+[2]ระบบการควบคุมฯ!F830 -> 0 | G97: =+[2]ระบบการควบคุมฯ!G830+[2]ระบบการควบคุมฯ!H830 -> 0 | H97: =+[2]ระบบการควบคุมฯ!I830+[2]ระบบการควบคุมฯ!J830 -> 0 | I97: =+[2]ระบบการควบคุมฯ!K830+[2]ระบบการควบคุมฯ!L830 -> 0 | J97: =+F97-G97-H97-I97 -> 0 | K97: =+[2]ระบบการควบคุมฯ!D969 -> 0 | L97: =+[2]ระบบการควบคุมฯ!E969 -> 9620 | M97: =+K97+L97 -> 9620 | N97: =+[2]ระบบการควบคุมฯ!G969+[2]ระบบการควบคุมฯ!H969 -> 0 | O97: =+[2]ระบบการควบคุมฯ!I969+[2]ระบบการควบคุมฯ!J969 -> 0 | P97: =+[2]ระบบการควบคุมฯ!K969+[2]ระบบการควบคุมฯ!L969 -> 9620 | Q97: =+M97-N97-O97-P97 -> 0 | Y97: =+R97+K97+D97 -> 0 | Z97: =+S97+L97+E97 -> 9620 | AA97: =SUM(Y97:Z97) -> 9620 | AB97: =+G97+N97+U97 -> 0 | AC97: =+H97+O97+V97 -> 0 | AD97: =+I97+P97+W97 -> 9620 | AE97: =+AA97-AB97-AC97-AD97 -> 0 | AG97: =+AG95 -> กลุ่มบริหารงานบุคคล
A98: =+[2]ระบบการควบคุมฯ!A831 -> 2.4.10) | B98: =+[2]ระบบการควบคุมฯ!B831 -> โครงการพัฒนาประสิทธิภาพการบริหารจัดการงานอำนวยการ 148,490 บาท อนุมัติครั้งที่ 1 41,650 บาท รับโอนจากกลุ่มบุคคล 70,525 บาท ตรวจสอบภายใน 12,070 บาท | C98: =+C97 -> ศธ04002/ว46832 ลว.17 ต.ค. 68 ครั้งที่ 7 2,000,000 บาท | D98: =+[2]ระบบการควบคุมฯ!D831 -> 0 | E98: =+[2]ระบบการควบคุมฯ!E831 -> 19290 | F98: =+[2]ระบบการควบคุมฯ!F831 -> 19290 | G98: =+[2]ระบบการควบคุมฯ!G831+[2]ระบบการควบคุมฯ!H831 -> 0 | H98: =+[2]ระบบการควบคุมฯ!I831+[2]ระบบการควบคุมฯ!J831 -> 0 | I98: =+[2]ระบบการควบคุมฯ!K831+[2]ระบบการควบคุมฯ!L831 -> 19290 | J98: =+F98-G98-H98-I98 -> 0 | K98: =+[2]ระบบการควบคุมฯ!D971 -> 0 | L98: =+[2]ระบบการควบคุมฯ!E971 -> 211795 | M98: =+K98+L98 -> 211795 | N98: =+[2]ระบบการควบคุมฯ!G971+[2]ระบบการควบคุมฯ!H971 -> 0 | O98: =+[2]ระบบการควบคุมฯ!I971+[2]ระบบการควบคุมฯ!J971 -> 0 | P98: =+[2]ระบบการควบคุมฯ!K971+[2]ระบบการควบคุมฯ!L971 -> 211795 | Q98: =+M98-N98-O98-P98 -> 0 | Y98: =+R98+K98+D98 -> 0 | Z98: =+S98+L98+E98 -> 231085 | AA98: =SUM(Y98:Z98) -> 231085 | AB98: =+G98+N98+U98 -> 0 | AC98: =+H98+O98+V98 -> 0 | AD98: =+I98+P98+W98 -> 231085 | AE98: =+AA98-AB98-AC98-AD98 -> 0 | AG98: กลุ่มอำนวยการ
B99: =+[2]ระบบการควบคุมฯ!B972 -> โครงการพัฒนาประสิทธิภาพการบริหารจัดการงานอำนวยการ 148,490 บาท อนุมัติครั้งที่ 4 86,090 บาท
A100: =+[2]ระบบการควบคุมฯ!A832 -> 2.4.11) | B100: =+[2]ระบบการควบคุมฯ!B832 -> โครงการพัฒนาระบบข้อมูลสารสนเทศ 30,000 บาท โอนไปประชุมเชิงปฏิบัติการสำนักงานเขตพื้นที่ 10,000 บาท
A101: =+[2]ระบบการควบคุมฯ!A833 -> 4) | B101: =+[2]ระบบการควบคุมฯ!B833 -> โครงการเพิ่มประสิทธิภาพการบริหารจัดการศึกษา 800,000 บาท อนุมัติครั้งที่ 1 (400,000 บาท)
...

Sheet งบสพฐ
A1: งบประมาณของสำนักงานคณะกรรมการการศึกษาขั้นพื้นฐาน
A2: ประจำปีงบประมาณ พ.ศ. 2569
A3: กลุ่มบริหารงานการเงินและสินทรัพย์ สำนักงานเขตพื้นที่การศึกษาประถมศึกษาปทุมธานี เขต 2
B4: =+[2]งบประจำและงบกลยุทธ์!A4 -> ประจำเดือนกันยายน 2569 | I4: รายละเอียด 4
A5: ที่ | B5: รายการ | C5: รหัสงบประมาณ/หนังสือแจ้งโอน | D5: เงินงวด | E5: ผูกพัน | F5: กันไว้เบิกเหลื่อมปี | G5: เบิกจ่าย | H5: คงเหลือ | I5: ผู้รับผิดชอบ
A6: =+[2]ระบบการควบคุมฯ!A7 -> ก | B6: =+[2]ระบบการควบคุมฯ!B7 -> แผนงานบุคลากรภาครัฐ | C6: =+[2]ระบบการควบคุมฯ!C7 [2]ระบบการควบคุมฯ!C7 -> 20004 1400 0800 | D6: =+D7 -> 10891300 | E6: =+E7 -> 0 | F6: =+F7 -> 0 | G6: =+G7 -> 10662935 | H6: =+H7 -> 228365.32
A7: =+[2]ระบบการควบคุมฯ!A8 -> 1 | B7: =+[2]ระบบการควบคุมฯ!B8 -> ผลผลิตรายการค่าใช้จ่ายบุคลากรภาครัฐ ยกระดับคุณภาพการศึกษาและการเรียนรู้ตลอดชีวิต | C7: =+[2]ระบบการควบคุมฯ!C8 -> 20004 1400 0800 | D7: =+D8 -> 10891300 | E7: =+E8 -> 0 | F7: =+F8 -> 0 | G7: =+G8 -> 10662935 | H7: =+H8 -> 228365.32
A8: =+[2]ระบบการควบคุมฯ!A10 -> 1.1 | B8: =+[2]ระบบการควบคุมฯ!B10 -> กิจกรรมค่าใช้จ่ายบุคลากรภาครัฐของสำนักงานคณะกรรมการการศึกษาขั้นพื้นฐาน | C8: =+[2]ระบบการควบคุมฯ!C10 -> 20004 69 79456 00000 | D8: =+D9+D13+D20 -> 10891300 | E8: =+E9+E13+E20 -> 0 | F8: =+F9+F13+F20 -> 0 | G8: =+G9+G13+G20 -> 10662935 | H8: =+H9+H13+H20 -> 228365.32
B9: =+[2]ระบบการควบคุมฯ!B12 -> งบบุคลากร ค่าจ้างชั่วคราว 6911130 | C9: =+[2]ระบบการควบคุมฯ!C12 -> 20004 14000800 1000000 | D9: =+D10+D11 -> 1988700 | E9: =+E10+E11 -> 0 | F9: =+F10+F11 -> 0 | G9: =+G10+G11 -> 1832731.1 | H9: =+H10+H11 -> 155968.94
A10: =+[2]ระบบการควบคุมฯ!A13 -> 1.2.1 | B10: =+[2]ระบบการควบคุมฯ!_Hlk231936231 -> #NAME? | C10: =+[2]ระบบการควบคุมฯ!C13 -> ศธ 04002/ว9361 ลว. 4 มิ.ย. 69 ครั้งที่ 691 | D10: =+[2]ระบบการควบคุมฯ!F13 -> 1988700 | E10: =+[2]ระบบการควบคุมฯ!G13+[2]ระบบการควบคุมฯ!H13 -> 0 | F10: =+[2]ระบบการควบคุมฯ!I13+[2]ระบบการควบคุมฯ!J13 -> 0 | G10: =+[2]ระบบการควบคุมฯ!K13+[2]ระบบการควบคุมฯ!L13 -> 1832731.1 | H10: =+D10-E10-F10-G10 -> 155968.94 | I10: กลุ่มบริหารงานการเงินและสินทรัพย์
A11: =+[2]ระบบการควบคุมฯ!A14 -> 1.2.2 | B11: =+[2]ระบบการควบคุมฯ!B14 -> ค่าจ้างชั่วคราว จำนวน 26 อัตรา จำนวน 1 เดือน (สิงหาคม 2569) 497,200 บาท | C11: =+[2]ระบบการควบคุมฯ!C14 -> ศธ 04002/ว13660 ลว. 6 ส.ค. 69 ครั้งที่ 830 | E11: =+[2]ระบบการควบคุมฯ!G14+[2]ระบบการควบคุมฯ!H14 -> 0 | F11: =+[2]ระบบการควบคุมฯ!I14+[2]ระบบการควบคุมฯ!J14 -> 0 | G11: =+[2]ระบบการควบคุมฯ!K14+[2]ระบบการควบคุมฯ!L14 -> 0 | H11: =+D11-E11-F11-G11 -> 0 | I11: กลุ่มบริหารงานการเงินและสินทรัพย์
A12: =+[2]ระบบการควบคุมฯ!A15 -> 1.2.3 | B12: =+[2]ระบบการควบคุมฯ!B15 -> ค่าจ้างชั่วคราว จำนวน 26 อัตรา จำนวน 1 เดือน (กันยายน 2569) 497,200 บาท | C12: =+[2]ระบบการควบคุมฯ!C15 -> ศธ 04002/ว16102 ลว. 10 ก.ย. 69 ครั้งที่ 910 | E12: =+[2]ระบบการควบคุมฯ!G15+[2]ระบบการควบคุมฯ!H15 -> 0 | F12: =+[2]ระบบการควบคุมฯ!I15+[2]ระบบการควบคุมฯ!J15 -> 0 | G12: =+[2]ระบบการควบคุมฯ!K15+[2]ระบบการควบคุมฯ!L15 -> 0 | H12: =+D12-E12-F12-G12 -> 0 | I12: กลุ่มบริหารงานการเงินและสินทรัพย์
B13: =+[2]ระบบการควบคุมฯ!B16 -> งบบุคลากร 6911150 | C13: =+[2]ระบบการควบคุมฯ!C16 -> 20004 14000800 1000000 | D13: =SUM(D14:D18) -> 6863000 | E13: =SUM(E14:E18) -> 0 | F13: =SUM(F14:F18) -> 0 | G13: =SUM(G14:G18) -> 6820497.5 | H13: =SUM(H14:H18) -> 42502.48
A14: =+[2]ระบบการควบคุมฯ!A18 -> 1.1.1 | B14: =+[2]ระบบการควบคุมฯ!B18 -> ค่าตอบแทนพนักงานราชการ 22 อัตรา 5 เดือน(ต.ค.68 - ก.พ 69) 2,895,000 บาท | C14: =+[2]ระบบการควบคุมฯ!C18 -> ศธ 04002/ว46528 ลว.14 ต.ค.68 ครั้งที่ 2 | D14: =+[2]ระบบการควบคุมฯ!F18 -> 6863000 | E14: =+[2]ระบบการควบคุมฯ!G18+[2]ระบบการควบคุมฯ!H18 -> 0 | F14: =+[2]ระบบการควบคุมฯ!I18+[2]ระบบการควบคุมฯ!J18 -> 0 | G14: =+[2]ระบบการควบคุมฯ!K18+[2]ระบบการควบคุมฯ!L18 -> 6820497.5 | H14: =+D14-E14-F14-G14 -> 42502.48 | I14: กลุ่มบริหารงานการเงินและสินทรัพย์
A15: =+[2]ระบบการควบคุมฯ!A19 -> 1.1.1.1 | B15: =+[2]ระบบการควบคุมฯ!B19 -> ค่าตอบแทนพนักงานราชการ 22 อัตรา เงินเลื่อนค่าตอบแทนพนักงานราชการประจำปี จำนวน 5 เดือน (ตุลาคม 2568 -กุมภาพันธ์ 2569) 116,000 บาท | C15: =+[2]ระบบการควบคุมฯ!C19 -> ศธ 04002/ว50977 ลว. 22 ธ.ค.68 ครั้งที่ 172
A16: =+[2]ระบบการควบคุมฯ!A20 -> 1.1.1.2 | B16: =+[2]ระบบการควบคุมฯ!B20 -> ค่าตอบแทนพนักงานราชการ 22 อัตรา 5 เดือน (มีค-กค 69) 2,965,000 บาท | C16: =+[2]ระบบการควบคุมฯ!C20 -> ศธ 04002/ว4964 ลว. 23 มีค 69 ครั้งที่ 386
A17: =+[2]ระบบการควบคุมฯ!A21 -> 1.1.1.3 | B17: =+[2]ระบบการควบคุมฯ!B21 -> ค่าตอบแทนพนักงานราชการ 21 อัตรา (ส.ค.69) 317,000 บาท | C17: =+[2]ระบบการควบคุมฯ!C21 -> ศธ 04002/ว13456 ลว. 4 ส.ค.69 ครั้งที่ 808 | D17: =+[2]ระบบการควบคุมฯ!F23 -> 0 | E17: =+[2]ระบบการควบคุมฯ!G23+[2]ระบบการควบคุมฯ!H23 -> 0 | F17: =+[2]ระบบการควบคุมฯ!I23+[2]ระบบการควบคุมฯ!J23 -> 0 | G17: =+[2]ระบบการควบคุมฯ!K23+[2]ระบบการควบคุมฯ!L23 -> 0 | H17: =+D17-E17-F17-G17 -> 0
A18: =+[2]ระบบการควบคุมฯ!A22 -> 1.1.1.4 | B18: =+[2]ระบบการควบคุมฯ!B22 -> ค่าตอบแทนพนักงานราชการ 21 อัตรา (ก.ย.69)570,000 บาท | C18: =+[2]ระบบการควบคุมฯ!C22 -> ศธ 04002/ว16100 ลว. 10 ก.ย. 69 ครั้งที่ 909 | D18: =+[2]ระบบการควบคุมฯ!F24 -> 0 | E18: =+[2]ระบบการควบคุมฯ!G24+[2]ระบบการควบคุมฯ!H24 -> 0 | F18: =+[2]ระบบการควบคุมฯ!I24+[2]ระบบการควบคุมฯ!J24 -> 0 | G18: =+[2]ระบบการควบคุมฯ!K24+[2]ระบบการควบคุมฯ!L24 -> 0 | H18: =+D18-E18-F18-G18 -> 0
A20: =+[2]ระบบการควบคุมฯ!A27 -> 0 | B20: =+[2]ระบบการควบคุมฯ!B27 -> งบดำเนินงาน 6911220 | C20: =+[2]ระบบการควบคุมฯ!C27 -> 20004 1420 0800 2000000 | D20: =SUM(D21:D30) -> 2039600 | E20: =SUM(E21:E30) -> 0 | F20: =SUM(F21:F30) -> 0 | G20: =SUM(G21:G30) -> 2009706.1 | H20: =SUM(H21:H30) -> 29893.9
A21: =+[2]ระบบการควบคุมฯ!A29 -> 1.1.2 | B21: =+[2]ระบบการควบคุมฯ!B29 -> เงินสมทบกองทุนประกันสังคมพนักงานราชการ 22 อัตรา (ต.ค.68 - ก.ย.69)/เงินสมทบกองทุนทดแทน 12 เดือน (มค 68 - ธค 69) 85,000+24,000(109,000 บาท) | C21: =+[2]ระบบการควบคุมฯ!C29 -> ศธ 04002/ว46528 ลว.14 ต.ค.68 ครั้งที่ 2 | D21: =+[2]ระบบการควบคุมฯ!F29 -> 239800 | E21: =+[2]ระบบการควบคุมฯ!G29+[2]ระบบการควบคุมฯ!H29 -> 0 | F21: =+[2]ระบบการควบคุมฯ!I29+[2]ระบบการควบคุมฯ!J29 -> 0 | G21: =+[2]ระบบการควบคุมฯ!K29+[2]ระบบการควบคุมฯ!L29 -> 219341 | H21: =+D21-E21-F21-G21 -> 20459 | I21: กลุ่มบริหารงานการเงินและสินทรัพย์
A22: =+[2]ระบบการควบคุมฯ!A30 -> 1.1.2.1 | B22: =+[2]ระบบการควบคุมฯ!B30 -> เงินสมทบกองทุนประกันสังคม จำนวน 2 เดือน ( ม.ค.-กพ.69) 4,600 | C22: =+[2]ระบบการควบคุมฯ!C30 -> ศธ 04002/ว658 ลว.16 มค 69 ครั้งที่ 227
A23: =+[2]ระบบการควบคุมฯ!A31 -> 1.1.2.2 | B23: =+[2]ระบบการควบคุมฯ!B31 -> เงินสมทบกองทุนประกันสังคม จำนวน 5 เดือน (มี.ค.69 - ก.ค. 2569) 100,000 บาท | C23: =+[2]ระบบการควบคุมฯ!C31 -> ศธ 04002/ว4964 ลว. 23 มีค 69 ครั้งที่ 386
A24: =+[2]ระบบการควบคุมฯ!A32 -> 1.1.2.3 | B24: =+[2]ระบบการควบคุมฯ!B32 -> เงินสมทบกองทุนประกันสังคมพนักงานราชการ จำนวน 2 เดือน ( ส.ค. - กย 69) 7,200 บาท | C24: =+[2]ระบบการควบคุมฯ!C32 -> ศธ 04002/ว13456 ลว. 4 ส.ค. 69 ครั้งที่ 808
A25: =+[2]ระบบการควบคุมฯ!A33 -> 1.1.2.4 | B25: =+[2]ระบบการควบคุมฯ!B33 -> เงินสมทบกองทุนประกันสังคมพนักงานราชการ ( กย 69) 19,000 บาท | C25: =+[2]ระบบการควบคุมฯ!C33 -> ศธ 04002/ว16100 ลว. 10 ก.ย. 69 ครั้งที่ 909
A26: =+[2]ระบบการควบคุมฯ!A34 -> 1.1.3 | B26: =+[2]ระบบการควบคุมฯ!B34 -> เงินสมทบกองทุนประกันสังคม ค่าจ้างชั่วคราว จำนวน 2 เดือน (มิถุนายน - กรกฎาคม 2569 และรายการเงินสมทบกองทุนเงินทดแทน จำนวน 7 เดือน (มิถุนายน - ธันวาคม 2569) 52800 บาท | C26: =+[2]ระบบการควบคุมฯ!C34 -> ศธ 04002/ว9361 ลว. 4 มิ.ย. 69 ครั้งที่ 691 | D26: =+[2]ระบบการควบคุมฯ!F34 -> 98400 | E26: =+[2]ระบบการควบคุมฯ!G34+[2]ระบบการควบคุมฯ!H34 -> 0 | F26: =+[2]ระบบการควบคุมฯ!I34+[2]ระบบการควบคุมฯ!J34 -> 0 | G26: =+[2]ระบบการควบคุมฯ!K34+[2]ระบบการควบคุมฯ!L34 -> 88965.1 | H26: =+D26-E26-F26-G26 -> 9434.9
A27: =+[2]ระบบการควบคุมฯ!A35 -> 1.1.3.1 | B27: =+[2]ระบบการควบคุมฯ!B35 -> เงินสมทบกองทุนประกันสังคม ค่าจ้างชั่วคราว จำนวน 1 เดือน (สิงหาคม 2569) 22800 บาท | C27: =+[2]ระบบการควบคุมฯ!C35 -> ศธ 04002/ว13660 ลว. 6 ส.ค. 69 ครั้งที่ 830
A28: =+[2]ระบบการควบคุมฯ!A36 -> 1.1.3.2 | B28: =+[2]ระบบการควบคุมฯ!B36 -> เงินสมทบกองทุนประกันสังคม ค่าจ้างชั่วคราว จำนวน 1 เดือน (กันยายน 2569) 22800 บาท | C28: =+[2]ระบบการควบคุมฯ!C36 -> ศธ 04002/ว16102 ลว. 10 ก.ย. 69 ครั้งที่ 910
A29: =+[2]ระบบการควบคุมฯ!A39 -> 1.1.4 | B29: =+[2]ระบบการควบคุมฯ!B39 -> ค่าเช่าบ้าน (ตุลาคม 2568 - กพ. 2569) ครั้งที่ 1 741,200 บาท | C29: =+[2]ระบบการควบคุมฯ!C39 -> ศธ 04002/ว48512 ลว 11 พ.ย.2025 โอนครั้งที่ 65 | D29: =+[2]ระบบการควบคุมฯ!F39 -> 1701400 | E29: =+[2]ระบบการควบคุมฯ!G39+[2]ระบบการควบคุมฯ!H39 -> 0 | F29: =+[2]ระบบการควบคุมฯ!I39+[2]ระบบการควบคุมฯ!J39 -> 0 | G29: =+[2]ระบบการควบคุมฯ!K39+[2]ระบบการควบคุมฯ!L39 -> 1701400 | H29: =+D29-E29-F29-G29 -> 0 | I29: กลุ่มบริหารงานการเงินและสินทรัพย์
A30: =+[2]ระบบการควบคุมฯ!A40 -> 1.1.4.1 | B30: =+[2]ระบบการควบคุมฯ!B40 -> ค่าเช่าบ้าน ครั้งที่ 2 ระยะเวลา 5 เดือน (มีนาคม - กรกฎาคม 2569) 744,900 บาท | C30: =+[2]ระบบการควบคุมฯ!C40 -> ศธ 04002/ว5379 ลว. 30 มี.ค. 69 ครั้งที่ 404
A31: =+[2]ระบบการควบคุมฯ!A41 -> 1.1.4.2 | B31: =+[2]ระบบการควบคุมฯ!B41 -> ค่าเช่าบ้านครั้งที่ 3 (ส.ค.-ก.ย. 69) จำนวนเงิน 215,300 บาท | C31: =+[2]ระบบการควบคุมฯ!C41 -> ก.ย. 69 ครั้งที่ 916
A32: =+[2]ระบบการควบคุมฯ!A44 -> ข | B32: =+[2]ระบบการควบคุมฯ!B44 -> แผนงานยุทธศาสตร์พัฒนาคุณภาพการศึกษาและการเรียนรู้ | C32: =+[2]ระบบการควบคุมฯ!C44 -> 20004 3300 | D32: =+D33+D68+D89+D186+D199+D234 -> 25196992 | E32: =+E33+E68+E89+E186+E199+E234 -> 702756.5 | F32: =+F33+F68+F89+F186+F199+F234 -> 0 | G32: =+G33+G68+G89+G186+G199+G234 -> 24494210 | H32: =+H33+H68+H89+H186+H199+H234 -> 25.09 | I32: =+I33+I89 -> 0
A33: =+[5]งบสพฐ!A31 -> 2.1.4 | B33: =+[2]ระบบการควบคุมฯ!B50 -> โครงการพัฒนาหลักสูตรกระบวนการเรียนการสอน การวัดและประเมินผล | C33: =+[2]ระบบการควบคุมฯ!C50 -> 20004 3320 3300 2000000 | D33: =+D34+D37+D42+D47+D51+D55+D62+D65 -> 40000 | E33: =+E34+E37+E42+E47+E51+E55+E62+E65 -> 0 | F33: =+F34+F37+F42+F47+F51+F55+F62+F65 -> 0 | G33: =+G34+G37+G42+G47+G51+G55+G62+G65 -> 40000 | H33: =+H34+H37+H42+H47+H51+H55+H62+H65 -> 0
A34: =+[2]ระบบการควบคุมฯ!A53 -> 1.1 | B34: =+[2]ระบบการควบคุมฯ!B53 -> กิจกรรมการส่งเสริมและพัฒนาระบบการประกันคุณภาพภายในสถานศึกษา | C34: =+[2]ระบบการควบคุมฯ!C53 -> 20004 69 00015 00000 | D34: =+D35 -> 4000 | E34: =+E35 -> 0 | F34: =+F35 -> 0 | G34: =+G35 -> 4000 | H34: =+H35 -> 0
B35: =+[2]ระบบการควบคุมฯ!B54 -> งบดำเนินงาน 69112xx | C35: =+[2]ระบบการควบคุมฯ!C54 -> 20004 3320 3300 2000000 | D35: =SUM(D36) -> 4000 | E35: =SUM(E36) -> 0 | F35: =SUM(F36) -> 0 | G35: =SUM(G36) -> 4000 | H35: =SUM(H36) -> 0 | I35: =SUM(I36) -> 0
A36: =+[2]ระบบการควบคุมฯ!A55 -> 1.1.1 | B36: =+[2]ระบบการควบคุมฯ!B55 -> สนับสนุนการคัดเลือกสถานศึกษาเพื่อรับรางวัล IQA AWARD ประจำปีการศึกษา 2568 | C36: =+[2]ระบบการควบคุมฯ!C55 -> ศธ 04002/ว7915 ลว. 11 พ.ค. 69 โอนครั้งที่ 526 | D36: =+[2]ระบบการควบคุมฯ!F55 -> 4000 | E36: =+[2]ระบบการควบคุมฯ!G55+[2]ระบบการควบคุมฯ!H55 -> 0 | G36: =+[2]ระบบการควบคุมฯ!K55+[2]ระบบการควบคุมฯ!L55 -> 4000 | H36: =+D36-E36-F36-G36 -> 0 | I36: กลุ่มนิเทศติดตามและประเมินผลการจัดการศึกษา
A37: =+[2]ระบบการควบคุมฯ!A59 -> 1.2 | B37: =+[2]ระบบการควบคุมฯ!B59 -> กิจกรรมการยกระดับผลการทดสอบทางการศึกษาระดับชาติที่สอดคล้องกับบริบทพื้นที่ | C37: =+[2]ระบบการควบคุมฯ!C59 -> 20004 69 00040 00000 | D37: =+D38 -> 36000 | E37: =+E38 -> 0 | F37: =+F38 -> 0 | G37: =+G38 -> 36000 | H37: =+H38 -> 0
B38: =+[2]ระบบการควบคุมฯ!B60 -> งบดำเนินงาน 69112xx | C38: =+[2]ระบบการควบคุมฯ!C60 -> 20004 3320 3300 2000000 | D38: =SUM(D39:D41) -> 36000 | E38: =SUM(E39:E41) -> 0 | F38: =SUM(F39:F41) -> 0 | G38: =SUM(G39:G41) -> 36000 | H38: =SUM(H39:H41) -> 0
A39: =+[2]ระบบการควบคุมฯ!A61 -> 1.2.1 | B39: =+[2]ระบบการควบคุมฯ!B61 -> ค่าใช้จ่ายในการดำเนินโครงการการประเมินความสามารถด้านการอ่านของผู้เรียน (RT) ชั้นประถมศึกษาปีที่ 1 ปีการศึกษา 2568 จำนวนเงิน 15,540.00 บาท และค่าใช้จ่ายในการดำเนินโครงการการประเมินคุณภาพผู้เรียน (NT) ชั้นประถมศึกษาปีที่ 3 ปีการศึกษา 2568 สำหรับโรงเรียนตามโครงการพระราชดำริ สมเด็จพระกนิษฐาธิราชเจ้า กรมสมเด็จพระเทพรัตนราชสุดาฯ สยามบรมราชกุมารี โรงเรียนกองทุนการศึกษาและโรงเรียนทั่วไป จำนวน 14,660 บาท | C39: =+[2]ระบบการควบคุมฯ!C61 -> ศธ 04002/ว777 ลว. 19 มค 69 โอนครั้งที่ 230 จำนวนเงิน 30,200 บาท | D39: =+[2]ระบบการควบคุมฯ!F61 -> 30200 | E39: =+[2]ระบบการควบคุมฯ!G61+[2]ระบบการควบคุมฯ!H61 -> 0 | F39: =+[2]ระบบการควบคุมฯ!I61+[2]ระบบการควบคุมฯ!J61 -> 0 | G39: =+[2]ระบบการควบคุมฯ!K61+[2]ระบบการควบคุมฯ!L61 -> 30200 | H39: =+D39-E39-F39-G39 -> 0 | I39: กลุ่มนิเทศติดตามและประเมินผลการจัดการศึกษา
A40: =+[2]ระบบการควบคุมฯ!A62 -> 1.2.2 | B40: =+[2]ระบบการควบคุมฯ!B62 -> ค่าใช้จ่ายในการดำเนินการคัดเลือกนักเรียนและสถานศึกษาเพื่อรับรางวัลพระราชทาน ระดับการศึกษาขั้นพื้นฐาน ประจำปีการศึกษา 2569 (ระดับสำนักงานเขตพื้นที่การศึกษา) | C40: =+[2]ระบบการควบคุมฯ!C62 -> ศธ 04002/ว13341 ลว. 3 ส.ค 69 โอนครั้งที่ 800 | D40: =+[2]ระบบการควบคุมฯ!F62 -> 5000 | E40: =+[2]ระบบการควบคุมฯ!G62+[2]ระบบการควบคุมฯ!H62 -> 0 | F40: =+[2]ระบบการควบคุมฯ!I62+[2]ระบบการควบคุมฯ!J62 -> 0 | G40: =+[2]ระบบการควบคุมฯ!K62+[2]ระบบการควบคุมฯ!L62 -> 5000 | H40: =+D40-E40-F40-G40 -> 0 | I40: กลุ่มส่งเสริมการจัดการศึกษา
A41: =+[2]ระบบการควบคุมฯ!A63 -> 1.2.3 | B41: =+[2]ระบบการควบคุมฯ!B63 -> ค่าใช้จ่ายในการเดินทางเข้าร่วมการประชุมเชิงปฏิบัติการพัฒนาศักยภาพศึกษานิเทศก์ด้านการประเมินการเรียนรู้และการประกันคุณภาพภายในสถานศึกษาโดยการประยุกต์ใช้ปัญญาประดิษฐ์ ระหว่างวันที่ 23 – 26 สิงหาคม 2569 ณ โรงแรมริเวอร์ไซด์ กรุงเทพหานคร | C41: =+[2]ระบบการควบคุมฯ!C63 -> ศธ 04002/ว13562 ลว. 3 ส.ค 69 โอนครั้งที่ 822 | D41: =+[2]ระบบการควบคุมฯ!F63 -> 800 | E41: =+[2]ระบบการควบคุมฯ!G63+[2]ระบบการควบคุมฯ!H63 -> 0 | F41: =+[2]ระบบการควบคุมฯ!I63+[2]ระบบการควบคุมฯ!J63 -> 0 | G41: =+[2]ระบบการควบคุมฯ!K63+[2]ระบบการควบคุมฯ!L63 -> 800 | H41: =+D41-E41-F41-G41 -> 0 | I41: กลุ่มนิเทศติดตามและประเมินผลการจัดการศึกษา
A42: =+[2]ระบบการควบคุมฯ!A68 -> 1.3 | B42: =+[2]ระบบการควบคุมฯ!B68 -> กิจกรรมการขับเคลื่อนการจัดการเรียนรู้วิทยาการคำนวณและการออกแบบเทคโนโลยี | C42: =+[2]ระบบการควบคุมฯ!C68 -> 20004 69 00075 00000 | D42: =+D43 -> 0 | E42: =+E43 -> 0 | F42: =+F43 -> 0 | G42: =+G43 -> 0 | H42: =+H43 -> 0
B43: =+[2]ระบบการควบคุมฯ!B69 -> งบดำเนินงาน 6911200 | C43: =+[2]ระบบการควบคุมฯ!C69 -> 20004 3320 3300 2000000 | D43: =SUM(D44:D46) -> 0 | E43: =SUM(E44:E46) -> 0 | F43: =SUM(F44:F46) -> 0 | G43: =SUM(G44:G46) -> 0 | H43: =SUM(H44:H46) -> 0
A44: =+[2]ระบบการควบคุมฯ!A70 -> 1.3.1 | B44: =+[2]ระบบการควบคุมฯ!B70 -> 0 | C44: =+[2]ระบบการควบคุมฯ!C70 -> 0 | H44: =+D44-E44-F44-G44 -> 0 | I44: กลุ่มนิเทศติดตามและประเมินผลการจัดการศึกษา
A45: =+[2]ระบบการควบคุมฯ!A71 -> 1.3.2 | B45: =+[2]ระบบการควบคุมฯ!B71 -> ค่าใช้จ่ายในการดำเนินโครงการประเมินความสามารถด้านการอ่านของผู้เรียน (RT) ชั้นประถมศึกษาปีที่ 1 ปีการศึกษา 2566 จำนวนเงิน 18,440.-บาท (หนึ่งหมื่นแปดพันสี่ร้อยสี่สิบบาทถ้วน) ให้กลุ่มนิเทศติดตามและประเมินผลการจัดการศึกษา และตามบันทึกกลุ่มนโยบายและแผน(ที่ ศธ 04087/128 ลงวันที่ 17 มกราคม 2567) แจ้งการจัดสรรงบประมาณ เป็นค่าใช้จ่ายดำเนินโครงการประเมินคุณภาพผู้เรียน (NT) ชั้นประถมศึกษาปีที่ 3 ปีการศึกษา 2566 สำหรับโรงเรียนตามโครงการพระราชดำริสมเด็จพระกนิษฐาธิราชเจ้า กรมสมเด็จพระเทพรัตนราชสุดาฯ สยามบรมราชกุมารีและโรงเรียนทั่วไป จำนวนเงิน 18,640.-บาท (หนึ่งหมื่นแปดพันหกร้อยสี่สิบบาทถ้วน) ให้กลุ่มนิเทศ | C45: =+[2]ระบบการควบคุมฯ!C71 -> ศธ 04002/ว2439 ลว. 17 มค 67 โอนครั้งที่ 139 | H45: =+D45-E45-F45-G45 -> 0 | I45: กลุ่มนิเทศติดตามและประเมินผลการจัดการศึกษา
A46: =+[2]ระบบการควบคุมฯ!A72 -> 1.1.3 | B46: =+[2]ระบบการควบคุมฯ!B72 -> ค่าใช้จ่ายในการสนับสนุนการขับเคลื่อนการยกระดับคุณภาพการเสริมสร้างสมรรถนะผู้เรียนตามแนวทางการประเมินนานาชาติ (PISA) | C46: =+[2]ระบบการควบคุมฯ!C72 -> ศธ 04002/ว3556 ลว. 15 สค 67 โอนครั้งที่ 324 | H46: =+D46-E46-F46-G46 -> 0 | I46: กลุ่มนิเทศติดตามและประเมินผลการจัดการศึกษา
A47: =+[2]ระบบการควบคุมฯ!A75 -> 1.4 | B47: =+[2]ระบบการควบคุมฯ!B75 -> กิจกรรมการพัฒนาระบบธนาคารหน่วยกิต และผลคะแนนการเรียนเฉลี่ยสะสม | C47: =+[2]ระบบการควบคุมฯ!C75 -> 20004 69 00088 00000 | D47: =+D48 -> 0 | E47: =+E48 -> 0 | F47: =+F48 -> 0 | G47: =+G48 -> 0 | H47: =+H48 -> 0
B48: =+[2]ระบบการควบคุมฯ!B76 -> งบรายจ่ายอื่น 6911500 | C48: =+[4]งบสพฐ!C48 -> 20004 3720 1000 2000000 | D48: =SUM(D49:D50) -> 0 | E48: =SUM(E49:E50) -> 0 | F48: =SUM(F49:F50) -> 0 | G48: =SUM(G49:G50) -> 0 | H48: =SUM(H49:H50) -> 0
A49: =+[2]ระบบการควบคุมฯ!A77 -> 1.4.1 | B49: =+[2]ระบบการควบคุมฯ!B77 -> ค่าใช้จ่ายในการนิเทศ กำกับ ติดตามการจัดการเรียนรู้วิทยาการคำนวณและการออกแบบเทคโนโลยี (CODING) | C49: =+[2]ระบบการควบคุมฯ!C77 -> ศธ 04002/ว2345 ลว.11 มิย 67 โอนครั้งที่ 118 | H49: =+D49-E49-F49-G49 -> 0 | I49: กลุ่มนิเทศติดตามและประเมินผลการจัดการศึกษา สุวรรณศรี
D50: =+[2]ระบบการควบคุมฯ!F78 -> 0 | E50: =+[2]ระบบการควบคุมฯ!G78+[2]ระบบการควบคุมฯ!H78 -> 0 | F50: =+[2]ระบบการควบคุมฯ!I78+[2]ระบบการควบคุมฯ!J78 -> 0 | G50: =+[2]ระบบการควบคุมฯ!K78+[2]ระบบการควบคุมฯ!L78 -> 0 | H50: =+D50-E50-F50-G50 -> 0
A51: =+[2]ระบบการควบคุมฯ!A79 -> 1.5 | B51: =+[2]ระบบการควบคุมฯ!B79 -> กิจกรรมส่งเสริมและพัฒนาศักยภาพตามพหุปัญญาระดับการศึกษาขั้นพื้นฐาน | C51: =+[2]ระบบการควบคุมฯ!C79 -> 20004 69 00107 00000 | D51: =+D52 -> 0 | E51: =+E52 -> 0 | F51: =+F52 -> 0 | G51: =+G52 -> 0 | H51: =+H52 -> 0
B52: =+[2]ระบบการควบคุมฯ!B80 -> งบรายจ่ายอื่น 6911500 | C52: =+[2]ระบบการควบคุมฯ!C80 -> 20004 31003100 5000007 | D52: =SUM(D53:D54) -> 0 | E52: =SUM(E53:E54) -> 0 | F52: =SUM(F53:F54) -> 0 | G52: =SUM(G53:G54) -> 0 | H52: =SUM(H53:H54) -> 0
A53: =+[2]ระบบการควบคุมฯ!A81 -> 1.4.1 | B53: =+[2]ระบบการควบคุมฯ!B81 -> ค่าใช้จ่ายในการประชุมเชิงปฏิบัติการพัฒนาศักยภาพศึกษานิเทศก์พร้อมรับการประเมิน PISA 2025 ระหว่างวันที่ 1- 4 กันยายน 2566 ณ โรงแรมเอวาน่า เขตบางนา กรุงเทพมหานคร | C53: =+[2]ระบบการควบคุมฯ!C81 -> ศธ 04002/ว2988 ลว. 20 ก.ค. 66 โอนครั้งที่ 688 งบ 10800 บาท | D53: =+[2]ระบบการควบคุมฯ!F81 -> 0 | E53: =+[2]ระบบการควบคุมฯ!G81+[2]ระบบการควบคุมฯ!H81 -> 0 | F53: =+[2]ระบบการควบคุมฯ!I81+[2]ระบบการควบคุมฯ!J81 -> 0 | G53: =+[2]ระบบการควบคุมฯ!K81+[2]ระบบการควบคุมฯ!L81 -> 0 | H53: =+D53-E53-F53-G53 -> 0 | I53: กลุ่มนิเทศติดตามและประเมินผลการจัดการศึกษา เศรษฐพล
A54: =+[2]ระบบการควบคุมฯ!A82 -> 1.4.2 | B54: =+[2]ระบบการควบคุมฯ!B82 -> ค่าใช้จ่ายดำเนินงานโครงการยกระดับสมรรถนะความฉลาดรู้ของผู้เรียนตามกรอบการประเมิน PISA 2025 สู่การเพิ่มขีดความสามารถการแข่งขันในศตวรรษที่ 21 | C54: =+[2]ระบบการควบคุมฯ!C82 -> ศธ 04002/ว3528 ลว. 22 ส.ค. 66 โอนครั้งที่ 797 | D54: =+[2]ระบบการควบคุมฯ!F82 -> 0 | E54: =+[2]ระบบการควบคุมฯ!G82+[2]ระบบการควบคุมฯ!H82 -> 0 | F54: =+[2]ระบบการควบคุมฯ!I82+[2]ระบบการควบคุมฯ!J82 -> 0 | G54: =+[2]ระบบการควบคุมฯ!K82+[2]ระบบการควบคุมฯ!L82 -> 0 | H54: =+D54-E54-F54-G54 -> 0 | I54: กลุ่มนิเทศติดตามและประเมินผลการจัดการศึกษา เศรษฐพล
A55: =+[2]ระบบการควบคุมฯ!A84 -> 1.6 | B55: =+[2]ระบบการควบคุมฯ!B84 -> กิจกรรมการขับเคลื่อนการจัดการเรียนรู้สตีมศึกษา | C55: =+[2]ระบบการควบคุมฯ!C84 -> 20004 68 00155 00000 | D55: =+D56 -> 0 | E55: =+E56 -> 0 | F55: =+F56 -> 0 | G55: =+G56 -> 0 | H55: =+H56 -> 0
B56: =+[2]ระบบการควบคุมฯ!B85 -> งบดำเนินงาน 69112xx | C56: =+[2]ระบบการควบคุมฯ!C85 -> 20004 3320 3300 2000000 | D56: =SUM(D57:D61) -> 0 | E56: =SUM(E57:E61) -> 0 | F56: =SUM(F57:F61) -> 0 | G56: =SUM(G57:G61) -> 0 | H56: =SUM(H57:H61) -> 0
A57: =+[2]ระบบการควบคุมฯ!A86 -> 1.6.1 | B57: =+[2]ระบบการควบคุมฯ!B86 -> ค่าใช้จ่ายในการเดินทางเข้าร่วมประชุมเชิงปฏิบัติการฝึกอบรมและพัฒนาศักยภาพครูผู้สอนในประเทศไทยในการจัดการเรียนรู้สตีมศึกษาที่ส่งเสริมและพัฒนาผู้เรียนตามความถนัดและความสนใจ ระหว่างวันที่ 15 – 18 พฤศจิกายน 2567 ณ โรงแรมรอแยล เบญจา กรุงเทพมหานคร | C57: =+[2]ระบบการควบคุมฯ!C86 -> ศธ 04002/ว5614 ลว.18 พย 67 โอนครั้งที่ 67 | D57: =+[2]ระบบการควบคุมฯ!F86 -> 0 | E57: =+[2]ระบบการควบคุมฯ!G86+[2]ระบบการควบคุมฯ!H86 -> 0 | F57: =+[2]ระบบการควบคุมฯ!I86+[2]ระบบการควบคุมฯ!J86 -> 0 | G57: =+[2]ระบบการควบคุมฯ!K86+[2]ระบบการควบคุมฯ!L86 -> 0 | H57: =+D57-E57-F57-G57 -> 0 | I57: กลุ่มนิเทศติดตามและประเมินผลการจัดการศึกษา
A58: =+[2]ระบบการควบคุมฯ!A87 -> 1.6.2 | B58: =+[2]ระบบการควบคุมฯ!B87 -> ค่าใช้จ่ายในการเดินทางเข้าร่วมประชุมเชิงปฏิบัติการส่งเสริมและพัฒนาผู้เรียนตามพหุปัญญาด้วยกระบวนการเรียนรู้สตีมศึกษาสู่ทักษะการเรียนรู้ในศตวรรษที่ 21 ระหว่างวันที่ 6 – 8 สิงหาคม 2568 ณ โรงแรมรอแยล เบญจา กรุงเทพมหานคร | C58: =+[2]ระบบการควบคุมฯ!C87 -> ศธ 04002/ว41875 ลว.1 ส.ค 68 โอนครั้งที่ 791 | D58: =+[2]ระบบการควบคุมฯ!F87 -> 0 | E58: =+[2]ระบบการควบคุมฯ!G87+[2]ระบบการควบคุมฯ!H87 -> 0 | F58: =+[2]ระบบการควบคุมฯ!I87+[2]ระบบการควบคุมฯ!J87 -> 0 | G58: =+[2]ระบบการควบคุมฯ!K87+[2]ระบบการควบคุมฯ!L87 -> 0 | H58: =+D58-E58-F58-G58 -> 0 | I58: โรงเรียนวัดมูลจินดาราม โรงเรียนวัดลาดสนุ่น และโรงเรียนชุมชนบึงบา
A59: =+[2]ระบบการควบคุมฯ!A89 -> 1.6.3 | H59: =+D59-E59-F59-G59 -> 0 | I59: กลุ่มนิเทศติดตามและประเมินผลการจัดการศึกษา
A60: =+[2]ระบบการควบคุมฯ!A89 -> 1.6.3 | D60: =+[2]ระบบการควบคุมฯ!D89 -> 0 | E60: =+[2]ระบบการควบคุมฯ!G89+[2]ระบบการควบคุมฯ!H89 -> 0 | F60: =+[2]ระบบการควบคุมฯ!I89+[2]ระบบการควบคุมฯ!J89 -> 0 | G60: =+[2]ระบบการควบคุมฯ!K89+[2]ระบบการควบคุมฯ!L89 -> 0 | H60: =+D60-E60-F60-G60 -> 0 | I60: กลุ่มนิเทศติดตามและประเมินผลการจัดการศึกษา
D61: =+[4]งบสพฐ!F56 -> 0 | E61: =+[4]งบสพฐ!G56+[4]งบสพฐ!H56 -> 0 | F61: =+[4]งบสพฐ!I56+[4]งบสพฐ!J56 -> 0 | G61: =+[4]งบสพฐ!K56+[4]งบสพฐ!L56 -> 0 | H61: =+D61-E61-F61-G61 -> 0
A63: =+[4]งบสพฐ!A58 -> 4) | B63: =+[4]งบสพฐ!B58 -> ค่าซ่อมแซมครุภัณฑ์ 200,000 บาท ครั้งที่ 1 127,290 บาท | C63: =+[4]งบสพฐ!C58 -> ศธ04002/ว46832 ลว.17 ต.ค. 68 ครั้งที่ 7 2,000,000 บาท | D63: =+D64 -> 0 | E63: =+E64 -> 0 | F63: =+F64 -> 0 | G63: =+G64 -> 0 | H63: =+H64 -> 0
A65: =+[2]ระบบการควบคุมฯ!A91 -> 1.7 | B65: =+[2]ระบบการควบคุมฯ!B91 -> กิจกรรมการยกระดับสมรรถนะความฉลาดรู้ของผู้เรียนตามกรอบการประเมิน PISA 2025 สู่การเพิ่มขีดความสามารถการแข่งขันของประเทศ | C65: =+[2]ระบบการควบคุมฯ!C91 -> 20004 68 00156 00000 | D65: =+D66 -> 0 | E65: =+E66 -> 0 | F65: =+F66 -> 0 | G65: =+G66 -> 0 | H65: =+H66 -> 0
B66: =+[2]ระบบการควบคุมฯ!B92 -> งบรายจ่ายอื่น 6911500 | C66: =+[2]ระบบการควบคุมฯ!C92 -> 20004 31003170 5000012 | D66: =+D67 -> 0 | E66: =+E67 -> 0 | F66: =+F67 -> 0 | G66: =+G67 -> 0 | H66: =+H67 -> 0
A67: =+[2]ระบบการควบคุมฯ!A93 -> 1.6.1 | B67: =+[2]ระบบการควบคุมฯ!B93 -> 0 | C67: =+[2]ระบบการควบคุมฯ!C93 -> 0 | D67: =+[2]ระบบการควบคุมฯ!F93 -> 0 | E67: =+[2]ระบบการควบคุมฯ!G93+[2]ระบบการควบคุมฯ!H93 -> 0 | F67: =+[2]ระบบการควบคุมฯ!I93+[2]ระบบการควบคุมฯ!J93 -> 0 | G67: =+[2]ระบบการควบคุมฯ!K93+[2]ระบบการควบคุมฯ!L93 -> 0 | H67: =+D67-E67-F67-G67 -> 0 | I67: กลุ่มนิเทศติดตามและประเมินผลการจัดการศึกษา
A68: =+[2]ระบบการควบคุมฯ!A95 -> 2 | B68: =+[2]ระบบการควบคุมฯ!B95 -> โครงการพัฒนาสมรรถนะครูและบุคลากรทางการศึกษาเพื่อความเป็นเลิศ | C68: =+[2]ระบบการควบคุมฯ!C95 -> 20004 3320 4700 | D68: =+D69 -> 521800 | E68: =+E69 -> 140000 | F68: =+F69 -> 0 | G68: =+G69 -> 381774.91 | H68: =+H69 -> 25.09 | I68: =+I70 -> 0
B69: =+[2]ระบบการควบคุมฯ!B96 -> งบดำเนินงาน 69112xx | C69: =+[2]ระบบการควบคุมฯ!C96 -> 20004 3320 4700 2000000 | D69: =+D71+D80+D83+D86 -> 521800 | E69: =+E71+E80+E83+E86 -> 140000 | F69: =+F71+F80+F83+F86 -> 0 | G69: =+G71+G80+G83+G86 -> 381774.91 | H69: =+H71+H80+H83+H86 -> 25.09 | I69: =SUM(I70) -> 0
A70: =+[5]งบสพฐ!A40 -> 2.2.2 | B70: =+[2]ระบบการควบคุมฯ!B97 -> กิจกรรมพัฒนาสมรรถนะครูและบุคลากรทางการศึกษาเพื่อความเป็นเลิศ | C70: =+[2]ระบบการควบคุมฯ!C97 -> 20004 69 00140 00000 | D70: =+D71 -> 517800 | E70: =+E71 -> 140000 | F70: =+F71 -> 0 | G70: =+G71 -> 377774.91 | H70: =+H71 -> 25.09 | I70: =+I71 -> 0
B71: =+[2]ระบบการควบคุมฯ!B98 -> งบดำเนินงาน 69112xx | C71: =+[2]ระบบการควบคุมฯ!C98 -> 20004 3320 4700 2000000 | D71: =SUM(D72:D78) -> 517800 | E71: =SUM(E72:E78) -> 140000 | F71: =SUM(F72:F78) -> 0 | G71: =SUM(G72:G78) -> 377774.91 | H71: =SUM(H72:H78) -> 25.09 | I71: =SUM(I75) -> 0
A72: =+[2]ระบบการควบคุมฯ!A99 -> 2.1.1 | B72: โครงการพัฒนาข้าราชการครูและบุคลากรทางการศึกษา ก่อนแต่งตั้งให้ดำรงตำแหน่งผู้บริหารสถานศึกษา ในสังกัดสำนักงานคณะกรรมการการศึกษาขั้นพื้นฐาน ประจำปีงบประมาณ พ.ศ. 2569 1. ค่าใช้จ่ายในการเดินทางไปราชการเพื่อเข้าร่วมการพัฒนาฯ รุ่นที่ 2 ระยะที่ 1 ระหว่างวันที่ 9 – 12 กุมภาพันธ์ 2569 ณ โรงแรมบางกอก พาเลส กรุงเทพมหานคร จำนวนเงิน 4,000.-บาท นางสาวสุธีรา ศุขเขษม ครูโรงเรียนวัดคลองชัน , นางสาวสิริรัตน์ สังสุทธิ ครูโรงเรียนชุมชนประชาธิปัตย์วิทยาคาร และนางสาวกาญจนา ไชยสะอาด ครู โรงเรียนวัดพิรุณศาสตร์ 2.ค่าใช้จ่ายในการ เดินทางไปราชการสำหรับวิทยากรพี่เลี้ยง โครงการพัฒนาข้าราชการครูและบุคลากรทางการศึกษาก่อนแต่งตั้งให้ดำรงตำแหน่งผู้บริหารสถานศึกษา ในสังกัดสพฐ. ประจำปีงบประมาณ พ.ศ. 2569 ในระยะที่ 2 และระยะที่ 3 ระหว่างวันที่ 16 กุมภาพันธ์ 2569 – 1 มีนาคม 2569 นายธนณัฐ ศิริวงษ์ ผอ.ร.ร.วัดเขียนเขต จำนวนเงิน 5,000 บาท | C72: =+[2]ระบบการควบคุมฯ!C99 -> ศธ 04002/ว49618 ลว. 27 พ.ย. 68 โอนครั้งที่ 114 | D72: =+[2]ระบบการควบคุมฯ!D99 -> 5000 | E72: =+[2]ระบบการควบคุมฯ!G99+[2]ระบบการควบคุมฯ!H99 -> 0 | F72: =+[2]ระบบการควบคุมฯ!I99+[2]ระบบการควบคุมฯ!J99 -> 0 | G72: =+[2]ระบบการควบคุมฯ!K99+[2]ระบบการควบคุมฯ!L99 -> 5000 | H72: =+D72-E72-F72-G72 -> 0 | I72: ร.รและผอ.ธนณํฐ วัดเขียนเขต
A73: =+[2]ระบบการควบคุมฯ!A100 -> 2.1.2 | B73: โครงการพัฒนาข้าราชการครูและบุคลากรทางการศึกษา ก่อนแต่งตั้งให้ดำรงตำแหน่งผู้บริหารสถานศึกษา ในสังกัดสำนักงานคณะกรรมการการศึกษาขั้นพื้นฐาน ประจำปีงบประมาณ พ.ศ. 2569 1. ค่าใช้จ่ายในการเดินทางไปราชการเพื่อเข้าร่วมการพัฒนาฯ รุ่นที่ 2 ระยะที่ 1 ระหว่างวันที่ 9 – 12 กุมภาพันธ์ 2569 ณ โรงแรมบางกอก พาเลส กรุงเทพมหานคร จำนวนเงิน 4,000.-บาท นางสาวสุธีรา ศุขเขษม ครูโรงเรียนวัดคลองชัน , นางสาวสิริรัตน์ สังสุทธิ ครูโรงเรียนชุมชนประชาธิปัตย์วิทยาคาร และนางสาวกาญจนา ไชยสะอาด ครู โรงเรียนวัดพิรุณศาสตร์ 2.ค่าใช้จ่ายในการ เดินทางไปราชการสำหรับวิทยากรพี่เลี้ยง โครงการพัฒนาข้าราชการครูและบุคลากรทางการศึกษาก่อนแต่งตั้งให้ดำรงตำแหน่งผู้บริหารสถานศึกษา ในสังกัดสพฐ. ประจำปีงบประมาณ พ.ศ. 2569 ในระยะที่ 2 และระยะที่ 3 ระหว่างวันที่ 16 กุมภาพันธ์ 2569 – 1 มีนาคม 2569 นายธนณัฐ ศิริวงษ์ ผอ.ร.ร.วัดเขียนเขต จำนวนเงิน 5,000 บาท | C73: =+[2]ระบบการควบคุมฯ!C100 -> ศธ 04002/ว50033 ลว. 4 ธ.ค. 68 โอนครั้งที่ 131 | D73: =+[2]ระบบการควบคุมฯ!D100 -> 3000 | E73: =+[2]ระบบการควบคุมฯ!G100+[2]ระบบการควบคุมฯ!H100 -> 0 | F73: =+[2]ระบบการควบคุมฯ!I100+[2]ระบบการควบคุมฯ!J100 -> 0 | G73: =+[2]ระบบการควบคุมฯ!K100+[2]ระบบการควบคุมฯ!L100 -> 3000 | H73: =+D73-E73-F73-G73 -> 0 | I73: ร.รและผอ.ธนณํฐ วัดเขียนเขต
A74: =+[2]ระบบการควบคุมฯ!A101 -> 2.1.3 | B74: โครงการพัฒนาข้าราชการครูและบุคลากรทางการศึกษา ก่อนแต่งตั้งให้ดำรงตำแหน่งผู้บริหารสถานศึกษา ในสังกัดสำนักงานคณะกรรมการการศึกษาขั้นพื้นฐาน ประจำปีงบประมาณ พ.ศ. 2569 1. ค่าใช้จ่ายในการเดินทางไปราชการเพื่อเข้าร่วมการพัฒนาฯ รุ่นที่ 2 ระยะที่ 1 ระหว่างวันที่ 9 – 12 กุมภาพันธ์ 2569 ณ โรงแรมบางกอก พาเลส กรุงเทพมหานคร จำนวนเงิน 4,000.-บาท นางสาวสุธีรา ศุขเขษม ครูโรงเรียนวัดคลองชัน , นางสาวสิริรัตน์ สังสุทธิ ครูโรงเรียนชุมชนประชาธิปัตย์วิทยาคาร และนางสาวกาญจนา ไชยสะอาด ครู โรงเรียนวัดพิรุณศาสตร์ 2.ค่าใช้จ่ายในการ เดินทางไปราชการสำหรับวิทยากรพี่เลี้ยง โครงการพัฒนาข้าราชการครูและบุคลากรทางการศึกษาก่อนแต่งตั้งให้ดำรงตำแหน่งผู้บริหารสถานศึกษา ในสังกัดสพฐ. ประจำปีงบประมาณ พ.ศ. 2569 ในระยะที่ 2 และระยะที่ 3 ระหว่างวันที่ 16 กุมภาพันธ์ 2569 – 1 มีนาคม 2569 นายธนณัฐ ศิริวงษ์ ผอ.ร.ร.วัดเขียนเขต จำนวนเงิน 5,000 บาท | C74: =+[2]ระบบการควบคุมฯ!C101 -> ที่ ศธ 04002/ว3378 ลว.26 ก.พ. 69 ครั้งที่ 337 | D74: =+[2]ระบบการควบคุมฯ!D101 -> 9000 | E74: =+[2]ระบบการควบคุมฯ!G101+[2]ระบบการควบคุมฯ!H101 -> 0 | F74: =+[2]ระบบการควบคุมฯ!I101+[2]ระบบการควบคุมฯ!J101 -> 0 | G74: =+[2]ระบบการควบคุมฯ!K101+[2]ระบบการควบคุมฯ!L101 -> 9000 | H74: =+D74-E74-F74-G74 -> 0 | I74: ร.รและผอ.ธนณํฐ วัดเขียนเขต
A75: =+[2]ระบบการควบคุมฯ!A102 -> 2.1.4 | B75: =+[2]ระบบการควบคุมฯ!B102 -> 1. ค่าใช้จ่ายในการเดินทางสำหรับผู้เข้าร่วมโครงการพัฒนาข้าราชการครูและบุคลากรทางการศึกษาก่อนแต่งตั้งให้ดำรงตำแหน่งผู้บริหารสถานศึกษา ในสังกัดสพฐ. ประจำปีงบประมาณ พ.ศ. 2569 รุ่นที่ 3 ระหว่างวันที่ 9 – 13 พฤษภาคม 2569 ณ โรงแรมบางกอก พาเลส กรุงเทพมหานคร จำนวนเงิน 1,000.-บาท (หนึ่งพันบาทถ้วน) 2. ค่าใช้จ่ายในการเดินทางไปราชการสำหรับวิทยากรพี่เลี้ยง โครงการพัฒนาข้าราชการครูและ บุคลากรทางการศึกษาก่อนแต่งตั้งให้ดำรงตำแหน่งผู้บริหารสถานศึกษา ในสังกัดสพฐ. ประจำปีงบประมาณ พ.ศ. 2569 รุ่นที่ 3 ในระยะที่ 2 และระยะที่ 3 ระหว่างวันที่ 18 – 31 พฤษภาคม 2569 ณ โรงแรมบางกอก พาเลส กรุงเทพมหานคร จำนวนเงิน 8,000.-บาท | C75: =+[2]ระบบการควบคุมฯ!C102 -> ศธ 04002/ว8698 ลว.25 พ.ค. 68 ครั้งที่ 577 | D75: =+[2]ระบบการควบคุมฯ!F102 -> 9000 | E75: =+[2]ระบบการควบคุมฯ!G102+[2]ระบบการควบคุมฯ!H102 -> 0 | G75: =+[2]ระบบการควบคุมฯ!K102+[2]ระบบการควบคุมฯ!L102 -> 9000 | H75: =+D75-E75-F75-G75 -> 0 | I75: ร.ร.วัดเขียนเขต นายธนณัฐ ศีละวงษ์
A76: =+[2]ระบบการควบคุมฯ!A103 -> 2.1.1.1 | B76: =+[2]ระบบการควบคุมฯ!B103 -> ค่าใช้จ่ายในการเดินทางเข้าร่วมโครงการพัฒนาผู้อำนวยการกลุ่มพัฒนาครูและบุคลากรทางการศึกษาของสำนักงานเขตพื้นที่การศึกษา ประจำปีงบประมาณ พ.ศ. 2569 ระหว่างวันที่ 24 - 27 พฤษภาคม 2569 ณ โรงแรมรอยัล ซิตี้กรุงเทพมหานคร | C76: =+[2]ระบบการควบคุมฯ!C103 -> ศธ 04002/ว9340 ลว.4 มิ.ย. 69 ครั้งที่ 608 | D76: =+[2]ระบบการควบคุมฯ!F103 -> 1000 | E76: =+[2]ระบบการควบคุมฯ!G103+[2]ระบบการควบคุมฯ!H103 -> 0 | G76: =+[2]ระบบการควบคุมฯ!K103+[2]ระบบการควบคุมฯ!L103 -> 1000 | H76: =+D76-E76-F76-G76 -> 0 | I76: กลุ่มพัฒนาครูและบุคลากรทางการศึกษา
A77: =+[2]ระบบการควบคุมฯ!A104 -> 2.1.1.2 | B77: =+[2]ระบบการควบคุมฯ!B104 -> ค่าใช้จ่ายในการเดินทางเข้าร่วมการอบรมเชิงปฏิบัติการเลขคณิตคิดเร็วด้วยเวทคณิต ระหว่างวันที่ 19 - 21 กรกฎาคม 2569 ณ โรงแรมเดอะ เล็คกาซี่ จังหวัดนนทบุรี | C77: =+[2]ระบบการควบคุมฯ!C104 -> ศธ 04002/ว13217 ลว. 31ก.ค. 69 ครั้งที่ 791 | D77: =+[2]ระบบการควบคุมฯ!F104 -> 800 | E77: =+[2]ระบบการควบคุมฯ!G104+[2]ระบบการควบคุมฯ!H104 -> 0 | G77: =+[2]ระบบการควบคุมฯ!K104+[2]ระบบการควบคุมฯ!L104 -> 800 | H77: =+D77-E77-F77-G77 -> 0
A78: =+[2]ระบบการควบคุมฯ!A105 -> 2.1.1.2 | B78: =+[2]ระบบการควบคุมฯ!B105 -> ค่าใช้จ่ายในการบริหารจัดการสถานการณ์และช่วยเหลือสถานศึกษาที่ได้รับผลกระทบจากเหตุอุทกภัย | C78: =+[2]ระบบการควบคุมฯ!C105 -> ศธ 04002/ว17490 ลว. 29 กย 69 ครั้งที่ 956 | D78: =+[2]ระบบการควบคุมฯ!F105 -> 490000 | E78: =+[2]ระบบการควบคุมฯ!G105+[2]ระบบการควบคุมฯ!H105 -> 140000 | G78: =+[2]ระบบการควบคุมฯ!K105+[2]ระบบการควบคุมฯ!L105 -> 349974.91 | H78: =+D78-E78-F78-G78 -> 25.09
A79: =+[2]ระบบการควบคุมฯ!A106 -> 2.2 | B79: =+[2]ระบบการควบคุมฯ!B106 -> กิจกรรมส่งเสริมโอลิมปิกวิชาการสู่ความเป็นเลิศ | C79: =+[2]ระบบการควบคุมฯ!C106 -> 20004 69 00141 00000 | D79: =+D80 -> 4000 | E79: =+E80 -> 0 | F79: =+F80 -> 0 | G79: =+G80 -> 4000 | H79: =+H80 -> 0
A80: 2.2.1 | B80: =+[2]ระบบการควบคุมฯ!B107 -> งบดำเนินงาน 69112xx | C80: =+[2]ระบบการควบคุมฯ!C107 -> 20004 3320 4700 2000000 | D80: =+D81 -> 4000 | E80: =+E81 -> 0 | F80: =+F81 -> 0 | G80: =+G81 -> 4000 | H80: =+D80-E80-F80-G80 -> 0
A81: 2.2.1 | B81: =+[2]ระบบการควบคุมฯ!B108 -> เป็นค่าใช้จ่ายในการเดินทางของคณะทำงานและผู้เข้าร่วมการอบรมเชิงปฏิบัติการขั้นเฉพาะทางสำหรับผู้นำเครือข่ายท้องถิ่น (Local Network ; LN) และวิทยากรเครือข่ายท้องถิ่น (Local Trainer ; LT) ระดับปฐมวัย จำนวน 2 คน จำนวน 2,000.-บาท ระดับประถมศึกษา 2 คน จำนวน 2,000 บาท | C81: =+[2]ระบบการควบคุมฯ!C108 -> ที่ ศธ 04002/ว6767 ลว. 24 เม.ย. 69 ครั้งที่ 457 | D81: =+[2]ระบบการควบคุมฯ!F108 -> 4000 | E81: =+[2]ระบบการควบคุมฯ!G108+[2]ระบบการควบคุมฯ!H108 -> 0 | F81: =+[2]ระบบการควบคุมฯ!I108+[2]ระบบการควบคุมฯ!J108 -> 0 | G81: =+[2]ระบบการควบคุมฯ!K108+[2]ระบบการควบคุมฯ!L108 -> 4000 | H81: =+D81-E81-F81-G81 -> 0 | I81: กลุ่มนิเทศติดตามและประเมินผลการจัดการศึกษา
A82: =+[2]ระบบการควบคุมฯ!A110 -> 2.3 | B82: =+[2]ระบบการควบคุมฯ!B110 -> กิจกรรมยกระดับสมรรถนะทางด้านภาษาอังกฤษ | C82: =+[2]ระบบการควบคุมฯ!C110 -> 20004 68 00142 00000 | D82: =+D83 -> 0 | E82: =+E83 -> 0 | F82: =+F83 -> 0 | G82: =+G83 -> 0 | H82: =+H83 -> 0
B83: =+[2]ระบบการควบคุมฯ!B111 -> งบดำเนินงาน 69112xx | C83: =+[2]ระบบการควบคุมฯ!C111 -> 20004 3320 4700 2000000 | D83: =+D84 -> 0 | E83: =+E84 -> 0 | F83: =+F84 -> 0 | G83: =+G84 -> 0 | H83: =+D83-E83-F83-G83 -> 0
A84: =+[2]ระบบการควบคุมฯ!A112 -> 2.3.1 | B84: =+[2]ระบบการควบคุมฯ!B112 -> ค่าใช้จ่ายในการเดินทางเข้าร่วมโครงการพัฒนาผู้อำนวยการกลุ่มพัฒนาครูและบุคลากรทางการศึกษา ระหว่างวันที่ 4 - 6 มิถุนายน 2568 ณ โรงแรมริเวอร์ไซด์ กรุงเทพมหานคร | C84: =+[2]ระบบการควบคุมฯ!C112 -> ศธ 04002/ว2600 ลว.12 มิ.ย. 68 ครั้งที่ 582 | D84: =+[2]ระบบการควบคุมฯ!F112 -> 0 | E84: =+[2]ระบบการควบคุมฯ!G112+[2]ระบบการควบคุมฯ!H112 -> 0 | G84: =+[2]ระบบการควบคุมฯ!K112+[2]ระบบการควบคุมฯ!L112 -> 0 | H84: =+D84-E84-F84-G84 -> 0 | I84: กลุ่มพัฒนาครูและบุคลากรทางการศึกษา
A85: =+[2]ระบบการควบคุมฯ!A114 -> 2.4 | B85: =+[2]ระบบการควบคุมฯ!B114 -> กิจกรรมพัฒนาครูเพื่อการจัดการเรียนรู้สู่ฐานสมรรถนะ | C85: =+[2]ระบบการควบคุมฯ!C114 -> 20004 69 00140 00000 | D85: =+D86 -> 0 | E85: =+E86 -> 0 | F85: =+F86 -> 0 | G85: =+G86 -> 0 | H85: =+H86 -> 0
A86: =+[2]ระบบการควบคุมฯ!A115 -> 0 | B86: =+[2]ระบบการควบคุมฯ!B115 -> งบดำเนินงาน 69112xx | C86: =+[2]ระบบการควบคุมฯ!C115 -> 20004 3320 4700 2000000 | D86: =SUM(D87) -> 0 | E86: =SUM(E87) -> 0 | F86: =SUM(F87) -> 0 | G86: =SUM(G87) -> 0 | H86: =SUM(H87) -> 0
E87: =+[2]ระบบการควบคุมฯ!G102+[2]ระบบการควบคุมฯ!H102 -> 0
A89: =+[2]ระบบการควบคุมฯ!A118 -> 3 | B89: =+[2]ระบบการควบคุมฯ!B118 -> โครงการขับเคลื่อนการพัฒนาการศึกษาที่ยั่งยืน | C89: =+[2]ระบบการควบคุมฯ!C118 -> 20004 3320 6300 2000000 | D89: =+D90+D91 -> 21677700 | E89: =+E95+E100+E104+E112+E115+E121+E128+E134+E144+E160+E183 -> 0 | F89: =+F95+F100+F104+F112+F115+F121+F128+F134+F144+F160+F183 -> 0 | G89: =+G90+G91 -> 21677700 | H89: =+H90+H91 -> 0
B90: =+[2]ระบบการควบคุมฯ!B119 -> งบดำเนินงาน 69112xx | D90: =+D93+D101+D105+D116+D122 -> 242138.72 | E90: =+E93+E101+E105+E116+E122 -> 0 | F90: =+F93+F101+F105+F116+F122 -> 0 | G90: =+G93+G101+G105+G116+G122 -> 242138.72 | H90: =+H93+H101+H105+H116+H122 -> 0
B91: =+[2]ระบบการควบคุมฯ!B122 -> งบรายจ่ายอื่น 6911500 | D91: =+D96+D113+D129+D135+D145+D161 -> 21435561 | E91: =+E96+E113+E129+E135+E145+E161 -> 0 | F91: =+F96+F113+F129+F135+F145+F161 -> 0 | G91: =+G96+G113+G129+G135+G145+G161 -> 21435561 | H91: =+H96+H113+H129+H135+H145+H161 -> 0
A92: =+[2]ระบบการควบคุมฯ!A124 -> 3.1 | B92: =+[2]ระบบการควบคุมฯ!B124 -> กิจกรรมสร้างจิตสึกในการพัฒนาคุณภาพชีวิตที่เป็นมิตรต่อสิ่งแวดล้อม | C92: =+[2]ระบบการควบคุมฯ!C124 -> 20004 69 00037 00000 | D92: =+D93 -> 1000 | E92: =+E93 -> 0 | F92: =+F93 -> 0 | G92: =+G93 -> 1000 | H92: =+H93 -> 0 | I92: =+I93 -> 0
A93: =+[2]ระบบการควบคุมฯ!A125 -> 0 | B93: =+[2]ระบบการควบคุมฯ!B125 -> งบดำเนินงาน 69112xx | C93: =+[2]ระบบการควบคุมฯ!C125 -> 20004 3320 6300 2000000 | D93: =SUM(D94:D96) -> 1000 | E93: =SUM(E94:E96) -> 0 | F93: =SUM(F94:F96) -> 0 | G93: =SUM(G94:G96) -> 1000 | H93: =SUM(H94:H96) -> 0 | I93: =SUM(I94) -> 0
A94: =+[2]ระบบการควบคุมฯ!A126 -> 3.1.1 | B94: =+[2]ระบบการควบคุมฯ!B126 -> ค่าใช้จ่ายในการเดินทางเข้าร่วมการอบรมเชิงปฏิบัติการขับเคลื่อนสิ่งแวดล้อมศึกษาและโครงการอนุรักษ์พันธุกรรมพืชอันเนื่องมาจากพระราชดำริ สมเด็จพระเทพรัตนราชสุดาฯ สยามบรมราชกุมารี ระหว่างวันที่ 9 – 11 สิงหาคม 2569 ณ โรงแรมเอวาน่า กรุงเทพมหานคร | C94: =+[2]ระบบการควบคุมฯ!C126 -> ศธ 04002/ว13902 ลว. 10 ส.ค 69 โอนครั้งที่ 845 | D94: =+[2]ระบบการควบคุมฯ!F126 -> 1000 | E94: =+[2]ระบบการควบคุมฯ!G126+[2]ระบบการควบคุมฯ!H126 -> 0 | F94: =+[2]ระบบการควบคุมฯ!I126+[2]ระบบการควบคุมฯ!J126 -> 0 | G94: =+[2]ระบบการควบคุมฯ!K126+[2]ระบบการควบคุมฯ!L126 -> 1000 | H94: =+D94-E94-F94-G94 -> 0 | I94: กลุ่มส่งเสริมการจัดการศึกษา/วัดโปรยฝน
A95: =+[2]ระบบการควบคุมฯ!A127 -> 3.2 | B95: =+[2]ระบบการควบคุมฯ!B127 -> กิจกรรมสานความร่วมมือภาคีเครือข่ายด้านการจัดการศึกษา | C95: =+[2]ระบบการควบคุมฯ!C127 -> 20004 69 00078 00000 | D95: =+D96 -> 0 | E95: =+E96 -> 0 | F95: =+F96 -> 0 | G95: =+G96 -> 0 | H95: =+H96 -> 0 | I95: =+I96 -> 0
A96: =+[2]ระบบการควบคุมฯ!A128 -> 1 | B96: =+[2]ระบบการควบคุมฯ!B128 -> งบรายจ่ายอื่น 6911500 | D96: =SUM(D97:D99) -> 0 | E96: =SUM(E97:E99) -> 0 | F96: =SUM(F97:F99) -> 0 | G96: =SUM(G97:G99) -> 0 | H96: =SUM(H97:H99) -> 0 | I96: =SUM(I97) -> 0
A97: =+[2]ระบบการควบคุมฯ!A130 -> 3.1.1.1 | B97: =+[2]ระบบการควบคุมฯ!B130 -> ค่าใช้จ่ายในการเดินทางเข้าร่วมการอบรมเชิงปฏิบัติการส่งเสริมและพัฒนาการจัดการเรียนรู้เพื่อสิ่งแวดล้อมที่ยั่งยืน ตามหลักเศรษฐกิจหมุนเวียน รุ่นที่ 1 ระหว่างวันที่ 24 – 28 เมษายน 2566 ณ โรงแรมเดอะ ลอฟท์ รีสอร์ท กรุงเทพมหานคร | C97: =+[2]ระบบการควบคุมฯ!C130 -> ศธ 04002/ว1915 ลว. 11 พค 66 โอนครั้งที่ 515 | D97: =+[2]ระบบการควบคุมฯ!F130 -> 0 | E97: =+[2]ระบบการควบคุมฯ!G130+[2]ระบบการควบคุมฯ!H130 -> 0 | F97: =+[2]ระบบการควบคุมฯ!I130+[2]ระบบการควบคุมฯ!J130 -> 0 | G97: =+[2]ระบบการควบคุมฯ!K130+[2]ระบบการควบคุมฯ!L130 -> 0 | H97: =+D97-E97-F97-G97 -> 0 | I97: กลุ่มส่งเสริมการจัดการศึกษา/วัดโปรยฝน
A98: =+[2]ระบบการควบคุมฯ!A131 -> 3.1.1 | B98: =+[2]ระบบการควบคุมฯ!B131 -> ค่าใช้จ่ายในการเดินทางเข้าร่วมพิธีมอบเกียรติบัตรให้กับครูผู้เป็นบุคคลที่มีความกล้าหาญ ปกป้องนักเรียนให้พ้นจากอันตราย 29 พย 66 ณ อาคารราชวัลลภ ห้องประชุมจันทรเกษม ชั้น 1 | C98: =+[2]ระบบการควบคุมฯ!C131 -> ศธ 04002/ว5680 ลว. 27 ธค 66 โอนครั้งที่ 110 | H98: =+D98-E98-F98-G98 -> 0
A99: =+[2]ระบบการควบคุมฯ!A132 -> 3.1.2 | B99: =+[2]ระบบการควบคุมฯ!B132 -> ค่าใช้จ่ายในการจัดอบรมหลักสูตรผู้นำด้านเทคโนโลยี เพื่อการศึกษา (ICT Talent) ภาครัฐ รุ่นที่ 5 ระหว่างวันที่ 30 – 31 สิงหาคม 2567 ณ สถานีโทรทัศน์การศึกษาขั้นพื้นฐาน OBEC Channel อาคาร สพฐ. 1 | C99: =+[2]ระบบการควบคุมฯ!C132 -> ศธ 04002/ว3488 ลว. 9 สค 67 โอนครั้งที่ 297 | H99: =+D99-E99-F99-G99 -> 0 | I99: กลุ่มนิเทศติดตามและประเมินผลการจัดการศึกษา กำหนดแล้วเสร็จ 6 กย 67
A100: =+[2]ระบบการควบคุมฯ!A133 -> 3.3 | B100: =+[2]ระบบการควบคุมฯ!B133 -> กิจกรรมขับเคลื่อนนโยบายการแก้ปัญหาเด็กที่อยู่นอกระบบการศึกษาและเด็กออกกลางคันให้เข้าสู่ระบบการศึกษา | C100: =+[2]ระบบการควบคุมฯ!C133 -> 20004 69 00085 00000 | D100: =+D101 -> 6600 | E100: =+E101 -> 0 | F100: =+F101 -> 0 | G100: =+G101 -> 6600 | H100: =+H101 -> 0 | I100: =+I101 -> 0
A101: =+[2]ระบบการควบคุมฯ!A134 -> 3.3.1 | B101: =+[2]ระบบการควบคุมฯ!B134 -> งบดำเนินงาน 6911xx | C101: =+[2]ระบบการควบคุมฯ!C134 -> 20004 3320 6300 2000000 | D101: =SUM(D102:D103) -> 6600 | E101: =SUM(E102:E103) -> 0 | F101: =SUM(F102:F103) -> 0 | G101: =SUM(G102:G103) -> 6600 | H101: =SUM(H102:H103) -> 0 | I101: =SUM(I102) -> 0
A102: =+[2]ระบบการควบคุมฯ!A135 -> 3.3.1.1 | B102: =+[2]ระบบการควบคุมฯ!B135 -> ค่าใช้จ่ายในการดำเนินงานโครงการขับเคลื่อนนโยบายการแก้ปัญหาเด็กที่อยู่นอกระบบการศึกษา เด็กตกหล่นและเด็กออกกลางคันให้เข้าสู่ระบบการศึกษา | C102: =+[2]ระบบการควบคุมฯ!C135 -> ศธ 04002/ว7448 ลว. 5 พ.ค. 69 โอนครั้งที่ 495 | D102: =+[2]ระบบการควบคุมฯ!D135 -> 6600 | E102: =+[2]ระบบการควบคุมฯ!G135+[2]ระบบการควบคุมฯ!H135 -> 0 | G102: =+[2]ระบบการควบคุมฯ!K135+[2]ระบบการควบคุมฯ!L135 -> 6600 | H102: =+D102-E102-F102-G102 -> 0 | I102: กลุ่มส่งเสริมการจัดการศึกษา
A103: =+[2]ระบบการควบคุมฯ!A136 -> 3.3.1.2 | B103: =+[2]ระบบการควบคุมฯ!B136 -> เพื่อสนับสนุนการดำเนินงานของสำนักงานเขตพื้นที่การศึกษาที่จัดส่งผลงานนวัตกรรมการลดอัตราการออกกลางคันของผู้เรียน | C103: =+[2]ระบบการควบคุมฯ!C136 -> ศธ 04002/ว41937 ลว. 4 ส.ค. 68 โอนครั้งที่ 814 | D103: =+[2]ระบบการควบคุมฯ!D136 -> 0 | E103: =+[2]ระบบการควบคุมฯ!G136+[2]ระบบการควบคุมฯ!H136 -> 0 | G103: =+[2]ระบบการควบคุมฯ!K136+[2]ระบบการควบคุมฯ!L136 -> 0 | H103: =+D103-E103-F103-G103 -> 0 | I103: กลุ่มส่งเสริมการจัดการศึกษา
A104: =+[2]ระบบการควบคุมฯ!A141 -> 3.4 | B104: =+[2]ระบบการควบคุมฯ!B141 -> กิจกรรมการยกระดับคุณภาพด้านวิทยาศาสตร์ศึกษาเพื่อความเป็นเลิศ | C104: =+[2]ระบบการควบคุมฯ!C141 -> 20004 69 00093 00000 | D104: =+D105 -> 182338.72 | E104: =+E105 -> 0 | F104: =+F105 -> 0 | G104: =+G105 -> 182338.72 | H104: =+H105 -> 0 | I104: =+I105 -> 0
...

Sheet งบลงทุน
J1: รายละเอียด 2
A2: รายงานผลการเบิกจ่ายเงินงบประมาณ งบลงทุน ประจำปีงบประมาณ พ.ศ. 2569 รายละเอียด 2
A3: กลุ่มบริหารงานการเงินและสินทรัพย์ สำนักงานเขตพื้นที่การศึกษาประถมศึกษาปทุมธานี เขต 2
A4: =+[2]งบประจำและงบกลยุทธ์!A4 -> ประจำเดือนกันยายน 2569
A5: ที่ | B5: รายการ | C5: รหัสงบประมาณ/หนังสือแจ้งโอน | D5: เงินงวด | E5: ผูกพัน | F5: กันเงินไว้เบิก | G5: เบิกจ่าย | H5: คงเหลือ | I5: การอนุมัติเงินงวด | J5: คงเหลือ | K5: ปัญหาอุปสรรค
A7: =[2]ระบบการควบคุมฯ!A44 -> ข | B7: =[2]ระบบการควบคุมฯ!B44 -> แผนงานยุทธศาสตร์พัฒนาคุณภาพการศึกษาและการเรียนรู้ | D7: =SUM(D8+D9) -> 902200 | E7: =SUM(E8+E9) -> 409000 | F7: =SUM(F8+F9) -> 0 | G7: =SUM(G8+G9) -> 493200 | H7: =SUM(H8+H9) -> 0 | I7: =SUM(I8+I9) -> 0 | J7: =SUM(J8+J9) -> 0
B8: =+[2]ระบบการควบคุมฯ!B48 -> ครุภัณฑ์ 6911310 | D8: =+D12+D26+D33 -> 818200 | E8: =+E12+E26+E33 -> 409000 | F8: =+F12+F26+F33 -> 0 | G8: =+G12+G26+G33 -> 409200 | H8: =+H12+H26+H33 -> 0 | I8: =+I12+I26+I33 -> 0 | J8: =+J12+J26+J33 -> 0
B9: =+[2]ระบบการควบคุมฯ!B49 -> สิ่งก่อสร้าง 6911320 | D9: =+D47+D53 -> 84000 | E9: =+E47+E53 -> 0 | F9: =+F47+F53 -> 0 | G9: =+G47+G53 -> 84000 | H9: =+H47+H53 -> 0 | I9: =+I47+I53 -> 0 | J9: =+J47+J53 -> 0 | K9: =+K53+K85 -> 0
A10: =[2]ระบบการควบคุมฯ!A118 -> 3 | B10: =[2]ระบบการควบคุมฯ!B118 -> โครงการขับเคลื่อนการพัฒนาการศึกษาที่ยั่งยืน | D10: =D11 -> 643000 | E10: =E11 -> 409000 | F10: =F11 -> 0 | G10: =G11 -> 234000 | H10: =H11 -> 0 | I10: =I11 -> 0 | J10: =J11 -> 0
A11: =+[2]ระบบการควบคุมฯ!A141 -> 3.4 | B11: =+[2]ระบบการควบคุมฯ!B141 -> กิจกรรมการยกระดับคุณภาพด้านวิทยาศาสตร์ศึกษาเพื่อความเป็นเลิศ | C11: =+[2]ระบบการควบคุมฯ!C141 -> 20004 69 00093 00000 | D11: =D12+D47 -> 643000 | E11: =E12+E47 -> 409000 | F11: =F12+F47 -> 0 | G11: =G12+G47 -> 234000 | H11: =H12+H47 -> 0 | I11: =I12+I47 -> 0 | J11: =J12+J47 -> 0
B12: =+[2]ระบบการควบคุมฯ!B150 -> งบลงทุน 6911310 | D12: =+D13+D20 -> 643000 | E12: =+E13+E20 -> 409000 | F12: =+F13+F20 -> 0 | G12: =+G13+G20 -> 234000 | H12: =+H13+H20 -> 0 | I12: =+I13+I20 -> 0 | J12: =+J13+J20 -> 0
B13: =[2]ระบบการควบคุมฯ!B151 -> ครุภัณฑ์สำนักงาน 120601 | D13: =+D14+D17 -> 444000 | E13: =+E14+E17 -> 409000 | F13: =+F14+F17 -> 0 | G13: =+G14+G17 -> 35000 | H13: =+H14+H17 -> 0 | I13: =+I14+I17 -> 0 | J13: =+J14+J17 -> 0
A14: =[2]ระบบการควบคุมฯ!A152 -> 3.4.1.1 | B14: =[2]ระบบการควบคุมฯ!B152 -> เครื่องปรับอากาศ 24,000 บีทียู ระบบ Inverter | C14: =[2]ระบบการควบคุมฯ!C152 -> โอนเปลี่ยนแปลง 2/2569 | D14: =+D15 -> 409000 | E14: =+E15 -> 409000 | F14: =+F15 -> 0 | G14: =+G15 -> 0 | H14: =+H15 -> 0 | I14: =+I15 -> 0 | J14: =+J15 -> 0
A15: =[2]ระบบการควบคุมฯ!A153 -> 1) | B15: =[2]ระบบการควบคุมฯ!B153 -> สพป.ปทุมธานี เขต 2 | C15: =[2]ระบบการควบคุมฯ!C153 -> 2000433006300311ส024 | D15: =[2]ระบบการควบคุมฯ!D153 -> 409000 | E15: =[2]ระบบการควบคุมฯ!G153+[2]ระบบการควบคุมฯ!H153 -> 409000 | F15: =[2]ระบบการควบคุมฯ!I153+[2]ระบบการควบคุมฯ!J153 -> 0 | G15: =[2]ระบบการควบคุมฯ!K153+[2]ระบบการควบคุมฯ!L153 -> 0 | J15: =+D15-E15-F15-G15 -> 0
B16: =+[2]ระบบการควบคุมฯ!B154 -> ผูกพัน ครบ 28 ตค 69
A17: =+[2]ระบบการควบคุมฯ!A155 -> 3.4.1.1 | B17: =[2]ระบบการควบคุมฯ!B155 -> ตู้สาขาโทรศัพท์ | C17: =[2]ระบบการควบคุมฯ!C155 -> โอนเปลี่ยนแปลง 2/2569 | D17: =+D18 -> 35000 | E17: =+E18 -> 0 | F17: =+F18 -> 0 | G17: =+G18 -> 35000 | H17: =+H18 -> 0 | I17: =+I18 -> 0 | J17: =+J18 -> 0
A18: =[2]ระบบการควบคุมฯ!A156 -> 1) | B18: =[2]ระบบการควบคุมฯ!B156 -> สพป.ปทุมธานี เขต 2 | C18: =[2]ระบบการควบคุมฯ!C156 -> 2000433006300311ส066 | D18: =[2]ระบบการควบคุมฯ!D156 -> 35000 | E18: =+[2]ระบบการควบคุมฯ!G156+[2]ระบบการควบคุมฯ!H156 -> 0 | F18: =[2]ระบบการควบคุมฯ!I156+[2]ระบบการควบคุมฯ!J156 -> 0 | G18: =[2]ระบบการควบคุมฯ!K156+[2]ระบบการควบคุมฯ!L156 -> 35000 | J18: =+D18-E18-F18-G18 -> 0
B20: =+[2]ระบบการควบคุมฯ!B157 -> ครุภัณฑ์การศึกษา 120611 | D20: =+D21 -> 199000 | E20: =+E21 -> 0 | F20: =+F21 -> 0 | G20: =+G21 -> 199000 | H20: =+H21 -> 0 | I20: =+I21 -> 0 | J20: =+J21 -> 0
A21: =+[2]ระบบการควบคุมฯ!A158 -> 3.4.2.1 | B21: =+[2]ระบบการควบคุมฯ!B158 -> ครุภัณฑ์ห้องปฏิบัติการวิทยาศาสตร์ | C21: =+[2]ระบบการควบคุมฯ!C158 -> ศธ 04002/ว47614 ลว. 31 ตค 68 โอนครั้งที่ 23 | D21: =SUM(D22:D23) -> 199000 | E21: =SUM(E22:E23) -> 0 | F21: =SUM(F22:F23) -> 0 | G21: =SUM(G22:G23) -> 199000
A22: =+[2]ระบบการควบคุมฯ!A159 -> 1) | B22: =+[2]ระบบการควบคุมฯ!B159 -> โรงเรียนวัดมูลจินดาราม | C22: =+[2]ระบบการควบคุมฯ!C159 -> 20004 33006300 3110187 | D22: =+[2]ระบบการควบคุมฯ!F159 -> 100000 | E22: =+[2]ระบบการควบคุมฯ!G159+[2]ระบบการควบคุมฯ!H159 -> 0 | F22: =+[2]ระบบการควบคุมฯ!I159+[2]ระบบการควบคุมฯ!J159 -> 0 | G22: =+[2]ระบบการควบคุมฯ!K159+[2]ระบบการควบคุมฯ!L159 -> 100000 | J22: =+D22-E22-F22-G22 -> 0
A23: =+[2]ระบบการควบคุมฯ!A160 -> 2) | B23: =+[2]ระบบการควบคุมฯ!B160 -> โรงเรียนชุมชนบึงบา | C23: =+[2]ระบบการควบคุมฯ!C160 -> 20004 33006300 3110188 | D23: =+[2]ระบบการควบคุมฯ!F160 -> 99000 | E23: =+[2]ระบบการควบคุมฯ!G160+[2]ระบบการควบคุมฯ!H160 -> 0 | F23: =+[2]ระบบการควบคุมฯ!I160+[2]ระบบการควบคุมฯ!J160 -> 0 | G23: =+[2]ระบบการควบคุมฯ!K160+[2]ระบบการควบคุมฯ!L160 -> 99000 | J23: =+D23-E23-F23-G23 -> 0
A24: =+[2]ระบบการควบคุมฯ!A320 -> 5 | B24: =+[2]ระบบการควบคุมฯ!B320 -> โครงการโรงเรียนคุณภาพ | C24: =+[2]ระบบการควบคุมฯ!C320 -> 20004 3300 B800 | D24: =+D25+D32+D52+D75 -> 259200 | E24: =+E25+E32+E52+E75 -> 0 | F24: =+F25+F32+F52+F75 -> 0 | G24: =+G25+G32+G52+G75 -> 259200 | H24: =+H25+H32+H52+H75 -> 0 | I24: =+I25+I32+I52+I75 -> 0 | J24: =+J25+J32+J52+J75 -> 0
A25: =+[2]ระบบการควบคุมฯ!A339 -> 5.2 | B25: =+[2]ระบบการควบคุมฯ!B339 -> กิจกรรมการยกระดับคุณภาพการศึกษาเพื่อขับเคลื่อนโรงเรียนคุณภาพ | C25: =+[2]ระบบการควบคุมฯ!C339 -> 20004 69 00133 00000 | D25: =+D26 -> 29000 | E25: =+E26 -> 0 | F25: =+F26 -> 0 | G25: =+G26 -> 29000 | H25: =+H26 -> 0 | I25: =+I26 -> 0 | J25: =+J26 -> 0
B26: =+[2]ระบบการควบคุมฯ!B340 -> ค่าครุภัณฑ์ 6911310 | D26: =+D27 -> 29000 | E26: =+E27 -> 0 | F26: =+F27 -> 0 | G26: =+G27 -> 29000 | H26: =+H27 -> 0 | I26: =+I27 -> 0 | J26: =+J27 -> 0
B27: =+[2]ระบบการควบคุมฯ!B341 -> ครุภัณฑ์ สำนักงาน 120611 | D27: =+D28+D30 -> 29000 | E27: =+E28+E30 -> 0 | F27: =+F28+F30 -> 0 | G27: =+G28+G30 -> 29000 | H27: =+H28+H30 -> 0 | I27: =+I28+I30 -> 0 | J27: =+J28+J30 -> 0
A28: =+[2]ระบบการควบคุมฯ!A342 -> 5.1.1 | B28: =+[2]ระบบการควบคุมฯ!B342 -> โต๊ะเก้าอี้นักเรียน สำหรับนักเรียนประถมศึกษา | C28: =+[2]ระบบการควบคุมฯ!C342 -> ที่ ศธ 04087/ว49453/25 พย 68 ครั้งที่ 104 | D28: =SUM(D29) -> 15000 | E28: =SUM(E29) -> 0 | F28: =SUM(F29) -> 0 | G28: =SUM(G29) -> 15000 | H28: =SUM(H29) -> 0 | I28: =SUM(I29) -> 0 | J28: =SUM(J29) -> 0
A29: =+[2]ระบบการควบคุมฯ!A343 -> 1) | B29: =+[2]ระบบการควบคุมฯ!B343 -> โรงเรียนวัดแสงสรรค์ | C29: =+[2]ระบบการควบคุมฯ!C343 -> 200043300B8003110429 | D29: =+[2]ระบบการควบคุมฯ!F343 -> 15000 | E29: =+[2]ระบบการควบคุมฯ!G343+[2]ระบบการควบคุมฯ!H343 -> 0 | G29: =+[2]ระบบการควบคุมฯ!K343+[2]ระบบการควบคุมฯ!L343 -> 15000 | J29: =+D29-E29-F29-G29 -> 0
A30: =+[2]ระบบการควบคุมฯ!A344 -> 5.1.2 | B30: =+[2]ระบบการควบคุมฯ!B344 -> โต๊ะเก้าอี้นักเรียน สำหรับนักเรียนก่อนประถมศึกษา | C30: =+[2]ระบบการควบคุมฯ!C344 -> ที่ ศธ 04087/ว49453/25 พย 68 ครั้งที่ 104 | D30: =+D31 -> 14000 | E30: =+E31 -> 0 | F30: =+F31 -> 0 | G30: =+G31 -> 14000 | H30: =+H31 -> 0 | I30: =+I31 -> 0 | J30: =+J31 -> 0
A31: =+[2]ระบบการควบคุมฯ!A345 -> 1) | B31: =+[2]ระบบการควบคุมฯ!B345 -> โรงเรียนวัดจตุพิธวราวาส | C31: =+[2]ระบบการควบคุมฯ!C345 -> 200043300B8003110430 | D31: =+[2]ระบบการควบคุมฯ!F345 -> 14000 | E31: =+[2]ระบบการควบคุมฯ!G345+[2]ระบบการควบคุมฯ!H345 -> 0 | G31: =+[2]ระบบการควบคุมฯ!K345+[2]ระบบการควบคุมฯ!L345 -> 14000 | J31: =+D31-E31-F31-G31 -> 0
A32: =+[2]ระบบการควบคุมฯ!A357 -> 5.3 | B32: =+[2]ระบบการควบคุมฯ!B357 -> กิจกรรมการยกระดับคุณภาพการศึกษาสำหรับโรงเรียนคุณภาพตามนโยบาย 1 อำเภอ 1 โรงเรียนคุณภาพ | C32: =+[2]ระบบการควบคุมฯ!C357 -> 20004 69 00134 00000 | D32: =+D33 -> 146200 | E32: =+E33 -> 0 | F32: =+F33 -> 0 | G32: =+G33 -> 146200 | H32: =+H33 -> 0 | I32: =+I33 -> 0 | J32: =+J33 -> 0
A33: =+[2]ระบบการควบคุมฯ!A358 -> 5.3.1 | B33: =+[2]ระบบการควบคุมฯ!B358 -> ค่าครุภัณฑ์ 6911310 | C33: =+[2]ระบบการควบคุมฯ!C358 -> 20004 3300B800 | D33: =+D34+D41 -> 146200 | E33: =+E34+E41 -> 0 | F33: =+F34+F41 -> 0 | G33: =+G34+G41 -> 146200 | H33: =+H34+H41 -> 0 | I33: =+I34+I41 -> 0 | J33: =+J34+J41 -> 0
B34: =+[2]ระบบการควบคุมฯ!B359 -> ครุภัณฑ์สำนักงาน 120601 | C34: =+[2]ระบบการควบคุมฯ!C359 -> 120601 | D34: =+D35+D37+D39 -> 91800 | E34: =+E35+E37+E39 -> 0 | F34: =+F35+F37+F39 -> 0 | G34: =+G35+G37+G39 -> 91800 | H34: =+H35+H37+H39 -> 0 | I34: =+I35+I37+I39 -> 0 | J34: =+J35+J37+J39 -> 0
A35: =+[2]ระบบการควบคุมฯ!A360 -> 5.3.1.1 | B35: =+[2]ระบบการควบคุมฯ!B360 -> ถังน้ำ แบบสเตนเลส ขนาดความจุ 2,000 ลิตร โรงเรียนวัดลาดสนุ่น | C35: =+[2]ระบบการควบคุมฯ!C360 -> ที่ ศธ 04087/ว49453/25 พย 68 ครั้งที่ 104 | D35: =SUM(D36) -> 16800 | E35: =SUM(E36) -> 0 | F35: =SUM(F36) -> 0 | G35: =SUM(G36) -> 16800 | H35: =SUM(H36) -> 0 | I35: =SUM(I36) -> 0 | J35: =SUM(J36) -> 0
A36: =+[2]ระบบการควบคุมฯ!A361 -> 1) | B36: =+[2]ระบบการควบคุมฯ!B361 -> โรงเรียนวัดลาดสนุ่น | C36: =+[2]ระบบการควบคุมฯ!C361 -> 200043300B8003111326 | D36: =+[2]ระบบการควบคุมฯ!F361 -> 16800 | E36: =+[2]ระบบการควบคุมฯ!G361+[2]ระบบการควบคุมฯ!H361 -> 0 | G36: =+[2]ระบบการควบคุมฯ!K361+[2]ระบบการควบคุมฯ!L361 -> 16800 | J36: =+D36-E36-F36-G36 -> 0
A37: =+[2]ระบบการควบคุมฯ!A362 -> 5.3.1.2 | B37: =+[2]ระบบการควบคุมฯ!B362 -> เครื่องทำลายเอกสาร แบบตัดละเอียด ทำลายครั้งละ 30 แผ่น | C37: =+[2]ระบบการควบคุมฯ!C362 -> ที่ ศธ 04087/ว49453/25 พย 68 ครั้งที่ 104 | D37: =SUM(D38) -> 67000 | E37: =SUM(E38) -> 0 | F37: =SUM(F38) -> 0 | G37: =SUM(G38) -> 67000 | H37: =SUM(H38) -> 0 | I37: =SUM(I38) -> 0 | J37: =SUM(J38) -> 0
A38: =+[2]ระบบการควบคุมฯ!A364 -> 1) | B38: =+[2]ระบบการควบคุมฯ!B364 -> โรงเรียนวัดลาดสนุ่น | C38: =+[2]ระบบการควบคุมฯ!C364 -> 200043300B8003111329 | D38: =+[2]ระบบการควบคุมฯ!F364 -> 67000 | E38: =+[2]ระบบการควบคุมฯ!G364+[2]ระบบการควบคุมฯ!H364 -> 0 | G38: =+[2]ระบบการควบคุมฯ!K364+[2]ระบบการควบคุมฯ!L364 -> 67000 | J38: =+D38-E38-F38-G38 -> 0
A39: =+[2]ระบบการควบคุมฯ!A365 -> 5.3.1.2 | B39: =+[2]ระบบการควบคุมฯ!B365 -> พัดลม แบบโคจรติดผนัง ขนาดไม่น้อยกว่า 16 นิ้ว (400 มิลลิเมตร) | C39: =+[2]ระบบการควบคุมฯ!C365 -> ที่ ศธ 04087/ว49453/25 พย 68 ครั้งที่ 104 | D39: =SUM(D40) -> 8000 | E39: =SUM(E40) -> 0 | F39: =SUM(F40) -> 0 | G39: =SUM(G40) -> 8000 | H39: =SUM(H40) -> 0 | I39: =SUM(I40) -> 0 | J39: =SUM(J40) -> 0
A40: =+[2]ระบบการควบคุมฯ!A367 -> 1) | B40: =+[2]ระบบการควบคุมฯ!B367 -> โรงเรียนวัดมูลจินดาราม | C40: =+[2]ระบบการควบคุมฯ!C367 -> 200043300B8003111330 | D40: =+[2]ระบบการควบคุมฯ!F367 -> 8000 | E40: =+[2]ระบบการควบคุมฯ!G367+[2]ระบบการควบคุมฯ!H367 -> 0 | G40: =+[2]ระบบการควบคุมฯ!K367+[2]ระบบการควบคุมฯ!L367 -> 8000 | J40: =+D40-E40-F40-G40 -> 0
A41: =+[2]ระบบการควบคุมฯ!A368 -> 0 | B41: =+[2]ระบบการควบคุมฯ!B368 -> ครุภัณฑ์งานบ้านงานครัว 120612 | C41: =+[2]ระบบการควบคุมฯ!C368 -> 120612 | D41: =+D42+D44 -> 54400 | E41: =+E42+E44 -> 0 | F41: =+F42+F44 -> 0 | G41: =+G42+G44 -> 54400 | H41: =+H42+H44 -> 0 | I41: =+I42+I44 -> 0 | J41: =+J42+J44 -> 0
A42: =+[2]ระบบการควบคุมฯ!A369 -> 5.3.1.3 | B42: =+[2]ระบบการควบคุมฯ!B369 -> เครื่องตัดแต่งพุ่มไม้ ขนาด 29.5 นิ้ว | C42: =+[2]ระบบการควบคุมฯ!C369 -> ที่ ศธ 04087/ว49453/25 พย 68 ครั้งที่ 104 | D42: =+D43 -> 17400 | E42: =+E43 -> 0 | F42: =+F43 -> 0 | G42: =+G43 -> 17400 | H42: =+H43 -> 0 | I42: =+I43 -> 0 | J42: =+J43 -> 0
A43: =+[2]ระบบการควบคุมฯ!A370 -> 1) | B43: =+[2]ระบบการควบคุมฯ!B370 -> โรงเรียนชุมชนบึงบา | C43: =+[2]ระบบการควบคุมฯ!C370 -> 200043300B8003111327 | D43: =+[2]ระบบการควบคุมฯ!F370 -> 17400 | E43: =+[2]ระบบการควบคุมฯ!G370+[2]ระบบการควบคุมฯ!H370 -> 0 | G43: =+[2]ระบบการควบคุมฯ!K370+[2]ระบบการควบคุมฯ!L370 -> 17400 | J43: =+D43-E43-F43-G43 -> 0
A44: =+[2]ระบบการควบคุมฯ!A371 -> 5.3.1.4 | B44: =+[2]ระบบการควบคุมฯ!B371 -> ตู้แช่อาหาร ขนาด 20 คิวบิกฟุต | C44: =+[2]ระบบการควบคุมฯ!C371 -> ที่ ศธ 04087/ว49453/25 พย 68 ครั้งที่ 104 | D44: =+D45 -> 37000 | E44: =+E45 -> 0 | F44: =+F45 -> 0 | G44: =+G45 -> 37000 | H44: =+H45 -> 0 | I44: =+I45 -> 0 | J44: =+J45 -> 0
A45: =+[2]ระบบการควบคุมฯ!A372 -> 1) | B45: =+[2]ระบบการควบคุมฯ!B372 -> โรงเรียนวัดมูลจินดาราม | C45: =+[2]ระบบการควบคุมฯ!C372 -> 200043300B8003111328 | D45: =+[2]ระบบการควบคุมฯ!F372 -> 37000 | E45: =+[2]ระบบการควบคุมฯ!G372+[2]ระบบการควบคุมฯ!H372 -> 0 | G45: =+[2]ระบบการควบคุมฯ!K372+[2]ระบบการควบคุมฯ!L372 -> 37000 | J45: =+D45-E45-F45-G45 -> 0
B47: งบลงทุน 6911320 | D47: =+D49 -> 0 | E47: =+E49 -> 0 | F47: =+F49 -> 0 | G47: =+G49 -> 0 | H47: =+H49 -> 0 | I47: =+I49 -> 0 | J47: =+J49 -> 0
A48: =+[2]ระบบการควบคุมฯ!A163 -> 3.3.2 | B48: =+[2]ระบบการควบคุมฯ!B163 -> ปรับปรุงซ่อมแซมห้องปฏิบัติการวิทยาศาสตร์ | C48: =+[2]ระบบการควบคุมฯ!C163 -> ศธ 04002/ว47614 ลว. 31 ตค 68 โอนครั้งที่ 23
A49: =+[2]ระบบการควบคุมฯ!A164 -> 1) | B49: =+[2]ระบบการควบคุมฯ!B164 -> โรงเรียนวัดเขียนเขต | C49: =+[2]ระบบการควบคุมฯ!C164 -> 20004 33006300 3110064 | D49: =+[2]ระบบการควบคุมฯ!F163 -> 0 | E49: =+[2]ระบบการควบคุมฯ!G163+[2]ระบบการควบคุมฯ!H163 -> 0 | F49: =+[2]ระบบการควบคุมฯ!I163+[2]ระบบการควบคุมฯ!J163 -> 0 | G49: =+[2]ระบบการควบคุมฯ!K163+[2]ระบบการควบคุมฯ!L163 -> 0 | J49: =+D49-E49-F49-G49 -> 0
A52: =+[2]ระบบการควบคุมฯ!A414 -> 5.4 | B52: =+[2]ระบบการควบคุมฯ!B414 -> กิจกรรมการก่อสร้าง ปรับปรุง ซ่อมแซมอาคารเรียนและสิ่งก่อสร้างประกอบเพื่อขับเคลื่อนโรงเรียนคุณภาพ | C52: =+[2]ระบบการควบคุมฯ!C414 -> 20004 69 00135 00000 | D52: =+D53 -> 84000 | E52: =+E53 -> 0 | F52: =+F53 -> 0 | G52: =+G53 -> 84000 | H52: =+H53 -> 0 | I52: =+I53 -> 0 | J52: =+J53 -> 0
B53: =+[2]ระบบการควบคุมฯ!B416 -> งบลงทุน ค่าที่ดินและสิ่งก่อสร้าง 6911320 | D53: =+D54+D59+D66 -> 84000 | E53: =+E54+E59+E66 -> 0 | F53: =+F54+F59+F66 -> 0 | G53: =+G54+G59+G66 -> 84000 | H53: =+H54+H59+H66 -> 0 | I53: =+I54+I59+I66 -> 0 | J53: =+J54+J59+J66 -> 0
A54: =+[2]ระบบการควบคุมฯ!A417 -> 5.4.1 | B54: =+[2]ระบบการควบคุมฯ!B417 -> ก่อสร้างปรับปรุงซ่อมแซมอาคารเรียนอาคารประกอบและสิ่งก่อสร้างอื่น | C54: =+[2]ระบบการควบคุมฯ!C417 -> ศธ04002/ว50349 ลว.12 ธ.ค 68 โอนครั้งที่ 153 | D54: =+D55 -> 84000 | E54: =+E55 -> 0 | F54: =+F55 -> 0 | G54: =+G55 -> 84000 | H54: =+H55 -> 0 | I54: =+I55 -> 0 | J54: =+J55 -> 0
A55: =+[2]ระบบการควบคุมฯ!A418 -> 1) | B55: =+[2]ระบบการควบคุมฯ!B418 -> โรงเรียนวัดจตุพิธวราวาส | C55: =+[2]ระบบการควบคุมฯ!C418 -> 200043300B8003210261 | D55: =+[2]ระบบการควบคุมฯ!D418 -> 84000 | E55: =+[2]ระบบการควบคุมฯ!G418+[2]ระบบการควบคุมฯ!H418 -> 0 | F55: =+[2]ระบบการควบคุมฯ!I418+[2]ระบบการควบคุมฯ!J418 -> 0 | G55: =+[2]ระบบการควบคุมฯ!K418+[2]ระบบการควบคุมฯ!L418 -> 84000 | J55: =D55-E55-F55-G55 -> 0
B56: =+[2]โครงการโรงเรียนคุณภาพ!E275 -> ผูกพัน ครบ 12 ก.พ.69
A57: =+[2]ระบบการควบคุมฯ!A420 -> 0 | B57: =+[2]ระบบการควบคุมฯ!B420 -> 0 | C57: =+[2]ระบบการควบคุมฯ!C420 -> 0 | J57: =D57-E57-F57-G57 -> 0
B58: =+[2]โครงการโรงเรียนคุณภาพ!E306 -> ผูกพันครบ 20 มีค 68 | C58: =+[2]ระบบการควบคุมฯ!C421 -> 0
A59: =+[2]ระบบการควบคุมฯ!A424 -> 5.4.2 | B59: =+[2]ระบบการควบคุมฯ!B424 -> รายการก่อสร้างปรับปรุงซ่อมแซมอาคารเรียนอาคารประกอบและสิ่งก่อสร้างอื่นที่ชำรุดทรุดโทรมและที่ประสบอุบัติภัย | C59: =+[2]ระบบการควบคุมฯ!C424 -> ศธ04002/ว2239 ลว.27 พค 68 โอนครั้งที่ 519 | D59: =+D60+D62 -> 0 | E59: =+E60+E62 -> 0 | F59: =+F60+F62 -> 0 | G59: =+G60+G62 -> 0 | J59: =D59-E59-F59-G59 -> 0
A60: =+[2]ระบบการควบคุมฯ!A425 -> 1) | B60: =+[2]ระบบการควบคุมฯ!B425 -> โรงเรียนวัดประยูรธรรมาราม | C60: =+[2]ระบบการควบคุมฯ!C425 -> 20004 3300 B800 321ZZZZ | D60: =+[2]ระบบการควบคุมฯ!F425 -> 0 | E60: =+[2]ระบบการควบคุมฯ!G425+[2]ระบบการควบคุมฯ!H425 -> 0 | G60: =+[2]ระบบการควบคุมฯ!K425+[2]ระบบการควบคุมฯ!L425 -> 0 | J60: =D60-E60-F60-G60 -> 0
B61: =+[2]ระบบการควบคุมฯ!B426 -> ผูกพัน 10 มิ.ย. 68 ครบ 9 ส.ค. 68 | J61: =D61-E61-F61-G61 -> 0
A62: =+[2]ระบบการควบคุมฯ!A427 -> 2) | B62: =+[2]ระบบการควบคุมฯ!B427 -> โรงเรียนชุมชนวัดพิชิตปิตยาราม | C62: =+[2]ระบบการควบคุมฯ!C427 -> 20004 3300 B800 321ZZZZ | D62: =+[2]ระบบการควบคุมฯ!F427 -> 0 | E62: =+[2]ระบบการควบคุมฯ!G427+[2]ระบบการควบคุมฯ!H427 -> 0 | G62: =+[2]ระบบการควบคุมฯ!K427+[2]ระบบการควบคุมฯ!L427 -> 0 | J62: =D62-E62-F62-G62 -> 0
B63: =+[2]ระบบการควบคุมฯ!B428 -> ผูกพัน 26 มิ.ย. 68 ครบ 4 ส.ค. 68 | J63: =D63-E63-F63-G63 -> 0
J64: =D64-E64-F64-G64 -> 0
J65: =D65-E65-F65-G65 -> 0
A66: =+[2]ระบบการควบคุมฯ!A436 -> 5.4.3 | B66: =+[2]ระบบการควบคุมฯ!B436 -> ห้องน้ำห้องส้วมนักเรียนหญิง 4 ที่/49 | C66: =+[2]ระบบการควบคุมฯ!C436 -> ศธ04002/ว50349 ลว.12 ธ.ค 68 โอนครั้งที่ 153 | D66: =SUM(D67:D70) -> 0 | E66: =SUM(E67:E70) -> 0 | F66: =SUM(F67:F70) -> 0 | G66: =SUM(G67:G70) -> 0 | H66: =SUM(H67:H70) -> 0 | I66: =SUM(I67:I70) -> 0 | J66: =SUM(J67:J70) -> 0
A67: =+[2]ระบบการควบคุมฯ!A438 -> 1) | B67: =+[2]ระบบการควบคุมฯ!B438 -> โรงเรียนวัดแสงสรรค์ | C67: =+[2]ระบบการควบคุมฯ!C438 -> 200043300B8003211259 | D67: =+[2]ระบบการควบคุมฯ!D438 -> 0 | E67: =+[2]ระบบการควบคุมฯ!G438+[2]ระบบการควบคุมฯ!H438 -> 0 | F67: =+[2]ระบบการควบคุมฯ!I438+[2]ระบบการควบคุมฯ!J438 -> 0 | G67: =+[2]ระบบการควบคุมฯ!K438+[2]ระบบการควบคุมฯ!L438 -> 0 | J67: =+D67-E67-F67-G67 -> 0
B68: =+[2]ระบบการควบคุมฯ!B439 -> ครบ 20 มีค 68
A69: =+[2]ระบบการควบคุมฯ!A440 -> 2) | B69: =+[2]ระบบการควบคุมฯ!B440 -> โรงเรียนวัดแสงสรรค์ | C69: =+[2]ระบบการควบคุมฯ!C440 -> 200043300B8003211260 | D69: =+[2]ระบบการควบคุมฯ!D440 -> 0 | E69: =+[2]ระบบการควบคุมฯ!G440+[2]ระบบการควบคุมฯ!H440 -> 0 | F69: =+[2]ระบบการควบคุมฯ!I440+[2]ระบบการควบคุมฯ!J440 -> 0 | G69: =+[2]ระบบการควบคุมฯ!K440+[2]ระบบการควบคุมฯ!L440 -> 0 | J69: =+D69-E69-F69-G69 -> 0
B70: =+[2]ระบบการควบคุมฯ!B441 -> ครบ 18 มิย 68
A75: 1.3 | B75: =+[2]ระบบการควบคุมฯ!B449 -> กิจกรรมการยกระดับคุณภาพการศึกษา (โรงเรียนคุณภาพของชุมชนโรงเรียนมัธยมดีสี่มุมเมือง) | C75: =+[2]ระบบการควบคุมฯ!C449 -> 20004 69 00079 00000 | D75: =+D76+D80 -> 0 | E75: =+E76+E80 -> 0 | F75: =+F76+F80 -> 0 | G75: =+G76+G80 -> 0 | H75: =+H76+H80 -> 0 | I75: =+I76+I80 -> 0 | J75: =+J76+J80 -> 0
D76: =+D77+D82 -> 0 | E76: =+E77+E82 -> 0 | F76: =+F77+F82 -> 0 | G76: =+G77+G82 -> 0 | H76: =+H77+H82 -> 0 | I76: =+I77+I82 -> 0 | J76: =+J77+J82 -> 0
A77: 1.3.1 | B77: =+[2]ระบบการควบคุมฯ!B457 -> เงินชดเชยค่างานก่อสร้างตามสัญญาแบบปรับราคาได้ (ค่า K) | C77: =+[2]ระบบการควบคุมฯ!C457 -> ศธ04002/ว4285 ลว.13 กย 67 โอนครั้งที่ 401 | D77: =+D78 -> 0 | E77: =+E78 -> 0 | F77: =+F78 -> 0 | G77: =+G78 -> 0 | H77: =+H78 -> 0 | I77: =+I78 -> 0 | J77: =+J78 -> 0
A78: =+[2]ระบบการควบคุมฯ!A458 -> 1) | B78: =+[2]ระบบการควบคุมฯ!B458 -> โรงเรียนธัญญสิทธิศิลป์ | C78: =+[2]ระบบการควบคุมฯ!C458 -> 20004 3100B600 321YYY | D78: =+[2]ระบบการควบคุมฯ!D458 -> 0 | E78: =+[2]ระบบการควบคุมฯ!E458 -> 0 | F78: =+[2]ระบบการควบคุมฯ!F458 -> 0 | G78: =+[2]ระบบการควบคุมฯ!G458 -> 0 | H78: =+[2]ระบบการควบคุมฯ!H458 -> 0 | ... J78: =+[2]ระบบการควบคุมฯ!J458 -> 0
B79: =+[2]ยุธศาสตร์เรียนดีปร3100116003211!E398 -> ทำสัญญญา 9 มค 66 ครบ 25 มีค 66
B80: =+[2]ระบบการควบคุมฯ!B450 -> งบลงทุน ค่าครุภัณฑ์ 6911310 | C80: =+C76 -> 0 | D80: =+D82 -> 0 | E80: =+E82 -> 0 | F80: =+F82 -> 0 | G80: =+G82 -> 0 | H80: =+H82 -> 0 | I80: =+I82 -> 0 | J80: =+J82 -> 0
B81: =+[2]ระบบการควบคุมฯ!B451 -> ครุภัณฑ์การศึกษา 120611 | D81: =+D82 -> 0 | E81: =+E82 -> 0 | F81: =+F82 -> 0 | G81: =+G82 -> 0 | H81: =+H82 -> 0 | I81: =+I82 -> 0 | J81: =+J82 -> 0
A82: 1.4.1 | B82: =+[2]ระบบการควบคุมฯ!B452 -> โต๊ะเก้าอี้นักเรียนระดับประถมศึกษา ชุดละ 1,500 บาท | C82: =+[2]ระบบการควบคุมฯ!C452 -> ศธ04002/ว1802 ลว.8 พค 67 โอนครั้งที่ 7 | D82: =+D83 -> 0 | E82: =+E83 -> 0 | F82: =+F83 -> 0 | G82: =+G83 -> 0 | H82: =+H83 -> 0 | I82: =+I83 -> 0 | J82: =+J83 -> 0
A83: =+[2]ระบบการควบคุมฯ!A483 -> 1) | B83: =+[2]ระบบการควบคุมฯ!B453 -> โรงเรียนชุมชนบึงบา | C83: =+[2]ระบบการควบคุมฯ!C453 -> 200043100B6003113826 | J83: =D83-E83-F83-G83 -> 0
B84: =+[2]ระบบการควบคุมฯ!B454 -> ผูกพันครบ 19 มิย 67 | C84: =+[2]ระบบการควบคุมฯ!C454 -> 4100392644
B85: =+[2]ระบบการควบคุมฯ!B456 -> งบลงทุน ค่าที่ดินสิ่งก่อสร้าง 6711320 | D85: =+D86 -> 0 | E85: =+E86 -> 0 | F85: =+F86 -> 0 | G85: =+G86 -> 0 | H85: =+H86 -> 0 | I85: =+I86 -> 0 | J85: =+J86 -> 0
A86: =+[2]ระบบการควบคุมฯ!A457 -> 5.3.2 | B86: =+[2]ระบบการควบคุมฯ!B457 -> เงินชดเชยค่างานก่อสร้างตามสัญญาแบบปรับราคาได้ (ค่า K) | C86: =+[2]ระบบการควบคุมฯ!C457 -> ศธ04002/ว4285 ลว.13 กย 67 โอนครั้งที่ 401 | D86: =SUM(D87:D89) -> 0 | E86: =SUM(E87:E89) -> 0 | F86: =SUM(F87:F89) -> 0 | G86: =SUM(G87:G89) -> 0 | H86: =SUM(H87:H89) -> 0 | I86: =SUM(I87:I89) -> 0 | J86: =SUM(J87:J89) -> 0
A87: =+[2]ระบบการควบคุมฯ!A458 -> 1) | B87: =+[2]ระบบการควบคุมฯ!B458 -> โรงเรียนธัญญสิทธิศิลป์ | C87: =+[2]ระบบการควบคุมฯ!C458 -> 20004 3100B600 321YYY | J87: =D87-E87-F87-G87 -> 0
A88: =+[2]ระบบการควบคุมฯ!A459 -> 2) | B88: =+[2]ระบบการควบคุมฯ!B459 -> โรงเรียนชุมชนเลิศพินิจพิทยาคม | C88: =+[2]ระบบการควบคุมฯ!C459 -> 20004 3100B600 321YYY | J88: =D88-E88-F88-G88 -> 0
A89: =+[2]ระบบการควบคุมฯ!A460 -> 3) | B89: =+[2]ระบบการควบคุมฯ!B460 -> โรงเรียนชุมชนประชานิกรณ์อำนวยเวทย์ | C89: =+[2]ระบบการควบคุมฯ!C460 -> 20004 3100B600 321YYY | J89: =D89-E89-F89-G89 -> 0
J90: =D90-E90-F90-G90 -> 0
A91: =+[2]ระบบการควบคุมฯ!A650 -> ง | B91: =+[2]ระบบการควบคุมฯ!B650 -> แผนงานพื้นฐานด้านการพัฒนาและเสริมสร้างศักยภาพทรัพยากรมนุษย์ | D91: =+D92+D108 -> 20585050 | E91: =+E92+E108 -> 0 | F91: =+F92+F108 -> 0 | G91: =+G92+G108 -> 20585045 | H91: =+H92+H108 -> #REF! | I91: =+I92+I108 -> #REF! | J91: =+J92+J108 -> 4.59 | K91: =+K92 -> 0
A92: =+[2]ระบบการควบคุมฯ!A653 -> 1 | B92: =+[2]ระบบการควบคุมฯ!B653 -> ผลผลิตผู้จบการศึกษาก่อนประถมศึกษา | C92: =+[2]ระบบการควบคุมฯ!C653 -> 20004 3720 1000 2000000 | D92: =+D93 -> 0 | E92: =+E93 -> 0 | F92: =+F93 -> 0 | G92: =+G93 -> 0 | H92: =+H93 -> 0 | I92: =+I93 -> 0 | J92: =+J93 -> 0 | K92: =+K93 -> 0
A93: 1.1 | B93: =+[2]ระบบการควบคุมฯ!B658 -> กิจกรรมการจัดการศึกษาก่อนประถมศึกษา | C93: =+[2]ระบบการควบคุมฯ!C658 -> 20004 68 05162 00000 | D93: =+D94 -> 0 | E93: =+E94 -> 0 | F93: =+F94 -> 0 | G93: =+G94 -> 0 | H93: =+H94 -> 0 | I93: =+I94 -> 0 | J93: =+J94 -> 0 | K93: =+K94 -> 0
B94: =+[2]ระบบการควบคุมฯ!B656 -> ค่าครุภัณฑ์ 6911310 | D94: =+D95 -> 0 | E94: =+E95 -> 0 | F94: =+F95 -> 0 | G94: =+G95 -> 0 | H94: =+H95 -> 0 | I94: =+I95 -> 0 | J94: =+J95 -> 0
B95: =+[2]ระบบการควบคุมฯ!B715 -> ครุภัณฑ์การศึกษา 120611 | D95: =+D96+D103 -> 0 | E95: =+E96+E103 -> 0 | F95: =+F96+F103 -> 0 | G95: =+G96+G103 -> 0 | H95: =+H96+H103 -> 0 | I95: =+I96+I103 -> 0 | J95: =+J96+J103 -> 0
A96: 1.1.1 | B96: =+[2]ระบบการควบคุมฯ!B716 -> เครื่องเล่นสนามระดับก่อนประถมศึกษาแบบ 2 | C96: =+[2]ระบบการควบคุมฯ!C716 -> ศธ04002/ว1802 ลว.8 พค 67 โอนครั้งที่ 7 | D96: =SUM(D97:D102) -> 0 | E96: =SUM(E97:E102) -> 0 | F96: =SUM(F97:F102) -> 0 | G96: =SUM(G97:G102) -> 0 | H96: =SUM(H97:H102) -> 0 | I96: =SUM(I97:I102) -> 0 | J96: =SUM(J97:J102) -> 0
A97: =+[2]ระบบการควบคุมฯ!A717 -> 1) | B97: =+[2]ระบบการควบคุมฯ!B717 -> โรงเรียนทองพูลอุทิศ | C97: =+[2]ระบบการควบคุมฯ!C717 -> 20004350001003110490 | J97: =D97-E97-F97-G97 -> 0
B98: =+[2]ระบบการควบคุมฯ!B718 -> ผูกพัน ครบ 16 กค 67 | C98: =+[2]ระบบการควบคุมฯ!C718 -> 4100385427 | J98: =D98-E98-F98-G98 -> 0
A99: =+[2]ระบบการควบคุมฯ!A719 -> 2) | B99: =+[2]ระบบการควบคุมฯ!B719 -> โรงเรียนวัดชัยมังคลาราม | C99: =+[2]ระบบการควบคุมฯ!C719 -> 20004350001003110491 | J99: =D99-E99-F99-G99 -> 0
B100: =+[2]ระบบการควบคุมฯ!B720 -> ผูกพัน ครบ 16 กค 67 | C100: =+[2]ระบบการควบคุมฯ!C720 -> 4100398102 | J100: =D100-E100-F100-G100 -> 0
A101: =+[2]ระบบการควบคุมฯ!A721 -> 3) | B101: =+[2]ระบบการควบคุมฯ!B721 -> โรงเรียนวัดดอนใหญ่ | C101: =+[2]ระบบการควบคุมฯ!C721 -> 20004350001003110492 | J101: =D101-E101-F101-G101 -> 0
B102: =+[2]ระบบการควบคุมฯ!B722 -> ผูกพัน ครบ 19 กค 67 | C102: =+[2]ระบบการควบคุมฯ!C722 -> 410034351 | J102: =D102-E102-F102-G102 -> 0
A103: =+[2]ระบบการควบคุมฯ!A729 -> 1.1.2 | B103: =+[2]ระบบการควบคุมฯ!B729 -> เครื่องเล่นสนามระดับก่อนประถมศึกษา แบบ 1 | C103: =+[2]ระบบการควบคุมฯ!C729 -> ศธ04002/ว1802 ลว.8 พค 67 โอนครั้งที่ 7 | D103: =SUM(D104:D105) -> 0 | E103: =SUM(E104:E105) -> 0 | F103: =SUM(F104:F105) -> 0 | G103: =SUM(G104:G105) -> 0 | H103: =SUM(H104:H105) -> 0 | I103: =SUM(I104:I105) -> 0 | J103: =SUM(J104:J105) -> 0
A104: =+[2]ระบบการควบคุมฯ!A730 -> 1) | B104: =+[2]ระบบการควบคุมฯ!B730 -> โรงเรียนวัดแสงมณี | C104: =+[2]ระบบการควบคุมฯ!C730 -> 20004350001003110493 | J104: =D104-E104-F104-G104 -> 0
B105: =+[2]ระบบการควบคุมฯ!B731 -> ผูกพัน ครบ 9 กค 67 | C105: =+[2]ระบบการควบคุมฯ!C731 -> 4100394811 | J105: =D105-E105-F105-G105 -> 0
A106: =+[2]ระบบการควบคุมฯ!A723 -> 0 | B106: =+[2]ระบบการควบคุมฯ!B723 -> 0 | C106: =+[2]ระบบการควบคุมฯ!C723 -> 0 | D106: =+[2]ระบบการควบคุมฯ!#REF! -> #REF! | E106: =+[2]ระบบการควบคุมฯ!#REF!+[2]ระบบการควบคุมฯ!#REF! -> #REF! | F106: =+[2]ระบบการควบคุมฯ!J493 -> 0 | G106: =+[2]ระบบการควบคุมฯ!#REF!+[2]ระบบการควบคุมฯ!#REF! -> #REF! | J106: =D106-E106-F106-G106 -> #REF!
B107: =+[2]ระบบการควบคุมฯ!B724 -> 0 | C107: =+[2]ระบบการควบคุมฯ!C724 -> 0 | D107: =+[2]ระบบการควบคุมฯ!#REF! -> #REF! | E107: =+[2]ระบบการควบคุมฯ!#REF!+[2]ระบบการควบคุมฯ!#REF! -> #REF! | F107: =+[2]ระบบการควบคุมฯ!J494 -> 0 | G107: =+[2]ระบบการควบคุมฯ!#REF!+[2]ระบบการควบคุมฯ!#REF! -> #REF! | J107: =D107-E107-F107-G107 -> #REF!
A108: =+[2]ระบบการควบคุมฯ!A744 -> 0 | B108: =+[2]ระบบการควบคุมฯ!B744 -> ผลผลิตผู้จบการศึกษาขั้นพื้นฐาน | C108: =+[2]ระบบการควบคุมฯ!C744 -> 20004 3720 1000 2000000 | D108: =SUM(D109:D110) -> 20585050 | E108: =SUM(E109:E110) -> 0 | F108: =SUM(F109:F110) -> 0 | G108: =SUM(G109:G110) -> 20585045 | H108: =SUM(H109:H110) -> #REF! | I108: =SUM(I109:I110) -> #REF! | J108: =SUM(J109:J110) -> 4.59
B109: =+[2]ระบบการควบคุมฯ!B748 -> งบลงทุน ครุภัณฑ์ 6911310 | D109: =+D112+D153+D164+D300+D334 -> 1500350 | E109: =+E112+E153+E164+E300+E334 -> 0 | F109: =+F112+F153+F164+F300+F334 -> 0 | G109: =+G112+G153+G164+G300+G334 -> 1500350 | H109: =+H112+H153+H164+H300+H334 -> 1041000 | I109: =+I112+I153+I164+I300+I334 -> 1041000 | J109: =+J112+J153+J164+J300+J334 -> 0
...

Sheet รายงานผลการเบิกจ่าย
A1: สำนักงานเขตพื้นที่การศึกษาประถมศึกษาปทุมธานี เขต 2
A2: ผลการเบิกจ่ายและใช้จ่ายเงินงบประมาณรายจ่าย ประจำปีงบประมาณ พ.ศ. 2569
A3: ตามมาตรการเร่งรัดการเบิกจ่ายงบประมาณและการใช้จ่ายภาครัฐ ประจำปีงบประมาณ พ.ศ. 2569
A4: หนังสือกรมบัญชีกลาง ด่วนที่สุด ที่ กค 0412.4/ว7516 ลงวันที่ 28 ตุลาคม 2568
C5: =+[2]ระบบการควบคุมฯ!A4 -> ประจำเดือน กันยายน 2569 | M5: รายละเอียด 1
A6: รายการ | F6: เป้าหมายการเบิกจ่ายตามมาตรการภาครัฐ (%) | G6: งบประมาณ | H6: ผลการเบิกจ่ายเงินงบประมาณ | J6: เป้าหมายการใช้จ่ายตามมาตรการภาครัฐ(%) | K6: ผลการใช้จ่ายเงินงบประมาณ | M6: สรุปผลการเบิกจ่ายและการใช้จ่ายฯ
H7: บาท | I7: % | K7: บาท | L7: %
A8: 1. | B8: การเบิกจ่ายในภาพรวม(ทั้งปี) | F8: 93 | J8: =+J12 -> 100
A9: 1.1 | B9: ไตรมาสที่ 1 ต.ค.68 - ธ.ค.68 | F9: 33 | G9: =+'[7]มาตการ รวมงบบุคลากร'!$G$9 -> 94420392 | H9: =+'[7]มาตการ รวมงบบุคลากร'!$H$9 -> 69966363 | I9: =+H9*100/G9 -> 74.100903 | J9: 38 | K9: =+'[7]มาตการ รวมงบบุคลากร'!$K$9 -> 84105163 | L9: =+K9*100/G9 -> 89.07521 | M9: เบิกจ่ายและใช้จ่าย ( √ ) เป็น ( ) ไม่เป็น ตามมาตรการภาครัฐ
A10: 1.2 | B10: ไตรมาสที่ 2 ม.ค.69 - มี.ค.69 | F10: 55 | G10: =+'[8]มาตการ รวมงบบุคลากร'!$G$10 -> 103356406 | H10: =+'[8]มาตการ รวมงบบุคลากร'!$H$10 -> 87026294 | I10: =+H10*100/G10 -> 84.200194 | J10: 61 | K10: =+'[8]มาตการ รวมงบบุคลากร'!$K$10 -> 94881111 | L10: =+K10*100/G10 -> 91.799932 | M10: เบิกจ่ายและใช้จ่าย ( √ ) เป็น ( ) ไม่เป็น ตามมาตรการภาครัฐ
A11: 1.3 | B11: ไตรมาสที่ 3 เม.ย.69 - มิ.ย.69 | F11: 76 | G11: =+[9]ระบบการควบคุมฯ!F1638 -> 165091362 | H11: =+[9]ระบบการควบคุมฯ!K1650 -> 1.5643074e+08 | I11: =+H11*100/G11 -> 94.754042 | J11: 81 | K11: =+[9]ระบบการควบคุมฯ!K1650+[9]ระบบการควบคุมฯ!G1650 -> 1.5831777e+08 | L11: =+K11*100/G11 -> 95.897066 | M11: เบิกจ่ายและใช้จ่าย ( √ ) เป็น ( ) ไม่เป็น ตามมาตรการภาครัฐ
A12: 1.4 | B12: ไตรมาสที่ 4 ก.ค.69 - ก.ย.69 | F12: 93 | G12: =+[2]ระบบการควบคุมฯ!F1709 -> 214291274 | H12: =+[2]ระบบการควบคุมฯ!K1721 -> 2.127924e+08 | I12: =+H12*100/G12 -> 99.300544 | J12: 100 | K12: =+[2]ระบบการควบคุมฯ!K1721+[2]ระบบการควบคุมฯ!G1721 -> 214051550 | L12: =+K12*100/G12 -> 99.888132 | M12: ผลการเบิกจ่าย (√) เป็น ใช้จ่าย ( √) ไม่เป็น ตามมาตรการภาครัฐ
A13: 2. | B13: การเบิกจ่ายรายจ่ายประจำ | F13: 98 | J13: =+J17 -> 100
A14: 2.1 | B14: ไตรมาสที่ 1 ต.ค.68 - ธ.ค.68 | F14: 37 | G14: =+'[7]มาตการ รวมงบบุคลากร'!$G$14 -> 73078392 | H14: =+'[7]มาตการ รวมงบบุคลากร'!$H$14 -> 66001976 | I14: =+H14*100/G14 -> 90.316677 | J14: 38 | K14: =+'[7]มาตการ รวมงบบุคลากร'!$K$14 -> 66001976 | L14: =+K14*100/G14 -> 90.316677 | M14: เบิกจ่ายและใช้จ่าย ( √ ) เป็น ( ) ไม่เป็น ตามมาตรการภาครัฐ
A15: 2.2 | B15: ไตรมาสที่ 2 ม.ค.69 - มี.ค.69 | F15: 60 | G15: =+'[8]มาตการ รวมงบบุคลากร'!$G$15 -> 82014406 | H15: =+'[8]มาตการ รวมงบบุคลากร'!$H$15 -> 74343257 | I15: =+H15*100/G15 -> 90.646583 | J15: 61 | K15: =+'[8]มาตการ รวมงบบุคลากร'!$K$15 -> 74451474 | L15: =+K15*100/G15 -> 90.778532 | M15: เบิกจ่ายและใช้จ่าย ( √ ) เป็น ( ) ไม่เป็น ตามมาตรการภาครัฐ
A16: 2.3 | B16: ไตรมาสที่ 3 เม.ย.69 - มิ.ย.69 | F16: 83 | G16: 143052112 | H16: 1.372899e+08 | I16: =+H16*100/G16 -> 95.97195 | J16: 84 | K16: 1.3750634e+08 | L16: =+K16*100/G16 -> 96.123248 | M16: เบิกจ่ายและใช้จ่าย ( √ ) เป็น ( ) ไม่เป็น ตามมาตรการภาครัฐ
A17: 2.4 | B17: ไตรมาสที่ 4 ก.ค.69 - ก.ย.69 | F17: 98 | G17: =+S9 -> 0 | H17: =+U9 -> 0 | I17: =+H17*100/G17 -> #DIV/0! | J17: 100 | K17: =+T9+U9 -> 0 | L17: =+K17*100/G17 -> #DIV/0! | M17: ผลการเบิกจ่าย (√) เป็น ใช้จ่าย ( √) ไม่เป็น ตามมาตรการภาครัฐ
A18: 3. | B18: การเบิกจ่ายงบลงทุน(ทั้งปี) | F18: 80 | J18: 100
A19: 3.1 | B19: ไตรมาสที่ 1 ต.ค.68 - ธ.ค.68 | F19: 20 | G19: =+'[7]มาตการ รวมงบบุคลากร'!$G$19 -> 21342000 | H19: =+'[7]มาตการ รวมงบบุคลากร'!$H$19 -> 3964387.3 | I19: =+H19*100/G19 -> 18.575519 | J19: 36 | K19: =+'[7]มาตการ รวมงบบุคลากร'!$K$19 -> 18002987 | L19: =+K19*100/G19 -> 84.354734 | M19: ผลการเบิกจ่าย (√) ไม่เป็น ใช้จ่าย ( √) เป็น ตามมาตรการภาครัฐ
A20: 3.2 | B20: ไตรมาสที่ 2 ม.ค.69 - มี.ค.69 | F20: 38 | G20: =+'[8]มาตการ รวมงบบุคลากร'!$G$20 -> 21342000 | H20: =+'[8]มาตการ รวมงบบุคลากร'!$H$20 -> 12683037 | I20: =+H20*100/G20 -> 59.427595 | J20: 59 | K20: =+'[8]มาตการ รวมงบบุคลากร'!$K$20 -> 20429637 | L20: =+K20*100/G20 -> 95.725037 | M20: เบิกจ่ายและใช้จ่าย ( √ ) เป็น ( ) ไม่เป็น ตามมาตรการภาครัฐ
A21: 3.3 | B21: ไตรมาสที่ 3 เม.ย.69 - มิ.ย.69 | F21: 55 | G21: 21044950 | H21: 18730575 | I21: =+H21*100/G21 -> 89.002708 | J21: 69 | K21: 20401175 | L21: =+K21*100/G21 -> 96.940955 | M21: เบิกจ่ายและใช้จ่าย ( √ ) เป็น ( ) ไม่เป็น ตามมาตรการภาครัฐ
A22: 3.4 | B22: ไตรมาสที่ 4 ก.ค.69 - ก.ย.69 | F22: 75 | G22: =+[2]ระบบการควบคุมฯ!F1708 -> 21487250 | H22: =+[2]ระบบการควบคุมฯ!L1708+[2]ระบบการควบคุมฯ!K1708 -> 21078245 | I22: =+H22*100/G22 -> 98.096524 | J22: 100 | K22: =+[2]ระบบการควบคุมฯ!G1708+[2]ระบบการควบคุมฯ!H1708+[2]ระบบการควบคุมฯ!K1708+[2]ระบบการควบคุมฯ!L1708 -> 21487245 | L22: =+K22*100/G22 -> 99.999979 | M22: เบิกจ่ายและใช้จ่าย ( √ ) เป็น ( ) ไม่เป็น ตามมาตรการภาครัฐ
B23: ก่อหนี้ผูกพัน | H23: =+[2]ระบบการควบคุมฯ!H1708+[2]ระบบการควบคุมฯ!G1708 -> 409000 | I23: =+H23*100/G22 -> 1.9034544
B24: อยู่ระหว่างขอกันไว้เบิกเหลื่อมปี
B25: เหลือจ่าย | H25: =+[2]ระบบการควบคุมฯ!M1708 -> 4.59 | I25: =+H25*100/G22 -> 2.1361505e-05 | L25: งบผูกพัน | M25: =+[2]ระบบการควบคุมฯ!M1451 -> 4.59
B26: อยู่ระหว่างดำเนินการ | I26: =+H26*100/G22 -> 0
F27: ลงชื่อ | H27: เลขานุการคณะกรรมการติดตามเร่งรัดการใช้จ่ายเงินฯ | J27: ลงชื่อ
F28: (นางพัชรี เรืองรุ่ง)
D29: นักวิชาการเงินและบัญชีชำนาญการพิเศษ
F30: ตรวจสอบแล้วถูกต้อง
D32: ลงชื่อ | H32: ประธานคณะกรรมการติดตามเร่งรัดการใช้จ่ายเงินฯ
F33: (นายคำโพธิ์ บุญสิงห์)
C34: ผู้อำนวยการสำนักงานเขตพื้นที่การศึกษาประถมศึกษาปทุมธานี เขต 2
A35: (นายวิรุฬห์ แสงงาม)
A36: รองผู้อำนวยการสำนักงานเขตพื้นที่การศึกษา รักษาราชการแทน
C37: เป็นไปตามมาตรการภาครัฐ | H37: ตรวจสอบแล้วถูกต้อง
C38: ไม่เป็นไปตามมาตรการภาครัฐ
A39: ลงชื่อ | D39: เลขานุการคณะกรรมการติดตาม | H39: ลงชื่อ | K39: ประธานคณะกรรมการติดตามเร่งรัด
A40: (นางพัชรี เรืองรุ่ง) | D40: เร่งรัดการเบิกจ่ายและใช้จ่ายฯ | H40: (นางสาวสุพิชสิริ ถิรวัฒนาพงศ์) ติดตามเร่งรัดการเบิกจ่ายเงินฯ | K40: การเบิกจ่ายงบประมาณและใช้จ่ายฯ
A41: นักวิชาการเงินและบัญชีชำนาญการพิเศษ | G41: (นางสาวสุพิชสิริ ถิรวัฒนาพงศ์)
G42: รองผู้อำนวยการสำนักงานเขตพื้นที่การศึกษา รักษาราชการแทน
G43: รองผู้อำนวยการสำนักงานเขตพื้นที่การศึกษา รักษาราชการแทน
G44: ผู้อำนวยการสำนักงานเขตพื้นที่การศึกษาประถมศึกษาปทุมธานี เขต 2
