Workbook

Sheet เงินกันไว้เบิกเหลื่อมปี งบปี 
A1: รายงานผลการเบิกจ่ายเงินกันไว้เบิกเหลื่อมปี งบประมาณประจำปี พ.ศ. 2568
A2: =+'[1]สิ่งก่อสร้าง งบอุดหนุน 67'!A3:N3 -> สำนักงานเขตพื้นที่การศึกษาประถมศึกษาปทุมธานี เขต 2
A3: ประจำเดือน สิงหาคม 2569
A4: ที่ | B4: รายการ | C4: รหัสงบประมาณ | D4: เพิ่ม | E4: ผูกพัน | G4: กันไว้เบิก | I4: เบิก | K4: คงเหลือ
C5: แหล่งของเงิน | E5: 220 | F5: 221 | G5: 220 | H5: 221 | I5: 220 | J5: 221
A6: ก | B6: =+'[1]ดำเนินงานครุภัณฑ์ 310061ยั่งยืน'!E6 -> แผนงานยุทธศาสตร์พัฒนาคุณภาพการศึกษาและการเรียนรู้ | D6: =+D7+D14 -> 1406002.5 | E6: =+E7+E14 -> 0 | F6: =+F7+F14 -> 0 | G6: =+G7+G14 -> 0 | H6: =+H7+H14 -> 0 | I6: =+I7+I14 -> 0 | J6: =+J7+J14 -> 1406002.5 | K6: =+K7+K14 -> 0
A7: 1 | B7: =+'[1]ดำเนินงานครุภัณฑ์ 310061ยั่งยืน'!E7 -> โครงการส่งเสริมการเรียนรู้ขั้นพื้นฐานทุกที่ทุกเวลา | C7: =+'[1]ดำเนินงานครุภัณฑ์ 310061ยั่งยืน'!D7 -> 20004 3310 C100 2000000 | D7: =+D8 -> 1406002.5 | E7: =+E8 -> 0 | F7: =+F8 -> 0 | H7: =+H8 -> 0 | I7: =+I8 -> 0 | J7: =+J8 -> 1406002.5 | K7: =+K8 -> 0
A8: 1.1 | B8: =+'[1]ดำเนินงานครุภัณฑ์ 310061ยั่งยืน'!E8 -> กิจกรรมพัฒนาระบบนิเวศทางด้านดิจิทัลเพื่อการเรียนรู้ขั้นพื้นฐาน | C8: =+'[1]ดำเนินงานครุภัณฑ์ 310061ยั่งยืน'!D8 -> 20004 68 00131 00000 | D8: =+D9 -> 1406002.5 | E8: =+E9 -> 0 | F8: =+F9 -> 0 | G8: =+G9 -> 0 | H8: =+H9 -> 0 | I8: =+I9 -> 0 | J8: =+J9 -> 1406002.5 | K8: =+K9 -> 0
B9: =+'[1]ดำเนินงานครุภัณฑ์ 310061ยั่งยืน'!E115 -> งบดำเนินงาน (รายจ่ายลงทุน) 6811220 | C9: =+'[1]ดำเนินงานครุภัณฑ์ 310061ยั่งยืน'!D115 -> 6811220 | D9: =+D10 -> 1406002.5 | E9: =+E10 -> 0 | F9: =+F10 -> 0 | H9: =+H10 -> 0 | I9: =+I10 -> 0 | J9: =+J10 -> 1406002.5 | K9: =+K10 -> 0
A10: 1.1.1 | B10: =+'[1]ดำเนินงานครุภัณฑ์ 310061ยั่งยืน'!E116 -> ค่าใช้จ่ายในการดำเนินการเช่าใช้อุปกรณ์การเรียนการสอนสำหรับครูและนักเรียน ภายใต้โครงการส่งเสริมการเรียนรู้ขั้นพื้นฐานทุกที่ทุกเวลา ประจำปีงบประมาณ พ.ศ. 2568 | C10: =+'[1]ดำเนินงานครุภัณฑ์ 310061ยั่งยืน'!D116 -> ศธ 04002/ว41897 ลว.1 ส.ค. 68 โอนครั้งที่ 802 | D10: =SUM(D11:D13) -> 1406002.5 | E10: =SUM(E11:E13) -> 0 | F10: =SUM(F11:F13) -> 0 | H10: =SUM(H11:H13) -> 0 | I10: =SUM(I11:I13) -> 0 | J10: =SUM(J11:J13) -> 1406002.5 | K10: =SUM(K11:K12) -> 0
A11: 1) | B11: =+'[1]ดำเนินงานครุภัณฑ์ 310061ยั่งยืน'!E117 -> PO4100722499 | C11: ครบ 30 ก.ย.68 | D11: =+'[1]ดำเนินงานครุภัณฑ์ 310061ยั่งยืน'!F125 -> 1406002.5 | E11: =+'[1]ดำเนินงานครุภัณฑ์ 310061ยั่งยืน'!G125 -> 0 | F11: =+'[1]ดำเนินงานครุภัณฑ์ 310061ยั่งยืน'!H125 -> 0 | G11: =+'[1]ดำเนินงานครุภัณฑ์ 310061ยั่งยืน'!I125 -> 0 | H11: =+'[1]ดำเนินงานครุภัณฑ์ 310061ยั่งยืน'!J125 -> 0 | I11: =+'[1]ดำเนินงานครุภัณฑ์ 310061ยั่งยืน'!K125 -> 0 | J11: =+'[1]ดำเนินงานครุภัณฑ์ 310061ยั่งยืน'!L125 -> 1406002.5 | K11: =+D11-E11-F11-G11-H11-I11-J11 -> 0
A12: 2) | D12: =+'[1]ดำเนินงานครุภัณฑ์ 310061ยั่งยืน'!F16 -> 0 | E12: =+'[1]ดำเนินงานครุภัณฑ์ 310061ยั่งยืน'!G16 -> 0 | F12: =+'[1]ดำเนินงานครุภัณฑ์ 310061ยั่งยืน'!H16 -> 0 | G12: =+'[1]ดำเนินงานครุภัณฑ์ 310061ยั่งยืน'!I16 -> 0 | H12: =+'[1]ดำเนินงานครุภัณฑ์ 310061ยั่งยืน'!J16 -> 0 | I12: =+'[1]ดำเนินงานครุภัณฑ์ 310061ยั่งยืน'!K16 -> 0 | J12: =+'[1]ดำเนินงานครุภัณฑ์ 310061ยั่งยืน'!L16 -> 0 | K12: =+D12-E12-F12-G12-H12-I12-J12 -> 0
A13: 3) | D13: =+'[1]ดำเนินงานครุภัณฑ์ 310061ยั่งยืน'!F21 -> 0 | E13: =+'[1]ดำเนินงานครุภัณฑ์ 310061ยั่งยืน'!G21 -> 0 | F13: =+'[1]ดำเนินงานครุภัณฑ์ 310061ยั่งยืน'!H21 -> 0 | H13: =+'[1]ดำเนินงานครุภัณฑ์ 310061ยั่งยืน'!I21 -> 0 | I13: =+'[1]ดำเนินงานครุภัณฑ์ 310061ยั่งยืน'!J21 -> 0 | J13: =+'[1]ดำเนินงานครุภัณฑ์ 310061ยั่งยืน'!K21 -> 0
A14: 2 | B14: =+'[1]ดำเนินงานครุภัณฑ์ 310061ยั่งยืน'!E126 -> โครงการโรงเรียนคุณภาพประจำตำบล | C14: =+'[1]ดำเนินงานครุภัณฑ์ 310061ยั่งยืน'!D126 -> 20004 3100B600 | D14: =+D15 -> 0 | E14: =+E15 -> 0 | F14: =+F15 -> 0 | H14: =+H15 -> 0 | I14: =+I15 -> 0 | J14: =+J15 -> 0 | K14: =+K15 -> 0
A15: 2.1 | B15: =+'[1]ดำเนินงานครุภัณฑ์ 310061ยั่งยืน'!E127 -> กิจกรรมการก่อสร้าง ปรับปรุง ซ่อมแซมอาคารเรียนและสิ่งก่อสร้างประกอบสำหรับโรงเรียนคุณภาพประจำตำบล | C15: =+'[1]ดำเนินงานครุภัณฑ์ 310061ยั่งยืน'!D127 -> 20004 67000 7700000 | D15: =+D16+D36 -> 0 | E15: =+E16+E36 -> 0 | F15: =+F16+F36 -> 0 | H15: =+H16+H36 -> 0 | I15: =+I16+I36 -> 0 | J15: =+J16+J36 -> 0 | K15: =+K16+K36 -> 0
B16: =+'[1]ดำเนินงานครุภัณฑ์ 310061ยั่งยืน'!E128 -> งบลงทุน ค่าสิ่งก่อสร้าง 6711320 | D16: =+D17+D22+D25 -> 0 | E16: =+E17+E22+E25 -> 0 | F16: =+F17+F22+F25 -> 0 | G16: =+G17+G22+G25 -> 0 | H16: =+H17+H22+H25 -> 0 | I16: =+I17+I22+I25 -> 0 | J16: =+J17+J22+J25 -> 0 | K16: =+K17+K22+K25 -> 0
A17: 2.1.1 | B17: =+'[1]ดำเนินงานครุภัณฑ์ 310061ยั่งยืน'!E129 -> ปรับปรุงซ่อมแซมอาคารเรียนอาคารประกอบและสิ่งก่อสร้างอื่น | C17: =+'[1]ดำเนินงานครุภัณฑ์ 310061ยั่งยืน'!D129 -> ศธ04002/ว1787 ลว.7 พค 67 โอนครั้งที่ 5 | D17: =SUM(D18:D21) -> 0 | E17: =SUM(E18:E21) -> 0 | F17: =SUM(F18:F21) -> 0 | G17: =SUM(G18:G21) -> 0 | H17: =SUM(H18:H21) -> 0 | I17: =SUM(I18:I21) -> 0 | J17: =SUM(J18:J21) -> 0 | K17: =SUM(K18:K21) -> 0
A18: 1) | B18: =+'[1]ดำเนินงานครุภัณฑ์ 310061ยั่งยืน'!E130 -> วัดมงคลรัตน์ | C18: =+'[1]ดำเนินงานครุภัณฑ์ 310061ยั่งยืน'!D130 -> 200043100B6003211500 | D18: =+'[1]ดำเนินงานครุภัณฑ์ 310061ยั่งยืน'!F134 -> 0 | E18: =+'[1]ดำเนินงานครุภัณฑ์ 310061ยั่งยืน'!G134 -> 0 | F18: =+'[1]ดำเนินงานครุภัณฑ์ 310061ยั่งยืน'!H134 -> 0 | G18: =+'[1]ดำเนินงานครุภัณฑ์ 310061ยั่งยืน'!I134 -> 0 | H18: =+'[1]ดำเนินงานครุภัณฑ์ 310061ยั่งยืน'!J134 -> 0 | I18: =+'[1]ดำเนินงานครุภัณฑ์ 310061ยั่งยืน'!K134 -> 0 | J18: =+'[1]ดำเนินงานครุภัณฑ์ 310061ยั่งยืน'!L134 -> 0 | K18: =+D18-E18-F18-G18-H18-I18-J18 -> 0
C19: =+'[1]ดำเนินงานครุภัณฑ์ 310061ยั่งยืน'!C130 -> 4100408104
A20: 2) | B20: =+'[1]ดำเนินงานครุภัณฑ์ 310061ยั่งยืน'!E135 -> วัดสุวรรณ | C20: =+'[1]ดำเนินงานครุภัณฑ์ 310061ยั่งยืน'!D135 -> 200043100B6003211501 | D20: =+'[1]ดำเนินงานครุภัณฑ์ 310061ยั่งยืน'!F139 -> 0 | E20: =+'[1]ดำเนินงานครุภัณฑ์ 310061ยั่งยืน'!G139 -> 0 | F20: =+'[1]ดำเนินงานครุภัณฑ์ 310061ยั่งยืน'!H139 -> 0 | G20: =+'[1]ดำเนินงานครุภัณฑ์ 310061ยั่งยืน'!I139 -> 0 | H20: =+'[1]ดำเนินงานครุภัณฑ์ 310061ยั่งยืน'!J139 -> 0 | I20: =+'[1]ดำเนินงานครุภัณฑ์ 310061ยั่งยืน'!K139 -> 0 | J20: =+'[1]ดำเนินงานครุภัณฑ์ 310061ยั่งยืน'!L139 -> 0 | K20: =+D20-E20-F20-G20-H20-I20-J20 -> 0
C21: =+'[1]ดำเนินงานครุภัณฑ์ 310061ยั่งยืน'!C135 -> 4100409854
A22: 2.1.2 | B22: =+'[1]ดำเนินงานครุภัณฑ์ 310061ยั่งยืน'!E140 -> ค่าก่อสร้าง ปรับปรุงซ่อมแซมอาคารเรียนอาคารประกอบและสิ่งก่อสร้างอื่นที่ชำรุดทรุดโทรม และที่ประสบอุบัติภัย | C22: =+'[1]ดำเนินงานครุภัณฑ์ 310061ยั่งยืน'!D140 -> ศธ04002/ว ลว.27 กย 67 โอนครั้งที่ 450 | D22: =+D23 -> 0 | E22: =+E23 -> 0 | F22: =+F23 -> 0 | H22: =+H23 -> 0 | I22: =+I23 -> 0 | J22: =+J23 -> 0 | K22: =+K23 -> 0
A23: 1) | B23: =+'[1]ดำเนินงานครุภัณฑ์ 310061ยั่งยืน'!E141 -> วัดราษฎรบำรุง | C23: =+'[1]ดำเนินงานครุภัณฑ์ 310061ยั่งยืน'!D141 -> 20004 3100B600 321ZZZZ | D23: =+'[1]ดำเนินงานครุภัณฑ์ 310061ยั่งยืน'!F145 -> 0 | E23: =+'[1]ดำเนินงานครุภัณฑ์ 310061ยั่งยืน'!G145 -> 0 | F23: =+'[1]ดำเนินงานครุภัณฑ์ 310061ยั่งยืน'!H145 -> 0 | G23: =+'[1]ดำเนินงานครุภัณฑ์ 310061ยั่งยืน'!I145 -> 0 | H23: =+'[1]ดำเนินงานครุภัณฑ์ 310061ยั่งยืน'!J145 -> 0 | I23: =+'[1]ดำเนินงานครุภัณฑ์ 310061ยั่งยืน'!K145 -> 0 | J23: =+'[1]ดำเนินงานครุภัณฑ์ 310061ยั่งยืน'!L145 -> 0 | K23: =+D23-E23-F23-G23-H23-I23-J23 -> 0
C24: =+'[1]ดำเนินงานครุภัณฑ์ 310061ยั่งยืน'!C141 -> 4100306259
A25: 2.1.3 | B25: =+'[1]ดำเนินงานครุภัณฑ์ 310061ยั่งยืน'!E146 -> อาคารเรียนอนุบาล ขนาด 2 ห้องเรียน | C25: =+'[1]ดำเนินงานครุภัณฑ์ 310061ยั่งยืน'!D146 -> ศธ 04002/ว1787 ลว.7 พค 67 โอนครั้งที่ 5 | D25: =+D26 -> 0 | E25: =+E26 -> 0 | F25: =+F26 -> 0 | H25: =+H26 -> 0 | I25: =+I26 -> 0 | J25: =+J26 -> 0 | K25: =+K26 -> 0
A26: 1) | B26: =+'[1]ดำเนินงานครุภัณฑ์ 310061ยั่งยืน'!E147 -> โรงเรียนนิกรราษฎร์บํารุงวิทย์ | C26: =+'[1]ดำเนินงานครุภัณฑ์ 310061ยั่งยืน'!D147 -> 200043100B6003211498 | D26: =+'[1]ดำเนินงานครุภัณฑ์ 310061ยั่งยืน'!F171 -> 0 | E26: =+'[1]ดำเนินงานครุภัณฑ์ 310061ยั่งยืน'!G171 -> 0 | F26: =+'[1]ดำเนินงานครุภัณฑ์ 310061ยั่งยืน'!H171 -> 0 | G26: =+'[1]ดำเนินงานครุภัณฑ์ 310061ยั่งยืน'!I171 -> 0 | H26: =+'[1]ดำเนินงานครุภัณฑ์ 310061ยั่งยืน'!J171 -> 0 | I26: =+'[1]ดำเนินงานครุภัณฑ์ 310061ยั่งยืน'!K171 -> 0 | J26: =+'[1]ดำเนินงานครุภัณฑ์ 310061ยั่งยืน'!L171 -> 0 | K26: =+D26-E26-F26-G26-H26-I26-J26 -> 0
C27: =+'[1]ดำเนินงานครุภัณฑ์ 310061ยั่งยืน'!C147 -> 4100432393
B28: งบลงทุน ค่าครุภัณฑ์ 6711310 | C28: =+'[1]ดำเนินงานครุภัณฑ์ 310061ยั่งยืน'!D23 -> 0 | D28: =+D31+D33+D35 -> 0 | E28: =+E31+E33+E35 -> 0 | F28: =+F31+F33+F35 -> 0 | H28: =+H31+H33+H35 -> 0 | I28: =+I31+I33+I35 -> 0 | J28: =+J31+J33+J35 -> 0 | K28: =+K31+K33+K35 -> 0
A29: =+'[1]งบกัน67 350002'!A36 -> 0 | B29: =+'[1]ดำเนินงานครุภัณฑ์ 310061ยั่งยืน'!E22 -> งบลงทุน ค่าครุภัณฑ์ 6611310 | C29: =+'[1]ดำเนินงานครุภัณฑ์ 310061ยั่งยืน'!C22 -> 0 | D29: =+D30 -> 0 | E29: =+E30 -> 0 | F29: =+F30 -> 0 | H29: =+H30 -> 0 | I29: =+I30 -> 0 | J29: =+J30 -> 0 | K29: =+K30 -> 0
A30: =+'[1]ดำเนินงานครุภัณฑ์ 310061ยั่งยืน'!A23 -> 0 | B30: =+'[1]ดำเนินงานครุภัณฑ์ 310061ยั่งยืน'!E23 -> ครุภัณฑ์สำนักงาน 120601 | C30: =+'[1]ดำเนินงานครุภัณฑ์ 310061ยั่งยืน'!D22 -> 6611310 | D30: =+'[1]ดำเนินงานครุภัณฑ์ 310061ยั่งยืน'!F27 -> 0 | E30: =+'[1]ดำเนินงานครุภัณฑ์ 310061ยั่งยืน'!G27 -> 0 | F30: =+'[1]ดำเนินงานครุภัณฑ์ 310061ยั่งยืน'!H27 -> 0 | H30: =+'[1]ดำเนินงานครุภัณฑ์ 310061ยั่งยืน'!I27 -> 0 | I30: =+'[1]ดำเนินงานครุภัณฑ์ 310061ยั่งยืน'!J27 -> 0 | J30: =+'[1]ดำเนินงานครุภัณฑ์ 310061ยั่งยืน'!K27 -> 0 | K30: =+'[1]ดำเนินงานครุภัณฑ์ 310061ยั่งยืน'!L27 -> 0
A31: =+'[1]งบกัน67 350002'!A38 -> 1.1.1 | B31: =+'[1]ดำเนินงานครุภัณฑ์ 310061ยั่งยืน'!E24 -> เครื่องปรับอากาศแบบตั้งพื้นหรือแขวน (ระบบ INVERTER) ขนาด 20,000 บีทียู | C31: =+'[1]ดำเนินงานครุภัณฑ์ 310061ยั่งยืน'!C24 -> โอนเปลี่ยนแปลงครั้งที่ 1/66 บท.กลุ่มนโยบายและแผน ที่ ศธ 04087/1957 ลว. 28 กย 66 | D31: =+D32 -> 0 | E31: =+E32 -> 0 | F31: =+F32 -> 0 | H31: =+H32 -> 0 | I31: =+I32 -> 0 | J31: =+J32 -> 0 | K31: =+K32 -> 0
A32: =+'[1]ดำเนินงานครุภัณฑ์ 310061ยั่งยืน'!A25 -> 1) | B32: =+'[1]ดำเนินงานครุภัณฑ์ 310061ยั่งยืน'!E25 -> สพป.ปท.2 | C32: =+'[1]ดำเนินงานครุภัณฑ์ 310061ยั่งยืน'!D24 -> 20004 31006100 3110010 | D32: =+'[1]ดำเนินงานครุภัณฑ์ 310061ยั่งยืน'!F29 -> 0 | E32: =+'[1]ดำเนินงานครุภัณฑ์ 310061ยั่งยืน'!G29 -> 0 | F32: =+'[1]ดำเนินงานครุภัณฑ์ 310061ยั่งยืน'!H29 -> 0 | H32: =+'[1]ดำเนินงานครุภัณฑ์ 310061ยั่งยืน'!I29 -> 0 | I32: =+'[1]ดำเนินงานครุภัณฑ์ 310061ยั่งยืน'!J29 -> 0 | J32: =+'[1]ดำเนินงานครุภัณฑ์ 310061ยั่งยืน'!K29 -> 0 | K32: =+'[1]ดำเนินงานครุภัณฑ์ 310061ยั่งยืน'!L29 -> 0
A33: =+'[1]ดำเนินงานครุภัณฑ์ 310061ยั่งยืน'!A30 -> 2 | B33: =+'[1]ดำเนินงานครุภัณฑ์ 310061ยั่งยืน'!E30 -> เครื่องปรับอากาศแบบติดผนัง (ระบบ INVERTER) ขนาด 18,000 บีทียู | C33: =+'[1]ดำเนินงานครุภัณฑ์ 310061ยั่งยืน'!C30 -> โอนเปลี่ยนแปลงครั้งที่ 1/66 บท.กลุ่มนโยบายและแผน ที่ ศธ 04087/1957 ลว. 28 กย 66 | D33: =+D34 -> 0 | E33: =+E34 -> 0 | F33: =+F34 -> 0 | H33: =+H34 -> 0 | I33: =+I34 -> 0 | J33: =+J34 -> 0 | K33: =+K34 -> 0
A34: =+'[1]ดำเนินงานครุภัณฑ์ 310061ยั่งยืน'!A31 -> 1) | B34: =+'[1]ดำเนินงานครุภัณฑ์ 310061ยั่งยืน'!E31 -> สพป.ปท.2 | C34: =+'[1]ดำเนินงานครุภัณฑ์ 310061ยั่งยืน'!D30 -> 20005 31006100 3110011 | D34: =+'[1]ดำเนินงานครุภัณฑ์ 310061ยั่งยืน'!F34 -> 0 | E34: =+'[1]ดำเนินงานครุภัณฑ์ 310061ยั่งยืน'!G34 -> 0 | F34: =+'[1]ดำเนินงานครุภัณฑ์ 310061ยั่งยืน'!H34 -> 0 | H34: =+'[1]ดำเนินงานครุภัณฑ์ 310061ยั่งยืน'!I34 -> 0 | I34: =+'[1]ดำเนินงานครุภัณฑ์ 310061ยั่งยืน'!J34 -> 0 | J34: =+'[1]ดำเนินงานครุภัณฑ์ 310061ยั่งยืน'!K34 -> 0 | K34: =+'[1]ดำเนินงานครุภัณฑ์ 310061ยั่งยืน'!L34 -> 0
A35: =+'[1]ดำเนินงานครุภัณฑ์ 310061ยั่งยืน'!A35 -> 3 | B35: =+'[1]ดำเนินงานครุภัณฑ์ 310061ยั่งยืน'!E35 -> โพเดียม | C35: =+'[1]ดำเนินงานครุภัณฑ์ 310061ยั่งยืน'!C35 -> โอนเปลี่ยนแปลงครั้งที่ 1/66 บท.กลุ่มนโยบายและแผน ที่ ศธ 04087/1957 ลว. 28 กย 66 | D35: =+D36 -> 0 | E35: =+E36 -> 0 | F35: =+F36 -> 0 | H35: =+H36 -> 0 | I35: =+I36 -> 0 | J35: =+J36 -> 0 | K35: =+K36 -> 0
A36: =+'[1]ดำเนินงานครุภัณฑ์ 310061ยั่งยืน'!A36 -> 1) | B36: =+'[1]ดำเนินงานครุภัณฑ์ 310061ยั่งยืน'!E36 -> สพป.ปท.2 | C36: =+'[1]ดำเนินงานครุภัณฑ์ 310061ยั่งยืน'!D35 -> 20008 31006100 3110014 | D36: =+'[1]ดำเนินงานครุภัณฑ์ 310061ยั่งยืน'!F36 -> 0 | E36: =+'[1]ดำเนินงานครุภัณฑ์ 310061ยั่งยืน'!G39 -> 0 | F36: =+'[1]ดำเนินงานครุภัณฑ์ 310061ยั่งยืน'!H39 -> 0 | G36: =+'[1]ดำเนินงานครุภัณฑ์ 310061ยั่งยืน'!I39 -> 0 | H36: =+'[1]ดำเนินงานครุภัณฑ์ 310061ยั่งยืน'!J39 -> 0 | I36: =+'[1]ดำเนินงานครุภัณฑ์ 310061ยั่งยืน'!K39 -> 0 | J36: =+'[1]ดำเนินงานครุภัณฑ์ 310061ยั่งยืน'!L39 -> 0 | K36: =+'[1]ดำเนินงานครุภัณฑ์ 310061ยั่งยืน'!L36 -> 0
B37: =+'[1]ดำเนินงานครุภัณฑ์ 310061ยั่งยืน'!E40 -> ครุภัณฑ์โฆษณาและเผยแพร่ 120601 | C37: =+'[1]ดำเนินงานครุภัณฑ์ 310061ยั่งยืน'!D27 -> 0 | D37: =+D38+D40+D42 -> 0 | E37: =+E38+E40+E42 -> 0 | F37: =+F38+F40+F42 -> 0 | H37: =+H38+H40+H42 -> 0 | I37: =+I38+I40+I42 -> 0 | J37: =+J38+J40+J42 -> 0 | K37: =+K38+K40+K42 -> 0
A38: =+'[1]ดำเนินงานครุภัณฑ์ 310061ยั่งยืน'!A41 -> 1 | B38: =+'[1]ดำเนินงานครุภัณฑ์ 310061ยั่งยืน'!E41 -> โทรทัศน์สีแอล อี ดี (LED TV) แบบ Smart TV ระดับความละเอียดจอภาพ 3840 x 2160 พิกเซล ขนาด 75 นิ้ว | C38: =+'[1]ดำเนินงานครุภัณฑ์ 310061ยั่งยืน'!C41 -> โอนเปลี่ยนแปลงครั้งที่ 1/66 บท.กลุ่มนโยบายและแผน ที่ ศธ 04087/1957 ลว. 28 กย 66 | D38: =+D39 -> 0 | E38: =+E39 -> 0 | F38: =+F39 -> 0 | H38: =+H39 -> 0 | I38: =+I39 -> 0 | J38: =+J39 -> 0 | K38: =+K39 -> 0
A39: =+'[1]ดำเนินงานครุภัณฑ์ 310061ยั่งยืน'!A42 -> 1) | B39: =+'[1]ดำเนินงานครุภัณฑ์ 310061ยั่งยืน'!E53 -> สพป.ปท.2 | C39: =+'[1]ดำเนินงานครุภัณฑ์ 310061ยั่งยืน'!D41 -> 20007 31006100 3110012 | D39: =+'[1]ดำเนินงานครุภัณฑ์ 310061ยั่งยืน'!F46 -> 0 | E39: =+'[1]ดำเนินงานครุภัณฑ์ 310061ยั่งยืน'!G46 -> 0 | F39: =+'[1]ดำเนินงานครุภัณฑ์ 310061ยั่งยืน'!H46 -> 0 | H39: =+'[1]ดำเนินงานครุภัณฑ์ 310061ยั่งยืน'!I46 -> 0 | I39: =+'[1]ดำเนินงานครุภัณฑ์ 310061ยั่งยืน'!J46 -> 0 | J39: =+'[1]ดำเนินงานครุภัณฑ์ 310061ยั่งยืน'!K46 -> 0 | K39: =+'[1]ดำเนินงานครุภัณฑ์ 310061ยั่งยืน'!L46 -> 0
A40: =+'[1]ดำเนินงานครุภัณฑ์ 310061ยั่งยืน'!A47 -> 2 | B40: =+'[1]ดำเนินงานครุภัณฑ์ 310061ยั่งยืน'!E47 -> ไมโครโฟนไร้สาย | C40: =+'[1]ดำเนินงานครุภัณฑ์ 310061ยั่งยืน'!C47 -> โอนเปลี่ยนแปลงครั้งที่ 1/66 บท.กลุ่มนโยบายและแผน ที่ ศธ 04087/1957 ลว. 28 กย 66 | D40: =+D41 -> 0 | E40: =+E41 -> 0 | F40: =+F41 -> 0 | H40: =+H41 -> 0 | I40: =+I41 -> 0 | J40: =+J41 -> 0 | K40: =+K41 -> 0
A41: =+'[1]ดำเนินงานครุภัณฑ์ 310061ยั่งยืน'!A48 -> 1) | B41: =+'[1]ดำเนินงานครุภัณฑ์ 310061ยั่งยืน'!E48 -> สพป.ปท.2 | C41: =+'[1]ดำเนินงานครุภัณฑ์ 310061ยั่งยืน'!D47 -> 20008 31006100 3110013 | D41: =+'[1]ดำเนินงานครุภัณฑ์ 310061ยั่งยืน'!F51 -> 0 | E41: =+'[1]ดำเนินงานครุภัณฑ์ 310061ยั่งยืน'!G51 -> 0 | F41: =+'[1]ดำเนินงานครุภัณฑ์ 310061ยั่งยืน'!H51 -> 0 | H41: =+'[1]ดำเนินงานครุภัณฑ์ 310061ยั่งยืน'!I51 -> 0 | I41: =+'[1]ดำเนินงานครุภัณฑ์ 310061ยั่งยืน'!J51 -> 0 | J41: =+'[1]ดำเนินงานครุภัณฑ์ 310061ยั่งยืน'!K51 -> 0 | K41: =+'[1]ดำเนินงานครุภัณฑ์ 310061ยั่งยืน'!L51 -> 0
A42: =+'[1]ดำเนินงานครุภัณฑ์ 310061ยั่งยืน'!A52 -> 3 | B42: =+'[1]ดำเนินงานครุภัณฑ์ 310061ยั่งยืน'!E52 -> เครื่องมัลติมีเดีย โปรเจคเตอร์ ระดับ XGA ขนาด 5000 ANSI Lumens | C42: =+'[1]ดำเนินงานครุภัณฑ์ 310061ยั่งยืน'!C52 -> โอนเปลี่ยนแปลงครั้งที่ 1/66 บท.กลุ่มนโยบายและแผน ที่ ศธ 04087/1957 ลว. 28 กย 66 | D42: =+D43 -> 0 | E42: =+E43 -> 0 | F42: =+F43 -> 0 | H42: =+H43 -> 0 | I42: =+I43 -> 0 | J42: =+J43 -> 0 | K42: =+K43 -> 0
A43: =+'[1]ดำเนินงานครุภัณฑ์ 310061ยั่งยืน'!A53 -> 1) | B43: =+'[1]ดำเนินงานครุภัณฑ์ 310061ยั่งยืน'!E53 -> สพป.ปท.2 | C43: =+'[1]ดำเนินงานครุภัณฑ์ 310061ยั่งยืน'!D52 -> 20009 31006100 3110015 | D43: =+'[1]ดำเนินงานครุภัณฑ์ 310061ยั่งยืน'!F56 -> 0 | E43: =+'[1]ดำเนินงานครุภัณฑ์ 310061ยั่งยืน'!G56 -> 0 | F43: =+'[1]ดำเนินงานครุภัณฑ์ 310061ยั่งยืน'!H56 -> 0 | H43: =+'[1]ดำเนินงานครุภัณฑ์ 310061ยั่งยืน'!I56 -> 0 | I43: =+'[1]ดำเนินงานครุภัณฑ์ 310061ยั่งยืน'!J56 -> 0 | J43: =+'[1]ดำเนินงานครุภัณฑ์ 310061ยั่งยืน'!K56 -> 0 | K43: =+'[1]ดำเนินงานครุภัณฑ์ 310061ยั่งยืน'!L56 -> 0
A44: 1.1 | B44: =+'[1]ดำเนินงานครุภัณฑ์ 310061ยั่งยืน'!E145 -> รวม | C44: =+'[1]ดำเนินงานครุภัณฑ์ 310061ยั่งยืน'!D145 -> 0 | D44: =+D45+D56 -> 0 | E44: =+E45+E56 -> 0 | F44: =+F45+F56 -> 0 | H44: =+H45+H56 -> 0 | I44: =+I45+I56 -> 0 | J44: =+J45+J56 -> 0 | K44: =+K45+K56 -> 0
A45: =+'[1]งบกัน67 350002'!A51 -> 0 | B45: =+'[1]ดำเนินงานครุภัณฑ์ 310061ยั่งยืน'!E37 -> เบิก | C45: =+'[1]ดำเนินงานครุภัณฑ์ 310061ยั่งยืน'!C37 -> 20 | D45: =+D46 -> 0 | E45: =+E46 -> 0 | F45: =+F46 -> 0 | H45: =+H46 -> 0 | I45: =+I46 -> 0 | J45: =+J46 -> 0 | K45: =+K46 -> 0
A46: =+'[1]ดำเนินงานครุภัณฑ์ 310061ยั่งยืน'!A38 -> 0 | B46: =+'[1]ดำเนินงานครุภัณฑ์ 310061ยั่งยืน'!E38 -> 0 | C46: =+'[1]ดำเนินงานครุภัณฑ์ 310061ยั่งยืน'!D37 -> KB3100006110 | D46: =+'[1]ดำเนินงานครุภัณฑ์ 310061ยั่งยืน'!F42 -> 0 | E46: =+'[1]ดำเนินงานครุภัณฑ์ 310061ยั่งยืน'!G42 -> 0 | F46: =+'[1]ดำเนินงานครุภัณฑ์ 310061ยั่งยืน'!H42 -> 0 | H46: =+'[1]ดำเนินงานครุภัณฑ์ 310061ยั่งยืน'!I42 -> 0 | I46: =+'[1]ดำเนินงานครุภัณฑ์ 310061ยั่งยืน'!J42 -> 0 | J46: =+'[1]ดำเนินงานครุภัณฑ์ 310061ยั่งยืน'!K42 -> 0 | K46: =+'[1]ดำเนินงานครุภัณฑ์ 310061ยั่งยืน'!L42 -> 0
A49: ข | B49: =+'[1]งบกัน67 350002'!E5 -> แผนงานพื้นฐานด้านการพัฒนาและเสริมสร้างศักยภาพทรัพยากรมนุษย์ | D49: =+D50 -> 349000 | E49: =+E50 -> 0 | F49: =+F50 -> 0 | G49: =+G50 -> 0 | H49: =+H50 -> 0 | I49: =+I50 -> 0 | J49: =+J50 -> 349000 | K49: =+K50 -> 0
A50: 1 | B50: =+'[1]งบกัน67 350002'!E6 -> ผลผลิตผู้จบการศึกษาภาคบังคับ | C50: =+'[1]งบกัน67 350002'!D6 -> 20004 37001 | D50: =+D51+D80 -> 349000 | E50: =+E51+E80 -> 0 | F50: =+F51+F80 -> 0 | H50: =+H51+H80 -> 0 | I50: =+I51+I80 -> 0 | J50: =+J51+J80 -> 349000 | K50: =+K51+K80 -> 0
A51: 1.1 | B51: กิจกรรมการจัดการศึกษาประถมศึกษาสำหรับโรงเรียนปกติ /กิจกรรมการจัดการศึกษามัธยมศึกษาตอนต้นสำหรับโรงเรียนปกติ | C51: 20004670516552018/20004670516405272 | D51: =+D52+D53 -> 0 | E51: =+E52+E53 -> 0 | F51: =+F52+F53 -> 0 | G51: =+G52+G53 -> 0 | H51: =+H52+H53 -> 0 | I51: =+I52+I53 -> 0 | J51: =+J52+J53 -> 0 | K51: =+K52+K53 -> 0
B52: =+'[1]งบกัน67 350002'!E7 -> งบดำเนินงาน | C52: 6811220 | D52: =+D56 -> 0 | E52: =+E56 -> 0 | F52: =+F56 -> 0 | G52: =+G56 -> 0 | H52: =+H56 -> 0 | I52: =+I56 -> 0 | J52: =+J56 -> 0 | K52: =+K56 -> 0
B53: งบเงินอุดหนุน | C53: 6811410 | D53: =+D67 -> 0 | E53: =+E67 -> 0 | F53: =+F67 -> 0 | G53: =+G67 -> 0 | H53: =+H67 -> 0 | I53: =+I67 -> 0 | J53: =+J67 -> 0 | K53: =+K67 -> 0
B54: =+B52 -> งบดำเนินงาน | C54: 6811220 | D54: =+D55 -> 0 | E54: =+E55 -> 0 | F54: =+F55 -> 0 | G54: =+G55 -> 0 | H54: =+H55 -> 0 | I54: =+I55 -> 0 | J54: =+J55 -> 0
A55: 1.1.1 | B55: ปรับปรุงแซมแซมอาคารสำนักงานและห้องเก็บของ | D55: =+D56 -> 0 | E55: =+E56 -> 0 | F55: =+F56 -> 0 | G55: =+G56 -> 0 | H55: =+H56 -> 0 | I55: =+I56 -> 0 | J55: =+J56 -> 0 | K55: =+K56 -> 0
A56: 1) | B56: สพป.ปทุมธานี เขต 2 | C56: 2.000435e+18 | D56: =+'[1]งบกัน67 350002'!F16 -> 0 | E56: =+'[1]งบกัน67 350002'!G16 -> 0 | F56: =+'[1]งบกัน67 350002'!H16 -> 0 | G56: =+'[1]งบกัน67 350002'!I16 -> 0 | H56: =+'[1]งบกัน67 350002'!J16 -> 0 | I56: =+'[1]งบกัน67 350002'!K16 -> 0 | J56: =+'[1]งบกัน67 350002'!L16 -> 0 | K56: =+D56-E56-F56-G56-H56-I56-J56 -> 0
H58: =+'[1]สิ่งก่อสร้าง งบอุดหนุน 67'!J76 -> 0 | J58: =+'[1]สิ่งก่อสร้าง งบอุดหนุน 67'!L76 -> 0
B60: งบลงทุน 6711320 | C60: =+'[1]งบกัน67 350002'!D27 -> 6811320
A61: =+'[1]สิ่งก่อสร้าง งบอุดหนุน 67'!A95 -> 1.1.2 | B61: =+'[1]สิ่งก่อสร้าง งบอุดหนุน 67'!E95 -> ปรับปรุงซ่อมแซมระบบไฟฟ้าและประปา สำหรับสถานศึกษาที่ประสบภัยธรรมชาติ | C61: =+'[1]งบกัน67 350002'!E27 -> งบลงทุน ค่าที่ดินและสิ่งก่อสร้าง | D61: =D62 -> 0 | E61: =E62 -> 0 | F61: =F62 -> 0 | G61: =G62 -> 0 | H61: =H62 -> 0 | I61: =I62 -> 0 | J61: =J62 -> 0 | K61: =K62 -> 0
H62: =+'[1]สิ่งก่อสร้าง งบอุดหนุน 67'!J101 -> 0 | I62: =+'[1]สิ่งก่อสร้าง งบอุดหนุน 67'!L101 -> 0 | K62: =+D62-E62-F62-G62-H62-I62-J62 -> 0
D63: =SUM(D61:D62) -> 0
E64: =+'[1]สิ่งก่อสร้าง งบอุดหนุน 67'!H107 -> 0 | H64: =+'[1]สิ่งก่อสร้าง งบอุดหนุน 67'!J107 -> 0 | I64: =+'[1]สิ่งก่อสร้าง งบอุดหนุน 67'!L107 -> 0 | J64: =+'[1]สิ่งก่อสร้าง งบอุดหนุน 67'!M107 -> 0 | K64: =+'[1]สิ่งก่อสร้าง งบอุดหนุน 67'!N107 -> 0
D65: =+D66 -> 0 | E65: =+E66 -> 0 | F65: =+F66 -> 0 | H65: =+H66 -> 0 | I65: =+I66 -> 0 | J65: =+J66 -> 0 | K65: =+K66 -> 0
E66: =+'[1]สิ่งก่อสร้าง งบอุดหนุน 67'!H113 -> 0 | H66: =+'[1]สิ่งก่อสร้าง งบอุดหนุน 67'!J113 -> 0 | I66: =+'[1]สิ่งก่อสร้าง งบอุดหนุน 67'!L113 -> 0 | J66: =+'[1]สิ่งก่อสร้าง งบอุดหนุน 67'!M113 -> 0 | K66: =+'[1]สิ่งก่อสร้าง งบอุดหนุน 67'!N113 -> 0
B67: =+'[1]งบอุดหนุน 350002'!D7 -> 6711410 | D67: =+D68 -> 0 | E67: =+E68 -> 0 | F67: =+F68 -> 0 | G67: =+G68 -> 0 | H67: =+H68 -> 0 | I67: =+I68 -> 0 | J67: =+J68 -> 0 | K67: =+K68 -> 0
B68: =+'[1]งบอุดหนุน 350002'!E7 -> งบเงินอุดหนุน | C68: =+'[1]งบอุดหนุน 350002'!D7 -> 6711410 | D68: =SUM(D69:D73) -> 0 | E68: =SUM(E69:E73) -> 0 | F68: =SUM(F69:F73) -> 0 | G68: =SUM(G71:G72) -> 0 | H68: =SUM(H71:H72) -> 0 | I68: =SUM(I71:I72) -> 0 | J68: =SUM(J71:J72) -> 0 | K68: =SUM(K71:K72) -> 0
A69: 1.1.2 | B69: =+'[1]งบอุดหนุน 350002'!E9 -> ค่าใช้จ่ายในการปรับปรุงฟื้นฟูอาคาร สิ่งก่อสร้าง และระบบสาธารณูปโภคที่ประสบภัยธรรมชาติ | C69: =+'[1]งบอุดหนุน 350002'!C9:D9 -> 20004350002004100006 | D69: =+'[1]สิ่งก่อสร้าง งบอุดหนุน 67'!G120 -> 0 | E69: =+'[1]สิ่งก่อสร้าง งบอุดหนุน 67'!H120 -> 0 | F69: =+'[1]สิ่งก่อสร้าง งบอุดหนุน 67'!I120 -> 0 | H69: =+'[1]สิ่งก่อสร้าง งบอุดหนุน 67'!J120 -> 0 | I69: =+'[1]สิ่งก่อสร้าง งบอุดหนุน 67'!L120 -> 0 | J69: =+'[1]สิ่งก่อสร้าง งบอุดหนุน 67'!M120 -> 0 | K69: =+'[1]สิ่งก่อสร้าง งบอุดหนุน 67'!N120 -> 0
C70: =+'[1]งบอุดหนุน 350002'!C10:D10 -> ศธ 04002/ว1064 ลว. 17 มีค 68
A71: 1) | B71: =+'[1]งบอุดหนุน 350002'!E10 -> ร.ร.วัดเกตประภา | C71: =+'[1]งบอุดหนุน 350002'!C9:D9 -> 20004350002004100006 | D71: =+'[1]งบอุดหนุน 350002'!F10 -> 0 | E71: =+'[1]งบอุดหนุน 350002'!G16 -> 0 | F71: =+'[1]งบอุดหนุน 350002'!H16 -> 0 | G71: =+'[1]งบอุดหนุน 350002'!I16 -> 0 | H71: =+'[1]งบอุดหนุน 350002'!J16 -> 0 | I71: =+'[1]งบอุดหนุน 350002'!K16 -> 0 | J71: =+'[1]งบอุดหนุน 350002'!L16 -> 0 | K71: =+D71-E71-F71-G71-H71-I71-J71 -> 0
A72: 2) | B72: =+'[1]งบอุดหนุน 350002'!E18 -> ร.ร.วัดเจริญบุญ | C72: =+'[1]งบอุดหนุน 350002'!C9:D9 -> 20004350002004100006 | D72: =+'[1]งบอุดหนุน 350002'!F29 -> 0 | E72: =+'[1]งบอุดหนุน 350002'!G29 -> 0 | F72: =+'[1]งบอุดหนุน 350002'!H29 -> 0 | G72: =+'[1]งบอุดหนุน 350002'!I29 -> 0 | H72: =+'[1]งบอุดหนุน 350002'!J29 -> 0 | I72: =+'[1]งบอุดหนุน 350002'!K29 -> 0 | J72: =+'[1]งบอุดหนุน 350002'!L29 -> 0 | K72: =+D72-E72-F72-G72-H72-I72-J72 -> 0
A74: =+'[1]สิ่งก่อสร้าง งบอุดหนุน 67'!A121 -> 3.1.7 | B74: =+'[1]สิ่งก่อสร้าง งบอุดหนุน 67'!E121 -> เครื่องพิมพ์ Multifunction แบบฉีดหมึกพร้อมติดตั้งถังหมึกพิมพ์ (Ink Tank Printer) | D74: =+'[1]สิ่งก่อสร้าง งบอุดหนุน 67'!G121 -> 0 | E74: =+'[1]สิ่งก่อสร้าง งบอุดหนุน 67'!H121 -> 0 | F74: =+'[1]สิ่งก่อสร้าง งบอุดหนุน 67'!I121 -> 0 | H74: =+'[1]สิ่งก่อสร้าง งบอุดหนุน 67'!J121 -> 0 | I74: =+'[1]สิ่งก่อสร้าง งบอุดหนุน 67'!L121 -> 0 | J74: =+'[1]สิ่งก่อสร้าง งบอุดหนุน 67'!M121 -> 0 | K74: =+'[1]สิ่งก่อสร้าง งบอุดหนุน 67'!N121 -> 0
A75: =+'[1]สิ่งก่อสร้าง งบอุดหนุน 67'!A122 -> 3.1.7.1 | B75: =+'[1]สิ่งก่อสร้าง งบอุดหนุน 67'!E122 -> สพป.ปท.2 จำนวน 3 เครื่อง | C75: =+'[1]สิ่งก่อสร้าง งบอุดหนุน 67'!F122 -> 2000436002110DBW | D75: =+'[1]สิ่งก่อสร้าง งบอุดหนุน 67'!G127 -> 0 | E75: =+'[1]สิ่งก่อสร้าง งบอุดหนุน 67'!H127 -> 0 | F75: =+'[1]สิ่งก่อสร้าง งบอุดหนุน 67'!I127 -> 0 | H75: =+'[1]สิ่งก่อสร้าง งบอุดหนุน 67'!J127 -> 0 | I75: =+'[1]สิ่งก่อสร้าง งบอุดหนุน 67'!L127 -> 0 | J75: =+'[1]สิ่งก่อสร้าง งบอุดหนุน 67'!M127 -> 0 | K75: =+'[1]สิ่งก่อสร้าง งบอุดหนุน 67'!N127 -> 0
A76: =+'[1]สิ่งก่อสร้าง งบอุดหนุน 67'!A128 -> 3.2 | B76: =+'[1]สิ่งก่อสร้าง งบอุดหนุน 67'!E128 -> กิจกรรมการจัดการศึกษามัธยมศึกษาตอนต้นสำหรับโรงเรียนปกติ | C76: =+'[1]สิ่งก่อสร้าง งบอุดหนุน 67'!F128 -> 200041300P2792 | D76: =+'[1]สิ่งก่อสร้าง งบอุดหนุน 67'!G128 -> 0 | E76: =+'[1]สิ่งก่อสร้าง งบอุดหนุน 67'!H128 -> 0 | F76: =+'[1]สิ่งก่อสร้าง งบอุดหนุน 67'!I128 -> 0 | H76: =+'[1]สิ่งก่อสร้าง งบอุดหนุน 67'!J128 -> 0 | I76: =+'[1]สิ่งก่อสร้าง งบอุดหนุน 67'!L128 -> 0 | J76: =+'[1]สิ่งก่อสร้าง งบอุดหนุน 67'!M128 -> 0 | K76: =+'[1]สิ่งก่อสร้าง งบอุดหนุน 67'!N128 -> 0
A77: =+'[1]สิ่งก่อสร้าง งบอุดหนุน 67'!A129 -> 0 | B77: =+'[1]สิ่งก่อสร้าง งบอุดหนุน 67'!E129 -> งบดำเนินงาน | C77: 6711220 | D77: =+'[1]สิ่งก่อสร้าง งบอุดหนุน 67'!G129 -> 0 | E77: =+'[1]สิ่งก่อสร้าง งบอุดหนุน 67'!H129 -> 0 | F77: =+'[1]สิ่งก่อสร้าง งบอุดหนุน 67'!I129 -> 0 | H77: =+'[1]สิ่งก่อสร้าง งบอุดหนุน 67'!J129 -> 0 | I77: =+'[1]สิ่งก่อสร้าง งบอุดหนุน 67'!L129 -> 0 | J77: =+'[1]สิ่งก่อสร้าง งบอุดหนุน 67'!M129 -> 0 | K77: =+'[1]สิ่งก่อสร้าง งบอุดหนุน 67'!N129 -> 0
A78: =+'[1]สิ่งก่อสร้าง งบอุดหนุน 67'!A130 -> 3.2.1 | B78: =+'[1]สิ่งก่อสร้าง งบอุดหนุน 67'!E130 -> ปรับปรุงซ่อมแซมผนังอาคาร ท่อลำเลียงน้ำและซ่อมพื้นดาดฟ้ารั่วซึม | D78: =+'[1]สิ่งก่อสร้าง งบอุดหนุน 67'!G130 -> 0 | E78: =+'[1]สิ่งก่อสร้าง งบอุดหนุน 67'!H130 -> 0 | F78: =+'[1]สิ่งก่อสร้าง งบอุดหนุน 67'!I130 -> 0 | H78: =+'[1]สิ่งก่อสร้าง งบอุดหนุน 67'!J130 -> 0 | I78: =+'[1]สิ่งก่อสร้าง งบอุดหนุน 67'!L130 -> 0 | J78: =+'[1]สิ่งก่อสร้าง งบอุดหนุน 67'!M130 -> 0 | K78: =+'[1]สิ่งก่อสร้าง งบอุดหนุน 67'!N130 -> 0
A79: =+'[1]สิ่งก่อสร้าง งบอุดหนุน 67'!A131 -> 3.2.1.1 | B79: =+'[1]สิ่งก่อสร้าง งบอุดหนุน 67'!E131 -> สพป.ปท.2 | C79: =+'[1]สิ่งก่อสร้าง งบอุดหนุน 67'!F131 -> 2000436002000000 | D79: =+'[1]สิ่งก่อสร้าง งบอุดหนุน 67'!G136 -> 0 | E79: =+'[1]สิ่งก่อสร้าง งบอุดหนุน 67'!H136 -> 0 | F79: =+'[1]สิ่งก่อสร้าง งบอุดหนุน 67'!I136 -> 0 | H79: =+'[1]สิ่งก่อสร้าง งบอุดหนุน 67'!J136 -> 0 | I79: =+'[1]สิ่งก่อสร้าง งบอุดหนุน 67'!L136 -> 0 | J79: =+'[1]สิ่งก่อสร้าง งบอุดหนุน 67'!M136 -> 0 | K79: =+'[1]สิ่งก่อสร้าง งบอุดหนุน 67'!N136 -> 0
A80: 1.2 | B80: =+'[1]งบกัน67 350002'!E37 -> กิจกรรมก่อสร้างปรับปรุง ซ่อมแซมอาคารเรียนและสิ่งก่อสร้างประกอบสำหรับโรงเรียนปกติ | C80: =+'[1]งบกัน67 350002'!D37 -> 20004 68 01056 00000 | D80: =+D81 -> 349000 | E80: =+E81 -> 0 | F80: =+F81 -> 0 | H80: =+H81 -> 0 | I80: =+I81 -> 0 | J80: =+J81 -> 349000 | K80: =+K81 -> 0
A81: =+'[1]สิ่งก่อสร้าง งบอุดหนุน 67'!A138 -> 0 | B81: =+'[1]งบกัน67 350002'!E27 -> งบลงทุน ค่าที่ดินและสิ่งก่อสร้าง | C81: =+'[1]งบกัน67 350002'!D27 -> 6811320 | D81: =+D82+D85+D88 -> 349000 | E81: =+E82+E85+E88 -> 0 | F81: =+F82+F85+F88 -> 0 | G81: =+G82+G85+G88 -> 0 | H81: =+H82+H85+H88 -> 0 | I81: =+I82+I85+I88 -> 0 | J81: =+J82+J85+J88 -> 349000 | K81: =+K82+K85+K88 -> 0
A82: 1.2.1 | B82: =+'[1]งบกัน67 350002'!E38 -> อาคารเรียนน๊อคดาวน์ | C82: ศธ 04002/ว5187 ลว 21 ตค 67ครั้งที่ 5 | D82: =SUM(D83:D84) -> 349000 | E82: =SUM(E83:E84) -> 0 | F82: =SUM(F83:F84) -> 0 | G82: =SUM(G83:G84) -> 0 | H82: =SUM(H83:H84) -> 0 | I82: =SUM(I83:I84) -> 0 | J82: =SUM(J83:J84) -> 349000 | K82: =SUM(K83:K84) -> 0
A83: =+'[1]งบกัน67 350002'!A39 -> 1) | B83: =+'[1]งบกัน67 350002'!E39 -> โรงเรียนวัดดอนใหญ่ | C83: =+'[1]งบกัน67 350002'!D39 -> 2000437001000321ZZZZ | D83: =+'[1]งบกัน67 350002'!F45 -> 349000 | E83: =+'[1]งบกัน67 350002'!G45 -> 0 | F83: =+'[1]งบกัน67 350002'!H45 -> 0 | G83: =+'[1]งบกัน67 350002'!I45 -> 0 | H83: =+'[1]งบกัน67 350002'!J45 -> 0 | I83: =+'[1]งบกัน67 350002'!K45 -> 0 | J83: =+'[1]งบกัน67 350002'!L45 -> 349000 | K83: =+D83-E83-F83-G83-H83-I83-J83 -> 0
B84: =+'[1]งบกัน67 350002'!E40 -> ครบ 28 พ.ย. 68 | C84: Po4100728818
A85: 1.2.2 | B85: =+'[1]งบกัน67 350002'!E46 -> 0 | C85: =+'[1]งบกัน67 350002'!D47 -> 0 | D85: =+'[1]งบกัน67 350002'!F53 -> 0 | E85: =+'[1]งบกัน67 350002'!G53 -> 0 | F85: =+'[1]งบกัน67 350002'!H53 -> 0 | G85: =+'[1]งบกัน67 350002'!I53 -> 0 | H85: =+'[1]งบกัน67 350002'!J53 -> 0 | I85: =+'[1]งบกัน67 350002'!K53 -> 0 | J85: =+'[1]งบกัน67 350002'!L53 -> 0 | K85: =+D85-E85-F85-G85-H85-I85-J85 -> 0
A86: 1) | B86: =+'[1]งบกัน67 350002'!E47 -> 0 | C86: =+'[1]งบกัน67 350002'!D47 -> 0 | D86: =+'[1]งบกัน67 350002'!F53 -> 0 | E86: =+'[1]งบกัน67 350002'!G53 -> 0 | F86: =+'[1]งบกัน67 350002'!H53 -> 0 | G86: =+'[1]งบกัน67 350002'!I53 -> 0 | H86: =+'[1]งบกัน67 350002'!J53 -> 0 | I86: =+'[1]งบกัน67 350002'!K53 -> 0 | J86: =+'[1]งบกัน67 350002'!L53 -> 0 | K86: =+D86-E86-F86-G86-H86-I86-J86 -> 0
C87: =+'[1]งบกัน67 350002'!C47 -> 0
A88: 1.2.3 | B88: =+'[1]งบกัน67 350002'!E54 -> อาคารเรียนแบบพิเศษ จัดสรร 38,731,000 บาท ปี67 5,809,700 บาท | C88: =+'[1]งบกัน67 350002'!C54 -> ศธ 04002/ว1803 ลว 8 พค 67ครั้งที่ 8 | D88: =SUM(D89) -> 0 | E88: =SUM(E89) -> 0 | F88: =SUM(F89) -> 0 | H88: =SUM(H89) -> 0 | I88: =SUM(I89) -> 0 | J88: =SUM(J89) -> 0 | K88: =SUM(K89) -> 0
A89: =+'[1]งบกัน67 350002'!A55 -> 1) | B89: =+'[1]งบกัน67 350002'!E55 -> โรงเรียนวัดลาดสนุ่น | C89: =+'[1]งบกัน67 350002'!D55 -> 20004 3500200 3200026 | D89: =+'[1]งบกัน67 350002'!F81 -> 0 | E89: =+'[1]งบกัน67 350002'!G81 -> 0 | F89: =+'[1]งบกัน67 350002'!H81 -> 0 | G89: =+'[1]งบกัน67 350002'!I81 -> 0 | H89: =+'[1]งบกัน67 350002'!J81 -> 0 | I89: =+'[1]งบกัน67 350002'!K81 -> 0 | J89: =+'[1]งบกัน67 350002'!L81 -> 0 | K89: =+D89-E89-F89-G89-H89-I89-J89 -> 0
C90: =+'[1]งบกัน67 350002'!C55 -> 4100484429
A91: =+'[1]สิ่งก่อสร้าง งบอุดหนุน 67'!A48 -> ค | B91: =+'[1]สิ่งก่อสร้าง งบอุดหนุน 67'!E48 -> แผนงานยุทธศาสตร์สร้างความเสมอภาคทางการศึกษา | D91: =+D92+D135 -> 0 | E91: =+E92+E135 -> 0 | F91: =+F92+F135 -> 0 | G91: =+G92+G135 -> 0 | H91: =+H92+H135 -> 0 | I91: =+I92+I135 -> 0 | J91: =+J92+J135 -> 0 | K91: =+K92+K135 -> 0
A92: 1 | B92: =+'[1]สิ่งก่อสร้าง งบอุดหนุน 67'!E60 -> โครงการสนับสนุนค่าใช้จ่ายในการจัดการศึกษาตั้งแต่ระดับอนุบาลจนจบการศึกษาขั้นพื้นฐาน | C92: =+'[1]สิ่งก่อสร้าง งบอุดหนุน 67'!D60 -> 2000442002200 | D92: =+D93 -> 0 | E92: =+E93 -> 0 | F92: =+F93 -> 0 | G92: =+G93 -> 0 | H92: =+H93 -> 0 | I92: =+I93 -> 0 | J92: =+J93 -> 0 | K92: =+K93 -> 0
A93: 1.1 | B93: =+'[1]สิ่งก่อสร้าง งบอุดหนุน 67'!E61 -> กิจกรรมการสนับสนุนค่าใช้จ่ายในการจัดการศึกษาขั้นพื้นฐาน | C93: =+'[1]สิ่งก่อสร้าง งบอุดหนุน 67'!D61 -> 20004685199300000 | D93: =+D95 -> 0 | E93: =+E95 -> 0 | F93: =+F95 -> 0 | G93: =+G95 -> 0 | H93: =+H95 -> 0 | I93: =+I95 -> 0 | J93: =+J95 -> 0 | K93: =+K95 -> 0
A94: 1.1.1 | B94: =+'[1]สิ่งก่อสร้าง งบอุดหนุน 67'!E63 -> รายการเงินอุดหนุนเพื่อสนับสนุนค่าใช้จ่ายในการจัดการศึกษาสำหรับสถานศึกษา ตามความขาดแคลน และที่ประสบภัยธรรมชาติ | D94: =+D95 -> 0 | E94: =+E95 -> 0 | F94: =+F95 -> 0 | G94: =+G95 -> 0 | H94: =+H95 -> 0 | I94: =+I95 -> 0 | J94: =+J95 -> 0 | K94: =+K95 -> 0
A95: =+'[1]สิ่งก่อสร้าง งบอุดหนุน 67'!A147 -> 0 | B95: =+'[1]สิ่งก่อสร้าง งบอุดหนุน 67'!E62 -> งบเงินอุดหนุน | C95: =+'[1]สิ่งก่อสร้าง งบอุดหนุน 67'!D62 -> 6811410 | D95: =+D96+D102 -> 0 | E95: =+E96+E102 -> 0 | F95: =+F96+F102 -> 0 | G95: =+G96+G102 -> 0 | H95: =+H96+H102 -> 0 | I95: =+I96+I102 -> 0 | J95: =+J96+J102 -> 0 | K95: =+K96+K102 -> 0
A96: 1.1.1.1 | B96: =+'[1]สิ่งก่อสร้าง งบอุดหนุน 67'!E64 -> ปรับปรุงซ่อมแซมอาคารเรียน อาคารประกอบและสิ่งก่อสร้างอื่น | C96: =+'[1]สิ่งก่อสร้าง งบอุดหนุน 67'!D64 -> ที่ ศธ 04002/ว5898 ลว. 6 ธ.ค. 2567 ครั้งที่ 5 CK00000128 | D96: =SUM(D97:D101) -> 0 | E96: =SUM(E97:E101) -> 0 | F96: =SUM(F97:F101) -> 0 | G96: =SUM(G97:G101) -> 0 | H96: =SUM(H97:H101) -> 0 | I96: =SUM(I97:I101) -> 0 | J96: =SUM(J97:J101) -> 0 | K96: =SUM(K97:K101) -> 0
A97: =+'[1]งบกัน67 350002'!A86 -> 1) | B97: =+'[1]สิ่งก่อสร้าง งบอุดหนุน 67'!E65 -> โรงเรียนแสนจำหน่ายวิทยา | C97: =+'[1]สิ่งก่อสร้าง งบอุดหนุน 67'!D65 -> 20004420022004100386 | D97: =+'[1]สิ่งก่อสร้าง งบอุดหนุน 67'!G70 -> 0 | E97: =+'[1]สิ่งก่อสร้าง งบอุดหนุน 67'!H70 -> 0 | F97: =+'[1]สิ่งก่อสร้าง งบอุดหนุน 67'!I70 -> 0 | G97: =+'[1]สิ่งก่อสร้าง งบอุดหนุน 67'!J70 -> 0 | H97: =+'[1]สิ่งก่อสร้าง งบอุดหนุน 67'!K70 -> 0 | I97: =+'[1]สิ่งก่อสร้าง งบอุดหนุน 67'!L70 -> 0 | J97: =+'[1]สิ่งก่อสร้าง งบอุดหนุน 67'!M70 -> 0 | K97: =+D97-E97-F97-G97-H97-I97-J97 -> 0
A98: =+'[1]สิ่งก่อสร้าง งบอุดหนุน 67'!A71 -> 2) | B98: =+'[1]สิ่งก่อสร้าง งบอุดหนุน 67'!E71 -> โรงเรียนวัดขุมแก้ว | C98: =+'[1]สิ่งก่อสร้าง งบอุดหนุน 67'!D71 -> 20004420022004100386 | D98: =+'[1]สิ่งก่อสร้าง งบอุดหนุน 67'!G76 -> 0 | E98: =+'[1]สิ่งก่อสร้าง งบอุดหนุน 67'!H76 -> 0 | F98: =+'[1]สิ่งก่อสร้าง งบอุดหนุน 67'!I76 -> 0 | G98: =+'[1]สิ่งก่อสร้าง งบอุดหนุน 67'!J76 -> 0 | H98: =+'[1]สิ่งก่อสร้าง งบอุดหนุน 67'!K76 -> 0 | I98: =+'[1]สิ่งก่อสร้าง งบอุดหนุน 67'!L76 -> 0 | J98: =+'[1]สิ่งก่อสร้าง งบอุดหนุน 67'!M76 -> 0 | K98: =+D98-E98-F98-G98-H98-I98-J98 -> 0
A99: =+'[1]สิ่งก่อสร้าง งบอุดหนุน 67'!A77 -> 3) | B99: =+'[1]สิ่งก่อสร้าง งบอุดหนุน 67'!E77 -> โรงเรียนวัดราษฎรบํารุง | C99: =+'[1]สิ่งก่อสร้าง งบอุดหนุน 67'!D77 -> 20004420022004100386 | D99: =+'[1]สิ่งก่อสร้าง งบอุดหนุน 67'!G82 -> 0 | E99: =+'[1]สิ่งก่อสร้าง งบอุดหนุน 67'!H82 -> 0 | F99: =+'[1]สิ่งก่อสร้าง งบอุดหนุน 67'!I82 -> 0 | G99: =+'[1]สิ่งก่อสร้าง งบอุดหนุน 67'!J82 -> 0 | H99: =+'[1]สิ่งก่อสร้าง งบอุดหนุน 67'!K82 -> 0 | I99: =+'[1]สิ่งก่อสร้าง งบอุดหนุน 67'!L82 -> 0 | J99: =+'[1]สิ่งก่อสร้าง งบอุดหนุน 67'!M82 -> 0 | K99: =+D99-E99-F99-G99-H99-I99-J99 -> 0
A100: =+'[1]สิ่งก่อสร้าง งบอุดหนุน 67'!A83 -> 4) | B100: =+'[1]สิ่งก่อสร้าง งบอุดหนุน 67'!E83 -> โรงเรียนรวมราษฎร์สามัคคี | C100: =+'[1]สิ่งก่อสร้าง งบอุดหนุน 67'!D83 -> 20004420022004100386 | D100: =+'[1]สิ่งก่อสร้าง งบอุดหนุน 67'!G88 -> 0 | E100: =+'[1]สิ่งก่อสร้าง งบอุดหนุน 67'!H88 -> 0 | F100: =+'[1]สิ่งก่อสร้าง งบอุดหนุน 67'!I88 -> 0 | G100: =+'[1]สิ่งก่อสร้าง งบอุดหนุน 67'!J88 -> 0 | H100: =+'[1]สิ่งก่อสร้าง งบอุดหนุน 67'!K88 -> 0 | I100: =+'[1]สิ่งก่อสร้าง งบอุดหนุน 67'!L88 -> 0 | J100: =+'[1]สิ่งก่อสร้าง งบอุดหนุน 67'!M88 -> 0 | K100: =+D100-E100-F100-G100-H100-I100-J100 -> 0
A101: =+'[1]สิ่งก่อสร้าง งบอุดหนุน 67'!A89 -> 5) | B101: =+'[1]สิ่งก่อสร้าง งบอุดหนุน 67'!E89 -> โรงเรียนวัดอดิศร | C101: =+'[1]สิ่งก่อสร้าง งบอุดหนุน 67'!D89 -> 20004420022004100386 | D101: =+'[1]สิ่งก่อสร้าง งบอุดหนุน 67'!G94 -> 0 | E101: =+'[1]สิ่งก่อสร้าง งบอุดหนุน 67'!H94 -> 0 | F101: =+'[1]สิ่งก่อสร้าง งบอุดหนุน 67'!I94 -> 0 | G101: =+'[1]สิ่งก่อสร้าง งบอุดหนุน 67'!J94 -> 0 | H101: =+'[1]สิ่งก่อสร้าง งบอุดหนุน 67'!K94 -> 0 | I101: =+'[1]สิ่งก่อสร้าง งบอุดหนุน 67'!L94 -> 0 | J101: =+'[1]สิ่งก่อสร้าง งบอุดหนุน 67'!M94 -> 0 | K101: =+D101-E101-F101-G101-H101-I101-J101 -> 0
A102: 1.1.1.2 | B102: =+'[1]สิ่งก่อสร้าง งบอุดหนุน 67'!E95 -> ปรับปรุงซ่อมแซมระบบไฟฟ้าและประปา สำหรับสถานศึกษาที่ประสบภัยธรรมชาติ | C102: =+'[1]สิ่งก่อสร้าง งบอุดหนุน 67'!D95 -> ที่ ศธ 04002/ว13 ลว. 2 ม.ค. 2568 ครั้งที่ 10 เลขใบกัน CK00000331 | D102: =SUM(D103:D105) -> 0 | E102: =SUM(E103:E107) -> 0 | F102: =SUM(F103:F105) -> 0 | G102: =SUM(G103:G107) -> 0 | H102: =SUM(H103:H107) -> 0 | I102: =SUM(I103:I107) -> 0 | J102: =SUM(J103:J107) -> 0 | K102: =SUM(K103:K107) -> 0
A103: =+'[1]สิ่งก่อสร้าง งบอุดหนุน 67'!A96 -> 1) | B103: =+'[1]สิ่งก่อสร้าง งบอุดหนุน 67'!E96 -> วัดเกตุประภา | C103: =+'[1]สิ่งก่อสร้าง งบอุดหนุน 67'!D96 -> 20004420022004100386 | D103: =+'[1]สิ่งก่อสร้าง งบอุดหนุน 67'!G101 -> 0 | E103: =+'[1]สิ่งก่อสร้าง งบอุดหนุน 67'!H101 -> 0 | F103: =+'[1]สิ่งก่อสร้าง งบอุดหนุน 67'!I101 -> 0 | G103: =+'[1]สิ่งก่อสร้าง งบอุดหนุน 67'!J101 -> 0 | H103: =+'[1]สิ่งก่อสร้าง งบอุดหนุน 67'!K101 -> 0 | I103: =+'[1]สิ่งก่อสร้าง งบอุดหนุน 67'!L101 -> 0 | J103: =+'[1]สิ่งก่อสร้าง งบอุดหนุน 67'!M101 -> 0 | K103: =+D103-E103-F103-G103-H103-I103-J103 -> 0
A104: =+'[1]สิ่งก่อสร้าง งบอุดหนุน 67'!A102 -> 2) | B104: =+'[1]สิ่งก่อสร้าง งบอุดหนุน 67'!E102 -> วัดปัญจทายิกาวาส | C104: =+'[1]สิ่งก่อสร้าง งบอุดหนุน 67'!D102 -> 20004420022004100386 | D104: =+'[1]สิ่งก่อสร้าง งบอุดหนุน 67'!G107 -> 0 | E104: =+'[1]สิ่งก่อสร้าง งบอุดหนุน 67'!H107 -> 0 | F104: =+'[1]สิ่งก่อสร้าง งบอุดหนุน 67'!I107 -> 0 | G104: =+'[1]สิ่งก่อสร้าง งบอุดหนุน 67'!J107 -> 0 | H104: =+'[1]สิ่งก่อสร้าง งบอุดหนุน 67'!K107 -> 0 | I104: =+'[1]สิ่งก่อสร้าง งบอุดหนุน 67'!L107 -> 0 | J104: =+'[1]สิ่งก่อสร้าง งบอุดหนุน 67'!M107 -> 0 | K104: =+D104-E104-F104-G104-H104-I104-J104 -> 0
A105: =+'[1]สิ่งก่อสร้าง งบอุดหนุน 67'!A108 -> 3) | B105: =+'[1]สิ่งก่อสร้าง งบอุดหนุน 67'!E108 -> วัดพวงแก้ว | C105: =+'[1]สิ่งก่อสร้าง งบอุดหนุน 67'!D108 -> 20004420022004100386 | D105: =+'[1]สิ่งก่อสร้าง งบอุดหนุน 67'!G113 -> 0 | E105: =+'[1]สิ่งก่อสร้าง งบอุดหนุน 67'!H113 -> 0 | F105: =+'[1]สิ่งก่อสร้าง งบอุดหนุน 67'!I113 -> 0 | G105: =+'[1]สิ่งก่อสร้าง งบอุดหนุน 67'!J113 -> 0 | H105: =+'[1]สิ่งก่อสร้าง งบอุดหนุน 67'!K113 -> 0 | I105: =+'[1]สิ่งก่อสร้าง งบอุดหนุน 67'!L113 -> 0 | J105: =+'[1]สิ่งก่อสร้าง งบอุดหนุน 67'!M113 -> 0 | K105: =+D105-E105-F105-G105-H105-I105-J105 -> 0
...

Sheet งบประจำและงบพัฒนาคุณภาพการศึกษา
A1: รายงานผลการเบิกจ่ายเงินงบประมาณ งบประจำเพื่อการบริหารจัดการสำนักงานและงบพัฒนาคุณภาพการศึกษา
A2: ประจำปีงบประมาณ พ.ศ. 2569
A3: กลุ่มบริหารงานการเงินและสินทรัพย์ สำนักงานเขตพื้นที่การศึกษาประถมศึกษาปทุมธานี เขต 2
A4: ประจำเดือนสิงหาคม 2569
A5: ที่ | B5: รายการ | D5: =+[8]ระบบการควบคุมฯ!B746 -> กิจกรรมการบริหารจัดการในเขตพื้นที่การศึกษา | K5: =+[8]ระบบการควบคุมฯ!B873 -> กิจกรรมการจัดการศึกษาประถมศึกษาสำหรับโรงเรียนปกติ | R5: =+[8]งบสพฐ!B358 -> กิจกรรมการสนับสนุนการศึกษาขั้นพื้นฐาน | Y5: รวมกิจกรรมบริหารจัดการในสำนักงานเขตพื้นที่การศึกษา/กิจกรรมการจัดการศึกษาประถมศึกษาฯ/กิจกรรมสนับสนุนการศึกษาขั้นพื้นฐาน | AG5: ผู้รับผิดชอบ
C6: รหัสงบประมาณ | D6: งบบริหารสำนักงาน | E6: งบพัฒนาเพื่อพัฒนาคุณภาพการศึกษา | F6: รวมเงินงวด | G6: ผูกพัน | H6: =+[2]งบสพฐ!I6 -> 0 | I6: เบิก | J6: คงเหลือ | K6: งบบริหารสำนักงาน | L6: งบพัฒนาเพื่อพัฒนาคุณภาพการศึกษา | M6: รวมเงินงวด | N6: ผูกพัน | O6: กันเงินไว้เบิก | P6: เบิก | Q6: คงเหลือ | R6: งบบริหารสำนักงาน | S6: งบพัฒนาเพื่อพัฒนาคุณภาพการศึกษา | T6: รวมเงินงวด | U6: ผูกพัน | V6: กันเงินไว้เบิก | W6: เบิก | X6: คงเหลือ | Y6: งบบริหารสำนักงาน | Z6: งบพัฒนาเพื่อพัฒนาคุณภาพการศึกษา | AA6: รวมเงินงวด | AB6: ผูกพัน | AC6: กันเงินไว้เบิก | AD6: เบิก | AE6: คงเหลือ
C7: หนังสือแจ้งโอน
D8: (1) | E8: (2) | F8: (1)+(2)=3 | G8: (4) | H8: (5) | I8: (6) | J8: (3)-(4)-(6)=7 | K8: (1) | L8: (2) | M8: (1)+(2)=3 | N8: =+[8]ระบบการควบคุมฯ!G829+[8]ระบบการควบคุมฯ!H829 -> 0 | O8: (5) | P8: (6) | Q8: (3)-(4)-(6)=7 | R8: (1) | S8: (2) | T8: (1)+(2)=3 | U8: (4) | V8: (5) | W8: (6) | X8: (3)-(4)-(6)=7 | Y8: (1) | Z8: (2) | AA8: (1)+(2)=3 | AB8: (4) | AC8: (5) | AD8: (6) | AE8: (3)-(4)-(6)=7
A9: =+[8]ระบบการควบคุมฯ!628:628 -> ง | B9: =+[8]ระบบการควบคุมฯ!B628 -> แผนงานพื้นฐานด้านการพัฒนาและเสริมสร้างศักยภาพทรัพยากรมนุษย์ | D9: =+D11 -> 772710 | E9: =+E11 -> 227290 | F9: =+F11 -> 1000000 | G9: =+G11 -> 0 | H9: =+H11 -> 0 | I9: =+I11 -> 806901.78 | J9: =+J11 -> 193098.22 | K9: =+K11 -> 2519790 | ... AE9: =+AE11 -> 1462780.3
B10: =[8]ระบบการควบคุมฯ!B629 -> งบดำเนินงาน 69112xx | C10: =[3]งบประจำและงบพัฒนาคุณภาพการศึกษา!C115 -> 0 | D10: =+D11 -> 772710 | E10: =+E11 -> 227290 | F10: =+F11 -> 1000000 | G10: =+G11 -> 0 | H10: =+H11 -> 0 | I10: =+I11 -> 806901.78 | J10: =+J11 -> 193098.22 | K10: =+K11 -> 2519790 | ... AE10: =+AE11 -> 1462780.3
A11: =+[8]ระบบการควบคุมฯ!A722 -> 0 | B11: =+[8]ระบบการควบคุมฯ!B722 -> ผลผลิตผู้จบการศึกษาขั้นพื้นฐาน | C11: =[8]ระบบการควบคุมฯ!C723 -> 20004 3720 1000 2000000 | D11: =+D12 -> 772710 | E11: =+E12 -> 227290 | F11: =+F12 -> 1000000 | G11: =+G12 -> 0 | H11: =+H12 -> 0 | I11: =+I12 -> 806901.78 | J11: =+J12 -> 193098.22 | K11: =+K12 -> 2519790 | ... AE11: =+AE12 -> 1462780.3
A12: =+[8]ระบบการควบคุมฯ!A746 -> 1.4 | B12: กิจกรรมการบริหารจัดการในเขตพื้นที่การศึกษา/กิจกรรมการจัดการศึกษาประถมศึกษาสำหรับโรงเรียนปกติ/กิจกรรมการสนับสนุนการศึกษาขั้นพื้นฐาน | C12: =+[8]ระบบการควบคุมฯ!C746 -> 20004 69 00148 00000 | D12: =+D13 -> 772710 | E12: =+E13 -> 227290 | F12: =SUM(D12:E12) -> 1000000 | G12: =+G13 -> 0 | H12: =+H13 -> 0 | I12: =+I13 -> 806901.78 | J12: =+J13 -> 193098.22 | K12: =+K13 -> 2519790 | L12: =+L13 -> 1622710 | M12: =SUM(K12:L12) -> 4142500 | N12: =+N13 -> 0 | O12: =+O13 -> 0 | P12: =+P13 -> 2872818 | Q12: =+Q13 -> 1269682 | R12: =+R13 -> 0 | S12: =+S13 -> 0 | T12: =SUM(R12:S12) -> 0 | U12: =+U13 -> 0 | V12: =+V13 -> 0 | W12: =+W13 -> 0 | X12: =+X13 -> 0 | Y12: =+Y13 -> 3292500 | Z12: =+Z13 -> 1850000 | AA12: =SUM(Y12:Z12) -> 5142500 | AB12: =+AB13 -> 0 | AC12: =+AC13 -> 0 | AD12: =+AD13 -> 3679719.7 | AE12: =+AE13 -> 1462780.3
B13: =[8]ระบบการควบคุมฯ!B723 -> รวมงบดำเนินงาน 69112xx | C13: =[3]งบประจำและงบพัฒนาคุณภาพการศึกษา!C152 -> 0 | D13: =+D14+D28 -> 772710 | E13: =+E14+E28 -> 227290 | F13: =+F14+F28 -> 1000000 | G13: =+G14+G28 -> 0 | H13: =+H14+H28 -> 0 | I13: =+I14+I28 -> 806901.78 | J13: =+J14+J28 -> 193098.22 | K13: =+K14+K28 -> 2519790 | ... AE13: =+AE14+AE28 -> 1462780.3
A14: =+[8]ระบบการควบคุมฯ!A753 -> 1.4.1 | B14: =+[8]ระบบการควบคุมฯ!B753 -> งบประจำ บริหารจัดการสำนักงาน 790,000 บาท | C14: =+C12 -> 20004 69 00148 00000 | D14: =SUM(D15:D27) -> 772710 | E14: =SUM(E15:E27) -> 50000 | F14: =SUM(F15:F27) -> 822710 | G14: =SUM(G15:G27) -> 0 | H14: =SUM(H15:H27) -> 0 | I14: =SUM(I15:I27) -> 676011.78 | J14: =SUM(J15:J27) -> 146698.22 | K14: =SUM(K15:K27) -> 2519790 | ... AE14: =SUM(AE15:AE27) -> 954021.26 | AG14: กลุ่มบริหารงานการเงินและสินทรัพย์
A15: =+[8]ระบบการควบคุมฯ!A754 -> 1 | B15: =+[8]ระบบการควบคุมฯ!B879 -> ค่าสาธารณูปโภค 1,000,000 บาท อนุมัตครั้งที่ 1 300,000 บาท ครั้งที่ 2 140,000 บาท | C15: =+[8]ระบบการควบคุมฯ!C878 -> ศธ04002/ว11486 ลว.9 ก.ค. 69 ครั้งที่ 698 1,642,500 บาท | D15: =[8]ระบบการควบคุมฯ!F754 -> 0 | F15: =SUM(D15:E15) -> 0 | G15: =+[8]ระบบการควบคุมฯ!G754+[8]ระบบการควบคุมฯ!H754 -> 0 | H15: =+[8]ระบบการควบคุมฯ!I754+[8]ระบบการควบคุมฯ!J754 -> 0 | I15: =+[8]ระบบการควบคุมฯ!K754+[8]ระบบการควบคุมฯ!L754 -> 0 | J15: =+F15-G15-H15-I15 -> 0 | Y15: =+R15+K15+D15 -> 0 | Z15: =+S15+L15+E15 -> 0 | AA15: =SUM(Y15:Z15) -> 0 | AB15: =+G15+N15+U15 -> 0 | AC15: =+H15+O15+V15 -> 0 | AD15: =+I15+P15+W15 -> 0 | AE15: =+AA15-AB15-AC15-AD15 -> 0
A16: =+[8]ระบบการควบคุมฯ!A755 -> 1) | B16: =+[8]ระบบการควบคุมฯ!B879 -> ค่าสาธารณูปโภค 1,000,000 บาท อนุมัตครั้งที่ 1 300,000 บาท ครั้งที่ 2 140,000 บาท | C16: =+[8]ระบบการควบคุมฯ!C879 -> ศธ04002/ว46832 ลว.17 ต.ค. 68 ครั้งที่ 7 2,000,000 บาท | D16: =+[8]ระบบการควบคุมฯ!F755 -> 240000 | F16: =SUM(D16:E16) -> 240000 | G16: =+[8]ระบบการควบคุมฯ!G755+[8]ระบบการควบคุมฯ!H755 -> 0 | H16: =+[8]ระบบการควบคุมฯ!I755+[8]ระบบการควบคุมฯ!J755 -> 0 | I16: =+[8]ระบบการควบคุมฯ!K755+[8]ระบบการควบคุมฯ!L755 -> 239378.62 | J16: =+F16-G16-H16-I16 -> 621.38 | K16: =+[8]ระบบการควบคุมฯ!E879 -> 760000 | M16: =SUM(K16:K16) -> 760000 | N16: =+[8]ระบบการควบคุมฯ!G879+[8]ระบบการควบคุมฯ!H879 -> 0 | P16: =+[8]ระบบการควบคุมฯ!K879+[8]ระบบการควบคุมฯ!L879 -> 518586.65 | Q16: =+M16-N16-O16-P16 -> 241413.35 | Y16: =+R16+K16+D16 -> 1000000 | Z16: =+S16+L16+E16 -> 0 | AA16: =SUM(Y16:Z16) -> 1000000 | AB16: =+G16+N16+U16 -> 0 | AC16: =+H16+O16+V16 -> 0 | AD16: =+I16+P16+W16 -> 757965.27 | AE16: =+AA16-AB16-AC16-AD16 -> 242034.73 | AG16: กลุ่มบริหารงานการเงินและสินทรัพย์
A17: =+[8]ระบบการควบคุมฯ!A881 -> 2) | B17: =+[8]ระบบการควบคุมฯ!B881 -> ค้าจ้างเหมาบริการ ลูกจ้างสพป.ปท.2 15000x5คนx12 เดือน 900,000 บาท จัดสรรครั้งที่ 1 225,000 บาท | C17: =+[8]ระบบการควบคุมฯ!C881 -> ศธ04002/ว46832 ลว.17 ต.ค. 68 ครั้งที่ 7 2,000,000 บาท | D17: =+[8]ระบบการควบคุมฯ!F757 -> 222000 | F17: =SUM(D17:E17) -> 222000 | G17: =+[8]ระบบการควบคุมฯ!G757+[8]ระบบการควบคุมฯ!H757 -> 0 | H17: =+[8]ระบบการควบคุมฯ!I757+[8]ระบบการควบคุมฯ!J757 -> 0 | I17: =+[8]ระบบการควบคุมฯ!K757+[8]ระบบการควบคุมฯ!L757 -> 222000 | J17: =+F17-G17-H17-I17 -> 0 | K17: =+[8]ระบบการควบคุมฯ!E881 -> 678000 | M17: =SUM(K17:K17) -> 678000 | N17: =+[8]ระบบการควบคุมฯ!G881+[8]ระบบการควบคุมฯ!H881 -> 0 | P17: =+[8]ระบบการควบคุมฯ!K881+[8]ระบบการควบคุมฯ!L881 -> 504709.69 | Q17: =+M17-N17-O17-P17 -> 173290.31 | Y17: =+R17+K17+D17 -> 900000 | Z17: =+S17+L17+E17 -> 0 | AA17: =SUM(Y17:Z17) -> 900000 | AB17: =+G17+N17+U17 -> 0 | AC17: =+H17+O17+V17 -> 0 | AD17: =+I17+P17+W17 -> 726709.69 | AE17: =+AA17-AB17-AC17-AD17 -> 173290.31 | AG17: กลุ่มบริหารงานการเงินและสินทรัพย์
A18: =+[8]ระบบการควบคุมฯ!A882 -> 2.1) | B18: =+[8]ระบบการควบคุมฯ!B882 -> ค้าจ้างเหมาบริการ ลูกจ้างสพป.ปท.2 ครั้งที่ 2 75,000 บาท ยืมยกย่องเชิดชูเกียรติ 50,000 บาท | C18: =+[8]ระบบการควบคุมฯ!C882 -> ศธ04002/ว2369 ลว.11 ก.พ.69 ครั้งที่ 294 500,000 บาท | D18: =+[8]ระบบการควบคุมฯ!F759 -> 0 | F18: =SUM(D18:E18) -> 0 | G18: =+[8]ระบบการควบคุมฯ!G759+[8]ระบบการควบคุมฯ!H759 -> 0 | H18: =+[8]ระบบการควบคุมฯ!I759+[8]ระบบการควบคุมฯ!J759 -> 0 | I18: =+[8]ระบบการควบคุมฯ!K759+[8]ระบบการควบคุมฯ!L759 -> 0 | J18: =+F18-G18-H18-I18 -> 0 | K18: =+[8]ระบบการควบคุมฯ!E882 -> 0 | M18: =SUM(K18:K18) -> 0 | N18: =+[8]ระบบการควบคุมฯ!G882+[8]ระบบการควบคุมฯ!H882 -> 0 | P18: =+[8]ระบบการควบคุมฯ!K882+[8]ระบบการควบคุมฯ!L882 -> 0 | Q18: =+M18-N18-O18-P18 -> 0 | Y18: =+R18+K18+D18 -> 0 | Z18: =+S18+L18+E18 -> 0 | AA18: =SUM(Y18:Z18) -> 0 | AB18: =+G18+N18+U18 -> 0 | AC18: =+H18+O18+V18 -> 0 | AD18: =+I18+P18+W18 -> 0 | AE18: =+AA18-AB18-AC18-AD18 -> 0 | AG18: กลุ่มบริหารงานการเงินและสินทรัพย์
A19: =+[8]ระบบการควบคุมฯ!A885 -> 3) | B19: =+[8]ระบบการควบคุมฯ!B885 -> ค่าใช้จ่ายในการประชุม อ.ก.ค.ศ. เขตพื้นที่การศึกษา 60,000 บาท | C19: =+[8]ระบบการควบคุมฯ!C885 -> ศธ04002/ว46832 ลว.17 ต.ค. 68 ครั้งที่ 7 2,000,000 บาท | D19: =+[8]ระบบการควบคุมฯ!F759 -> 0 | F19: =SUM(D19:E19) -> 0 | G19: =+[8]ระบบการควบคุมฯ!G759+[8]ระบบการควบคุมฯ!H759 -> 0 | H19: =+[8]ระบบการควบคุมฯ!I759+[8]ระบบการควบคุมฯ!J759 -> 0 | I19: =+[8]ระบบการควบคุมฯ!K759+[8]ระบบการควบคุมฯ!L759 -> 0 | J19: =+F19-G19-H19-I19 -> 0 | Y19: =+R19+K19+D19 -> 0 | Z19: =+S19+L19+E19 -> 0 | AA19: =SUM(Y19:Z19) -> 0 | AB19: =+G19+N19+U19 -> 0 | AC19: =+H19+O19+V19 -> 0 | AD19: =+I19+P19+W19 -> 0 | AE19: =+AA19-AB19-AC19-AD19 -> 0 | AG19: กลุ่มบริหารงานบุคคล
A20: =+[8]ระบบการควบคุมฯ!A886 -> 3) | B20: =+[8]ระบบการควบคุมฯ!B886 -> ค่าซ่อมแซมยานพาหนะและขนส่ง 240,000 บาท ครั้งที่ 1 25,000 บาท | C20: =+[8]ระบบการควบคุมฯ!C886 -> ศธ04002/ว46832 ลว.17 ต.ค. 68 ครั้งที่ 7 2,000,000 บาท | D20: =+[8]ระบบการควบคุมฯ!F760 -> 75000 | F20: =SUM(D20:E20) -> 75000 | G20: =+[8]ระบบการควบคุมฯ!G760+[8]ระบบการควบคุมฯ!H760 -> 0 | H20: =+[8]ระบบการควบคุมฯ!I760+[8]ระบบการควบคุมฯ!J760 -> 0 | I20: =+[8]ระบบการควบคุมฯ!K760+[8]ระบบการควบคุมฯ!L760 -> 19866.46 | J20: =+F20-G20-H20-I20 -> 55133.54 | K20: =+[8]ระบบการควบคุมฯ!E886 -> 165000 | M20: =SUM(K20:K20) -> 165000 | N20: =+[8]ระบบการควบคุมฯ!G886+[8]ระบบการควบคุมฯ!H886 -> 0 | P20: =+[8]ระบบการควบคุมฯ!K886+[8]ระบบการควบคุมฯ!L886 -> 98254.94 | Q20: =+M20-N20-O20-P20 -> 66745.06 | Y20: =+R20+K20+D20 -> 240000 | Z20: =+S20+L20+E20 -> 0 | AA20: =SUM(Y20:Z20) -> 240000 | AB20: =+G20+N20+U20 -> 0 | AC20: =+H20+O20+V20 -> 0 | AD20: =+I20+P20+W20 -> 118121.4 | AE20: =+AA20-AB20-AC20-AD20 -> 121878.6 | AG20: กลุ่มบริหารงานการเงินและสินทรัพย์
A21: =+[8]ระบบการควบคุมฯ!A888 -> 4) | B21: =+[8]ระบบการควบคุมฯ!B888 -> ค่าซ่อมแซมครุภัณฑ์ 200,000 บาท ครั้งที่ 1 127,290 บาท | C21: =+[8]ระบบการควบคุมฯ!C888 -> ศธ04002/ว46832 ลว.17 ต.ค. 68 ครั้งที่ 7 2,000,000 บาท | D21: =+[8]ระบบการควบคุมฯ!F761 -> 32710 | F21: =SUM(D21:E21) -> 32710 | G21: =+[8]ระบบการควบคุมฯ!G761+[8]ระบบการควบคุมฯ!H761 -> 0 | H21: =+[8]ระบบการควบคุมฯ!I761+[8]ระบบการควบคุมฯ!J761 -> 0 | I21: =+[8]ระบบการควบคุมฯ!K761+[8]ระบบการควบคุมฯ!L761 -> 32710 | J21: =+F21-G21-H21-I21 -> 0 | K21: =+[8]ระบบการควบคุมฯ!E888 -> 167290 | M21: =SUM(K21:K21) -> 167290 | N21: =+[8]ระบบการควบคุมฯ!G888+[8]ระบบการควบคุมฯ!H888 -> 0 | P21: =+[8]ระบบการควบคุมฯ!K888+[8]ระบบการควบคุมฯ!L888 -> 162552.68 | Q21: =+M21-N21-O21-P21 -> 4737.32 | Y21: =+R21+K21+D21 -> 200000 | Z21: =+S21+L21+E21 -> 0 | AA21: =SUM(Y21:Z21) -> 200000 | AB21: =+G21+N21+U21 -> 0 | AC21: =+H21+O21+V21 -> 0 | AD21: =+I21+P21+W21 -> 195262.68 | AE21: =+AA21-AB21-AC21-AD21 -> 4737.32 | AG21: กลุ่มบริหารงานการเงินและสินทรัพย์
A22: =+[8]ระบบการควบคุมฯ!A890 -> 5) | B22: =+[8]ระบบการควบคุมฯ!B890 -> ค่าวัสดุสำนักงาน 350000 บาท ครั้งที่ 1 150,000 บาทครั้งที่ 2 25,000 บาท | C22: =+[8]ระบบการควบคุมฯ!C890 -> ศธ04002/ว46832 ลว.17 ต.ค. 68 ครั้งที่ 7 2,000,000 บาท | D22: =+[8]ระบบการควบคุมฯ!F762 -> 138000 | F22: =SUM(D22:E22) -> 138000 | G22: =+[8]ระบบการควบคุมฯ!G762+[8]ระบบการควบคุมฯ!H762 -> 0 | H22: =+[8]ระบบการควบคุมฯ!I762+[8]ระบบการควบคุมฯ!J762 -> 0 | I22: =+[8]ระบบการควบคุมฯ!K762+[8]ระบบการควบคุมฯ!L762 -> 98146.1 | J22: =+F22-G22-H22-I22 -> 39853.9 | K22: =+[8]ระบบการควบคุมฯ!E890 -> 312000 | M22: =SUM(K22:K22) -> 312000 | N22: =+[8]ระบบการควบคุมฯ!G890+[8]ระบบการควบคุมฯ!H890 -> 0 | P22: =+[8]ระบบการควบคุมฯ!K890+[8]ระบบการควบคุมฯ!L890 -> 258503 | Q22: =+M22-N22-O22-P22 -> 53497 | Y22: =+R22+K22+D22 -> 450000 | Z22: =+S22+L22+E22 -> 0 | AA22: =SUM(Y22:Z22) -> 450000 | AB22: =+G22+N22+U22 -> 0 | AC22: =+H22+O22+V22 -> 0 | AD22: =+I22+P22+W22 -> 356649.1 | AE22: =+AA22-AB22-AC22-AD22 -> 93350.9 | AG22: กลุ่มบริหารงานการเงินและสินทรัพย์
A23: =+[8]ระบบการควบคุมฯ!A891 -> 5.1) | B23: =+[8]ระบบการควบคุมฯ!B891 -> ค่าวัสดุสำนักงาน ครั้งที่ 2 25,000 บาท | C23: =+[8]ระบบการควบคุมฯ!C891 -> ศธ04002/ว2369 ลว.11 ก.พ.69 ครั้งที่ 294 500,000 บาท
A24: =+[8]ระบบการควบคุมฯ!A894 -> 7) | B24: =+[8]ระบบการควบคุมฯ!B894 -> ค่าน้ำมันเชื้อเพลิงและหล่อลื่น 200,000 บาท อนุมัติครั้งที่ 1 60,000 บาท | C24: =+[8]ระบบการควบคุมฯ!C894 -> ศธ04002/ว46832 ลว.17 ต.ค. 68 ครั้งที่ 7 2,000,000 บาท | D24: =+[8]ระบบการควบคุมฯ!F764 -> 65000 | F24: =SUM(D24:E24) -> 65000 | G24: =+[8]ระบบการควบคุมฯ!G764+[8]ระบบการควบคุมฯ!H764 -> 0 | H24: =+[8]ระบบการควบคุมฯ!I764+[8]ระบบการควบคุมฯ!J764 -> 0 | I24: =+[8]ระบบการควบคุมฯ!K764+[8]ระบบการควบคุมฯ!L764 -> 53435.6 | J24: =+F24-G24-H24-I24 -> 11564.4 | K24: =+[8]ระบบการควบคุมฯ!E894 -> 135000 | M24: =SUM(K24:K24) -> 135000 | N24: =+[8]ระบบการควบคุมฯ!G894+[8]ระบบการควบคุมฯ!H894 -> 0 | P24: =+[8]ระบบการควบคุมฯ!K894+[8]ระบบการควบคุมฯ!L894 -> 60000 | Q24: =+M24-N24-O24-P24 -> 75000 | Y24: =+R24+K24+D24 -> 200000 | Z24: =+S24+L24+E24 -> 0 | AA24: =SUM(Y24:Z24) -> 200000 | AB24: =+G24+N24+U24 -> 0 | AC24: =+H24+O24+V24 -> 0 | AD24: =+I24+P24+W24 -> 113435.6 | AE24: =+AA24-AB24-AC24-AD24 -> 86564.4 | AG24: กลุ่มบริหารงานการเงินและสินทรัพย์
A25: =+[8]ระบบการควบคุมฯ!A895 -> 7.1) | B25: =+[8]ระบบการควบคุมฯ!B768 -> อนุมัติโอนพาหนะ 50,000 บาท | C25: =+[8]ระบบการควบคุมฯ!C768 -> 0 | D25: =+[8]ระบบการควบคุมฯ!F768 -> 0 | F25: =SUM(D25:E25) -> 0 | G25: =+[8]ระบบการควบคุมฯ!G768+[8]ระบบการควบคุมฯ!H768 -> 0 | H25: =+[8]ระบบการควบคุมฯ!I768+[8]ระบบการควบคุมฯ!J768 -> 0 | I25: =+[8]ระบบการควบคุมฯ!K768+[8]ระบบการควบคุมฯ!L768 -> 0 | J25: =+F25-G25-H25-I25 -> 0 | Y25: =+R25+K25+D25 -> 0 | Z25: =+S25+L25+E25 -> 0 | AA25: =SUM(Y25:Z25) -> 0 | AB25: =+G25+N25+U25 -> 0 | AC25: =+H25+O25+V25 -> 0 | AD25: =+I25+P25+W25 -> 0 | AE25: =+AA25-AB25-AC25-AD25 -> 0 | AG25: กลุ่มบริหารงานการเงินและสินทรัพย์
A26: =+[8]ระบบการควบคุมฯ!A896 -> 8.1) | B26: =+[8]ระบบการควบคุมฯ!B896 -> ค่าใช้จ่ายในการเดินทางไปราชการและค่าใช้จ่ายในการประชุม งบประมาณ 110,000 บาท อนุมัติครั้งที่ 1 65,000 บาท บวกครั้งที่ 2-3 55000 บาท | C26: =+[8]ระบบการควบคุมฯ!C896 -> ศธ04002/ว46832 ลว.17 ต.ค. 68 ครั้งที่ 7 2,000,000 บาท | E26: =+[8]ระบบการควบคุมฯ!F765 -> 50000 | F26: =SUM(D26:E26) -> 50000 | G26: =+[8]ระบบการควบคุมฯ!G765+[8]ระบบการควบคุมฯ!H765 -> 0 | H26: =+[8]ระบบการควบคุมฯ!I765+[8]ระบบการควบคุมฯ!J765 -> 0 | I26: =+[8]ระบบการควบคุมฯ!K765+[8]ระบบการควบคุมฯ!L765 -> 10475 | J26: =+F26-G26-H26-I26 -> 39525 | K26: =+[8]ระบบการควบคุมฯ!E896 -> 110000 | M26: =SUM(K26:K26) -> 110000 | N26: =+[8]ระบบการควบคุมฯ!G896+[8]ระบบการควบคุมฯ!H896 -> 0 | P26: =+[8]ระบบการควบคุมฯ!K896+[8]ระบบการควบคุมฯ!L896 -> 107560 | Q26: =+M26-N26-O26-P26 -> 2440 | Y26: =+R26+K26+D26 -> 110000 | Z26: =+S26+L26+E26 -> 50000 | AA26: =SUM(Y26:Z26) -> 160000 | AB26: =+G26+N26+U26 -> 0 | AC26: =+H26+O26+V26 -> 0 | AD26: =+I26+P26+W26 -> 118035 | AE26: =+AA26-AB26-AC26-AD26 -> 41965 | AG26: กลุ่มบริหารงานการเงินและสินทรัพย์
A27: =+[8]ระบบการควบคุมฯ!A898 -> 9) | B27: =+[8]ระบบการควบคุมฯ!B898 -> งบกลาง 200,000 บาท +เพิ่มเติม 142,500 บาท อนุมัติพาหนะ 50,000บาท วัสดุ 100,000 บาท | C27: =+[8]ระบบการควบคุมฯ!C898 -> ศธ04002/ว46832 ลว.17 ต.ค. 68 ครั้งที่ 7 2,000,000 บาท | D27: =+[8]ระบบการควบคุมฯ!F767 -> 0 | F27: =SUM(D27:E27) -> 0 | G27: =+[8]ระบบการควบคุมฯ!G767+[8]ระบบการควบคุมฯ!H767 -> 0 | H27: =+[8]ระบบการควบคุมฯ!I767+[8]ระบบการควบคุมฯ!J767 -> 0 | I27: =+[8]ระบบการควบคุมฯ!K767+[8]ระบบการควบคุมฯ!L767 -> 0 | J27: =+F27-G27-H27-I27 -> 0 | K27: =+[8]ระบบการควบคุมฯ!E898 -> 192500 | M27: =SUM(K27:K27) -> 192500 | N27: =+[8]ระบบการควบคุมฯ!G898+[8]ระบบการควบคุมฯ!H898 -> 0 | P27: =+[8]ระบบการควบคุมฯ!K898+[8]ระบบการควบคุมฯ!L898 -> 2300 | Q27: =+M27-N27-O27-P27 -> 190200 | Y27: =+R27+K27+D27 -> 192500 | Z27: =+S27+L27+E27 -> 0 | AA27: =SUM(Y27:Z27) -> 192500 | AB27: =+G27+N27+U27 -> 0 | AC27: =+H27+O27+V27 -> 0 | AD27: =+I27+P27+W27 -> 2300 | AE27: =+AA27-AB27-AC27-AD27 -> 190200 | AG27: กลุ่มนโยบายและแผน
A28: =+[8]ระบบการควบคุมฯ!A903 -> 2 | B28: =+[8]ระบบการควบคุมฯ!B903 -> งบกลยุทธ์ ของสพป.ปท.2 1,800,000 บาท | C28: =+[8]ระบบการควบคุมฯ!C903 -> ศธ04002/ว11486 ลว.9 ก.ค. 69 ครั้งที่ 698 1,642,500 บาท | D28: =+D29+D40+D45+D48 -> 0 | E28: =+E29+E40+E45+E48 -> 177290 | F28: =+F29+F40+F45+F48 -> 177290 | G28: =+G29+G40+G45+G48 -> 0 | H28: =+H29+H40+H45+H48 -> 0 | I28: =+I29+I40+I45+I48 -> 130890 | J28: =+J29+J40+J45+J48 -> 46400 | K28: =+K29+K40+K45+K48 -> 0 | ... AE28: =+AE29+AE40+AE45+AE48 -> 508759 | AF28: =SUM(AF45:AF62) -> 0 | AG28: กลุ่มนิเทศติดตามและประเมินผลฯ
A29: =+[8]ระบบการควบคุมฯ!A904 -> 2.1) | B29: =+[8]ระบบการควบคุมฯ!B904 -> กลยุทธ์ที่ 1 ยกระดับคุณภาพการศึกษา 391,200 บาท จัดสรรครั้งที่ 1 362,000 บาท จัดครั้งที่ 2 4,200 บาท | C29: =+C28 -> ศธ04002/ว11486 ลว.9 ก.ค. 69 ครั้งที่ 698 1,642,500 บาท | D29: =SUM(D30:D39) -> 0 | E29: =SUM(E30:E39) -> 4200 | F29: =SUM(F30:F39) -> 4200 | G29: =SUM(G30:G39) -> 0 | H29: =SUM(H30:H39) -> 0 | I29: =SUM(I30:I39) -> 2800 | J29: =SUM(J30:J39) -> 1400 | K29: =SUM(K30:K39) -> 0 | ... AF29: =SUM(AF30:AF39) -> 0
A30: =+[8]ระบบการควบคุมฯ!A905 -> 2.1.1) | B30: =+[8]ระบบการควบคุมฯ!B905 -> โครงการพัฒนาหลักสูตรสถานศึกษาและกระบวนการจัดการเรียนรู้สู่ฐานสมรรถนะ 67,950 บาท | C30: =+[8]ระบบการควบคุมฯ!C905 -> ศธ04002/ว46832 ลว.17 ต.ค. 68 ครั้งที่ 7 2,000,000 บาท | K30: =+[8]ระบบการควบคุมฯ!D913 -> 0 | L30: =+[8]ระบบการควบคุมฯ!E905 -> 67950 | M30: =SUM(K30:L30) -> 67950 | N30: =+[8]ระบบการควบคุมฯ!G905+[8]ระบบการควบคุมฯ!H905 -> 0 | P30: =+[8]ระบบการควบคุมฯ!K905+[8]ระบบการควบคุมฯ!L905 -> 67950 | Q30: =+M30-N30-O30-P30 -> 0 | Y30: =+D30+K30+R30 -> 0 | Z30: =+E30+S30+L30 -> 67950 | AA30: =SUM(Y30:Z30) -> 67950 | AB30: =+G30+U30+N30 -> 0 | AC30: =+H30+V30+O30 -> 0 | AD30: =+I30+W30+P30 -> 67950 | AE30: =+AA30-AB30-AC30-AD30 -> 0 | AG30: กลุ่มนิเทศติดตามและประเมินผลฯ
A31: =+[8]ระบบการควบคุมฯ!A906 -> 0 | B31: =+[8]ระบบการควบคุมฯ!B906 -> อนุมพิ่มครั้งที่ 2 49,950 บาท | C31: =+[8]ระบบการควบคุมฯ!C906 -> ศธ04002/ว2369 ลว.11 ก.พ.69 ครั้งที่ 294 500,000 บาท | K31: =+[8]ระบบการควบคุมฯ!D915 -> 0 | L31: =+[8]ระบบการควบคุมฯ!E906 -> 0 | M31: =SUM(K31:L31) -> 0 | N31: =+[8]ระบบการควบคุมฯ!G906+[8]ระบบการควบคุมฯ!H906 -> 0 | P31: =+[8]ระบบการควบคุมฯ!K906+[8]ระบบการควบคุมฯ!L906 -> 0 | Q31: =+M31-N31-O31-P31 -> 0 | Y31: =+D31+K31+R31 -> 0 | Z31: =+E31+S31+L31 -> 0 | AA31: =SUM(Y31:Z31) -> 0 | AB31: =+G31+U31+N31 -> 0 | AC31: =+H31+V31+O31 -> 0 | AD31: =+I31+W31+P31 -> 0 | AE31: =+AA31-AB31-AC31-AD31 -> 0
A32: =+[8]ระบบการควบคุมฯ!A907 -> 2.1.2) | B32: =+[8]ระบบการควบคุมฯ!B907 -> โครงการขับเคลื่อนพัฒนาระบบการประกันคุณภาพภายในโดยใช้กลุ่มเครือข่ายสถานศึกษาแบบยั่งยืน 50,000 บาท | C32: =+[8]ระบบการควบคุมฯ!C907 -> ศธ04002/ว46832 ลว.17 ต.ค. 68 ครั้งที่ 7 2,000,000 บาท | K32: =+[8]ระบบการควบคุมฯ!D916 -> 0 | L32: =+[8]ระบบการควบคุมฯ!E907 -> 50000 | M32: =SUM(K32:L32) -> 50000 | N32: =+[8]ระบบการควบคุมฯ!G907+[8]ระบบการควบคุมฯ!H907 -> 0 | P32: =+[8]ระบบการควบคุมฯ!K907+[8]ระบบการควบคุมฯ!L907 -> 49860 | Q32: =+M32-N32-O32-P32 -> 140 | Y32: =+D32+K32+R32 -> 0 | Z32: =+E32+S32+L32 -> 50000 | AA32: =SUM(Y32:Z32) -> 50000 | AB32: =+G32+U32+N32 -> 0 | AC32: =+H32+V32+O32 -> 0 | AD32: =+I32+W32+P32 -> 49860 | AE32: =+AA32-AB32-AC32-AD32 -> 140 | AG32: กลุ่มนิเทศติดตามและประเมินผลฯ
A33: =+[8]ระบบการควบคุมฯ!A908 -> 0 | B33: =+[8]ระบบการควบคุมฯ!B908 -> อนุมพิ่มครั้งที่ 2 30,000 บาท | C33: =+[8]ระบบการควบคุมฯ!C908 -> ศธ04002/ว2369 ลว.11 ก.พ.69 ครั้งที่ 294 500,000 บาท | K33: =+[8]ระบบการควบคุมฯ!D917 -> 0 | L33: =+[8]ระบบการควบคุมฯ!E908 -> 0 | M33: =SUM(K33:L33) -> 0 | N33: =+[8]ระบบการควบคุมฯ!G908+[8]ระบบการควบคุมฯ!H908 -> 0 | P33: =+[8]ระบบการควบคุมฯ!K908+[8]ระบบการควบคุมฯ!L908 -> 0 | Q33: =+M33-N33-O33-P33 -> 0 | Y33: =+D33+K33+R33 -> 0 | Z33: =+E33+S33+L33 -> 0 | AA33: =SUM(Y33:Z33) -> 0 | AB33: =+G33+U33+N33 -> 0 | AC33: =+H33+V33+O33 -> 0 | AD33: =+I33+W33+P33 -> 0 | AE33: =+AA33-AB33-AC33-AD33 -> 0
A34: =+[8]ระบบการควบคุมฯ!A909 -> 2.1.3) | B34: =+[8]ระบบการควบคุมฯ!B909 -> โครงการส่งเสริมประสิทธิผลการสอนของครูโดยการใช้ปัญญาประดิษฐ์ (AI) บนแพลตฟอร์ดิจิทัล 43,850 บาท | C34: =+[8]ระบบการควบคุมฯ!C909 -> ศธ04002/ว46832 ลว.17 ต.ค. 68 ครั้งที่ 7 2,000,000 บาท | K34: =+[8]ระบบการควบคุมฯ!D918 -> 0 | L34: =+[8]ระบบการควบคุมฯ!E909 -> 43850 | M34: =SUM(K34:L34) -> 43850 | N34: =+[8]ระบบการควบคุมฯ!G909+[8]ระบบการควบคุมฯ!H909 -> 0 | P34: =+[8]ระบบการควบคุมฯ!K909+[8]ระบบการควบคุมฯ!L909 -> 40290 | Q34: =+M34-N34-O34-P34 -> 3560 | Y34: =+D34+K34+R34 -> 0 | Z34: =+E34+S34+L34 -> 43850 | AA34: =SUM(Y34:Z34) -> 43850 | AB34: =+G34+U34+N34 -> 0 | AC34: =+H34+V34+O34 -> 0 | AD34: =+I34+W34+P34 -> 40290 | AE34: =+AA34-AB34-AC34-AD34 -> 3560 | AG34: กลุ่มนิเทศติดตามและประเมินผลฯ
A35: =+[8]ระบบการควบคุมฯ!A910 -> 0 | B35: =+[8]ระบบการควบคุมฯ!B910 -> อนุมัติครั้งที่ 2 31850 บาท | C35: =+[8]ระบบการควบคุมฯ!C910 -> ศธ04002/ว2369 ลว.11 ก.พ.69 ครั้งที่ 294 500,000 บาท | K35: =+[8]ระบบการควบคุมฯ!D919 -> 0 | L35: =+[8]ระบบการควบคุมฯ!E910 -> 0 | M35: =SUM(K35:L35) -> 0 | N35: =+[8]ระบบการควบคุมฯ!G910+[8]ระบบการควบคุมฯ!H910 -> 0 | P35: =+[8]ระบบการควบคุมฯ!K910+[8]ระบบการควบคุมฯ!L910 -> 0 | Q35: =+M35-N35-O35-P35 -> 0 | Y35: =+D35+K35+R35 -> 0 | Z35: =+E35+S35+L35 -> 0 | AA35: =SUM(Y35:Z35) -> 0 | AB35: =+G35+U35+N35 -> 0 | AC35: =+H35+V35+O35 -> 0 | AD35: =+I35+W35+P35 -> 0 | AE35: =+AA35-AB35-AC35-AD35 -> 0
A36: =+[8]ระบบการควบคุมฯ!A911 -> 2.1.4 | B36: =+[8]ระบบการควบคุมฯ!B911 -> โครงการโรงเรียนคุณธรรม สพฐ. 25,000 บาท | C36: =+[8]ระบบการควบคุมฯ!C911 -> ศธ04002/ว2369 ลว.11 ก.พ.69 ครั้งที่ 294 500,000 บาท | K36: =+[8]ระบบการควบคุมฯ!D920 -> 0 | L36: =+[8]ระบบการควบคุมฯ!E911 -> 25000 | M36: =SUM(K36:L36) -> 25000 | N36: =+[8]ระบบการควบคุมฯ!G911+[8]ระบบการควบคุมฯ!H911 -> 0 | P36: =+[8]ระบบการควบคุมฯ!K911+[8]ระบบการควบคุมฯ!L911 -> 15500 | Q36: =+M36-N36-O36-P36 -> 9500 | Y36: =+D36+K36+R36 -> 0 | Z36: =+E36+S36+L36 -> 25000 | AA36: =SUM(Y36:Z36) -> 25000 | AB36: =+G36+U36+N36 -> 0 | AC36: =+H36+V36+O36 -> 0 | AD36: =+I36+W36+P36 -> 15500 | AE36: =+AA36-AB36-AC36-AD36 -> 9500 | AG36: กลุ่มนิเทศติดตามและประเมินผลฯ
A37: =+[8]ระบบการควบคุมฯ!A912 -> 2.1.5 | B37: =+[8]ระบบการควบคุมฯ!B912 -> โครงการส่งเสริมคุณภาพการจัดการเรียนรู้แนวใหม่ จำนวนเงิน 104,400 บาท อนุมัติครั้งที่ 1 30,000 บาทครั้งที่ 2 63,200 บาท ครั้งที่ 3 4200 บาท | C37: =+[8]ระบบการควบคุมฯ!C912 -> ศธ04002/ว46832 ลว.17 ต.ค. 68 ครั้งที่ 7 2,000,000 บาท | D37: =+[8]ระบบการควบคุมฯ!D785 -> 0 | E37: =+[8]ระบบการควบคุมฯ!E785 -> 4200 | F37: =SUM(D37:E37) -> 4200 | G37: =+[8]ระบบการควบคุมฯ!G785+[8]ระบบการควบคุมฯ!H785 -> 0 | H37: =+[8]ระบบการควบคุมฯ!I785+[8]ระบบการควบคุมฯ!J785 -> 0 | I37: =+[8]ระบบการควบคุมฯ!K785+[8]ระบบการควบคุมฯ!L785 -> 2800 | J37: =+F37-G37-H37-I37 -> 1400 | K37: =+[8]ระบบการควบคุมฯ!D921 -> 0 | L37: =+[8]ระบบการควบคุมฯ!E912 -> 100200 | M37: =SUM(K37:L37) -> 100200 | N37: =+[8]ระบบการควบคุมฯ!G912+[8]ระบบการควบคุมฯ!H912 -> 0 | P37: =+[8]ระบบการควบคุมฯ!K912+[8]ระบบการควบคุมฯ!L912 -> 90437 | Q37: =+M37-N37-O37-P37 -> 9763 | Y37: =+D37+K37+R37 -> 0 | Z37: =+E37+S37+L37 -> 104400 | AA37: =SUM(Y37:Z37) -> 104400 | AB37: =+G37+U37+N37 -> 0 | AC37: =+H37+V37+O37 -> 0 | AD37: =+I37+W37+P37 -> 93237 | AE37: =+AA37-AB37-AC37-AD37 -> 11163 | AG37: กลุ่มนิเทศติดตามและประเมินผลฯ
A38: =+[8]ระบบการควบคุมฯ!A913 -> 0 | B38: =+[8]ระบบการควบคุมฯ!B913 -> อนุมัติครั้งที่ 2 63,200 บาท | C38: =+[8]ระบบการควบคุมฯ!C913 -> ศธ04002/ว2369 ลว.11 ก.พ.69 ครั้งที่ 294 500,000 บาท | K38: =+[8]ระบบการควบคุมฯ!D922 -> 0 | L38: =+[8]ระบบการควบคุมฯ!E913 -> 0 | M38: =SUM(K38:L38) -> 0 | N38: =+[8]ระบบการควบคุมฯ!G913+[8]ระบบการควบคุมฯ!H913 -> 0 | P38: =+[8]ระบบการควบคุมฯ!K913+[8]ระบบการควบคุมฯ!L913 -> 0 | Q38: =+M38-N38-O38-P38 -> 0 | Y38: =+D38+K38+R38 -> 0 | Z38: =+E38+S38+L38 -> 0 | AA38: =SUM(Y38:Z38) -> 0 | AB38: =+G38+U38+N38 -> 0 | AC38: =+H38+V38+O38 -> 0 | AD38: =+I38+W38+P38 -> 0 | AE38: =+AA38-AB38-AC38-AD38 -> 0
A39: =+[8]ระบบการควบคุมฯ!A915 -> 2.1.6) | B39: =+[8]ระบบการควบคุมฯ!B915 -> โครงการวัดและประเมินผลเพื่อพัฒนาการเรียนรู้ของผู้เรียน 100,000 บาท อนุมัติครั้งที่ 1 82,000 บาท | C39: =+[8]ระบบการควบคุมฯ!C915 -> ศธ04002/ว46832 ลว.17 ต.ค. 68 ครั้งที่ 7 2,000,000 บาท | K39: =+[8]ระบบการควบคุมฯ!D915 -> 0 | L39: =+[8]ระบบการควบคุมฯ!E915 -> 100000 | M39: =SUM(K39:L39) -> 100000 | N39: =+[8]ระบบการควบคุมฯ!G915+[8]ระบบการควบคุมฯ!H915 -> 0 | P39: =+[8]ระบบการควบคุมฯ!K915+[8]ระบบการควบคุมฯ!L915 -> 100000 | Q39: =+M39-N39-O39-P39 -> 0 | Y39: =+D39+K39+R39 -> 0 | Z39: =+E39+S39+L39 -> 100000 | AA39: =SUM(Y39:Z39) -> 100000 | AB39: =+G39+U39+N39 -> 0 | AC39: =+H39+V39+O39 -> 0 | AD39: =+I39+W39+P39 -> 100000 | AE39: =+AA39-AB39-AC39-AD39 -> 0 | AG39: กลุ่มนิเทศติดตามและประเมินผลฯ
A40: =+[8]ระบบการควบคุมฯ!A919 -> 2.2) | B40: =+[8]ระบบการควบคุมฯ!B919 -> กลยุทธ์ที่ 2 เพิ่มโอกาสและความเสมอภาคทางการศึกษา 98,710 บาท จัดสรรครั้งที่ 1 50,000 บาท ยืมงบกลาง 30710 บาท | C40: =+C29 -> ศธ04002/ว11486 ลว.9 ก.ค. 69 ครั้งที่ 698 1,642,500 บาท | D40: =SUM(D41:D44) -> 0 | E40: =SUM(E41:E44) -> 18000 | F40: =SUM(F41:F44) -> 18000 | G40: =SUM(G41:G44) -> 0 | H40: =SUM(H41:H44) -> 0 | I40: =SUM(I41:I44) -> 18000 | J40: =SUM(J41:J44) -> 0 | K40: =SUM(K41:K44) -> 0 | ... AF40: =SUM(AF41:AF44) -> 0
A41: =+[8]ระบบการควบคุมฯ!A920 -> 2.2.1) | B41: =+[8]ระบบการควบคุมฯ!B920 -> โครงการเสริมสร้างพลเมืองดี วิถีประชาธิปไตยในสถานศึกษา ประจำปี 2569 10,000 บาท | C41: =+[8]ระบบการควบคุมฯ!C920 -> ศธ04002/ว46832 ลว.17 ต.ค. 68 ครั้งที่ 7 2,000,000 บาท | D41: =+[8]ระบบการควบคุมฯ!D788 -> 0 | E41: =+[8]ระบบการควบคุมฯ!E788 -> 0 | F41: =+[8]ระบบการควบคุมฯ!F788 -> 0 | G41: =+[8]ระบบการควบคุมฯ!G788+[8]ระบบการควบคุมฯ!H788 -> 0 | H41: =+[8]ระบบการควบคุมฯ!I788+[8]ระบบการควบคุมฯ!J788 -> 0 | I41: =+[8]ระบบการควบคุมฯ!K788+[8]ระบบการควบคุมฯ!L788 -> 0 | J41: =+F41-G41-H41-I41 -> 0 | L41: =+[8]ระบบการควบคุมฯ!E920 -> 10000 | M41: =+K41+L41 -> 10000 | N41: =+[8]ระบบการควบคุมฯ!G920+[8]ระบบการควบคุมฯ!H920 -> 0 | P41: =+[8]ระบบการควบคุมฯ!K920+[8]ระบบการควบคุมฯ!L920 -> 10000 | Q41: =+M41-N41-O41-P41 -> 0 | Y41: =+R41+K41+D41 -> 0 | Z41: =+S41+L41+E41 -> 10000 | AA41: =SUM(Y41:Z41) -> 10000 | AB41: =+G41+N41+U41 -> 0 | AC41: =+H41+O41+V41 -> 0 | AD41: =+I41+P41+W41 -> 10000 | AE41: =+AA41-AB41-AC41-AD41 -> 0 | AG41: กลุ่มส่งเสริมการจัดการศึกษา
A42: =+[8]ระบบการควบคุมฯ!A921 -> .2.2.2) | B42: =+[8]ระบบการควบคุมฯ!B921 -> โครงการวัดและประเมินผลการจัดการศึกษาโดยครอบครัว ประจำปี 2569 10,710 บาท | C42: =+[8]ระบบการควบคุมฯ!C921 -> ศธ04002/ว46832 ลว.17 ต.ค. 68 ครั้งที่ 7 2,000,000 บาท | D42: =+[8]ระบบการควบคุมฯ!D789 -> 0 | E42: =+[8]ระบบการควบคุมฯ!E789 -> 0 | F42: =+[8]ระบบการควบคุมฯ!F789 -> 0 | G42: =+[8]ระบบการควบคุมฯ!G789+[8]ระบบการควบคุมฯ!H789 -> 0 | H42: =+[8]ระบบการควบคุมฯ!I789+[8]ระบบการควบคุมฯ!J789 -> 0 | I42: =+[8]ระบบการควบคุมฯ!K789+[8]ระบบการควบคุมฯ!L789 -> 0 | J42: =+F42-G42-H42-I42 -> 0 | L42: =+[8]ระบบการควบคุมฯ!E921 -> 10710 | M42: =+K42+L42 -> 10710 | N42: =+[8]ระบบการควบคุมฯ!G921+[8]ระบบการควบคุมฯ!H921 -> 0 | P42: =+[8]ระบบการควบคุมฯ!K921+[8]ระบบการควบคุมฯ!L921 -> 10200 | Q42: =+M42-N42-O42-P42 -> 510 | Y42: =+R42+K42+D42 -> 0 | Z42: =+S42+L42+E42 -> 10710 | AA42: =SUM(Y42:Z42) -> 10710 | AB42: =+G42+N42+U42 -> 0 | AC42: =+H42+O42+V42 -> 0 | AD42: =+I42+P42+W42 -> 10200 | AE42: =+AA42-AB42-AC42-AD42 -> 510 | AG42: กลุ่มส่งเสริมการจัดการศึกษา
A43: =+[8]ระบบการควบคุมฯ!A922 -> 2.2.3) | B43: =+[8]ระบบการควบคุมฯ!B922 -> โครงการพัฒนาสมรรถนะการจัดการเรียนรู้สำหรับเด็กที่มีความต้องการพิเศษ 60,000 บาท | C43: =+[8]ระบบการควบคุมฯ!C922 -> ศธ04002/ว46832 ลว.17 ต.ค. 68 ครั้งที่ 7 2,000,000 บาท | E43: =+[8]ระบบการควบคุมฯ!E790 -> 0 | F43: =SUM(E43) -> 0 | G43: =+[8]ระบบการควบคุมฯ!G790+[8]ระบบการควบคุมฯ!H790 -> 0 | H43: =+[8]ระบบการควบคุมฯ!I790+[8]ระบบการควบคุมฯ!J790 -> 0 | I43: =+[8]ระบบการควบคุมฯ!K790+[8]ระบบการควบคุมฯ!L790 -> 0 | J43: =+F43-G43-H43-I43 -> 0 | L43: =+[8]ระบบการควบคุมฯ!E922 -> 60000 | M43: =+K43+L43 -> 60000 | N43: =+[8]ระบบการควบคุมฯ!G922+[8]ระบบการควบคุมฯ!H922 -> 0 | P43: =+[8]ระบบการควบคุมฯ!K922+[8]ระบบการควบคุมฯ!L922 -> 60000 | Q43: =+M43-N43-O43-P43 -> 0 | Y43: =+R43+K43+D43 -> 0 | Z43: =+S43+L43+E43 -> 60000 | AA43: =SUM(Y43:Z43) -> 60000 | AB43: =+G43+N43+U43 -> 0 | AC43: =+H43+O43+V43 -> 0 | AD43: =+I43+P43+W43 -> 60000 | AE43: =+AA43-AB43-AC43-AD43 -> 0 | AG43: กลุ่มนิเทศติดตามและประเมินผลฯ
A44: =+[8]ระบบการควบคุมฯ!A921 -> .2.2.2) | B44: =+[8]ระบบการควบคุมฯ!B791 -> โครงการพัฒนาระบบแนะแนวการเรียน (Coaching) และแนะแนวเป้าหมายชีวิต 18,000 บาท | C44: =+[8]ระบบการควบคุมฯ!C791 -> ศธ04002/ว6334 ลว.21 เม.ย. 69 ครั้งที่ 3 โอนครั้งที่ 440 | E44: =+[8]ระบบการควบคุมฯ!E791 -> 18000 | F44: =SUM(E44) -> 18000 | G44: =+[8]ระบบการควบคุมฯ!G791+[8]ระบบการควบคุมฯ!H791 -> 0 | H44: =+[8]ระบบการควบคุมฯ!I791+[8]ระบบการควบคุมฯ!J791 -> 0 | I44: =+[8]ระบบการควบคุมฯ!K791+[8]ระบบการควบคุมฯ!L791 -> 18000 | J44: =+F44-G44-H44-I44 -> 0 | Y44: =+R44+K44+D44 -> 0 | Z44: =+S44+L44+E44 -> 18000 | AA44: =SUM(Y44:Z44) -> 18000 | AB44: =+G44+N44+U44 -> 0 | AC44: =+H44+O44+V44 -> 0 | AD44: =+I44+P44+W44 -> 18000 | AE44: =+AA44-AB44-AC44-AD44 -> 0 | AG44: กลุ่มส่งเสริมการจัดการศึกษา
A45: =+[8]ระบบการควบคุมฯ!A926 -> 2.3) | B45: =+[8]ระบบการควบคุมฯ!B926 -> กลยุทธ์ที่ 3 ส่งเสริมความปลอดภัยของผู้เรียน ครูและบุคลากรทางการศึกษาและสถานศึกษา 75,800 บาท จัดสรรครั้งที่ 1 50,000 บาท | C45: =+[8]ระบบการควบคุมฯ!C926 -> ศธ04002/ว46832 ลว.17 ต.ค. 68 ครั้งที่ 7 2,000,000 บาท | D45: =SUM(D46:D47) -> 0 | E45: =SUM(E46:E47) -> 25800 | F45: =SUM(F46:F47) -> 25800 | G45: =SUM(G46:G47) -> 0 | H45: =SUM(H46:H47) -> 0 | I45: =SUM(I46:I47) -> 25800 | J45: =SUM(J46:J47) -> 0 | L45: =SUM(L46:L47) -> 50000 | M45: =SUM(M46:M47) -> 50000 | N45: =SUM(N46:N47) -> 0 | O45: =SUM(O46:O47) -> 0 | P45: =SUM(P46:P47) -> 44850 | Q45: =SUM(Q46:Q47) -> 5150 | Y45: =+R45+K45+D45 -> 0 | Z45: =+S45+L45+E45 -> 75800 | AA45: =SUM(Y45:Z45) -> 75800 | AB45: =+G45+N45+U45 -> 0 | AC45: =+H45+O45+V45 -> 0 | AD45: =+I45+P45+W45 -> 70650 | AE45: =+AA45-AB45-AC45-AD45 -> 5150
A46: =+[8]ระบบการควบคุมฯ!A927 -> 2.3.1) | B46: =+[8]ระบบการควบคุมฯ!B927 -> โครงการส่งเสริมทักษะชีวิตให้กับนักเรียน 30,000 บาท | C46: =+[8]ระบบการควบคุมฯ!C927 -> ศธ04002/ว46832 ลว.17 ต.ค. 68 ครั้งที่ 7 2,000,000 บาท | D46: =+[8]ระบบการควบคุมฯ!D793 -> 0 | E46: =+[8]ระบบการควบคุมฯ!E793 -> 0 | F46: =+[8]ระบบการควบคุมฯ!F793 -> 0 | G46: =+[8]ระบบการควบคุมฯ!G793+[8]ระบบการควบคุมฯ!H793 -> 0 | H46: =+[8]ระบบการควบคุมฯ!I793+[8]ระบบการควบคุมฯ!J793 -> 0 | I46: =+[8]ระบบการควบคุมฯ!K793+[8]ระบบการควบคุมฯ!L793 -> 0 | J46: =+F46-G46-H46-I46 -> 0 | L46: =+[8]ระบบการควบคุมฯ!E927 -> 30000 | M46: =SUM(K46:L46) -> 30000 | N46: =+[8]ระบบการควบคุมฯ!G927+[8]ระบบการควบคุมฯ!H927 -> 0 | P46: =+[8]ระบบการควบคุมฯ!K927+[8]ระบบการควบคุมฯ!L927 -> 24850 | Q46: =+M46-N46-O46-P46 -> 5150 | Y46: =+R46+K46+D46 -> 0 | Z46: =+S46+L46+E46 -> 30000 | AA46: =SUM(Y46:Z46) -> 30000 | AB46: =+G46+N46+U46 -> 0 | AC46: =+H46+O46+V46 -> 0 | AD46: =+I46+P46+W46 -> 24850 | AE46: =+AA46-AB46-AC46-AD46 -> 5150 | AG46: กลุ่มนิเทศติดตามและประเมินผลฯ
A47: =+[8]ระบบการควบคุมฯ!A928 -> 2.3.2) | B47: =+[8]ระบบการควบคุมฯ!B928 -> โครงการพัฒนาระบบและกลไกดูแลความปลอดภัย 45,800 บาท อนุมัติครั้งที่ 1 20,000 บาท ครั้งที่ 3 25,800 บาท | C47: =+[8]ระบบการควบคุมฯ!C928 -> ศธ04002/ว46832 ลว.17 ต.ค. 68 ครั้งที่ 7 2,000,000 บาท | D47: =+[8]ระบบการควบคุมฯ!D794 -> 0 | E47: =+[8]ระบบการควบคุมฯ!E794 -> 25800 | F47: =+[8]ระบบการควบคุมฯ!F794 -> 25800 | G47: =+[8]ระบบการควบคุมฯ!G794+[8]ระบบการควบคุมฯ!H794 -> 0 | H47: =+[8]ระบบการควบคุมฯ!I794+[8]ระบบการควบคุมฯ!J794 -> 0 | I47: =+[8]ระบบการควบคุมฯ!K794+[8]ระบบการควบคุมฯ!L794 -> 25800 | J47: =+F47-G47-H47-I47 -> 0 | L47: =+[8]ระบบการควบคุมฯ!E928 -> 20000 | M47: =SUM(K47:L47) -> 20000 | N47: =+[8]ระบบการควบคุมฯ!G928+[8]ระบบการควบคุมฯ!H928 -> 0 | P47: =+[8]ระบบการควบคุมฯ!K928+[8]ระบบการควบคุมฯ!L928 -> 20000 | Q47: =+M47-N47-O47-P47 -> 0 | Y47: =+R47+K47+D47 -> 0 | Z47: =+S47+L47+E47 -> 45800 | AA47: =SUM(Y47:Z47) -> 45800 | AB47: =+G47+N47+U47 -> 0 | AC47: =+H47+O47+V47 -> 0 | AD47: =+I47+P47+W47 -> 45800 | AE47: =+AA47-AB47-AC47-AD47 -> 0 | AG47: กลุ่มส่งเสริมการจัดการศึกษา
A48: =+[8]ระบบการควบคุมฯ!A929 -> 2.4) | B48: =+[8]ระบบการควบคุมฯ!B929 -> กลยุทธ์ที่ 4 เพิ่มประสิทธิภาพการบริหารจัดการศึกษา งบประมาณ 1,234,290 บาท จัดสรรครั้งที่ 1 554,400 บาท - โอนให้กลยุทธ์ที่ 1 ยืม 54400 | C48: =+[8]ระบบการควบคุมฯ!C929 -> ศธ04002/ว46832 ลว.17 ต.ค. 68 ครั้งที่ 7 2,000,000 บาท | D48: =+[8]ระบบการควบคุมฯ!D795 -> 0 | E48: =+[8]ระบบการควบคุมฯ!E795 -> 129290 | F48: =+[8]ระบบการควบคุมฯ!F795 -> 129290 | G48: =+[8]ระบบการควบคุมฯ!G795+[8]ระบบการควบคุมฯ!H795 -> 0 | H48: =+[8]ระบบการควบคุมฯ!I795+[8]ระบบการควบคุมฯ!J795 -> 0 | I48: =+[8]ระบบการควบคุมฯ!K795+[8]ระบบการควบคุมฯ!L795 -> 84290 | J48: =+F48-G48-H48-I48 -> 45000 | K48: =SUM(K50:K62) -> 0 | L48: =SUM(L50:L62) -> 1105000 | M48: =SUM(M50:M62) -> 1105000 | N48: =SUM(N50:N62) -> 0 | O48: =SUM(O50:O62) -> 0 | P48: =SUM(P50:P62) -> 671264 | Q48: =SUM(Q50:Q62) -> 433736 | X48: =+T48-U48-V48-W48 -> 0 | Y48: =+R48+K48+D48 -> 0 | Z48: =+S48+L48+E48 -> 1234290 | AA48: =SUM(Y48:Z48) -> 1234290 | AB48: =+G48+N48+U48 -> 0 | AC48: =+H48+O48+V48 -> 0 | AD48: =+I48+P48+W48 -> 755554 | AE48: =+AA48-AB48-AC48-AD48 -> 478736
A49: =+[8]ระบบการควบคุมฯ!A930 -> 1 | B49: =+[8]ระบบการควบคุมฯ!B930 -> งบกลาง กลยุทธ์ที่ 4 | C49: =+[8]ระบบการควบคุมฯ!C930 -> 0 | D49: =+[8]ระบบการควบคุมฯ!D796 -> 0 | E49: =+[8]ระบบการควบคุมฯ!E796 -> 0 | F49: =+[8]ระบบการควบคุมฯ!F796 -> 0 | G49: =+[8]ระบบการควบคุมฯ!G796+[8]ระบบการควบคุมฯ!H796 -> 0 | H49: =+[8]ระบบการควบคุมฯ!I796+[8]ระบบการควบคุมฯ!J796 -> 0 | I49: =+[8]ระบบการควบคุมฯ!K796+[8]ระบบการควบคุมฯ!L796 -> 0 | J49: =+F49-G49-H49-I49 -> 0 | Y49: =+R49+K49+D49 -> 0 | Z49: =+S49+L49+E49 -> 0 | AA49: =SUM(Y49:Z49) -> 0 | AB49: =+G49+N49+U49 -> 0 | AC49: =+H49+O49+V49 -> 0 | AD49: =+I49+P49+W49 -> 0 | AE49: =+AA49-AB49-AC49-AD49 -> 0
A50: =+[8]ระบบการควบคุมฯ!A931 -> 2.4.1) | B50: =+[8]ระบบการควบคุมฯ!B931 -> โครงการเพิ่มประสิทธิภาพการบริหารจัดการงานนโยบายและแผนและการบริหารงบประมาณ 75,000 บาท อนุมัติครั้งที่ 1 47,000 บาท | C50: =+[8]ระบบการควบคุมฯ!C931 -> ศธ04002/ว46832 ลว.17 ต.ค. 68 ครั้งที่ 7 2,000,000 บาท | D50: =+[8]ระบบการควบคุมฯ!D797 -> 0 | E50: =+[8]ระบบการควบคุมฯ!E797 -> 0 | F50: =+[8]ระบบการควบคุมฯ!F797 -> 0 | G50: =+[8]ระบบการควบคุมฯ!G797+[8]ระบบการควบคุมฯ!H797 -> 0 | H50: =+[8]ระบบการควบคุมฯ!I797+[8]ระบบการควบคุมฯ!J797 -> 0 | I50: =+[8]ระบบการควบคุมฯ!K797+[8]ระบบการควบคุมฯ!L797 -> 0 | J50: =+F50-G50-H50-I50 -> 0 | K50: =+[8]ระบบการควบคุมฯ!D931 -> 0 | L50: =+[8]ระบบการควบคุมฯ!E931 -> 75000 | M50: =+K50+L50 -> 75000 | N50: =+[8]ระบบการควบคุมฯ!G931+[8]ระบบการควบคุมฯ!H931 -> 0 | O50: =+[8]ระบบการควบคุมฯ!I931+[8]ระบบการควบคุมฯ!J931 -> 0 | P50: =+[8]ระบบการควบคุมฯ!K931+[8]ระบบการควบคุมฯ!L931 -> 40285 | Q50: =+M50-N50-O50-P50 -> 34715 | Y50: =+R50+K50+D50 -> 0 | Z50: =+S50+L50+E50 -> 75000 | AA50: =SUM(Y50:Z50) -> 75000 | AB50: =+G50+N50+U50 -> 0 | AC50: =+H50+O50+V50 -> 0 | AD50: =+I50+P50+W50 -> 40285 | AE50: =+AA50-AB50-AC50-AD50 -> 34715 | AG50: กลุ่มนโยบายและแผน
A51: =+[8]ระบบการควบคุมฯ!A798 -> 2.4.2) | B51: =+[8]ระบบการควบคุมฯ!B798 -> โครงการสร้างเครือข่ายตรวจสอบภายใน 25,000 บาท โอนไปกลุ่มอำนวยการอบรมผู้บริหาร 12070 บาท | C51: =+C49 -> 0 | D51: =+[8]ระบบการควบคุมฯ!D798 -> 0 | E51: =+[8]ระบบการควบคุมฯ!E798 -> 0 | F51: =+[8]ระบบการควบคุมฯ!F798 -> 0 | G51: =+[8]ระบบการควบคุมฯ!G798+[8]ระบบการควบคุมฯ!H798 -> 0 | H51: =+[8]ระบบการควบคุมฯ!I798+[8]ระบบการควบคุมฯ!J798 -> 0 | I51: =+[8]ระบบการควบคุมฯ!K798+[8]ระบบการควบคุมฯ!L798 -> 0 | J51: =+F51-G51-H51-I51 -> 0 | K51: =+[8]ระบบการควบคุมฯ!D933 -> 0 | L51: =+[8]ระบบการควบคุมฯ!E933 -> 12930 | M51: =+K51+L51 -> 12930 | N51: =+[8]ระบบการควบคุมฯ!G933+[8]ระบบการควบคุมฯ!H933 -> 0 | O51: =+[8]ระบบการควบคุมฯ!I933+[8]ระบบการควบคุมฯ!J933 -> 0 | P51: =+[8]ระบบการควบคุมฯ!K933+[8]ระบบการควบคุมฯ!L933 -> 0 | Q51: =+M51-N51-O51-P51 -> 12930 | Y51: =+R51+K51+D51 -> 0 | Z51: =+S51+L51+E51 -> 12930 | AA51: =SUM(Y51:Z51) -> 12930 | AB51: =+G51+N51+U51 -> 0 | AC51: =+H51+O51+V51 -> 0 | AD51: =+I51+P51+W51 -> 0 | AE51: =+AA51-AB51-AC51-AD51 -> 12930 | AG51: หน่วยตรวจสอบภายใน
A52: =+[8]ระบบการควบคุมฯ!A799 -> 2.4.3) | B52: =+[8]ระบบการควบคุมฯ!B799 -> โครงการพัฒนาศักยภาพการจัดการศึกษาแบบมีส่วนร่วมของคณะกรรมการติดตาม ตรวจสอบ ประเมินผลและนิเทศการศึกษาของเขตพื้นที่การศึกษา (ก.ต.ป.น.) 92,000 บาท อนุมัติครั้งที่ 1 25,550 บาท | C52: =+C46 -> ศธ04002/ว46832 ลว.17 ต.ค. 68 ครั้งที่ 7 2,000,000 บาท | D52: =+[8]ระบบการควบคุมฯ!D799 -> 0 | E52: =+[8]ระบบการควบคุมฯ!E799 -> 0 | F52: =+[8]ระบบการควบคุมฯ!F799 -> 0 | G52: =+[8]ระบบการควบคุมฯ!G799+[8]ระบบการควบคุมฯ!H799 -> 0 | H52: =+[8]ระบบการควบคุมฯ!I799+[8]ระบบการควบคุมฯ!J799 -> 0 | I52: =+[8]ระบบการควบคุมฯ!K799+[8]ระบบการควบคุมฯ!L799 -> 0 | J52: =+F52-G52-H52-I52 -> 0 | K52: =+[8]ระบบการควบคุมฯ!D935 -> 0 | L52: =+[8]ระบบการควบคุมฯ!E935 -> 92000 | M52: =+K52+L52 -> 92000 | N52: =+[8]ระบบการควบคุมฯ!G935+[8]ระบบการควบคุมฯ!H935 -> 0 | O52: =+[8]ระบบการควบคุมฯ!I935+[8]ระบบการควบคุมฯ!J935 -> 0 | P52: =+[8]ระบบการควบคุมฯ!K935+[8]ระบบการควบคุมฯ!L935 -> 91935 | Q52: =+M52-N52-O52-P52 -> 65 | Y52: =+R52+K52+D52 -> 0 | Z52: =+S52+L52+E52 -> 92000 | AA52: =SUM(Y52:Z52) -> 92000 | AB52: =+G52+N52+U52 -> 0 | AC52: =+H52+O52+V52 -> 0 | AD52: =+I52+P52+W52 -> 91935 | AE52: =+AA52-AB52-AC52-AD52 -> 65 | AG52: กลุ่มนิเทศติดตามและประเมินผลฯ
A53: =+[8]ระบบการควบคุมฯ!A800 -> 2.4.4) | B53: =+[8]ระบบการควบคุมฯ!B800 -> โครงการประชุมเชิงปฏิบัติการเพื่อเพิ่มประสิทธิภาพการบริหารจัดการด้านงบประมาณ ด้านการเงินบัญชีและพัสดุ 65,000 บาท | C53: =+C52 -> ศธ04002/ว46832 ลว.17 ต.ค. 68 ครั้งที่ 7 2,000,000 บาท | D53: =+[8]ระบบการควบคุมฯ!D800 -> 0 | E53: =+[8]ระบบการควบคุมฯ!E800 -> 65000 | F53: =+[8]ระบบการควบคุมฯ!F800 -> 65000 | G53: =+[8]ระบบการควบคุมฯ!G800+[8]ระบบการควบคุมฯ!H800 -> 0 | H53: =+[8]ระบบการควบคุมฯ!I800+[8]ระบบการควบคุมฯ!J800 -> 0 | I53: =+[8]ระบบการควบคุมฯ!K800+[8]ระบบการควบคุมฯ!L800 -> 65000 | J53: =+F53-G53-H53-I53 -> 0 | K53: =+[8]ระบบการควบคุมฯ!D937 -> 0 | L53: =+[8]ระบบการควบคุมฯ!E937 -> 0 | M53: =+K53+L53 -> 0 | N53: =+[8]ระบบการควบคุมฯ!G937+[8]ระบบการควบคุมฯ!H937 -> 0 | O53: =+[8]ระบบการควบคุมฯ!I937+[8]ระบบการควบคุมฯ!J937 -> 0 | P53: =+[8]ระบบการควบคุมฯ!K937+[8]ระบบการควบคุมฯ!L937 -> 0 | Q53: =+M53-N53-O53-P53 -> 0 | Y53: =+R53+K53+D53 -> 0 | Z53: =+S53+L53+E53 -> 65000 | AA53: =SUM(Y53:Z53) -> 65000 | AB53: =+G53+N53+U53 -> 0 | AC53: =+H53+O53+V53 -> 0 | AD53: =+I53+P53+W53 -> 65000 | AE53: =+AA53-AB53-AC53-AD53 -> 0 | AG53: กลุ่มบริหารงานการเงินและสินทรัพย์
A54: =+[8]ระบบการควบคุมฯ!A801 -> 2.4.5) | B54: =+[8]ระบบการควบคุมฯ!B801 -> โครงการงานศิลปหัตถกรรมนักเรียน ระดับเขตพื้นที่การศึกษา ปีการศึกษา 2568 250,000 บาท ศูนย์ประสานการดำเนินงาน ข้อ 13 อนุมัติครั้งที่ 1 24,195 บาท | C54: =+C53 -> ศธ04002/ว46832 ลว.17 ต.ค. 68 ครั้งที่ 7 2,000,000 บาท | D54: =+[8]ระบบการควบคุมฯ!D801 -> 0 | E54: =+[8]ระบบการควบคุมฯ!E801 -> 0 | F54: =+[8]ระบบการควบคุมฯ!F801 -> 0 | G54: =+[8]ระบบการควบคุมฯ!G801+[8]ระบบการควบคุมฯ!H801 -> 0 | H54: =+[8]ระบบการควบคุมฯ!I801+[8]ระบบการควบคุมฯ!J801 -> 0 | I54: =+[8]ระบบการควบคุมฯ!K801+[8]ระบบการควบคุมฯ!L801 -> 0 | J54: =+F54-G54-H54-I54 -> 0 | K54: =+[8]ระบบการควบคุมฯ!D938 -> 0 | L54: =+[8]ระบบการควบคุมฯ!E938 -> 250000 | M54: =+K54+L54 -> 250000 | N54: =+[8]ระบบการควบคุมฯ!G938+[8]ระบบการควบคุมฯ!H938 -> 0 | O54: =+[8]ระบบการควบคุมฯ!I938+[8]ระบบการควบคุมฯ!J938 -> 0 | P54: =+[8]ระบบการควบคุมฯ!K938+[8]ระบบการควบคุมฯ!L938 -> 220260 | Q54: =+M54-N54-O54-P54 -> 29740 | Y54: =+R54+K54+D54 -> 0 | Z54: =+S54+L54+E54 -> 250000 | AA54: =SUM(Y54:Z54) -> 250000 | AB54: =+G54+N54+U54 -> 0 | AC54: =+H54+O54+V54 -> 0 | AD54: =+I54+P54+W54 -> 220260 | AE54: =+AA54-AB54-AC54-AD54 -> 29740 | AG54: กลุ่มส่งเสริมการจัดการศึกษา
A55: =+[8]ระบบการควบคุมฯ!A802 -> 0 | B55: =+[8]ระบบการควบคุมฯ!B802 -> อนุมัติ ครั้งที่ 2 225,805 บาท | C55: =+C54 -> ศธ04002/ว46832 ลว.17 ต.ค. 68 ครั้งที่ 7 2,000,000 บาท | D55: =+[8]ระบบการควบคุมฯ!D802 -> 0 | E55: =+[8]ระบบการควบคุมฯ!E802 -> 0 | F55: =+[8]ระบบการควบคุมฯ!F802 -> 0 | G55: =+[8]ระบบการควบคุมฯ!G802+[8]ระบบการควบคุมฯ!H802 -> 0 | H55: =+[8]ระบบการควบคุมฯ!I802+[8]ระบบการควบคุมฯ!J802 -> 0 | I55: =+[8]ระบบการควบคุมฯ!K802+[8]ระบบการควบคุมฯ!L802 -> 0 | J55: =+F55-G55-H55-I55 -> 0 | K55: =+[8]ระบบการควบคุมฯ!D939 -> 0 | L55: =+[8]ระบบการควบคุมฯ!E939 -> 0 | M55: =+K55+L55 -> 0 | N55: =+[8]ระบบการควบคุมฯ!G939+[8]ระบบการควบคุมฯ!H939 -> 0 | O55: =+[8]ระบบการควบคุมฯ!I939+[8]ระบบการควบคุมฯ!J939 -> 0 | P55: =+[8]ระบบการควบคุมฯ!K939+[8]ระบบการควบคุมฯ!L939 -> 0 | Q55: =+M55-N55-O55-P55 -> 0 | Y55: =+R55+K55+D55 -> 0 | Z55: =+S55+L55+E55 -> 0 | AA55: =SUM(Y55:Z55) -> 0 | AB55: =+G55+N55+U55 -> 0 | AC55: =+H55+O55+V55 -> 0 | AD55: =+I55+P55+W55 -> 0 | AE55: =+AA55-AB55-AC55-AD55 -> 0
A56: =+[8]ระบบการควบคุมฯ!A803 -> 2.4.6) | B56: =+[8]ระบบการควบคุมฯ!B803 -> โครงการยกย่องเชิดชูเกียรติข้าราชการครูและบุคลากรทางการศึกษา 80,000 บาท อนุมัติครั้งที่ 1 30,000 บาท | C56: =+C55 -> ศธ04002/ว46832 ลว.17 ต.ค. 68 ครั้งที่ 7 2,000,000 บาท | D56: =+[8]ระบบการควบคุมฯ!D803 -> 0 | E56: =+[8]ระบบการควบคุมฯ!E803 -> 0 | F56: =+[8]ระบบการควบคุมฯ!F803 -> 0 | G56: =+[8]ระบบการควบคุมฯ!G803+[8]ระบบการควบคุมฯ!H803 -> 0 | H56: =+[8]ระบบการควบคุมฯ!I803+[8]ระบบการควบคุมฯ!J803 -> 0 | I56: =+[8]ระบบการควบคุมฯ!K803+[8]ระบบการควบคุมฯ!L803 -> 0 | J56: =+F56-G56-H56-I56 -> 0 | K56: =+[8]ระบบการควบคุมฯ!D940 -> 0 | L56: =+[8]ระบบการควบคุมฯ!E940 -> 80000 | M56: =+K56+L56 -> 80000 | N56: =+[8]ระบบการควบคุมฯ!G940+[8]ระบบการควบคุมฯ!H940 -> 0 | O56: =+[8]ระบบการควบคุมฯ!I940+[8]ระบบการควบคุมฯ!J940 -> 0 | P56: =+[8]ระบบการควบคุมฯ!K940+[8]ระบบการควบคุมฯ!L940 -> 31625 | Q56: =+M56-N56-O56-P56 -> 48375 | Y56: =+R56+K56+D56 -> 0 | Z56: =+S56+L56+E56 -> 80000 | AA56: =SUM(Y56:Z56) -> 80000 | AB56: =+G56+N56+U56 -> 0 | AC56: =+H56+O56+V56 -> 0 | AD56: =+I56+P56+W56 -> 31625 | AE56: =+AA56-AB56-AC56-AD56 -> 48375 | AG56: กลุ่มพัฒนาครูและบุคลากรทางการศึกษา
A57: =+[8]ระบบการควบคุมฯ!A804 -> 2.4.7) | B57: =+[8]ระบบการควบคุมฯ!B804 -> โครงการเสริมสร้างศักยภาพบุคลากรในสังกัดสพป.ปทุมธานี เขต 2 130,595 บาท | C57: =+C56 -> ศธ04002/ว46832 ลว.17 ต.ค. 68 ครั้งที่ 7 2,000,000 บาท | D57: =+[8]ระบบการควบคุมฯ!D804 -> 0 | E57: =+[8]ระบบการควบคุมฯ!E804 -> 0 | F57: =+[8]ระบบการควบคุมฯ!F804 -> 0 | G57: =+[8]ระบบการควบคุมฯ!G804+[8]ระบบการควบคุมฯ!H804 -> 0 | H57: =+[8]ระบบการควบคุมฯ!I804+[8]ระบบการควบคุมฯ!J804 -> 0 | I57: =+[8]ระบบการควบคุมฯ!K804+[8]ระบบการควบคุมฯ!L804 -> 0 | J57: =+F57-G57-H57-I57 -> 0 | K57: =+[8]ระบบการควบคุมฯ!D942 -> 0 | L57: =+[8]ระบบการควบคุมฯ!E942 -> 130595 | M57: =+K57+L57 -> 130595 | N57: =+[8]ระบบการควบคุมฯ!G942+[8]ระบบการควบคุมฯ!H942 -> 0 | O57: =+[8]ระบบการควบคุมฯ!I942+[8]ระบบการควบคุมฯ!J942 -> 0 | P57: =+[8]ระบบการควบคุมฯ!K942+[8]ระบบการควบคุมฯ!L942 -> 39320 | Q57: =+M57-N57-O57-P57 -> 91275 | Y57: =+R57+K57+D57 -> 0 | Z57: =+S57+L57+E57 -> 130595 | AA57: =SUM(Y57:Z57) -> 130595 | AB57: =+G57+N57+U57 -> 0 | AC57: =+H57+O57+V57 -> 0 | AD57: =+I57+P57+W57 -> 39320 | AE57: =+AA57-AB57-AC57-AD57 -> 91275 | AG57: =+AG56 -> กลุ่มพัฒนาครูและบุคลากรทางการศึกษา
A58: =+[8]ระบบการควบคุมฯ!A805 -> 2.4.8) | B58: =+[8]ระบบการควบคุมฯ!B805 -> โครงการประชุม อ.ก.ค.ศ. เขตพื้นที่ 258,060 บาท อนุมัติครั้งที่ 1 95,000 บาท | C58: =+C57 -> ศธ04002/ว46832 ลว.17 ต.ค. 68 ครั้งที่ 7 2,000,000 บาท | D58: =+[8]ระบบการควบคุมฯ!D805 -> 0 | E58: =+[8]ระบบการควบคุมฯ!E805 -> 25000 | F58: =+[8]ระบบการควบคุมฯ!F805 -> 25000 | G58: =+[8]ระบบการควบคุมฯ!G805+[8]ระบบการควบคุมฯ!H805 -> 0 | H58: =+[8]ระบบการควบคุมฯ!I805+[8]ระบบการควบคุมฯ!J805 -> 0 | I58: =+[8]ระบบการควบคุมฯ!K805+[8]ระบบการควบคุมฯ!L805 -> 0 | J58: =+F58-G58-H58-I58 -> 25000 | K58: =+[8]ระบบการควบคุมฯ!D943 -> 0 | L58: =+[8]ระบบการควบคุมฯ!E943 -> 233060 | M58: =+K58+L58 -> 233060 | N58: =+[8]ระบบการควบคุมฯ!G943+[8]ระบบการควบคุมฯ!H943 -> 0 | O58: =+[8]ระบบการควบคุมฯ!I943+[8]ระบบการควบคุมฯ!J943 -> 0 | P58: =+[8]ระบบการควบคุมฯ!K943+[8]ระบบการควบคุมฯ!L943 -> 79924 | Q58: =+M58-N58-O58-P58 -> 153136 | Y58: =+R58+K58+D58 -> 0 | Z58: =+S58+L58+E58 -> 258060 | AA58: =SUM(Y58:Z58) -> 258060 | AB58: =+G58+N58+U58 -> 0 | AC58: =+H58+O58+V58 -> 0 | AD58: =+I58+P58+W58 -> 79924 | AE58: =+AA58-AB58-AC58-AD58 -> 178136 | AG58: กลุ่มบริหารงานบุคคล
A59: =+[8]ระบบการควบคุมฯ!A806 -> 2.4.9) | B59: =+[8]ระบบการควบคุมฯ!B806 -> โครงการกิจกรรมการบริหารอัตรากำลังในสถานศึกษาระดับเขตพื้นที่การศึกษาฯ 80,145 บาท อนุมัติครั้งที่ 1 30,000 บาทโอนไปกลุ่มอำนวยการอบรมผู้บริหาร 70525 บาท | C59: =+C58 -> ศธ04002/ว46832 ลว.17 ต.ค. 68 ครั้งที่ 7 2,000,000 บาท | D59: =+[8]ระบบการควบคุมฯ!D806 -> 0 | E59: =+[8]ระบบการควบคุมฯ!E806 -> 0 | F59: =+[8]ระบบการควบคุมฯ!F806 -> 0 | G59: =+[8]ระบบการควบคุมฯ!G806+[8]ระบบการควบคุมฯ!H806 -> 0 | H59: =+[8]ระบบการควบคุมฯ!I806+[8]ระบบการควบคุมฯ!J806 -> 0 | I59: =+[8]ระบบการควบคุมฯ!K806+[8]ระบบการควบคุมฯ!L806 -> 0 | J59: =+F59-G59-H59-I59 -> 0 | K59: =+[8]ระบบการควบคุมฯ!D945 -> 0 | L59: =+[8]ระบบการควบคุมฯ!E945 -> 9620 | M59: =+K59+L59 -> 9620 | N59: =+[8]ระบบการควบคุมฯ!G945+[8]ระบบการควบคุมฯ!H945 -> 0 | O59: =+[8]ระบบการควบคุมฯ!I945+[8]ระบบการควบคุมฯ!J945 -> 0 | P59: =+[8]ระบบการควบคุมฯ!K945+[8]ระบบการควบคุมฯ!L945 -> 9620 | Q59: =+M59-N59-O59-P59 -> 0 | Y59: =+R59+K59+D59 -> 0 | Z59: =+S59+L59+E59 -> 9620 | AA59: =SUM(Y59:Z59) -> 9620 | AB59: =+G59+N59+U59 -> 0 | AC59: =+H59+O59+V59 -> 0 | AD59: =+I59+P59+W59 -> 9620 | AE59: =+AA59-AB59-AC59-AD59 -> 0 | AG59: =+AG58 -> กลุ่มบริหารงานบุคคล
A60: =+[8]ระบบการควบคุมฯ!A807 -> 2.4.10) | B60: =+[8]ระบบการควบคุมฯ!B807 -> โครงการพัฒนาประสิทธิภาพการบริหารจัดการงานอำนวยการ 148,490 บาท อนุมัติครั้งที่ 1 41,650 บาท รับโอนจากกลุ่มบุคคล 70,525 บาท ตรวจสอบภายใน 12,070 บาท | C60: =+C59 -> ศธ04002/ว46832 ลว.17 ต.ค. 68 ครั้งที่ 7 2,000,000 บาท | D60: =+[8]ระบบการควบคุมฯ!D807 -> 0 | E60: =+[8]ระบบการควบคุมฯ!E807 -> 19290 | F60: =+[8]ระบบการควบคุมฯ!F807 -> 19290 | G60: =+[8]ระบบการควบคุมฯ!G807+[8]ระบบการควบคุมฯ!H807 -> 0 | H60: =+[8]ระบบการควบคุมฯ!I807+[8]ระบบการควบคุมฯ!J807 -> 0 | I60: =+[8]ระบบการควบคุมฯ!K807+[8]ระบบการควบคุมฯ!L807 -> 19290 | J60: =+F60-G60-H60-I60 -> 0 | K60: =+[8]ระบบการควบคุมฯ!D947 -> 0 | L60: =+[8]ระบบการควบคุมฯ!E947 -> 211795 | M60: =+K60+L60 -> 211795 | N60: =+[8]ระบบการควบคุมฯ!G947+[8]ระบบการควบคุมฯ!H947 -> 0 | O60: =+[8]ระบบการควบคุมฯ!I947+[8]ระบบการควบคุมฯ!J947 -> 0 | P60: =+[8]ระบบการควบคุมฯ!K947+[8]ระบบการควบคุมฯ!L947 -> 158295 | Q60: =+M60-N60-O60-P60 -> 53500 | Y60: =+R60+K60+D60 -> 0 | Z60: =+S60+L60+E60 -> 231085 | AA60: =SUM(Y60:Z60) -> 231085 | AB60: =+G60+N60+U60 -> 0 | AC60: =+H60+O60+V60 -> 0 | AD60: =+I60+P60+W60 -> 177585 | AE60: =+AA60-AB60-AC60-AD60 -> 53500 | AG60: กลุ่มอำนวยการ
A61: =+[8]ระบบการควบคุมฯ!A808 -> 2.4.11) | B61: =+[8]ระบบการควบคุมฯ!B808 -> โครงการพัฒนาระบบข้อมูลสารสนเทศ 30,000 บาท | C61: =+C60 -> ศธ04002/ว46832 ลว.17 ต.ค. 68 ครั้งที่ 7 2,000,000 บาท | D61: =+[8]ระบบการควบคุมฯ!D808 -> 0 | E61: =+[8]ระบบการควบคุมฯ!E808 -> 20000 | F61: =+[8]ระบบการควบคุมฯ!F808 -> 20000 | G61: =+[8]ระบบการควบคุมฯ!G808+[8]ระบบการควบคุมฯ!H808 -> 0 | H61: =+[8]ระบบการควบคุมฯ!I808+[8]ระบบการควบคุมฯ!J808 -> 0 | I61: =+[8]ระบบการควบคุมฯ!K808+[8]ระบบการควบคุมฯ!L808 -> 0 | J61: =+F61-G61-H61-I61 -> 20000 | K61: =+[8]ระบบการควบคุมฯ!D949 -> 0 | L61: =+[8]ระบบการควบคุมฯ!E949 -> 10000 | M61: =+K61+L61 -> 10000 | N61: =+[8]ระบบการควบคุมฯ!G949+[8]ระบบการควบคุมฯ!H949 -> 0 | O61: =+[8]ระบบการควบคุมฯ!I949+[8]ระบบการควบคุมฯ!J949 -> 0 | P61: =+[8]ระบบการควบคุมฯ!K949+[8]ระบบการควบคุมฯ!L949 -> 0 | Q61: =+M61-N61-O61-P61 -> 10000 | Y61: =+R61+K61+D61 -> 0 | Z61: =+S61+L61+E61 -> 30000 | AA61: =SUM(Y61:Z61) -> 30000 | AB61: =+G61+N61+U61 -> 0 | AC61: =+H61+O61+V61 -> 0 | AD61: =+I61+P61+W61 -> 0 | AE61: =+AA61-AB61-AC61-AD61 -> 30000 | AG61: กลุ่มส่งเสริมการศึกษาทางไกลเทคโนโลยีสารสนเทศเพื่อการศึกษา
K62: =+[8]ระบบการควบคุมฯ!D950 -> 0 | L62: =+[8]ระบบการควบคุมฯ!E950 -> 0 | M62: =+K62+L62 -> 0 | N62: =+[8]ระบบการควบคุมฯ!G950+[8]ระบบการควบคุมฯ!H950 -> 0 | O62: =+[8]ระบบการควบคุมฯ!I950+[8]ระบบการควบคุมฯ!J950 -> 0 | P62: =+[8]ระบบการควบคุมฯ!K950+[8]ระบบการควบคุมฯ!L950 -> 0 | Q62: =+M62-N62-O62-P62 -> 0 | Y62: =+R62+K62+D62 -> 0 | Z62: =+S62+L62+E62 -> 0 | AA62: =SUM(Y62:Z62) -> 0 | AB62: =+G62+N62+U62 -> 0 | AC62: =+H62+O62+V62 -> 0 | AD62: =+I62+P62+W62 -> 0 | AE62: =+AA62-AB62-AC62-AD62 -> 0
B63: รวมทั้งสิ้น | D63: =+D10 -> 772710 | E63: =+E10 -> 227290 | F63: =+F10 -> 1000000 | G63: =+G10 -> 0 | H63: =+H10 -> 0 | I63: =+I10 -> 806901.78 | J63: =+J10 -> 193098.22 | K63: =+K10 -> 2519790 | ... X63: =+X10 -> 0 | Y63: =+Y12 -> 3292500 | Z63: =+Z12 -> 1850000 | AA63: =+AA12 -> 5142500 | AB63: =+AB12 -> 0 | AC63: =+AC12 -> 0 | AD63: =+AD12 -> 3679719.7 | AE63: =+AE12 -> 1462780.3 | AG63: =+AG12 -> 0
B64: คิดเป็นร้อยละ | P64: 0 | Y64: =+Z63+Y63 -> 5142500 | AA64: =SUM(AB64:AE64) -> 100 | AB64: =+AB63*100/AA63 -> 0 | AC64: =+AC63*100/AA63 -> 0 | AD64: =+AD63*100/AA63 -> 71.555075 | AE64: =+AE63*100/AA63 -> 28.444925
F65: ตรวจสอบแล้วถูกต้อง | N65: ตรวจแล้วถูกต้อง
Y66: ตรวจสอบแล้วถูกต้อง
A67: ลงชื่อ เลขานุการคณะกรรมการติดตามเร่งรัด | M67: ลงชื่อ ประธานคณะกรรมการติดตามเร่งรัด
A68: (นางพัชรี เรืองรุ่ง) การเบิกจ่ายงบประมาณและการใช้จ่ายฯ | O68: การเบิกจ่ายงบประมาณและการใช้จ่ายฯ | Q68: ลงชื่อ | T68: ประธานคณะกรรมการติดตามเร่งรัด | Y68: ลงชื่อ | AB68: ประธานคณะกรรมการติดตามเร่งรัด

Sheet งบสพฐ
A1: งบประมาณของสำนักงานคณะกรรมการการศึกษาขั้นพื้นฐาน
A2: ประจำปีงบประมาณ พ.ศ. 2569
A3: กลุ่มบริหารงานการเงินและสินทรัพย์ สำนักงานเขตพื้นที่การศึกษาประถมศึกษาปทุมธานี เขต 2
B4: =+[8]งบประจำและงบกลยุทธ์!A4 -> ประจำเดือนสิงหาคม 2569 | I4: รายละเอียด 4
A5: ที่ | B5: รายการ | C5: รหัสงบประมาณ/หนังสือแจ้งโอน | D5: เงินงวด | E5: ผูกพัน | F5: กันไว้เบิกเหลื่อมปี | G5: เบิกจ่าย | H5: คงเหลือ | I5: ผู้รับผิดชอบ
A6: =+[8]ระบบการควบคุมฯ!A7 -> ก | B6: =+[8]ระบบการควบคุมฯ!B7 -> แผนงานบุคลากรภาครัฐ | C6: =+[8]ระบบการควบคุมฯ!C7 [8]ระบบการควบคุมฯ!C7 -> 20004 1400 0800 | D6: =+D7 -> 9567000 | E6: =+E7 -> 0 | F6: =+F7 -> 0 | G6: =+G7 -> 9333860 | H6: =+H7 -> 233140
A7: =+[8]ระบบการควบคุมฯ!A8 -> 1 | B7: =+[8]ระบบการควบคุมฯ!B8 -> ผลผลิตรายการค่าใช้จ่ายบุคลากรภาครัฐ ยกระดับคุณภาพการศึกษาและการเรียนรู้ตลอดชีวิต | C7: =+[8]ระบบการควบคุมฯ!C8 -> 20004 1400 0800 | D7: =+D8 -> 9567000 | E7: =+E8 -> 0 | F7: =+F8 -> 0 | G7: =+G8 -> 9333860 | H7: =+H8 -> 233140
A8: =+[8]ระบบการควบคุมฯ!A10 -> 1.1 | B8: =+[8]ระบบการควบคุมฯ!B10 -> กิจกรรมค่าใช้จ่ายบุคลากรภาครัฐของสำนักงานคณะกรรมการการศึกษาขั้นพื้นฐาน | C8: =+[8]ระบบการควบคุมฯ!C10 -> 20004 69 79456 00000 | D8: =+D9+D12+D19 -> 9567000 | E8: =+E9+E12+E19 -> 0 | F8: =+F9+F12+F19 -> 0 | G8: =+G9+G12+G19 -> 9333860 | H8: =+H9+H12+H19 -> 233140
B9: =+[8]ระบบการควบคุมฯ!B12 -> งบบุคลากร ค่าจ้างชั่วคราว 6911130 | C9: =+[8]ระบบการควบคุมฯ!C12 -> 20004 14000800 1000000 | D9: =+D10+D11 -> 1491500 | E9: =+E10+E11 -> 0 | F9: =+F10+F11 -> 0 | G9: =+G10+G11 -> 1344611.1 | H9: =+H10+H11 -> 146888.94
A10: =+[8]ระบบการควบคุมฯ!A16 -> 1.1.1 | B10: =+[8]ระบบการควบคุมฯ!_Hlk231936231 -> ค่าจ้างชั่วคราว จำนวน 26 อัตรา จำนวน 2 เดือน (มิถุนายน - กรกฎาคม 2569) 994,300 บาท | C10: =+[8]ระบบการควบคุมฯ!C13 -> ศธ 04002/ว9361 ลว. 4 มิ.ย. 69 ครั้งที่ 691 | D10: =+[8]ระบบการควบคุมฯ!F13 -> 1491500 | E10: =+[8]ระบบการควบคุมฯ!G13+[8]ระบบการควบคุมฯ!H13 -> 0 | F10: =+[8]ระบบการควบคุมฯ!I13+[8]ระบบการควบคุมฯ!J13 -> 0 | G10: =+[8]ระบบการควบคุมฯ!K13+[8]ระบบการควบคุมฯ!L13 -> 1344611.1 | H10: =+D10-E10-F10-G10 -> 146888.94 | I10: กลุ่มบริหารงานการเงินและสินทรัพย์
A11: =+[8]ระบบการควบคุมฯ!A17 -> 0 | B11: =+[8]ระบบการควบคุมฯ!_Hlk231936231 -> ค่าจ้างชั่วคราว จำนวน 26 อัตรา จำนวน 2 เดือน (มิถุนายน - กรกฎาคม 2569) 994,300 บาท | C11: =+[8]ระบบการควบคุมฯ!C14 -> ศธ 04002/ว13660 ลว. 6 ส.ค. 69 ครั้งที่ 830 | E11: =+[8]ระบบการควบคุมฯ!G14+[8]ระบบการควบคุมฯ!H14 -> 0 | F11: =+[8]ระบบการควบคุมฯ!I14+[8]ระบบการควบคุมฯ!J14 -> 0 | G11: =+[8]ระบบการควบคุมฯ!K14+[8]ระบบการควบคุมฯ!L14 -> 0 | H11: =+D11-E11-F11-G11 -> 0 | I11: กลุ่มบริหารงานการเงินและสินทรัพย์
B12: =+[8]ระบบการควบคุมฯ!B16 -> งบบุคลากร 6911150 | C12: =+[8]ระบบการควบคุมฯ!C16 -> 20004 14000800 1000000 | D12: =SUM(D13:D17) -> 6293000 | E12: =SUM(E13:E17) -> 0 | F12: =SUM(F13:F17) -> 0 | G12: =SUM(G13:G17) -> 6255577.5 | H12: =SUM(H13:H17) -> 37422.48
A13: =+[8]ระบบการควบคุมฯ!A18 -> 1.1.1 | B13: =+[8]ระบบการควบคุมฯ!B18 -> ค่าตอบแทนพนักงานราชการ 22 อัตรา 5 เดือน(ต.ค.68 - ก.พ 69) 2,895,000 บาท | C13: =+[8]ระบบการควบคุมฯ!C18 -> ศธ 04002/ว46528 ลว.14 ต.ค.68 ครั้งที่ 2 | D13: =+[8]ระบบการควบคุมฯ!F18 -> 6293000 | E13: =+[8]ระบบการควบคุมฯ!G18+[8]ระบบการควบคุมฯ!H18 -> 0 | F13: =+[8]ระบบการควบคุมฯ!I18+[8]ระบบการควบคุมฯ!J18 -> 0 | G13: =+[8]ระบบการควบคุมฯ!K18+[8]ระบบการควบคุมฯ!L18 -> 6255577.5 | H13: =+D13-E13-F13-G13 -> 37422.48 | I13: กลุ่มบริหารงานการเงินและสินทรัพย์
A14: =+[8]ระบบการควบคุมฯ!A19 -> 1.1.1.1 | B14: =+[8]ระบบการควบคุมฯ!B19 -> ค่าตอบแทนพนักงานราชการ 22 อัตรา เงินเลื่อนค่าตอบแทนพนักงานราชการประจำปี จำนวน 5 เดือน (ตุลาคม 2568 -กุมภาพันธ์ 2569) 116,000 บาท | C14: =+[8]ระบบการควบคุมฯ!C19 -> ศธ 04002/ว50977 ลว. 22 ธ.ค.68 ครั้งที่ 172
A15: =+[8]ระบบการควบคุมฯ!A20 -> 1.1.1.2 | B15: =+[8]ระบบการควบคุมฯ!B20 -> ค่าตอบแทนพนักงานราชการ 22 อัตรา 5 เดือน (มีค-กค 69) 2,965,000 บาท | C15: =+[8]ระบบการควบคุมฯ!C20 -> ศธ 04002/ว4964 ลว. 23 มีค 69 ครั้งที่ 386
A16: =+[8]ระบบการควบคุมฯ!A21 -> 1.1.1.3 | B16: =+[8]ระบบการควบคุมฯ!B21 -> ค่าตอบแทนพนักงานราชการ 21 อัตรา (ส.ค.-กย 69) 317,000 บาท | C16: =+[8]ระบบการควบคุมฯ!C21 -> ศธ 04002/ว13456 ลว. 4 ส.ค.69 ครั้งที่ 808 | D16: =+[8]ระบบการควบคุมฯ!F23 -> 0 | E16: =+[8]ระบบการควบคุมฯ!G23+[8]ระบบการควบคุมฯ!H23 -> 0 | F16: =+[8]ระบบการควบคุมฯ!I23+[8]ระบบการควบคุมฯ!J23 -> 0 | G16: =+[8]ระบบการควบคุมฯ!K23+[8]ระบบการควบคุมฯ!L23 -> 0 | H16: =+D16-E16-F16-G16 -> 0 | I16: กลุ่มบริหารงานการเงินและสินทรัพย์
A17: =+[8]ระบบการควบคุมฯ!A24 -> 1.1.1.3 | B17: =+[8]ระบบการควบคุมฯ!B24 -> งบประมาณชดเชยสำหรับพนักงานราชการที่ลาออก | C17: =+[8]ระบบการควบคุมฯ!C24 -> ศธ 04002/ว40338 ลว. 15 กค 68 ครั้งที่ 691 | D17: =+[8]ระบบการควบคุมฯ!F24 -> 0 | E17: =+[8]ระบบการควบคุมฯ!G24+[8]ระบบการควบคุมฯ!H24 -> 0 | F17: =+[8]ระบบการควบคุมฯ!I24+[8]ระบบการควบคุมฯ!J24 -> 0 | G17: =+[8]ระบบการควบคุมฯ!K24+[8]ระบบการควบคุมฯ!L24 -> 0 | H17: =+D17-E17-F17-G17 -> 0 | I17: กลุ่มบริหารงานการเงินและสินทรัพย์
A19: =+[8]ระบบการควบคุมฯ!A27 -> 0 | B19: =+[8]ระบบการควบคุมฯ!B27 -> งบดำเนินงาน 6911220 | C19: =+[8]ระบบการควบคุมฯ!C27 -> 20004 1420 0800 2000000 | D19: =SUM(D20:D27) -> 1782500 | E19: =SUM(E20:E27) -> 0 | F19: =SUM(F20:F27) -> 0 | G19: =SUM(G20:G27) -> 1733671.4 | H19: =SUM(H20:H27) -> 48828.58
A20: =+[8]ระบบการควบคุมฯ!A29 -> 1.1.2 | B20: =+[8]ระบบการควบคุมฯ!B29 -> เงินสมทบกองทุนประกันสังคมพนักงานราชการ 22 อัตรา (ต.ค.68 - ก.ย.69)/เงินสมทบกองทุนทดแทน 12 เดือน (มค 68 - ธค 69) 85,000+24,000(109,000 บาท) | C20: =+[8]ระบบการควบคุมฯ!C29 -> ศธ 04002/ว46528 ลว.14 ต.ค.68 ครั้งที่ 2 | D20: =+[8]ระบบการควบคุมฯ!F29 -> 220800 | E20: =+[8]ระบบการควบคุมฯ!G29+[8]ระบบการควบคุมฯ!H29 -> 0 | F20: =+[8]ระบบการควบคุมฯ!I29+[8]ระบบการควบคุมฯ!J29 -> 0 | G20: =+[8]ระบบการควบคุมฯ!K29+[8]ระบบการควบคุมฯ!L29 -> 200966 | H20: =+D20-E20-F20-G20 -> 19834 | I20: กลุ่มบริหารงานการเงินและสินทรัพย์
A21: =+[8]ระบบการควบคุมฯ!A30 -> 1.1.2.1 | B21: =+[8]ระบบการควบคุมฯ!B30 -> เงินสมทบกองทุนประกันสังคม จำนวน 2 เดือน ( ม.ค.-กพ.69) 4,600 | C21: =+[8]ระบบการควบคุมฯ!C30 -> ศธ 04002/ว658 ลว.16 มค 69 ครั้งที่ 227
A22: =+[8]ระบบการควบคุมฯ!A31 -> 1.1.2.2 | B22: =+[8]ระบบการควบคุมฯ!B31 -> เงินสมทบกองทุนประกันสังคม จำนวน 5 เดือน (มี.ค.69 - ก.ค. 2569) 100,000 บาท | C22: =+[8]ระบบการควบคุมฯ!C31 -> ศธ 04002/ว4964 ลว. 23 มีค 69 ครั้งที่ 386
A23: =+[8]ระบบการควบคุมฯ!A33 -> 1.1.2.3 | B23: =+[8]ระบบการควบคุมฯ!B33 -> เงินสมทบกองทุนประกันสังคม ค่าจ้างชั่วคราว จำนวน 2 เดือน (มิถุนายน - กรกฎาคม 2569 และรายการเงินสมทบกองทุนเงินทดแทน จำนวน 7 เดือน (มิถุนายน - ธันวาคม 2569) 52800 บาท | C23: =+[8]ระบบการควบคุมฯ!C33 -> ศธ 04002/ว9361 ลว. 4 มิ.ย. 69 ครั้งที่ 691 | D23: =+[8]ระบบการควบคุมฯ!F33 -> 75600 | E23: =+[8]ระบบการควบคุมฯ!G33+[8]ระบบการควบคุมฯ!H33 -> 0 | F23: =+[8]ระบบการควบคุมฯ!I33+[8]ระบบการควบคุมฯ!J33 -> 0 | G23: =+[8]ระบบการควบคุมฯ!K33+[8]ระบบการควบคุมฯ!L33 -> 63428 | H23: =+D23-E23-F23-G23 -> 12172
A24: =+[8]ระบบการควบคุมฯ!A34 -> 1.1.2.3.1 | B24: =+[8]ระบบการควบคุมฯ!B34 -> เงินสมทบกองทุนประกันสังคม ค่าจ้างชั่วคราว จำนวน 1 เดือน (สิงหาคม 2569) 22800 บาท | C24: =+[8]ระบบการควบคุมฯ!C34 -> ศธ 04002/ว13660 ลว. 6 ส.ค. 69 ครั้งที่ 830
A25: =+[8]ระบบการควบคุมฯ!A23 -> 1.1.1.2 | B25: =+[8]ระบบการควบคุมฯ!B23 -> งบประมาณชดเชยสำหรับพนักงานราชการที่ปฏิบัติงานในปัจจุบัน จำนวน 18 อัตรา งบมาทั้งสิ้น 455580 บาท 2 รายการ | C25: =+[8]ระบบการควบคุมฯ!C23 -> ศธ 04002/ว40338 ลว. 15 กค 68 ครั้งที่ 691
A26: =+[8]ระบบการควบคุมฯ!A37 -> 1.1.3 | B26: =+[8]ระบบการควบคุมฯ!B37 -> ค่าเช่าบ้าน (ตุลาคม 2568 - กพ. 2569) ครั้งที่ 1 741,200 บาท | C26: =+[8]ระบบการควบคุมฯ!C37 -> ศธ 04002/ว48512 ลว 11 พ.ย.2025 โอนครั้งที่ 65 | D26: =+[8]ระบบการควบคุมฯ!F37 -> 1486100 | E26: =+[8]ระบบการควบคุมฯ!G37+[8]ระบบการควบคุมฯ!H37 -> 0 | F26: =+[8]ระบบการควบคุมฯ!I37+[8]ระบบการควบคุมฯ!J37 -> 0 | G26: =+[8]ระบบการควบคุมฯ!K37+[8]ระบบการควบคุมฯ!L37 -> 1469277.4 | H26: =+D26-E26-F26-G26 -> 16822.58 | I26: กลุ่มบริหารงานการเงินและสินทรัพย์
A27: =+[8]ระบบการควบคุมฯ!A38 -> 1.1.3.1 | B27: =+[8]ระบบการควบคุมฯ!B38 -> ค่าเช่าบ้าน ครั้งที่ 2 ระยะเวลา 5 เดือน (มีนาคม - กรกฎาคม 2569) 744,900 บาท | C27: =+[8]ระบบการควบคุมฯ!C38 -> ศธ 04002/ว5379 ลว. 30 มี.ค. 69 ครั้งที่ 404
A28: =+[8]ระบบการควบคุมฯ!A39 -> 1.1.3.2 | B28: =+[8]ระบบการควบคุมฯ!B39 -> ค่าเช่าบ้านครั้งที่ 3 (พค-กค 68) จำนวนเงิน 455,100 บาท | C28: =+[8]ระบบการควบคุมฯ!C39 -> ศธ 04002/ว1931 ลว. 8 พ.ค 68 ครั้งที่ 473
A29: =+[8]ระบบการควบคุมฯ!A42 -> ข | B29: =+[8]ระบบการควบคุมฯ!B42 -> แผนงานยุทธศาสตร์พัฒนาคุณภาพการศึกษาและการเรียนรู้ | C29: =+[8]ระบบการควบคุมฯ!C42 -> 20004 3300 | D29: =+D30+D65+D85+D182+D195+D230 -> 25159592 | E29: =+E30+E65+E85+E182+E195+E230 -> 1418802.5 | F29: =+F30+F65+F85+F182+F195+F230 -> 0 | G29: =+G30+G65+G85+G182+G195+G230 -> 19435767 | H29: =+H30+H65+H85+H182+H195+H230 -> 4305022.6 | I29: =+I30+I85 -> 0
A30: =+[4]งบสพฐ!A31 -> 1.2 | B30: =+[8]ระบบการควบคุมฯ!B48 -> โครงการพัฒนาหลักสูตรกระบวนการเรียนการสอน การวัดและประเมินผล | C30: =+[8]ระบบการควบคุมฯ!C48 -> 20004 3320 3300 2000000 | D30: =+D31+D34+D39+D44+D48+D52+D59+D62 -> 40000 | E30: =+E31+E34+E39+E44+E48+E52+E59+E62 -> 0 | F30: =+F31+F34+F39+F44+F48+F52+F59+F62 -> 0 | G30: =+G31+G34+G39+G44+G48+G52+G59+G62 -> 30147.68 | H30: =+H31+H34+H39+H44+H48+H52+H59+H62 -> 9852.32
A31: =+[8]ระบบการควบคุมฯ!A51 -> 1.1 | B31: =+[8]ระบบการควบคุมฯ!B51 -> กิจกรรมการส่งเสริมและพัฒนาระบบการประกันคุณภาพภายในสถานศึกษา | C31: =+[8]ระบบการควบคุมฯ!C51 -> 20004 69 00015 00000 | D31: =+D32 -> 4000 | E31: =+E32 -> 0 | F31: =+F32 -> 0 | G31: =+G32 -> 0 | H31: =+H32 -> 4000
B32: =+[8]ระบบการควบคุมฯ!B52 -> งบดำเนินงาน 69112xx | C32: =+[8]ระบบการควบคุมฯ!C52 -> 20004 3320 3300 2000000 | D32: =SUM(D33) -> 4000 | E32: =SUM(E33) -> 0 | F32: =SUM(F33) -> 0 | G32: =SUM(G33) -> 0 | H32: =SUM(H33) -> 4000 | I32: =SUM(I33) -> 0
A33: =+[8]ระบบการควบคุมฯ!A53 -> 1.1.1 | B33: =+[8]ระบบการควบคุมฯ!B53 -> สนับสนุนการคัดเลือกสถานศึกษาเพื่อรับรางวัล IQA AWARD ประจำปีการศึกษา 2568 | C33: =+[8]ระบบการควบคุมฯ!C53 -> ศธ 04002/ว7915 ลว. 11 พ.ค. 69 โอนครั้งที่ 526 | D33: =+[8]ระบบการควบคุมฯ!F53 -> 4000 | E33: =+[8]ระบบการควบคุมฯ!G53+[8]ระบบการควบคุมฯ!H53 -> 0 | G33: =+[8]ระบบการควบคุมฯ!K53+[8]ระบบการควบคุมฯ!L53 -> 0 | H33: =+D33-E33-F33-G33 -> 4000 | I33: กลุ่มนิเทศติดตามและประเมินผลการจัดการศึกษา
A34: =+[8]ระบบการควบคุมฯ!A57 -> 1.2 | B34: =+[8]ระบบการควบคุมฯ!B57 -> กิจกรรมการยกระดับผลการทดสอบทางการศึกษาระดับชาติที่สอดคล้องกับบริบทพื้นที่ | C34: =+[8]ระบบการควบคุมฯ!C57 -> 20004 69 00040 00000 | D34: =+D35 -> 36000 | E34: =+E35 -> 0 | F34: =+F35 -> 0 | G34: =+G35 -> 30147.68 | H34: =+H35 -> 5852.32
B35: =+[8]ระบบการควบคุมฯ!B58 -> งบดำเนินงาน 69112xx | C35: =+[8]ระบบการควบคุมฯ!C58 -> 20004 3320 3300 2000000 | D35: =SUM(D36:D38) -> 36000 | E35: =SUM(E36:E38) -> 0 | F35: =SUM(F36:F38) -> 0 | G35: =SUM(G36:G38) -> 30147.68 | H35: =SUM(H36:H38) -> 5852.32
A36: =+[8]ระบบการควบคุมฯ!A59 -> 1.2.1 | B36: =+[8]ระบบการควบคุมฯ!B59 -> ค่าใช้จ่ายในการดำเนินโครงการการประเมินความสามารถด้านการอ่านของผู้เรียน (RT) ชั้นประถมศึกษาปีที่ 1 ปีการศึกษา 2568 จำนวนเงิน 15,540.00 บาท และค่าใช้จ่ายในการดำเนินโครงการการประเมินคุณภาพผู้เรียน (NT) ชั้นประถมศึกษาปีที่ 3 ปีการศึกษา 2568 สำหรับโรงเรียนตามโครงการพระราชดำริ สมเด็จพระกนิษฐาธิราชเจ้า กรมสมเด็จพระเทพรัตนราชสุดาฯ สยามบรมราชกุมารี โรงเรียนกองทุนการศึกษาและโรงเรียนทั่วไป จำนวน 14,660 บาท | C36: =+[8]ระบบการควบคุมฯ!C59 -> ศธ 04002/ว777 ลว. 19 มค 69 โอนครั้งที่ 230 จำนวนเงิน 30,200 บาท | D36: =+[8]ระบบการควบคุมฯ!F59 -> 30200 | E36: =+[8]ระบบการควบคุมฯ!G59+[8]ระบบการควบคุมฯ!H59 -> 0 | F36: =+[8]ระบบการควบคุมฯ!I59+[8]ระบบการควบคุมฯ!J59 -> 0 | G36: =+[8]ระบบการควบคุมฯ!K59+[8]ระบบการควบคุมฯ!L59 -> 30147.68 | H36: =+D36-E36-F36-G36 -> 52.32 | I36: กลุ่มนิเทศติดตามและประเมินผลการจัดการศึกษา
A37: =+[8]ระบบการควบคุมฯ!A60 -> 1.2.2 | B37: =+[8]ระบบการควบคุมฯ!B60 -> ค่าใช้จ่ายในการดำเนินการคัดเลือกนักเรียนและสถานศึกษาเพื่อรับรางวัลพระราชทาน ระดับการศึกษาขั้นพื้นฐาน ประจำปีการศึกษา 2569 (ระดับสำนักงานเขตพื้นที่การศึกษา) | C37: =+[8]ระบบการควบคุมฯ!C60 -> ศธ 04002/ว13341 ลว. 3 ส.ค 69 โอนครั้งที่ 800 | D37: =+[8]ระบบการควบคุมฯ!F60 -> 5000 | E37: =+[8]ระบบการควบคุมฯ!G60+[8]ระบบการควบคุมฯ!H60 -> 0 | F37: =+[8]ระบบการควบคุมฯ!I60+[8]ระบบการควบคุมฯ!J60 -> 0 | G37: =+[8]ระบบการควบคุมฯ!K60+[8]ระบบการควบคุมฯ!L60 -> 0 | H37: =+D37-E37-F37-G37 -> 5000 | I37: กลุ่มส่งเสริมการจัดการศึกษา
A38: =+[8]ระบบการควบคุมฯ!A61 -> 1.2.3 | B38: =+[8]ระบบการควบคุมฯ!B61 -> ค่าใช้จ่ายในการเดินทางเข้าร่วมการประชุมเชิงปฏิบัติการพัฒนาศักยภาพศึกษานิเทศก์ด้านการประเมินการเรียนรู้และการประกันคุณภาพภายในสถานศึกษาโดยการประยุกต์ใช้ปัญญาประดิษฐ์ ระหว่างวันที่ 23 – 26 สิงหาคม 2569 ณ โรงแรมริเวอร์ไซด์ กรุงเทพหานคร | C38: =+[8]ระบบการควบคุมฯ!C61 -> ศธ 04002/ว13562 ลว. 3 ส.ค 69 โอนครั้งที่ 822 | D38: =+[8]ระบบการควบคุมฯ!F61 -> 800 | E38: =+[8]ระบบการควบคุมฯ!G61+[8]ระบบการควบคุมฯ!H61 -> 0 | F38: =+[8]ระบบการควบคุมฯ!I61+[8]ระบบการควบคุมฯ!J61 -> 0 | G38: =+[8]ระบบการควบคุมฯ!K61+[8]ระบบการควบคุมฯ!L61 -> 0 | H38: =+D38-E38-F38-G38 -> 800 | I38: กลุ่มนิเทศติดตามและประเมินผลการจัดการศึกษา
A39: =+[8]ระบบการควบคุมฯ!A66 -> 1.3 | B39: =+[8]ระบบการควบคุมฯ!B66 -> กิจกรรมการขับเคลื่อนการจัดการเรียนรู้วิทยาการคำนวณและการออกแบบเทคโนโลยี | C39: =+[8]ระบบการควบคุมฯ!C66 -> 20004 69 00075 00000 | D39: =+D40 -> 0 | E39: =+E40 -> 0 | F39: =+F40 -> 0 | G39: =+G40 -> 0 | H39: =+H40 -> 0
B40: =+[8]ระบบการควบคุมฯ!B67 -> งบดำเนินงาน 6911200 | C40: =+[8]ระบบการควบคุมฯ!C67 -> 20004 3320 3300 2000000 | D40: =SUM(D41:D43) -> 0 | E40: =SUM(E41:E43) -> 0 | F40: =SUM(F41:F43) -> 0 | G40: =SUM(G41:G43) -> 0 | H40: =SUM(H41:H43) -> 0
A41: =+[8]ระบบการควบคุมฯ!A68 -> 1.3.1 | B41: =+[8]ระบบการควบคุมฯ!B68 -> 0 | C41: =+[8]ระบบการควบคุมฯ!C68 -> 0 | H41: =+D41-E41-F41-G41 -> 0 | I41: กลุ่มนิเทศติดตามและประเมินผลการจัดการศึกษา
A42: =+[8]ระบบการควบคุมฯ!A69 -> 1.3.2 | B42: =+[8]ระบบการควบคุมฯ!B69 -> ค่าใช้จ่ายในการดำเนินโครงการประเมินความสามารถด้านการอ่านของผู้เรียน (RT) ชั้นประถมศึกษาปีที่ 1 ปีการศึกษา 2566 จำนวนเงิน 18,440.-บาท (หนึ่งหมื่นแปดพันสี่ร้อยสี่สิบบาทถ้วน) ให้กลุ่มนิเทศติดตามและประเมินผลการจัดการศึกษา และตามบันทึกกลุ่มนโยบายและแผน(ที่ ศธ 04087/128 ลงวันที่ 17 มกราคม 2567) แจ้งการจัดสรรงบประมาณ เป็นค่าใช้จ่ายดำเนินโครงการประเมินคุณภาพผู้เรียน (NT) ชั้นประถมศึกษาปีที่ 3 ปีการศึกษา 2566 สำหรับโรงเรียนตามโครงการพระราชดำริสมเด็จพระกนิษฐาธิราชเจ้า กรมสมเด็จพระเทพรัตนราชสุดาฯ สยามบรมราชกุมารีและโรงเรียนทั่วไป จำนวนเงิน 18,640.-บาท (หนึ่งหมื่นแปดพันหกร้อยสี่สิบบาทถ้วน) ให้กลุ่มนิเทศ | C42: =+[8]ระบบการควบคุมฯ!C69 -> ศธ 04002/ว2439 ลว. 17 มค 67 โอนครั้งที่ 139 | H42: =+D42-E42-F42-G42 -> 0 | I42: กลุ่มนิเทศติดตามและประเมินผลการจัดการศึกษา
A43: =+[8]ระบบการควบคุมฯ!A70 -> 1.1.3 | B43: =+[8]ระบบการควบคุมฯ!B70 -> ค่าใช้จ่ายในการสนับสนุนการขับเคลื่อนการยกระดับคุณภาพการเสริมสร้างสมรรถนะผู้เรียนตามแนวทางการประเมินนานาชาติ (PISA) | C43: =+[8]ระบบการควบคุมฯ!C70 -> ศธ 04002/ว3556 ลว. 15 สค 67 โอนครั้งที่ 324 | H43: =+D43-E43-F43-G43 -> 0 | I43: กลุ่มนิเทศติดตามและประเมินผลการจัดการศึกษา
A44: =+[8]ระบบการควบคุมฯ!A73 -> 1.4 | B44: =+[8]ระบบการควบคุมฯ!B73 -> กิจกรรมการพัฒนาระบบธนาคารหน่วยกิต และผลคะแนนการเรียนเฉลี่ยสะสม | C44: =+[8]ระบบการควบคุมฯ!C73 -> 20004 69 00088 00000 | D44: =+D45 -> 0 | E44: =+E45 -> 0 | F44: =+F45 -> 0 | G44: =+G45 -> 0 | H44: =+H45 -> 0
B45: =+[8]ระบบการควบคุมฯ!B74 -> งบรายจ่ายอื่น 6911500 | C45: =+[2]งบสพฐ!C48 -> 20004 68 00155 00000 | D45: =SUM(D46:D47) -> 0 | E45: =SUM(E46:E47) -> 0 | F45: =SUM(F46:F47) -> 0 | G45: =SUM(G46:G47) -> 0 | H45: =SUM(H46:H47) -> 0
A46: =+[8]ระบบการควบคุมฯ!A75 -> 1.4.1 | B46: =+[8]ระบบการควบคุมฯ!B75 -> ค่าใช้จ่ายในการนิเทศ กำกับ ติดตามการจัดการเรียนรู้วิทยาการคำนวณและการออกแบบเทคโนโลยี (CODING) | C46: =+[8]ระบบการควบคุมฯ!C75 -> ศธ 04002/ว2345 ลว.11 มิย 67 โอนครั้งที่ 118 | H46: =+D46-E46-F46-G46 -> 0 | I46: กลุ่มนิเทศติดตามและประเมินผลการจัดการศึกษา สุวรรณศรี
D47: =+[8]ระบบการควบคุมฯ!F76 -> 0 | E47: =+[8]ระบบการควบคุมฯ!G76+[8]ระบบการควบคุมฯ!H76 -> 0 | F47: =+[8]ระบบการควบคุมฯ!I76+[8]ระบบการควบคุมฯ!J76 -> 0 | G47: =+[8]ระบบการควบคุมฯ!K76+[8]ระบบการควบคุมฯ!L76 -> 0 | H47: =+D47-E47-F47-G47 -> 0
A48: =+[8]ระบบการควบคุมฯ!A77 -> 1.5 | B48: =+[8]ระบบการควบคุมฯ!B77 -> กิจกรรมส่งเสริมและพัฒนาศักยภาพตามพหุปัญญาระดับการศึกษาขั้นพื้นฐาน | C48: =+[8]ระบบการควบคุมฯ!C77 -> 20004 69 00107 00000 | D48: =+D49 -> 0 | G48: =+[2]งบสพฐ!K48+[2]งบสพฐ!L48 -> 0 | H48: =+D48-E48-F48-G48 -> 0
B49: =+[8]ระบบการควบคุมฯ!B78 -> งบรายจ่ายอื่น 6911500 | C49: =+[8]ระบบการควบคุมฯ!C78 -> 20004 31003100 5000007 | D49: =SUM(D50:D51) -> 0 | E49: =SUM(E50:E51) -> 0 | F49: =SUM(F50:F51) -> 0 | G49: =SUM(G50:G51) -> 0 | H49: =SUM(H50:H51) -> 0
A50: =+[8]ระบบการควบคุมฯ!A79 -> 1.4.1 | B50: =+[8]ระบบการควบคุมฯ!B79 -> ค่าใช้จ่ายในการประชุมเชิงปฏิบัติการพัฒนาศักยภาพศึกษานิเทศก์พร้อมรับการประเมิน PISA 2025 ระหว่างวันที่ 1- 4 กันยายน 2566 ณ โรงแรมเอวาน่า เขตบางนา กรุงเทพมหานคร | C50: =+[8]ระบบการควบคุมฯ!C79 -> ศธ 04002/ว2988 ลว. 20 ก.ค. 66 โอนครั้งที่ 688 งบ 10800 บาท | D50: =+[8]ระบบการควบคุมฯ!F79 -> 0 | E50: =+[8]ระบบการควบคุมฯ!G79+[8]ระบบการควบคุมฯ!H79 -> 0 | F50: =+[8]ระบบการควบคุมฯ!I79+[8]ระบบการควบคุมฯ!J79 -> 0 | G50: =+[8]ระบบการควบคุมฯ!K79+[8]ระบบการควบคุมฯ!L79 -> 0 | H50: =+D50-E50-F50-G50 -> 0 | I50: กลุ่มนิเทศติดตามและประเมินผลการจัดการศึกษา เศรษฐพล
A51: =+[8]ระบบการควบคุมฯ!A80 -> 1.4.2 | B51: =+[8]ระบบการควบคุมฯ!B80 -> ค่าใช้จ่ายดำเนินงานโครงการยกระดับสมรรถนะความฉลาดรู้ของผู้เรียนตามกรอบการประเมิน PISA 2025 สู่การเพิ่มขีดความสามารถการแข่งขันในศตวรรษที่ 21 | C51: =+[8]ระบบการควบคุมฯ!C80 -> ศธ 04002/ว3528 ลว. 22 ส.ค. 66 โอนครั้งที่ 797 | D51: =+[8]ระบบการควบคุมฯ!F80 -> 0 | E51: =+[8]ระบบการควบคุมฯ!G80+[8]ระบบการควบคุมฯ!H80 -> 0 | F51: =+[8]ระบบการควบคุมฯ!I80+[8]ระบบการควบคุมฯ!J80 -> 0 | G51: =+[8]ระบบการควบคุมฯ!K80+[8]ระบบการควบคุมฯ!L80 -> 0 | H51: =+D51-E51-F51-G51 -> 0 | I51: กลุ่มนิเทศติดตามและประเมินผลการจัดการศึกษา เศรษฐพล
A52: =+[8]ระบบการควบคุมฯ!A82 -> 1.6 | B52: =+[8]ระบบการควบคุมฯ!B82 -> กิจกรรมการขับเคลื่อนการจัดการเรียนรู้สตีมศึกษา | C52: =+[8]ระบบการควบคุมฯ!C82 -> 20004 68 00155 00000 | D52: =+D53 -> 0 | E52: =+E53 -> 0 | F52: =+F53 -> 0 | G52: =+G53 -> 0 | H52: =+H53 -> 0
B53: =+[8]ระบบการควบคุมฯ!B83 -> งบดำเนินงาน 69112xx | C53: =+[8]ระบบการควบคุมฯ!C83 -> 20004 3320 3300 2000000 | D53: =SUM(D54:D58) -> 0 | E53: =SUM(E54:E58) -> 0 | F53: =SUM(F54:F58) -> 0 | G53: =SUM(G54:G58) -> 0 | H53: =SUM(H54:H58) -> 0
A54: =+[8]ระบบการควบคุมฯ!A84 -> 1.6.1 | B54: =+[8]ระบบการควบคุมฯ!B84 -> ค่าใช้จ่ายในการเดินทางเข้าร่วมประชุมเชิงปฏิบัติการฝึกอบรมและพัฒนาศักยภาพครูผู้สอนในประเทศไทยในการจัดการเรียนรู้สตีมศึกษาที่ส่งเสริมและพัฒนาผู้เรียนตามความถนัดและความสนใจ ระหว่างวันที่ 15 – 18 พฤศจิกายน 2567 ณ โรงแรมรอแยล เบญจา กรุงเทพมหานคร | C54: =+[8]ระบบการควบคุมฯ!C84 -> ศธ 04002/ว5614 ลว.18 พย 67 โอนครั้งที่ 67 | D54: =+[8]ระบบการควบคุมฯ!F84 -> 0 | E54: =+[8]ระบบการควบคุมฯ!G84+[8]ระบบการควบคุมฯ!H84 -> 0 | F54: =+[8]ระบบการควบคุมฯ!I84+[8]ระบบการควบคุมฯ!J84 -> 0 | G54: =+[8]ระบบการควบคุมฯ!K84+[8]ระบบการควบคุมฯ!L84 -> 0 | H54: =+D54-E54-F54-G54 -> 0 | I54: กลุ่มนิเทศติดตามและประเมินผลการจัดการศึกษา
A55: =+[8]ระบบการควบคุมฯ!A85 -> 1.6.2 | B55: =+[8]ระบบการควบคุมฯ!B85 -> ค่าใช้จ่ายในการเดินทางเข้าร่วมประชุมเชิงปฏิบัติการส่งเสริมและพัฒนาผู้เรียนตามพหุปัญญาด้วยกระบวนการเรียนรู้สตีมศึกษาสู่ทักษะการเรียนรู้ในศตวรรษที่ 21 ระหว่างวันที่ 6 – 8 สิงหาคม 2568 ณ โรงแรมรอแยล เบญจา กรุงเทพมหานคร | C55: =+[8]ระบบการควบคุมฯ!C85 -> ศธ 04002/ว41875 ลว.1 ส.ค 68 โอนครั้งที่ 791 | D55: =+[8]ระบบการควบคุมฯ!F85 -> 0 | E55: =+[8]ระบบการควบคุมฯ!G85+[8]ระบบการควบคุมฯ!H85 -> 0 | F55: =+[8]ระบบการควบคุมฯ!I85+[8]ระบบการควบคุมฯ!J85 -> 0 | G55: =+[8]ระบบการควบคุมฯ!K85+[8]ระบบการควบคุมฯ!L85 -> 0 | H55: =+D55-E55-F55-G55 -> 0 | I55: โรงเรียนวัดมูลจินดาราม โรงเรียนวัดลาดสนุ่น และโรงเรียนชุมชนบึงบา
A56: =+[8]ระบบการควบคุมฯ!A87 -> 1.6.3 | H56: =+D56-E56-F56-G56 -> 0 | I56: กลุ่มนิเทศติดตามและประเมินผลการจัดการศึกษา
A57: =+[8]ระบบการควบคุมฯ!A87 -> 1.6.3 | D57: =+[8]ระบบการควบคุมฯ!D87 -> 0 | E57: =+[8]ระบบการควบคุมฯ!G87+[8]ระบบการควบคุมฯ!H87 -> 0 | F57: =+[8]ระบบการควบคุมฯ!I87+[8]ระบบการควบคุมฯ!J87 -> 0 | G57: =+[8]ระบบการควบคุมฯ!K87+[8]ระบบการควบคุมฯ!L87 -> 0 | H57: =+D57-E57-F57-G57 -> 0 | I57: กลุ่มนิเทศติดตามและประเมินผลการจัดการศึกษา
D58: =+[2]งบสพฐ!F56 -> 0 | E58: =+[2]งบสพฐ!G56+[2]งบสพฐ!H56 -> 0 | F58: =+[2]งบสพฐ!I56+[2]งบสพฐ!J56 -> 0 | G58: =+[2]งบสพฐ!K56+[2]งบสพฐ!L56 -> 0 | H58: =+D58-E58-F58-G58 -> 0
A60: =+[2]งบสพฐ!A58 -> 1.7 | B60: =+[2]งบสพฐ!B58 -> กิจกรรมการยกระดับสมรรถนะความฉลาดรู้ของผู้เรียนตามกรอบการประเมิน PISA 2025 สู่การเพิ่มขีดความสามารถการแข่งขันของประเทศ | C60: =+[2]งบสพฐ!C58 -> 20004 68 00156 00000 | D60: =+D61 -> 0 | E60: =+E61 -> 0 | F60: =+F61 -> 0 | G60: =+G61 -> 0 | H60: =+H61 -> 0
A62: =+[8]ระบบการควบคุมฯ!A89 -> 1.7 | B62: =+[8]ระบบการควบคุมฯ!B89 -> กิจกรรมการยกระดับสมรรถนะความฉลาดรู้ของผู้เรียนตามกรอบการประเมิน PISA 2025 สู่การเพิ่มขีดความสามารถการแข่งขันของประเทศ | C62: =+[8]ระบบการควบคุมฯ!C89 -> 20004 68 00156 00000 | D62: =+D63 -> 0 | E62: =+E63 -> 0 | F62: =+F63 -> 0 | G62: =+G63 -> 0 | H62: =+H63 -> 0
B63: =+[8]ระบบการควบคุมฯ!B90 -> งบรายจ่ายอื่น 6911500 | C63: =+[8]ระบบการควบคุมฯ!C90 -> 20004 31003170 5000012 | D63: =+D64 -> 0 | E63: =+E64 -> 0 | F63: =+F64 -> 0 | G63: =+G64 -> 0 | H63: =+H64 -> 0
A64: =+[8]ระบบการควบคุมฯ!A91 -> 1.6.1 | B64: =+[8]ระบบการควบคุมฯ!B91 -> 0 | C64: =+[8]ระบบการควบคุมฯ!C91 -> 0 | D64: =+[8]ระบบการควบคุมฯ!F91 -> 0 | E64: =+[8]ระบบการควบคุมฯ!G91+[8]ระบบการควบคุมฯ!H91 -> 0 | F64: =+[8]ระบบการควบคุมฯ!I91+[8]ระบบการควบคุมฯ!J91 -> 0 | G64: =+[8]ระบบการควบคุมฯ!K91+[8]ระบบการควบคุมฯ!L91 -> 0 | H64: =+D64-E64-F64-G64 -> 0 | I64: กลุ่มนิเทศติดตามและประเมินผลการจัดการศึกษา
A65: =+[8]ระบบการควบคุมฯ!A93 -> 2 | B65: =+[8]ระบบการควบคุมฯ!B93 -> โครงการพัฒนาสมรรถนะครูและบุคลากรทางการศึกษาเพื่อความเป็นเลิศ | C65: =+[8]ระบบการควบคุมฯ!C93 -> 20004 3320 4700 | D65: =+D66 -> 31800 | E65: =+E66 -> 0 | F65: =+F66 -> 0 | G65: =+G66 -> 6280 | H65: =+H66 -> 25520 | I65: =+I67 -> 0
B66: =+[8]ระบบการควบคุมฯ!B94 -> งบดำเนินงาน 69112xx | C66: =+[8]ระบบการควบคุมฯ!C94 -> 20004 3320 4700 2000000 | D66: =+D68+D76+D79+D82 -> 31800 | E66: =+E68+E76+E79+E82 -> 0 | F66: =+F68+F76+F79+F82 -> 0 | G66: =+G68+G76+G79+G82 -> 6280 | H66: =+H68+H76+H79+H82 -> 25520 | I66: =SUM(I67) -> 0
A67: =+[4]งบสพฐ!A40 -> 1.4 | B67: =+[8]ระบบการควบคุมฯ!B95 -> กิจกรรมพัฒนาสมรรถนะครูและบุคลากรทางการศึกษาเพื่อความเป็นเลิศ | C67: =+[8]ระบบการควบคุมฯ!C95 -> 20004 69 00140 00000 | D67: =+D68 -> 27800 | E67: =+E68 -> 0 | F67: =+F68 -> 0 | G67: =+G68 -> 3280 | H67: =+H68 -> 24520 | I67: =+I68 -> 0
B68: =+[8]ระบบการควบคุมฯ!B96 -> งบดำเนินงาน 69112xx | C68: =+[8]ระบบการควบคุมฯ!C96 -> 20004 3320 4700 2000000 | D68: =SUM(D69:D74) -> 27800 | E68: =SUM(E69:E74) -> 0 | F68: =SUM(F69:F74) -> 0 | G68: =SUM(G69:G74) -> 3280 | H68: =SUM(H69:H74) -> 24520 | I68: =SUM(I72) -> 0
A69: =+[8]ระบบการควบคุมฯ!A99 -> 2.1.3 | B69: โครงการพัฒนาข้าราชการครูและบุคลากรทางการศึกษา ก่อนแต่งตั้งให้ดำรงตำแหน่งผู้บริหารสถานศึกษา ในสังกัดสำนักงานคณะกรรมการการศึกษาขั้นพื้นฐาน ประจำปีงบประมาณ พ.ศ. 2569 1. ค่าใช้จ่ายในการเดินทางไปราชการเพื่อเข้าร่วมการพัฒนาฯ รุ่นที่ 2 ระยะที่ 1 ระหว่างวันที่ 9 – 12 กุมภาพันธ์ 2569 ณ โรงแรมบางกอก พาเลส กรุงเทพมหานคร จำนวนเงิน 4,000.-บาท นางสาวสุธีรา ศุขเขษม ครูโรงเรียนวัดคลองชัน , นางสาวสิริรัตน์ สังสุทธิ ครูโรงเรียนชุมชนประชาธิปัตย์วิทยาคาร และนางสาวกาญจนา ไชยสะอาด ครู โรงเรียนวัดพิรุณศาสตร์ 2.ค่าใช้จ่ายในการ เดินทางไปราชการสำหรับวิทยากรพี่เลี้ยง โครงการพัฒนาข้าราชการครูและบุคลากรทางการศึกษาก่อนแต่งตั้งให้ดำรงตำแหน่งผู้บริหารสถานศึกษา ในสังกัดสพฐ. ประจำปีงบประมาณ พ.ศ. 2569 ในระยะที่ 2 และระยะที่ 3 ระหว่างวันที่ 16 กุมภาพันธ์ 2569 – 1 มีนาคม 2569 นายธนณัฐ ศิริวงษ์ ผอ.ร.ร.วัดเขียนเขต จำนวนเงิน 5,000 บาท | C69: =+[8]ระบบการควบคุมฯ!C99 -> ที่ ศธ 04002/ว3378 ลว.26 ก.พ. 69 ครั้งที่ 337 | D69: =+[8]ระบบการควบคุมฯ!D99 -> 9000 | E69: =+[8]ระบบการควบคุมฯ!G99+[8]ระบบการควบคุมฯ!H99 -> 0 | F69: =+[8]ระบบการควบคุมฯ!I99+[8]ระบบการควบคุมฯ!J99 -> 0 | G69: =+[8]ระบบการควบคุมฯ!K99+[8]ระบบการควบคุมฯ!L99 -> 800 | H69: 8200 | I69: ร.รและผอ.ธนณํฐ วัดเขียนเขต
A70: =+[8]ระบบการควบคุมฯ!A97 -> 2.1.1 | B70: =+[8]ระบบการควบคุมฯ!B97 -> ค่าใช้จ่ายในการเดินทางไปราชการของวิทยากรพี่เลี้ยง พัฒนาข้าราชการครูและบุคลากรทางการศึกษาก่อนแต่งตั้งให้ดำรงตำแหน่งผู้บริหารสถานศึกษา ในสังกัดสำนักงานคณะกรรมการการศึกษาขั้นพื้นฐาน ประจำปีงบประมาณ พ.ศ. 2569 ระยะที่ 2 และระยะที่ 3 ระหว่างวันที่ 9 – 15 พฤศจิกายน 2568 ณ โรงแรมเอวาน่า กรุงเทพ โฮเทล แอนด์ คอนเวนชั่น เซ็นเตอร์ กรุงเทพมหานคร และโรงแรมอิงธาร รีสอร์ท จังหวัดนครนายก | C70: =+[8]ระบบการควบคุมฯ!C97 -> ศธ 04002/ว49618 ลว. 27 พ.ย. 68 โอนครั้งที่ 114 | D70: =+[8]ระบบการควบคุมฯ!F97 -> 5000 | E70: =+[8]ระบบการควบคุมฯ!G97+[8]ระบบการควบคุมฯ!H97 -> 0 | G70: =+[8]ระบบการควบคุมฯ!K97+[8]ระบบการควบคุมฯ!L97 -> 0 | H70: =+D70-E70-F70-G70 -> 5000 | I70: ผอ.ธนณํฐ วัดเขียนเขต
A71: =+[8]ระบบการควบคุมฯ!A98 -> 2.1.2 | B71: =+[8]ระบบการควบคุมฯ!B98 -> ค่าใช้จ่ายในการเดินทางไปราชการของนางสาวนิภา ศิริขจร รองผอ.ร.ร.วัดอัยยิการาม และนางสาวศิริกาญจน์ เย็นเสมอ รองผอ.ร.ร.วัดเขียนเขต เข้าร่วมการพัฒนาข้าราชการครูและบุคลากรทางการศึกษา ก่อนแต่งตั้งให้ดำรงตำแหน่งผู้บริหารสถานศึกษา ในสังกัดสพฐ. ประจำปีงบประมาณ พ.ศ. 2569 ระยะที่ 1 ระหว่างวันที่ 9 – 15 พฤศจิกายน 2568 ณ โรงแรมเอวาน่า กรุงเทพ โฮเทล แอนด์ คอนเวนชั่น เซ็นเตอร์ จังหวัดกรุงเทพมหานคร และโรงแรมอิงธารรีสอร์ท จังหวัดนครนายก | C71: =+[8]ระบบการควบคุมฯ!C98 -> ศธ 04002/ว50033 ลว. 4 ธ.ค. 68 โอนครั้งที่ 131 | D71: =+[8]ระบบการควบคุมฯ!F98 -> 3000 | E71: =+[8]ระบบการควบคุมฯ!G98+[8]ระบบการควบคุมฯ!H98 -> 0 | G71: =+[8]ระบบการควบคุมฯ!K98+[8]ระบบการควบคุมฯ!L98 -> 1600 | H71: =+D71-E71-F71-G71 -> 1400 | I71: ร.ร
A72: =+[8]ระบบการควบคุมฯ!A100 -> 2.1.4 | B72: =+[8]ระบบการควบคุมฯ!B100 -> 1. ค่าใช้จ่ายในการเดินทางสำหรับผู้เข้าร่วมโครงการพัฒนาข้าราชการครูและบุคลากรทางการศึกษาก่อนแต่งตั้งให้ดำรงตำแหน่งผู้บริหารสถานศึกษา ในสังกัดสพฐ. ประจำปีงบประมาณ พ.ศ. 2569 รุ่นที่ 3 ระหว่างวันที่ 9 – 13 พฤษภาคม 2569 ณ โรงแรมบางกอก พาเลส กรุงเทพมหานคร จำนวนเงิน 1,000.-บาท (หนึ่งพันบาทถ้วน) 2. ค่าใช้จ่ายในการเดินทางไปราชการสำหรับวิทยากรพี่เลี้ยง โครงการพัฒนาข้าราชการครูและ บุคลากรทางการศึกษาก่อนแต่งตั้งให้ดำรงตำแหน่งผู้บริหารสถานศึกษา ในสังกัดสพฐ. ประจำปีงบประมาณ พ.ศ. 2569 รุ่นที่ 3 ในระยะที่ 2 และระยะที่ 3 ระหว่างวันที่ 18 – 31 พฤษภาคม 2569 ณ โรงแรมบางกอก พาเลส กรุงเทพมหานคร จำนวนเงิน 8,000.-บาท | C72: =+[8]ระบบการควบคุมฯ!C100 -> ศธ 04002/ว8698 ลว.25 พ.ค. 68 ครั้งที่ 577 | D72: =+[8]ระบบการควบคุมฯ!F100 -> 9000 | E72: =+[8]ระบบการควบคุมฯ!G100+[8]ระบบการควบคุมฯ!H100 -> 0 | G72: =+[8]ระบบการควบคุมฯ!K100+[8]ระบบการควบคุมฯ!L100 -> 0 | H72: =+D72-E72-F72-G72 -> 9000 | I72: ร.ร.วัดเขียนเขต นายธนณัฐ ศีละวงษ์
A73: =+[8]ระบบการควบคุมฯ!A101 -> 2.1.1.1 | B73: =+[8]ระบบการควบคุมฯ!B101 -> ค่าใช้จ่ายในการเดินทางเข้าร่วมโครงการพัฒนาผู้อำนวยการกลุ่มพัฒนาครูและบุคลากรทางการศึกษาของสำนักงานเขตพื้นที่การศึกษา ประจำปีงบประมาณ พ.ศ. 2569 ระหว่างวันที่ 24 - 27 พฤษภาคม 2569 ณ โรงแรมรอยัล ซิตี้กรุงเทพมหานคร | C73: =+[8]ระบบการควบคุมฯ!C101 -> ศธ 04002/ว9340 ลว.4 มิ.ย. 69 ครั้งที่ 608 | D73: =+[8]ระบบการควบคุมฯ!F101 -> 1000 | E73: =+[8]ระบบการควบคุมฯ!G101+[8]ระบบการควบคุมฯ!H101 -> 0 | G73: =+[8]ระบบการควบคุมฯ!K101+[8]ระบบการควบคุมฯ!L101 -> 880 | H73: =+D73-E73-F73-G73 -> 120 | I73: กลุ่มพัฒนาครูและบุคลากรทางการศึกษา
A74: =+[8]ระบบการควบคุมฯ!A102 -> 2.1.1.1 | B74: =+[8]ระบบการควบคุมฯ!B102 -> ค่าใช้จ่ายในการเดินทางเข้าร่วมการอบรมเชิงปฏิบัติการเลขคณิตคิดเร็วด้วยเวทคณิต ระหว่างวันที่ 19 - 21 กรกฎาคม 2569 ณ โรงแรมเดอะ เล็คกาซี่ จังหวัดนนทบุรี | C74: =+[8]ระบบการควบคุมฯ!C102 -> ศธ 04002/ว13217 ลว. 31ก.ค. 69 ครั้งที่ 791 | D74: =+[8]ระบบการควบคุมฯ!F102 -> 800 | E74: =+[8]ระบบการควบคุมฯ!G102+[8]ระบบการควบคุมฯ!H102 -> 0 | G74: =+[8]ระบบการควบคุมฯ!K102+[8]ระบบการควบคุมฯ!L102 -> 0 | H74: =+D74-E74-F74-G74 -> 800
A75: =+[8]ระบบการควบคุมฯ!A103 -> 2.2 | B75: =+[8]ระบบการควบคุมฯ!B103 -> กิจกรรมส่งเสริมโอลิมปิกวิชาการสู่ความเป็นเลิศ | C75: =+[8]ระบบการควบคุมฯ!C103 -> 20004 69 00141 00000 | D75: =+D76 -> 4000 | E75: =+E76 -> 0 | F75: =+F76 -> 0 | G75: =+G76 -> 3000 | H75: =+H76 -> 1000
A76: 2.2.1 | B76: =+[8]ระบบการควบคุมฯ!B104 -> งบดำเนินงาน 69112xx | C76: =+[8]ระบบการควบคุมฯ!C104 -> 20004 3320 4700 2000000 | D76: =+D77 -> 4000 | E76: =+E77 -> 0 | F76: =+F77 -> 0 | G76: =+G77 -> 3000 | H76: =+D76-E76-F76-G76 -> 1000
A77: 2.2.1 | B77: =+[8]ระบบการควบคุมฯ!B105 -> เป็นค่าใช้จ่ายในการเดินทางของคณะทำงานและผู้เข้าร่วมการอบรมเชิงปฏิบัติการขั้นเฉพาะทางสำหรับผู้นำเครือข่ายท้องถิ่น (Local Network ; LN) และวิทยากรเครือข่ายท้องถิ่น (Local Trainer ; LT) ระดับปฐมวัย จำนวน 2 คน จำนวน 2,000.-บาท ระดับประถมศึกษา 2 คน จำนวน 2,000 บาท | C77: =+[8]ระบบการควบคุมฯ!C105 -> ที่ ศธ 04002/ว6767 ลว. 24 เม.ย. 69 ครั้งที่ 457 | D77: =+[8]ระบบการควบคุมฯ!F105 -> 4000 | E77: =+[8]ระบบการควบคุมฯ!G105+[8]ระบบการควบคุมฯ!H105 -> 0 | F77: =+[8]ระบบการควบคุมฯ!I105+[8]ระบบการควบคุมฯ!J105 -> 0 | G77: =+[8]ระบบการควบคุมฯ!K105+[8]ระบบการควบคุมฯ!L105 -> 3000 | H77: =+D77-E77-F77-G77 -> 1000 | I77: กลุ่มนิเทศติดตามและประเมินผลการจัดการศึกษา
A78: =+[8]ระบบการควบคุมฯ!A107 -> 2.3 | B78: =+[8]ระบบการควบคุมฯ!B107 -> กิจกรรมยกระดับสมรรถนะทางด้านภาษาอังกฤษ | C78: =+[8]ระบบการควบคุมฯ!C107 -> 20004 68 00142 00000 | D78: =+D79 -> 0 | E78: =+E79 -> 0 | F78: =+F79 -> 0 | G78: =+G79 -> 0 | H78: =+H79 -> 0
B79: =+[8]ระบบการควบคุมฯ!B108 -> งบดำเนินงาน 69112xx | C79: =+[8]ระบบการควบคุมฯ!C108 -> 20004 3320 4700 2000000 | D79: =+D80 -> 0 | E79: =+E80 -> 0 | F79: =+F80 -> 0 | G79: =+G80 -> 0 | H79: =+D79-E79-F79-G79 -> 0
A80: =+[8]ระบบการควบคุมฯ!A109 -> 2.3.1 | B80: =+[8]ระบบการควบคุมฯ!B109 -> ค่าใช้จ่ายในการเดินทางเข้าร่วมโครงการพัฒนาผู้อำนวยการกลุ่มพัฒนาครูและบุคลากรทางการศึกษา ระหว่างวันที่ 4 - 6 มิถุนายน 2568 ณ โรงแรมริเวอร์ไซด์ กรุงเทพมหานคร | C80: =+[8]ระบบการควบคุมฯ!C109 -> ศธ 04002/ว2600 ลว.12 มิ.ย. 68 ครั้งที่ 582 | D80: =+[8]ระบบการควบคุมฯ!F109 -> 0 | E80: =+[8]ระบบการควบคุมฯ!G109+[8]ระบบการควบคุมฯ!H109 -> 0 | G80: =+[8]ระบบการควบคุมฯ!K109+[8]ระบบการควบคุมฯ!L109 -> 0 | H80: =+D80-E80-F80-G80 -> 0 | I80: กลุ่มพัฒนาครูและบุคลากรทางการศึกษา
A81: =+[8]ระบบการควบคุมฯ!A111 -> 2.4 | B81: =+[8]ระบบการควบคุมฯ!B111 -> กิจกรรมพัฒนาครูเพื่อการจัดการเรียนรู้สู่ฐานสมรรถนะ | C81: =+[8]ระบบการควบคุมฯ!C111 -> 20004 69 00140 00000 | D81: =+D82 -> 0 | E81: =+E82 -> 0 | F81: =+F82 -> 0 | G81: =+G82 -> 0 | H81: =+H82 -> 0
A82: =+[8]ระบบการควบคุมฯ!A112 -> 0 | B82: =+[8]ระบบการควบคุมฯ!B112 -> งบดำเนินงาน 69112xx | C82: =+[8]ระบบการควบคุมฯ!C112 -> 20004 3320 4700 2000000 | D82: =SUM(D83) -> 0 | E82: =SUM(E83) -> 0 | F82: =SUM(F83) -> 0 | G82: =SUM(G83) -> 0 | H82: =SUM(H83) -> 0
E83: =+[8]ระบบการควบคุมฯ!G100+[8]ระบบการควบคุมฯ!H100 -> 0
A85: =+[8]ระบบการควบคุมฯ!A115 -> 3 | B85: =+[2]งบสพฐ!B71 -> กิจกรรมส่งเสริมโอลิมปิกวิชาการสู่ความเป็นเลิศ | C85: =+[8]ระบบการควบคุมฯ!C115 -> 20004 3320 6300 2000000 | D85: =+D86+D87 -> 22117500 | E85: =+E91+E96+E100+E108+E111+E117+E124+E130+E140+E156+E179 -> 0 | F85: =+F91+F96+F100+F108+F111+F117+F124+F130+F140+F156+F179 -> 0 | G85: =+G86+G87 -> 18360401 | H85: =+H86+H87 -> 3757098.7
B86: =+[8]ระบบการควบคุมฯ!B116 -> งบดำเนินงาน 69112xx | D86: =+D89+D97+D101+D112+D118 -> 103500 | E86: =+E89+E97+E101+E112+E118 -> 0 | F86: =+F89+F97+F101+F112+F118 -> 0 | G86: =+G89+G97+G101+G112+G118 -> 90040 | H86: =+H89+H97+H101+H112+H118 -> 13460
B87: =+[8]ระบบการควบคุมฯ!B119 -> งบรายจ่ายอื่น 6911500 | D87: =+D92+D109+D125+D131+D141+D157 -> 22014000 | E87: =+E92+E109+E125+E131+E141+E157 -> 0 | F87: =+F92+F109+F125+F131+F141+F157 -> 0 | G87: =+G92+G109+G125+G131+G141+G157 -> 18270361 | H87: =+H92+H109+H125+H131+H141+H157 -> 3743638.7
A88: =+[8]ระบบการควบคุมฯ!A121 -> 3.1 | B88: =+[8]ระบบการควบคุมฯ!B121 -> กิจกรรมสร้างจิตสึกในการพัฒนาคุณภาพชีวิตที่เป็นมิตรต่อสิ่งแวดล้อม | C88: =+[8]ระบบการควบคุมฯ!C121 -> 20004 69 00037 00000 | D88: =+D89 -> 1000 | E88: =+E89 -> 0 | F88: =+F89 -> 0 | G88: =+G89 -> 0 | H88: =+H89 -> 1000 | I88: =+I89 -> 0
A89: =+[8]ระบบการควบคุมฯ!A122 -> 0 | B89: =+[8]ระบบการควบคุมฯ!B122 -> งบดำเนินงาน 69112xx | C89: =+[8]ระบบการควบคุมฯ!C122 -> 20004 3320 6300 2000000 | D89: =SUM(D90:D92) -> 1000 | E89: =SUM(E90:E92) -> 0 | F89: =SUM(F90:F92) -> 0 | G89: =SUM(G90:G92) -> 0 | H89: =SUM(H90:H92) -> 1000 | I89: =SUM(I90) -> 0
A90: =+[8]ระบบการควบคุมฯ!A123 -> 3.1.1 | B90: =+[8]ระบบการควบคุมฯ!B123 -> ค่าใช้จ่ายในการเดินทางเข้าร่วมการอบรมเชิงปฏิบัติการขับเคลื่อนสิ่งแวดล้อมศึกษาและโครงการอนุรักษ์พันธุกรรมพืชอันเนื่องมาจากพระราชดำริ สมเด็จพระเทพรัตนราชสุดาฯ สยามบรมราชกุมารี ระหว่างวันที่ 9 – 11 สิงหาคม 2569 ณ โรงแรมเอวาน่า กรุงเทพมหานคร | C90: =+[8]ระบบการควบคุมฯ!C123 -> ศธ 04002/ว13902 ลว. 10 ส.ค 69 โอนครั้งที่ 845 | D90: =+[8]ระบบการควบคุมฯ!F123 -> 1000 | E90: =+[8]ระบบการควบคุมฯ!G123+[8]ระบบการควบคุมฯ!H123 -> 0 | F90: =+[8]ระบบการควบคุมฯ!I123+[8]ระบบการควบคุมฯ!J123 -> 0 | G90: =+[8]ระบบการควบคุมฯ!K123+[8]ระบบการควบคุมฯ!L123 -> 0 | H90: =+D90-E90-F90-G90 -> 1000 | I90: กลุ่มส่งเสริมการจัดการศึกษา/วัดโปรยฝน
A91: =+[8]ระบบการควบคุมฯ!A124 -> 3.2 | B91: =+[8]ระบบการควบคุมฯ!B124 -> กิจกรรมสานความร่วมมือภาคีเครือข่ายด้านการจัดการศึกษา | C91: =+[8]ระบบการควบคุมฯ!C124 -> 20004 69 00078 00000 | D91: =+D92 -> 0 | E91: =+E92 -> 0 | F91: =+F92 -> 0 | G91: =+G92 -> 0 | H91: =+H92 -> 0 | I91: =+I92 -> 0
A92: =+[8]ระบบการควบคุมฯ!A125 -> 1 | B92: =+[8]ระบบการควบคุมฯ!B125 -> งบรายจ่ายอื่น 6911500 | D92: =SUM(D93:D95) -> 0 | E92: =SUM(E93:E95) -> 0 | F92: =SUM(F93:F95) -> 0 | G92: =SUM(G93:G95) -> 0 | H92: =SUM(H93:H95) -> 0 | I92: =SUM(I93) -> 0
A93: =+[8]ระบบการควบคุมฯ!A127 -> 3.1.1.1 | B93: =+[8]ระบบการควบคุมฯ!B127 -> ค่าใช้จ่ายในการเดินทางเข้าร่วมการอบรมเชิงปฏิบัติการส่งเสริมและพัฒนาการจัดการเรียนรู้เพื่อสิ่งแวดล้อมที่ยั่งยืน ตามหลักเศรษฐกิจหมุนเวียน รุ่นที่ 1 ระหว่างวันที่ 24 – 28 เมษายน 2566 ณ โรงแรมเดอะ ลอฟท์ รีสอร์ท กรุงเทพมหานคร | C93: =+[8]ระบบการควบคุมฯ!C127 -> ศธ 04002/ว1915 ลว. 11 พค 66 โอนครั้งที่ 515 | D93: =+[8]ระบบการควบคุมฯ!F127 -> 0 | E93: =+[8]ระบบการควบคุมฯ!G127+[8]ระบบการควบคุมฯ!H127 -> 0 | F93: =+[8]ระบบการควบคุมฯ!I127+[8]ระบบการควบคุมฯ!J127 -> 0 | G93: =+[8]ระบบการควบคุมฯ!K127+[8]ระบบการควบคุมฯ!L127 -> 0 | H93: =+D93-E93-F93-G93 -> 0 | I93: กลุ่มส่งเสริมการจัดการศึกษา/วัดโปรยฝน
A94: =+[8]ระบบการควบคุมฯ!A128 -> 3.1.1 | B94: =+[8]ระบบการควบคุมฯ!B128 -> ค่าใช้จ่ายในการเดินทางเข้าร่วมพิธีมอบเกียรติบัตรให้กับครูผู้เป็นบุคคลที่มีความกล้าหาญ ปกป้องนักเรียนให้พ้นจากอันตราย 29 พย 66 ณ อาคารราชวัลลภ ห้องประชุมจันทรเกษม ชั้น 1 | C94: =+[8]ระบบการควบคุมฯ!C128 -> ศธ 04002/ว5680 ลว. 27 ธค 66 โอนครั้งที่ 110 | H94: =+D94-E94-F94-G94 -> 0
A95: =+[8]ระบบการควบคุมฯ!A129 -> 3.1.2 | B95: =+[8]ระบบการควบคุมฯ!B129 -> ค่าใช้จ่ายในการจัดอบรมหลักสูตรผู้นำด้านเทคโนโลยี เพื่อการศึกษา (ICT Talent) ภาครัฐ รุ่นที่ 5 ระหว่างวันที่ 30 – 31 สิงหาคม 2567 ณ สถานีโทรทัศน์การศึกษาขั้นพื้นฐาน OBEC Channel อาคาร สพฐ. 1 | C95: =+[8]ระบบการควบคุมฯ!C129 -> ศธ 04002/ว3488 ลว. 9 สค 67 โอนครั้งที่ 297 | H95: =+D95-E95-F95-G95 -> 0 | I95: กลุ่มนิเทศติดตามและประเมินผลการจัดการศึกษา กำหนดแล้วเสร็จ 6 กย 67
A96: =+[8]ระบบการควบคุมฯ!A130 -> 3.3 | B96: =+[8]ระบบการควบคุมฯ!B130 -> กิจกรรมขับเคลื่อนนโยบายการแก้ปัญหาเด็กที่อยู่นอกระบบการศึกษาและเด็กออกกลางคันให้เข้าสู่ระบบการศึกษา | C96: =+[8]ระบบการควบคุมฯ!C130 -> 20004 69 00085 00000 | D96: =+D97 -> 6600 | E96: =+E97 -> 0 | F96: =+F97 -> 0 | G96: =+G97 -> 3840 | H96: =+H97 -> 2760 | I96: =+I97 -> 0
A97: =+[8]ระบบการควบคุมฯ!A131 -> 3.3.1 | B97: =+[8]ระบบการควบคุมฯ!B131 -> งบดำเนินงาน 6911xx | C97: =+[8]ระบบการควบคุมฯ!C131 -> 20004 3320 6300 2000000 | D97: =SUM(D98:D99) -> 6600 | E97: =SUM(E98:E99) -> 0 | F97: =SUM(F98:F99) -> 0 | G97: =SUM(G98:G99) -> 3840 | H97: =SUM(H98:H99) -> 2760 | I97: =SUM(I98) -> 0
A98: =+[8]ระบบการควบคุมฯ!A132 -> 3.3.1.1 | B98: =+[8]ระบบการควบคุมฯ!B132 -> ค่าใช้จ่ายในการดำเนินงานโครงการขับเคลื่อนนโยบายการแก้ปัญหาเด็กที่อยู่นอกระบบการศึกษา เด็กตกหล่นและเด็กออกกลางคันให้เข้าสู่ระบบการศึกษา | C98: =+[8]ระบบการควบคุมฯ!C132 -> ศธ 04002/ว7448 ลว. 5 พ.ค. 69 โอนครั้งที่ 495 | D98: =+[8]ระบบการควบคุมฯ!D132 -> 6600 | E98: =+[8]ระบบการควบคุมฯ!G132+[8]ระบบการควบคุมฯ!H132 -> 0 | G98: =+[8]ระบบการควบคุมฯ!K132+[8]ระบบการควบคุมฯ!L132 -> 3840 | H98: =+D98-E98-F98-G98 -> 2760 | I98: กลุ่มส่งเสริมการจัดการศึกษา
A99: =+[8]ระบบการควบคุมฯ!A133 -> 3.3.1.2 | B99: =+[8]ระบบการควบคุมฯ!B133 -> เพื่อสนับสนุนการดำเนินงานของสำนักงานเขตพื้นที่การศึกษาที่จัดส่งผลงานนวัตกรรมการลดอัตราการออกกลางคันของผู้เรียน | C99: =+[8]ระบบการควบคุมฯ!C133 -> ศธ 04002/ว41937 ลว. 4 ส.ค. 68 โอนครั้งที่ 814 | D99: =+[8]ระบบการควบคุมฯ!D133 -> 0 | E99: =+[8]ระบบการควบคุมฯ!G133+[8]ระบบการควบคุมฯ!H133 -> 0 | G99: =+[8]ระบบการควบคุมฯ!K133+[8]ระบบการควบคุมฯ!L133 -> 0 | H99: =+D99-E99-F99-G99 -> 0 | I99: กลุ่มส่งเสริมการจัดการศึกษา
A100: =+[8]ระบบการควบคุมฯ!A138 -> 3.4 | B100: =+[8]ระบบการควบคุมฯ!B138 -> กิจกรรมการยกระดับคุณภาพด้านวิทยาศาสตร์ศึกษาเพื่อความเป็นเลิศ | C100: =+[8]ระบบการควบคุมฯ!C138 -> 20004 69 00093 00000 | D100: =+D101 -> 46900 | E100: =+E101 -> 0 | F100: =+F101 -> 0 | G100: =+G101 -> 40900 | H100: =+H101 -> 6000 | I100: =+I101 -> 0
A101: =+[8]ระบบการควบคุมฯ!A139 -> 3.4.1 | B101: =+[8]ระบบการควบคุมฯ!B139 -> งบดำเนินงาน 69112xx | C101: =+[8]ระบบการควบคุมฯ!C139 -> 20004 3320 6300 2000000 | D101: =SUM(D102:D107) -> 46900 | E101: =SUM(E102:E107) -> 0 | F101: =SUM(F102:F107) -> 0 | G101: =SUM(G102:G107) -> 40900 | H101: =SUM(H102:H107) -> 6000 | I101: =SUM(I102) -> 0
A102: =+[8]ระบบการควบคุมฯ!A140 -> 3.4.1.1 | B102: =+[8]ระบบการควบคุมฯ!B140 -> ค่าใช้จ่ายในการดำเนินงานของโรงเรียนในโครงการวิทยาศาสตร์พลังสิบ ระดับประถมศึกษา จำนวนเงิน 10,000.-บาท | C102: =+[8]ระบบการควบคุมฯ!C140 -> ศธ 04002/ว48288 ลว. 7 พย 68 โอนครั้งที่ 61 | D102: =+[8]ระบบการควบคุมฯ!F140 -> 10000 | E102: =+[8]ระบบการควบคุมฯ!G140+[8]ระบบการควบคุมฯ!H140 -> 0 | F102: =+[8]ระบบการควบคุมฯ!I140+[8]ระบบการควบคุมฯ!J140 -> 0 | G102: =+[8]ระบบการควบคุมฯ!K140+[8]ระบบการควบคุมฯ!L140 -> 10000 | H102: =+D102-E102-F102-G102 -> 0 | I102: วัดเขียนเขต
A103: =+[8]ระบบการควบคุมฯ!A141 -> 3.4.1.2 | B103: =+[8]ระบบการควบคุมฯ!B141 -> ค่าใช้จ่ายในการดำเนินงานของโรงเรียนเครือข่ายโครงการวิทยาศาสตร์ศึกษาพลังสิบ ระดับประถมศึกษา 10โรงเรียน โรงเรียนละ 3,000.-บาท | C103: =+[8]ระบบการควบคุมฯ!C141 -> ที่ ศธ 04002/ว7495 ลว. 5 พ.ค. 69 ครั้ง 487 | D103: =+[8]ระบบการควบคุมฯ!F141 -> 30000 | E103: =+[8]ระบบการควบคุมฯ!G141+[8]ระบบการควบคุมฯ!H141 -> 0 | G103: =+[8]ระบบการควบคุมฯ!K141+[8]ระบบการควบคุมฯ!L141 -> 24000 | H103: =+D103-E103-F103-G103 -> 6000 | I103: โรงเรียนละ 3,000 บาท 10 ร.ร.
A104: =+[8]ระบบการควบคุมฯ!A142 -> 3.4.1.3 | B104: =+[8]ระบบการควบคุมฯ!B142 -> ค่าใช้จ่ายสำหรับศูนย์วิทยาศาสตร์พลังสิบ ระดับประถมศึกษา | C104: =+[8]ระบบการควบคุมฯ!C142 -> ที่ ศธ 04002/ว8780 ลว. 25 พ.ค. 69 ครั้งที่ 580 | D104: =+[8]ระบบการควบคุมฯ!F142 -> 6900 | E104: =+[8]ระบบการควบคุมฯ!G142+[8]ระบบการควบคุมฯ!H142 -> 0 | G104: =+[8]ระบบการควบคุมฯ!K142+[8]ระบบการควบคุมฯ!L142 -> 6900 | H104: =+D104-E104-F104-G104 -> 0 | I104: วัดเขียนเขต
...

Sheet งบลงทุน
J1: รายละเอียด 2
A2: รายงานผลการเบิกจ่ายเงินงบประมาณ งบลงทุน ประจำปีงบประมาณ พ.ศ. 2569 รายละเอียด 2
A3: กลุ่มบริหารงานการเงินและสินทรัพย์ สำนักงานเขตพื้นที่การศึกษาประถมศึกษาปทุมธานี เขต 2
A4: =+[8]งบประจำและงบกลยุทธ์!A4 -> ประจำเดือนสิงหาคม 2569
A5: ที่ | B5: รายการ | C5: รหัสงบประมาณ/หนังสือแจ้งโอน | D5: เงินงวด | E5: ผูกพัน | F5: กันเงินไว้เบิก | G5: เบิกจ่าย | H5: คงเหลือ | I5: การอนุมัติเงินงวด | J5: คงเหลือ | K5: ปัญหาอุปสรรค
A7: =[8]ระบบการควบคุมฯ!A42 -> ข | B7: =[8]ระบบการควบคุมฯ!B42 -> แผนงานยุทธศาสตร์พัฒนาคุณภาพการศึกษาและการเรียนรู้ | D7: =SUM(D8+D9) -> 459200 | E7: =SUM(E8+E9) -> 0 | F7: =SUM(F8+F9) -> 0 | G7: =SUM(G8+G9) -> 458200 | H7: =SUM(H8+H9) -> 0 | I7: =SUM(I8+I9) -> 0 | J7: =SUM(J8+J9) -> 1000
B8: =+[8]ระบบการควบคุมฯ!B46 -> ครุภัณฑ์ 6911310 | D8: =+D12+D18+D25 -> 375200 | E8: =+E12+E18+E25 -> 0 | F8: =+F12+F18+F25 -> 0 | G8: =+G12+G18+G25 -> 374200 | H8: =+H12+H18+H25 -> 0 | I8: =+I12+I18+I25 -> 0 | J8: =+J12+J18+J25 -> 1000
B9: =+[8]ระบบการควบคุมฯ!B47 -> สิ่งก่อสร้าง 6911320 | D9: =+D39+D45 -> 84000 | E9: =+E39+E45 -> 0 | F9: =+F39+F45 -> 0 | G9: =+G39+G45 -> 84000 | H9: =+H39+H45 -> 0 | I9: =+I39+I45 -> 0 | J9: =+J39+J45 -> 0 | K9: =+K45+K77 -> 0
A10: =[8]ระบบการควบคุมฯ!A115 -> 3 | B10: =[8]ระบบการควบคุมฯ!B115 -> โครงการขับเคลื่อนการพัฒนาการศึกษาที่ยั่งยืน | D10: =D11 -> 200000 | E10: =E11 -> 0 | F10: =F11 -> 0 | G10: =G11 -> 199000 | H10: =H11 -> 0 | I10: =I11 -> 0 | J10: =J11 -> 1000
A11: =+[8]ระบบการควบคุมฯ!A138 -> 3.4 | B11: =+[8]ระบบการควบคุมฯ!B138 -> กิจกรรมการยกระดับคุณภาพด้านวิทยาศาสตร์ศึกษาเพื่อความเป็นเลิศ | C11: =+[8]ระบบการควบคุมฯ!C138 -> 20004 69 00093 00000 | D11: =D12+D39 -> 200000 | E11: =E12+E39 -> 0 | F11: =F12+F39 -> 0 | G11: =G12+G39 -> 199000 | H11: =H12+H39 -> 0 | I11: =I12+I39 -> 0 | J11: =J12+J39 -> 1000
B12: =+[8]ระบบการควบคุมฯ!B147 -> งบลงทุน 6911310 | D12: =SUM(D13:D15) -> 200000 | E12: =SUM(E13:E15) -> 0 | F12: =SUM(F13:F15) -> 0 | G12: =SUM(G13:G15) -> 199000 | H12: =SUM(H13:H15) -> 0 | I12: =SUM(I13:I15) -> 0 | J12: =SUM(J13:J15) -> 1000
A13: =+[8]ระบบการควบคุมฯ!A148 -> 3.4.1.1 | B13: =+[8]ระบบการควบคุมฯ!B148 -> ครุภัณฑ์ห้องปฏิบัติการวิทยาศาสตร์ | C13: =+[8]ระบบการควบคุมฯ!C148 -> ศธ 04002/ว47614 ลว. 31 ตค 68 โอนครั้งที่ 23
A14: =+[8]ระบบการควบคุมฯ!A149 -> 1) | B14: =+[8]ระบบการควบคุมฯ!B149 -> โรงเรียนวัดมูลจินดาราม | C14: =+[8]ระบบการควบคุมฯ!C149 -> 20004 33006300 3110187 | D14: =+[8]ระบบการควบคุมฯ!F149 -> 100000 | E14: =+[8]ระบบการควบคุมฯ!G149+[8]ระบบการควบคุมฯ!H149 -> 0 | F14: =+[8]ระบบการควบคุมฯ!I149+[8]ระบบการควบคุมฯ!J149 -> 0 | G14: =+[8]ระบบการควบคุมฯ!K149+[8]ระบบการควบคุมฯ!L149 -> 100000 | J14: =+D14-E14-F14-G14 -> 0
A15: =+[8]ระบบการควบคุมฯ!A150 -> 2) | B15: =+[8]ระบบการควบคุมฯ!B150 -> โรงเรียนชุมชนบึงบา | C15: =+[8]ระบบการควบคุมฯ!C150 -> 20004 33006300 3110188 | D15: =+[8]ระบบการควบคุมฯ!F150 -> 100000 | E15: =+[8]ระบบการควบคุมฯ!G150+[8]ระบบการควบคุมฯ!H150 -> 0 | F15: =+[8]ระบบการควบคุมฯ!I150+[8]ระบบการควบคุมฯ!J150 -> 0 | G15: =+[8]ระบบการควบคุมฯ!K150+[8]ระบบการควบคุมฯ!L150 -> 99000 | J15: =+D15-E15-F15-G15 -> 1000
A16: =+[8]ระบบการควบคุมฯ!A300 -> 5 | B16: =+[8]ระบบการควบคุมฯ!B300 -> โครงการโรงเรียนคุณภาพ | C16: =+[8]ระบบการควบคุมฯ!C300 -> 20004 3300 B800 | D16: =+D17+D24+D44+D67 -> 259200 | E16: =+E17+E24+E44+E67 -> 0 | F16: =+F17+F24+F44+F67 -> 0 | G16: =+G17+G24+G44+G67 -> 259200 | H16: =+H17+H24+H44+H67 -> 0 | I16: =+I17+I24+I44+I67 -> 0 | J16: =+J17+J24+J44+J67 -> 0
A17: =+[8]ระบบการควบคุมฯ!A319 -> 5.2 | B17: =+[8]ระบบการควบคุมฯ!B319 -> กิจกรรมการยกระดับคุณภาพการศึกษาเพื่อขับเคลื่อนโรงเรียนคุณภาพ | C17: =+[8]ระบบการควบคุมฯ!C319 -> 20004 69 00133 00000 | D17: =+D18 -> 29000 | E17: =+E18 -> 0 | F17: =+F18 -> 0 | G17: =+G18 -> 29000 | H17: =+H18 -> 0 | I17: =+I18 -> 0 | J17: =+J18 -> 0
B18: =+[8]ระบบการควบคุมฯ!B320 -> ค่าครุภัณฑ์ 6911310 | D18: =+D19 -> 29000 | E18: =+E19 -> 0 | F18: =+F19 -> 0 | G18: =+G19 -> 29000 | H18: =+H19 -> 0 | I18: =+I19 -> 0 | J18: =+J19 -> 0
B19: =+[8]ระบบการควบคุมฯ!B321 -> ครุภัณฑ์ สำนักงาน 120611 | D19: =+D20+D22 -> 29000 | E19: =+E20+E22 -> 0 | F19: =+F20+F22 -> 0 | G19: =+G20+G22 -> 29000 | H19: =+H20+H22 -> 0 | I19: =+I20+I22 -> 0 | J19: =+J20+J22 -> 0
A20: =+[8]ระบบการควบคุมฯ!A322 -> 5.1.1 | B20: =+[8]ระบบการควบคุมฯ!B322 -> โต๊ะเก้าอี้นักเรียน สำหรับนักเรียนประถมศึกษา | C20: =+[8]ระบบการควบคุมฯ!C322 -> ที่ ศธ 04087/ว49453/25 พย 68 ครั้งที่ 104 | D20: =SUM(D21) -> 15000 | E20: =SUM(E21) -> 0 | F20: =SUM(F21) -> 0 | G20: =SUM(G21) -> 15000 | H20: =SUM(H21) -> 0 | I20: =SUM(I21) -> 0 | J20: =SUM(J21) -> 0
A21: =+[8]ระบบการควบคุมฯ!A323 -> 1) | B21: =+[8]ระบบการควบคุมฯ!B323 -> โรงเรียนวัดแสงสรรค์ | C21: =+[8]ระบบการควบคุมฯ!C323 -> 200043300B8003110429 | D21: =+[8]ระบบการควบคุมฯ!F323 -> 15000 | E21: =+[8]ระบบการควบคุมฯ!G323+[8]ระบบการควบคุมฯ!H323 -> 0 | G21: =+[8]ระบบการควบคุมฯ!K323+[8]ระบบการควบคุมฯ!L323 -> 15000 | J21: =+D21-E21-F21-G21 -> 0
A22: =+[8]ระบบการควบคุมฯ!A324 -> 5.1.2 | B22: =+[8]ระบบการควบคุมฯ!B324 -> โต๊ะเก้าอี้นักเรียน สำหรับนักเรียนก่อนประถมศึกษา | C22: =+[8]ระบบการควบคุมฯ!C324 -> ที่ ศธ 04087/ว49453/25 พย 68 ครั้งที่ 104 | D22: =+D23 -> 14000 | E22: =+E23 -> 0 | F22: =+F23 -> 0 | G22: =+G23 -> 14000 | H22: =+H23 -> 0 | I22: =+I23 -> 0 | J22: =+J23 -> 0
A23: =+[8]ระบบการควบคุมฯ!A325 -> 1) | B23: =+[8]ระบบการควบคุมฯ!B325 -> โรงเรียนวัดจตุพิธวราวาส | C23: =+[8]ระบบการควบคุมฯ!C325 -> 200043300B8003110430 | D23: =+[8]ระบบการควบคุมฯ!F325 -> 14000 | E23: =+[8]ระบบการควบคุมฯ!G325+[8]ระบบการควบคุมฯ!H325 -> 0 | G23: =+[8]ระบบการควบคุมฯ!K325+[8]ระบบการควบคุมฯ!L325 -> 14000 | J23: =+D23-E23-F23-G23 -> 0
A24: =+[8]ระบบการควบคุมฯ!A337 -> 5.3 | B24: =+[8]ระบบการควบคุมฯ!B337 -> กิจกรรมการยกระดับคุณภาพการศึกษาสำหรับโรงเรียนคุณภาพตามนโยบาย 1 อำเภอ 1 โรงเรียนคุณภาพ | C24: =+[8]ระบบการควบคุมฯ!C337 -> 20004 69 00134 00000 | D24: =+D25 -> 146200 | E24: =+E25 -> 0 | F24: =+F25 -> 0 | G24: =+G25 -> 146200 | H24: =+H25 -> 0 | I24: =+I25 -> 0 | J24: =+J25 -> 0
A25: =+[8]ระบบการควบคุมฯ!A338 -> 5.3.1 | B25: =+[8]ระบบการควบคุมฯ!B338 -> ค่าครุภัณฑ์ 6911310 | C25: =+[8]ระบบการควบคุมฯ!C338 -> 20004 3300B800 | D25: =+D26+D33 -> 146200 | E25: =+E26+E33 -> 0 | F25: =+F26+F33 -> 0 | G25: =+G26+G33 -> 146200 | H25: =+H26+H33 -> 0 | I25: =+I26+I33 -> 0 | J25: =+J26+J33 -> 0
B26: =+[8]ระบบการควบคุมฯ!B339 -> ครุภัณฑ์สำนักงาน 120601 | C26: =+[8]ระบบการควบคุมฯ!C339 -> 120601 | D26: =+D27+D29+D31 -> 91800 | E26: =+E27+E29+E31 -> 0 | F26: =+F27+F29+F31 -> 0 | G26: =+G27+G29+G31 -> 91800 | H26: =+H27+H29+H31 -> 0 | I26: =+I27+I29+I31 -> 0 | J26: =+J27+J29+J31 -> 0
A27: =+[8]ระบบการควบคุมฯ!A340 -> 5.3.1.1 | B27: =+[8]ระบบการควบคุมฯ!B340 -> ถังน้ำ แบบสเตนเลส ขนาดความจุ 2,000 ลิตร โรงเรียนวัดลาดสนุ่น | C27: =+[8]ระบบการควบคุมฯ!C340 -> ที่ ศธ 04087/ว49453/25 พย 68 ครั้งที่ 104 | D27: =SUM(D28) -> 16800 | E27: =SUM(E28) -> 0 | F27: =SUM(F28) -> 0 | G27: =SUM(G28) -> 16800 | H27: =SUM(H28) -> 0 | I27: =SUM(I28) -> 0 | J27: =SUM(J28) -> 0
A28: =+[8]ระบบการควบคุมฯ!A341 -> 1) | B28: =+[8]ระบบการควบคุมฯ!B341 -> โรงเรียนวัดลาดสนุ่น | C28: =+[8]ระบบการควบคุมฯ!C341 -> 200043300B8003111326 | D28: =+[8]ระบบการควบคุมฯ!F341 -> 16800 | E28: =+[8]ระบบการควบคุมฯ!G341+[8]ระบบการควบคุมฯ!H341 -> 0 | G28: =+[8]ระบบการควบคุมฯ!K341+[8]ระบบการควบคุมฯ!L341 -> 16800 | J28: =+D28-E28-F28-G28 -> 0
A29: =+[8]ระบบการควบคุมฯ!A342 -> 5.3.1.2 | B29: =+[8]ระบบการควบคุมฯ!B342 -> เครื่องทำลายเอกสาร แบบตัดละเอียด ทำลายครั้งละ 30 แผ่น | C29: =+[8]ระบบการควบคุมฯ!C342 -> ที่ ศธ 04087/ว49453/25 พย 68 ครั้งที่ 104 | D29: =SUM(D30) -> 67000 | E29: =SUM(E30) -> 0 | F29: =SUM(F30) -> 0 | G29: =SUM(G30) -> 67000 | H29: =SUM(H30) -> 0 | I29: =SUM(I30) -> 0 | J29: =SUM(J30) -> 0
A30: =+[8]ระบบการควบคุมฯ!A344 -> 1) | B30: =+[8]ระบบการควบคุมฯ!B344 -> โรงเรียนวัดลาดสนุ่น | C30: =+[8]ระบบการควบคุมฯ!C344 -> 200043300B8003111329 | D30: =+[8]ระบบการควบคุมฯ!F344 -> 67000 | E30: =+[8]ระบบการควบคุมฯ!G344+[8]ระบบการควบคุมฯ!H344 -> 0 | G30: =+[8]ระบบการควบคุมฯ!K344+[8]ระบบการควบคุมฯ!L344 -> 67000 | J30: =+D30-E30-F30-G30 -> 0
A31: =+[8]ระบบการควบคุมฯ!A345 -> 5.3.1.2 | B31: =+[8]ระบบการควบคุมฯ!B345 -> พัดลม แบบโคจรติดผนัง ขนาดไม่น้อยกว่า 16 นิ้ว (400 มิลลิเมตร) | C31: =+[8]ระบบการควบคุมฯ!C345 -> ที่ ศธ 04087/ว49453/25 พย 68 ครั้งที่ 104 | D31: =SUM(D32) -> 8000 | E31: =SUM(E32) -> 0 | F31: =SUM(F32) -> 0 | G31: =SUM(G32) -> 8000 | H31: =SUM(H32) -> 0 | I31: =SUM(I32) -> 0 | J31: =SUM(J32) -> 0
A32: =+[8]ระบบการควบคุมฯ!A347 -> 1) | B32: =+[8]ระบบการควบคุมฯ!B347 -> โรงเรียนวัดมูลจินดาราม | C32: =+[8]ระบบการควบคุมฯ!C347 -> 200043300B8003111330 | D32: =+[8]ระบบการควบคุมฯ!F347 -> 8000 | E32: =+[8]ระบบการควบคุมฯ!G347+[8]ระบบการควบคุมฯ!H347 -> 0 | G32: =+[8]ระบบการควบคุมฯ!K347+[8]ระบบการควบคุมฯ!L347 -> 8000 | J32: =+D32-E32-F32-G32 -> 0
A33: =+[8]ระบบการควบคุมฯ!A348 -> 0 | B33: =+[8]ระบบการควบคุมฯ!B348 -> ครุภัณฑ์งานบ้านงานครัว 120612 | C33: =+[8]ระบบการควบคุมฯ!C348 -> 120612 | D33: =+D34+D36 -> 54400 | E33: =+E34+E36 -> 0 | F33: =+F34+F36 -> 0 | G33: =+G34+G36 -> 54400 | H33: =+H34+H36 -> 0 | I33: =+I34+I36 -> 0 | J33: =+J34+J36 -> 0
A34: =+[8]ระบบการควบคุมฯ!A349 -> 5.3.1.3 | B34: =+[8]ระบบการควบคุมฯ!B349 -> เครื่องตัดแต่งพุ่มไม้ ขนาด 29.5 นิ้ว | C34: =+[8]ระบบการควบคุมฯ!C349 -> ที่ ศธ 04087/ว49453/25 พย 68 ครั้งที่ 104 | D34: =+D35 -> 17400 | E34: =+E35 -> 0 | F34: =+F35 -> 0 | G34: =+G35 -> 17400 | H34: =+H35 -> 0 | I34: =+I35 -> 0 | J34: =+J35 -> 0
A35: =+[8]ระบบการควบคุมฯ!A350 -> 1) | B35: =+[8]ระบบการควบคุมฯ!B350 -> โรงเรียนชุมชนบึงบา | C35: =+[8]ระบบการควบคุมฯ!C350 -> 200043300B8003111327 | D35: =+[8]ระบบการควบคุมฯ!F350 -> 17400 | E35: =+[8]ระบบการควบคุมฯ!G350+[8]ระบบการควบคุมฯ!H350 -> 0 | G35: =+[8]ระบบการควบคุมฯ!K350+[8]ระบบการควบคุมฯ!L350 -> 17400 | J35: =+D35-E35-F35-G35 -> 0
A36: =+[8]ระบบการควบคุมฯ!A351 -> 5.3.1.4 | B36: =+[8]ระบบการควบคุมฯ!B351 -> ตู้แช่อาหาร ขนาด 20 คิวบิกฟุต | C36: =+[8]ระบบการควบคุมฯ!C351 -> ที่ ศธ 04087/ว49453/25 พย 68 ครั้งที่ 104 | D36: =+D37 -> 37000 | E36: =+E37 -> 0 | F36: =+F37 -> 0 | G36: =+G37 -> 37000 | H36: =+H37 -> 0 | I36: =+I37 -> 0 | J36: =+J37 -> 0
A37: =+[8]ระบบการควบคุมฯ!A352 -> 1) | B37: =+[8]ระบบการควบคุมฯ!B352 -> โรงเรียนวัดมูลจินดาราม | C37: =+[8]ระบบการควบคุมฯ!C352 -> 200043300B8003111328 | D37: =+[8]ระบบการควบคุมฯ!F352 -> 37000 | E37: =+[8]ระบบการควบคุมฯ!G352+[8]ระบบการควบคุมฯ!H352 -> 0 | G37: =+[8]ระบบการควบคุมฯ!K352+[8]ระบบการควบคุมฯ!L352 -> 37000 | J37: =+D37-E37-F37-G37 -> 0
B39: งบลงทุน 6911320 | D39: =+D41 -> 0 | E39: =+E41 -> 0 | F39: =+F41 -> 0 | G39: =+G41 -> 0 | H39: =+H41 -> 0 | I39: =+I41 -> 0 | J39: =+J41 -> 0
A40: =+[8]ระบบการควบคุมฯ!A153 -> 3.3.2 | B40: =+[8]ระบบการควบคุมฯ!B153 -> ปรับปรุงซ่อมแซมห้องปฏิบัติการวิทยาศาสตร์ | C40: =+[8]ระบบการควบคุมฯ!C153 -> ศธ 04002/ว47614 ลว. 31 ตค 68 โอนครั้งที่ 23
A41: =+[8]ระบบการควบคุมฯ!A154 -> 1) | B41: =+[8]ระบบการควบคุมฯ!B154 -> โรงเรียนวัดเขียนเขต | C41: =+[8]ระบบการควบคุมฯ!C154 -> 20004 33006300 3110064 | D41: =+[8]ระบบการควบคุมฯ!F153 -> 0 | E41: =+[8]ระบบการควบคุมฯ!G153+[8]ระบบการควบคุมฯ!H153 -> 0 | F41: =+[8]ระบบการควบคุมฯ!I153+[8]ระบบการควบคุมฯ!J153 -> 0 | G41: =+[8]ระบบการควบคุมฯ!K153+[8]ระบบการควบคุมฯ!L153 -> 0 | J41: =+D41-E41-F41-G41 -> 0
A44: =+[8]ระบบการควบคุมฯ!A394 -> 5.4 | B44: =+[8]ระบบการควบคุมฯ!B394 -> กิจกรรมการก่อสร้าง ปรับปรุง ซ่อมแซมอาคารเรียนและสิ่งก่อสร้างประกอบเพื่อขับเคลื่อนโรงเรียนคุณภาพ | C44: =+[8]ระบบการควบคุมฯ!C394 -> 20004 69 00135 00000 | D44: =+D45 -> 84000 | E44: =+E45 -> 0 | F44: =+F45 -> 0 | G44: =+G45 -> 84000 | H44: =+H45 -> 0 | I44: =+I45 -> 0 | J44: =+J45 -> 0
B45: =+[8]ระบบการควบคุมฯ!B396 -> งบลงทุน ค่าที่ดินและสิ่งก่อสร้าง 6911320 | D45: =+D46+D51+D58 -> 84000 | E45: =+E46+E51+E58 -> 0 | F45: =+F46+F51+F58 -> 0 | G45: =+G46+G51+G58 -> 84000 | H45: =+H46+H51+H58 -> 0 | I45: =+I46+I51+I58 -> 0 | J45: =+J46+J51+J58 -> 0
A46: =+[8]ระบบการควบคุมฯ!A397 -> 5.4.1 | B46: =+[8]ระบบการควบคุมฯ!B397 -> ก่อสร้างปรับปรุงซ่อมแซมอาคารเรียนอาคารประกอบและสิ่งก่อสร้างอื่น | C46: =+[8]ระบบการควบคุมฯ!C397 -> ศธ04002/ว50349 ลว.12 ธ.ค 68 โอนครั้งที่ 153 | D46: =+D47 -> 84000 | E46: =+E47 -> 0 | F46: =+F47 -> 0 | G46: =+G47 -> 84000 | H46: =+H47 -> 0 | I46: =+I47 -> 0 | J46: =+J47 -> 0
A47: =+[8]ระบบการควบคุมฯ!A398 -> 1) | B47: =+[8]ระบบการควบคุมฯ!B398 -> โรงเรียนวัดจตุพิธวราวาส | C47: =+[8]ระบบการควบคุมฯ!C398 -> 200043300B8003210261 | D47: =+[8]ระบบการควบคุมฯ!D398 -> 84000 | E47: =+[8]ระบบการควบคุมฯ!G398+[8]ระบบการควบคุมฯ!H398 -> 0 | F47: =+[8]ระบบการควบคุมฯ!I398+[8]ระบบการควบคุมฯ!J398 -> 0 | G47: =+[8]ระบบการควบคุมฯ!K398+[8]ระบบการควบคุมฯ!L398 -> 84000 | J47: =D47-E47-F47-G47 -> 0
B48: =+[8]โครงการโรงเรียนคุณภาพ!E252 -> ผูกพัน ครบ 12 ก.พ.69
A49: =+[8]ระบบการควบคุมฯ!A400 -> 0 | B49: =+[8]ระบบการควบคุมฯ!B400 -> 0 | C49: =+[8]ระบบการควบคุมฯ!C400 -> 0 | J49: =D49-E49-F49-G49 -> 0
B50: =+[8]โครงการโรงเรียนคุณภาพ!E283 -> ผูกพันครบ 20 มีค 68 | C50: =+[8]ระบบการควบคุมฯ!C401 -> 0
A51: =+[8]ระบบการควบคุมฯ!A404 -> 5.4.2 | B51: =+[8]ระบบการควบคุมฯ!B404 -> รายการก่อสร้างปรับปรุงซ่อมแซมอาคารเรียนอาคารประกอบและสิ่งก่อสร้างอื่นที่ชำรุดทรุดโทรมและที่ประสบอุบัติภัย | C51: =+[8]ระบบการควบคุมฯ!C404 -> ศธ04002/ว2239 ลว.27 พค 68 โอนครั้งที่ 519 | D51: =+D52+D54 -> 0 | E51: =+E52+E54 -> 0 | F51: =+F52+F54 -> 0 | G51: =+G52+G54 -> 0 | J51: =D51-E51-F51-G51 -> 0
A52: =+[8]ระบบการควบคุมฯ!A405 -> 1) | B52: =+[8]ระบบการควบคุมฯ!B405 -> โรงเรียนวัดประยูรธรรมาราม | C52: =+[8]ระบบการควบคุมฯ!C405 -> 20004 3300 B800 321ZZZZ | D52: =+[8]ระบบการควบคุมฯ!F405 -> 0 | E52: =+[8]ระบบการควบคุมฯ!G405+[8]ระบบการควบคุมฯ!H405 -> 0 | G52: =+[8]ระบบการควบคุมฯ!K405+[8]ระบบการควบคุมฯ!L405 -> 0 | J52: =D52-E52-F52-G52 -> 0
B53: =+[8]ระบบการควบคุมฯ!B406 -> ผูกพัน 10 มิ.ย. 68 ครบ 9 ส.ค. 68 | J53: =D53-E53-F53-G53 -> 0
A54: =+[8]ระบบการควบคุมฯ!A407 -> 2) | B54: =+[8]ระบบการควบคุมฯ!B407 -> โรงเรียนชุมชนวัดพิชิตปิตยาราม | C54: =+[8]ระบบการควบคุมฯ!C407 -> 20004 3300 B800 321ZZZZ | D54: =+[8]ระบบการควบคุมฯ!F407 -> 0 | E54: =+[8]ระบบการควบคุมฯ!G407+[8]ระบบการควบคุมฯ!H407 -> 0 | G54: =+[8]ระบบการควบคุมฯ!K407+[8]ระบบการควบคุมฯ!L407 -> 0 | J54: =D54-E54-F54-G54 -> 0
B55: =+[8]ระบบการควบคุมฯ!B408 -> ผูกพัน 26 มิ.ย. 68 ครบ 4 ส.ค. 68 | J55: =D55-E55-F55-G55 -> 0
J56: =D56-E56-F56-G56 -> 0
J57: =D57-E57-F57-G57 -> 0
A58: =+[8]ระบบการควบคุมฯ!A416 -> 5.4.3 | B58: =+[8]ระบบการควบคุมฯ!B416 -> ห้องน้ำห้องส้วมนักเรียนหญิง 4 ที่/49 | C58: =+[8]ระบบการควบคุมฯ!C416 -> ศธ04002/ว50349 ลว.12 ธ.ค 68 โอนครั้งที่ 153 | D58: =SUM(D59:D62) -> 0 | E58: =SUM(E59:E62) -> 0 | F58: =SUM(F59:F62) -> 0 | G58: =SUM(G59:G62) -> 0 | H58: =SUM(H59:H62) -> 0 | I58: =SUM(I59:I62) -> 0 | J58: =SUM(J59:J62) -> 0
A59: =+[8]ระบบการควบคุมฯ!A418 -> 1) | B59: =+[8]ระบบการควบคุมฯ!B418 -> โรงเรียนวัดแสงสรรค์ | C59: =+[8]ระบบการควบคุมฯ!C418 -> 200043300B8003211259 | D59: =+[8]ระบบการควบคุมฯ!D418 -> 0 | E59: =+[8]ระบบการควบคุมฯ!G418+[8]ระบบการควบคุมฯ!H418 -> 0 | F59: =+[8]ระบบการควบคุมฯ!I418+[8]ระบบการควบคุมฯ!J418 -> 0 | G59: =+[8]ระบบการควบคุมฯ!K418+[8]ระบบการควบคุมฯ!L418 -> 0 | J59: =+D59-E59-F59-G59 -> 0
B60: =+[8]ระบบการควบคุมฯ!B419 -> ครบ 20 มีค 68
A61: =+[8]ระบบการควบคุมฯ!A420 -> 2) | B61: =+[8]ระบบการควบคุมฯ!B420 -> โรงเรียนวัดแสงสรรค์ | C61: =+[8]ระบบการควบคุมฯ!C420 -> 200043300B8003211260 | D61: =+[8]ระบบการควบคุมฯ!D420 -> 0 | E61: =+[8]ระบบการควบคุมฯ!G420+[8]ระบบการควบคุมฯ!H420 -> 0 | F61: =+[8]ระบบการควบคุมฯ!I420+[8]ระบบการควบคุมฯ!J420 -> 0 | G61: =+[8]ระบบการควบคุมฯ!K420+[8]ระบบการควบคุมฯ!L420 -> 0 | J61: =+D61-E61-F61-G61 -> 0
B62: =+[8]ระบบการควบคุมฯ!B421 -> ครบ 18 มิย 68
A67: 1.3 | B67: =+[8]ระบบการควบคุมฯ!B429 -> กิจกรรมการยกระดับคุณภาพการศึกษา (โรงเรียนคุณภาพของชุมชนโรงเรียนมัธยมดีสี่มุมเมือง) | C67: =+[8]ระบบการควบคุมฯ!C429 -> 20004 69 00079 00000 | D67: =+D68+D72 -> 0 | E67: =+E68+E72 -> 0 | F67: =+F68+F72 -> 0 | G67: =+G68+G72 -> 0 | H67: =+H68+H72 -> 0 | I67: =+I68+I72 -> 0 | J67: =+J68+J72 -> 0
D68: =+D69+D74 -> 0 | E68: =+E69+E74 -> 0 | F68: =+F69+F74 -> 0 | G68: =+G69+G74 -> 0 | H68: =+H69+H74 -> 0 | I68: =+I69+I74 -> 0 | J68: =+J69+J74 -> 0
A69: 1.3.1 | B69: =+[8]ระบบการควบคุมฯ!B437 -> เงินชดเชยค่างานก่อสร้างตามสัญญาแบบปรับราคาได้ (ค่า K) | C69: =+[8]ระบบการควบคุมฯ!C437 -> ศธ04002/ว4285 ลว.13 กย 67 โอนครั้งที่ 401 | D69: =+D70 -> 0 | E69: =+E70 -> 0 | F69: =+F70 -> 0 | G69: =+G70 -> 0 | H69: =+H70 -> 0 | I69: =+I70 -> 0 | J69: =+J70 -> 0
A70: =+[8]ระบบการควบคุมฯ!A438 -> 1) | B70: =+[8]ระบบการควบคุมฯ!B438 -> โรงเรียนธัญญสิทธิศิลป์ | C70: =+[8]ระบบการควบคุมฯ!C438 -> 20004 3100B600 321YYY | D70: =+[8]ระบบการควบคุมฯ!D438 -> 0 | E70: =+[8]ระบบการควบคุมฯ!E438 -> 0 | F70: =+[8]ระบบการควบคุมฯ!F438 -> 0 | G70: =+[8]ระบบการควบคุมฯ!G438 -> 0 | H70: =+[8]ระบบการควบคุมฯ!H438 -> 0 | ... J70: =+[8]ระบบการควบคุมฯ!J438 -> 0
B71: =+[8]ยุธศาสตร์เรียนดีปร3100116003211!E381 -> ทำสัญญญา 9 มค 66 ครบ 25 มีค 66
B72: =+[8]ระบบการควบคุมฯ!B430 -> งบลงทุน ค่าครุภัณฑ์ 6911310 | C72: =+C68 -> 0 | D72: =+D74 -> 0 | E72: =+E74 -> 0 | F72: =+F74 -> 0 | G72: =+G74 -> 0 | H72: =+H74 -> 0 | I72: =+I74 -> 0 | J72: =+J74 -> 0
B73: =+[8]ระบบการควบคุมฯ!B431 -> ครุภัณฑ์การศึกษา 120611 | D73: =+D74 -> 0 | E73: =+E74 -> 0 | F73: =+F74 -> 0 | G73: =+G74 -> 0 | H73: =+H74 -> 0 | I73: =+I74 -> 0 | J73: =+J74 -> 0
A74: 1.4.1 | B74: =+[8]ระบบการควบคุมฯ!B432 -> โต๊ะเก้าอี้นักเรียนระดับประถมศึกษา ชุดละ 1,500 บาท | C74: =+[8]ระบบการควบคุมฯ!C432 -> ศธ04002/ว1802 ลว.8 พค 67 โอนครั้งที่ 7 | D74: =+D75 -> 0 | E74: =+E75 -> 0 | F74: =+F75 -> 0 | G74: =+G75 -> 0 | H74: =+H75 -> 0 | I74: =+I75 -> 0 | J74: =+J75 -> 0
A75: =+[8]ระบบการควบคุมฯ!A463 -> 1) | B75: =+[8]ระบบการควบคุมฯ!B433 -> โรงเรียนชุมชนบึงบา | C75: =+[8]ระบบการควบคุมฯ!C433 -> 200043100B6003113826 | J75: =D75-E75-F75-G75 -> 0
B76: =+[8]ระบบการควบคุมฯ!B434 -> ผูกพันครบ 19 มิย 67 | C76: =+[8]ระบบการควบคุมฯ!C434 -> 4100392644
B77: =+[8]ระบบการควบคุมฯ!B436 -> งบลงทุน ค่าที่ดินสิ่งก่อสร้าง 6711320 | D77: =+D78 -> 0 | E77: =+E78 -> 0 | F77: =+F78 -> 0 | G77: =+G78 -> 0 | H77: =+H78 -> 0 | I77: =+I78 -> 0 | J77: =+J78 -> 0
A78: =+[8]ระบบการควบคุมฯ!A437 -> 5.3.2 | B78: =+[8]ระบบการควบคุมฯ!B437 -> เงินชดเชยค่างานก่อสร้างตามสัญญาแบบปรับราคาได้ (ค่า K) | C78: =+[8]ระบบการควบคุมฯ!C437 -> ศธ04002/ว4285 ลว.13 กย 67 โอนครั้งที่ 401 | D78: =SUM(D79:D81) -> 0 | E78: =SUM(E79:E81) -> 0 | F78: =SUM(F79:F81) -> 0 | G78: =SUM(G79:G81) -> 0 | H78: =SUM(H79:H81) -> 0 | I78: =SUM(I79:I81) -> 0 | J78: =SUM(J79:J81) -> 0
A79: =+[8]ระบบการควบคุมฯ!A438 -> 1) | B79: =+[8]ระบบการควบคุมฯ!B438 -> โรงเรียนธัญญสิทธิศิลป์ | C79: =+[8]ระบบการควบคุมฯ!C438 -> 20004 3100B600 321YYY | J79: =D79-E79-F79-G79 -> 0
A80: =+[8]ระบบการควบคุมฯ!A439 -> 2) | B80: =+[8]ระบบการควบคุมฯ!B439 -> โรงเรียนชุมชนเลิศพินิจพิทยาคม | C80: =+[8]ระบบการควบคุมฯ!C439 -> 20004 3100B600 321YYY | J80: =D80-E80-F80-G80 -> 0
A81: =+[8]ระบบการควบคุมฯ!A440 -> 3) | B81: =+[8]ระบบการควบคุมฯ!B440 -> โรงเรียนชุมชนประชานิกรณ์อำนวยเวทย์ | C81: =+[8]ระบบการควบคุมฯ!C440 -> 20004 3100B600 321YYY | J81: =D81-E81-F81-G81 -> 0
J82: =D82-E82-F82-G82 -> 0
A83: =+[8]ระบบการควบคุมฯ!A628 -> ง | B83: =+[8]ระบบการควบคุมฯ!B628 -> แผนงานพื้นฐานด้านการพัฒนาและเสริมสร้างศักยภาพทรัพยากรมนุษย์ | D83: =+D84+D100 -> 20585050 | E83: =+E84+E100 -> 0 | F83: =+F84+F100 -> 0 | G83: =+G84+G100 -> 19942975 | H83: =+H84+H100 -> #REF! | I83: =+I84+I100 -> #REF! | J83: =+J84+J100 -> 642074.59 | K83: =+K84 -> 0
A84: =+[8]ระบบการควบคุมฯ!A631 -> 1 | B84: =+[8]ระบบการควบคุมฯ!B631 -> ผลผลิตผู้จบการศึกษาก่อนประถมศึกษา | C84: =+[8]ระบบการควบคุมฯ!C631 -> 20004 3720 1000 2000000 | D84: =+D85 -> 0 | E84: =+E85 -> 0 | F84: =+F85 -> 0 | G84: =+G85 -> 0 | H84: =+H85 -> 0 | I84: =+I85 -> 0 | J84: =+J85 -> 0 | K84: =+K85 -> 0
A85: 1.1 | B85: =+[8]ระบบการควบคุมฯ!B636 -> กิจกรรมการจัดการศึกษาก่อนประถมศึกษา | C85: =+[8]ระบบการควบคุมฯ!C636 -> 20004 68 05162 00000 | D85: =+D86 -> 0 | E85: =+E86 -> 0 | F85: =+F86 -> 0 | G85: =+G86 -> 0 | H85: =+H86 -> 0 | I85: =+I86 -> 0 | J85: =+J86 -> 0 | K85: =+K86 -> 0
B86: =+[8]ระบบการควบคุมฯ!B634 -> ค่าครุภัณฑ์ 6911310 | D86: =+D87 -> 0 | E86: =+E87 -> 0 | F86: =+F87 -> 0 | G86: =+G87 -> 0 | H86: =+H87 -> 0 | I86: =+I87 -> 0 | J86: =+J87 -> 0
B87: =+[8]ระบบการควบคุมฯ!B693 -> ครุภัณฑ์การศึกษา 120611 | D87: =+D88+D95 -> 0 | E87: =+E88+E95 -> 0 | F87: =+F88+F95 -> 0 | G87: =+G88+G95 -> 0 | H87: =+H88+H95 -> 0 | I87: =+I88+I95 -> 0 | J87: =+J88+J95 -> 0
A88: 1.1.1 | B88: =+[8]ระบบการควบคุมฯ!B694 -> เครื่องเล่นสนามระดับก่อนประถมศึกษาแบบ 2 | C88: =+[8]ระบบการควบคุมฯ!C694 -> ศธ04002/ว1802 ลว.8 พค 67 โอนครั้งที่ 7 | D88: =SUM(D89:D94) -> 0 | E88: =SUM(E89:E94) -> 0 | F88: =SUM(F89:F94) -> 0 | G88: =SUM(G89:G94) -> 0 | H88: =SUM(H89:H94) -> 0 | I88: =SUM(I89:I94) -> 0 | J88: =SUM(J89:J94) -> 0
A89: =+[8]ระบบการควบคุมฯ!A695 -> 1) | B89: =+[8]ระบบการควบคุมฯ!B695 -> โรงเรียนทองพูลอุทิศ | C89: =+[8]ระบบการควบคุมฯ!C695 -> 20004350001003110490 | J89: =D89-E89-F89-G89 -> 0
B90: =+[8]ระบบการควบคุมฯ!B696 -> ผูกพัน ครบ 16 กค 67 | C90: =+[8]ระบบการควบคุมฯ!C696 -> 4100385427 | J90: =D90-E90-F90-G90 -> 0
A91: =+[8]ระบบการควบคุมฯ!A697 -> 2) | B91: =+[8]ระบบการควบคุมฯ!B697 -> โรงเรียนวัดชัยมังคลาราม | C91: =+[8]ระบบการควบคุมฯ!C697 -> 20004350001003110491 | J91: =D91-E91-F91-G91 -> 0
B92: =+[8]ระบบการควบคุมฯ!B698 -> ผูกพัน ครบ 16 กค 67 | C92: =+[8]ระบบการควบคุมฯ!C698 -> 4100398102 | J92: =D92-E92-F92-G92 -> 0
A93: =+[8]ระบบการควบคุมฯ!A699 -> 3) | B93: =+[8]ระบบการควบคุมฯ!B699 -> โรงเรียนวัดดอนใหญ่ | C93: =+[8]ระบบการควบคุมฯ!C699 -> 20004350001003110492 | J93: =D93-E93-F93-G93 -> 0
B94: =+[8]ระบบการควบคุมฯ!B700 -> ผูกพัน ครบ 19 กค 67 | C94: =+[8]ระบบการควบคุมฯ!C700 -> 410034351 | J94: =D94-E94-F94-G94 -> 0
A95: =+[8]ระบบการควบคุมฯ!A707 -> 1.1.2 | B95: =+[8]ระบบการควบคุมฯ!B707 -> เครื่องเล่นสนามระดับก่อนประถมศึกษา แบบ 1 | C95: =+[8]ระบบการควบคุมฯ!C707 -> ศธ04002/ว1802 ลว.8 พค 67 โอนครั้งที่ 7 | D95: =SUM(D96:D97) -> 0 | E95: =SUM(E96:E97) -> 0 | F95: =SUM(F96:F97) -> 0 | G95: =SUM(G96:G97) -> 0 | H95: =SUM(H96:H97) -> 0 | I95: =SUM(I96:I97) -> 0 | J95: =SUM(J96:J97) -> 0
A96: =+[8]ระบบการควบคุมฯ!A708 -> 1) | B96: =+[8]ระบบการควบคุมฯ!B708 -> โรงเรียนวัดแสงมณี | C96: =+[8]ระบบการควบคุมฯ!C708 -> 20004350001003110493 | J96: =D96-E96-F96-G96 -> 0
B97: =+[8]ระบบการควบคุมฯ!B709 -> ผูกพัน ครบ 9 กค 67 | C97: =+[8]ระบบการควบคุมฯ!C709 -> 4100394811 | J97: =D97-E97-F97-G97 -> 0
A98: =+[8]ระบบการควบคุมฯ!A701 -> 0 | B98: =+[8]ระบบการควบคุมฯ!B701 -> 0 | C98: =+[8]ระบบการควบคุมฯ!C701 -> 0 | D98: =+[8]ระบบการควบคุมฯ!#REF! -> #REF! | E98: =+[8]ระบบการควบคุมฯ!#REF!+[8]ระบบการควบคุมฯ!#REF! -> #REF! | F98: =+[8]ระบบการควบคุมฯ!J473 -> 0 | G98: =+[8]ระบบการควบคุมฯ!#REF!+[8]ระบบการควบคุมฯ!#REF! -> #REF! | J98: =D98-E98-F98-G98 -> #REF!
B99: =+[8]ระบบการควบคุมฯ!B702 -> 0 | C99: =+[8]ระบบการควบคุมฯ!C702 -> 0 | D99: =+[8]ระบบการควบคุมฯ!#REF! -> #REF! | E99: =+[8]ระบบการควบคุมฯ!#REF!+[8]ระบบการควบคุมฯ!#REF! -> #REF! | F99: =+[8]ระบบการควบคุมฯ!J474 -> 0 | G99: =+[8]ระบบการควบคุมฯ!#REF!+[8]ระบบการควบคุมฯ!#REF! -> #REF! | J99: =D99-E99-F99-G99 -> #REF!
A100: =+[8]ระบบการควบคุมฯ!A722 -> 0 | B100: =+[8]ระบบการควบคุมฯ!B722 -> ผลผลิตผู้จบการศึกษาขั้นพื้นฐาน | C100: =+[8]ระบบการควบคุมฯ!C722 -> 20004 3720 1000 2000000 | D100: =SUM(D101:D102) -> 20585050 | E100: =SUM(E101:E102) -> 0 | F100: =SUM(F101:F102) -> 0 | G100: =SUM(G101:G102) -> 19942975 | H100: =SUM(H101:H102) -> #REF! | I100: =SUM(I101:I102) -> #REF! | J100: =SUM(J101:J102) -> 642074.59
B101: =+[8]ระบบการควบคุมฯ!B726 -> งบลงทุน ครุภัณฑ์ 6911310 | D101: =+D104+D145+D156+D291+D325 -> 1500350 | E101: =+E104+E145+E156+E291+E325 -> 0 | F101: =+F104+F145+F156+F291+F325 -> 0 | G101: =+G104+G145+G156+G291+G325 -> 1033250 | H101: =+H104+H145+H156+H291+H325 -> 1041000 | I101: =+I104+I145+I156+I291+I325 -> 1041000 | J101: =+J104+J145+J156+J291+J325 -> 467100
B102: =+[8]ระบบการควบคุมฯ!B727 -> งบลงทุน สิ่งก่อสร้าง 6911320 | D102: =+D187+D292+D326 -> 19084700 | E102: =+E187+E292+E326 -> 0 | F102: =+F187+F292+F326 -> 0 | G102: =+G187+G292+G326 -> 18909725 | H102: =+H187+H292+H326 -> 0 | I102: =+I187+I292+I326 -> 0 | J102: =+J187+J292+J326 -> 174974.59
A103: =+[8]ระบบการควบคุมฯ!A873 -> 1.5 | B103: =+[8]ระบบการควบคุมฯ!B873 -> กิจกรรมการจัดการศึกษาประถมศึกษาสำหรับโรงเรียนปกติ | C103: 20005 68 05164 00000 | D103: =+D104 -> 470700 | E103: =+E104 -> 0 | F103: =+F104 -> 0 | G103: =+G104 -> 3600 | H103: =+H104 -> 0 | I103: =+I104 -> 0 | J103: =+J104 -> 467100 | K103: =+K104 -> 0
B104: =+[8]ระบบการควบคุมฯ!B964 -> งบลงทุน ค่าครุภัณฑ์ 6911310 | D104: =+D105+D115+D124 -> 470700 | E104: =+E105+E115+E124 -> 0 | F104: =+F105+F115+F124 -> 0 | G104: =+G105+G115+G124 -> 3600 | H104: =+H105+H115+H124 -> 0 | I104: =+I105+I115+I124 -> 0 | J104: =+J105+J115+J124 -> 467100
A105: =+[8]ระบบการควบคุมฯ!A965 -> 0 | B105: =+[8]ระบบการควบคุมฯ!B965 -> ครุภัณฑ์สำนักงาน 120601 | D105: =+D106+D109+D112 -> 418500 | E105: =+E106+E109+E112 -> 0 | F105: =+F106+F109+F112 -> 0 | G105: =+G106+G109+G112 -> 0 | H105: =+H106+H109+H112 -> 0 | I105: =+I106+I109+I112 -> 0 | J105: =+J106+J109+J112 -> 418500 | K105: =+K106 -> 0
A106: =+[8]ระบบการควบคุมฯ!A966 -> 1.5.2.1 | B106: =+[8]ระบบการควบคุมฯ!B966 -> เครื่องปรับอากาศแบบตั้งพื้นหรือแบบแขวน (ระบบ Inverter) ขนาด 24,000 บีทียู @ละ 40,900 บาท | C106: =+[8]ระบบการควบคุมฯ!C966 -> ง.241 ลว. 7 ส.ค. 69 | D106: =+D107 -> 245400 | E106: =+E107 -> 0 | F106: =+F107 -> 0 | G106: =+G107 -> 0 | H106: =+H107 -> 0 | I106: =+I107 -> 0 | J106: =+J107 -> 245400
A107: =+[8]ระบบการควบคุมฯ!A967 -> 1) | B107: =+[8]ระบบการควบคุมฯ!B967 -> สพป.ปทุมธานี เขต 2 (6 เครื่อง) | C107: =+[8]ระบบการควบคุมฯ!C967 -> 20004 3700 1000 311ส024 | D107: =+[8]ระบบการควบคุมฯ!F967 -> 245400 | E107: =+[8]ระบบการควบคุมฯ!G967+[8]ระบบการควบคุมฯ!H967 -> 0 | F107: =+[8]ระบบการควบคุมฯ!I967+[8]ระบบการควบคุมฯ!J967 -> 0 | G107: =+[8]ระบบการควบคุมฯ!K967+[8]ระบบการควบคุมฯ!L967 -> 0 | J107: =D107-E107-F107-G107 -> 245400
B108: =+[8]ระบบการควบคุมฯ!B987 -> 0 | C108: =+[8]ระบบการควบคุมฯ!C987 -> 0
...

Sheet รายงานผลการเบิกจ่าย
A1: สำนักงานเขตพื้นที่การศึกษาประถมศึกษาปทุมธานี เขต 2
A2: ผลการเบิกจ่ายและใช้จ่ายเงินงบประมาณรายจ่าย ประจำปีงบประมาณ พ.ศ. 2569
A3: ตามมาตรการเร่งรัดการเบิกจ่ายงบประมาณและการใช้จ่ายภาครัฐ ประจำปีงบประมาณ พ.ศ. 2569
A4: หนังสือกรมบัญชีกลาง ด่วนที่สุด ที่ กค 0412.4/ว7516 ลงวันที่ 28 ตุลาคม 2568
C5: =+[8]ระบบการควบคุมฯ!A4 -> ประจำเดือน สิงหาคม 2569 | M5: รายละเอียด 1
A6: รายการ | F6: เป้าหมายการเบิกจ่ายตามมาตรการภาครัฐ (%) | G6: งบประมาณ | H6: ผลการเบิกจ่ายเงินงบประมาณ | J6: เป้าหมายการใช้จ่ายตามมาตรการภาครัฐ(%) | K6: ผลการใช้จ่ายเงินงบประมาณ | M6: สรุปผลการเบิกจ่ายและการใช้จ่ายฯ
H7: บาท | I7: % | K7: บาท | L7: %
A8: 1. | B8: การเบิกจ่ายในภาพรวม(ทั้งปี) | F8: 93 | J8: =+J12 -> 100
A9: 1.1 | B9: ไตรมาสที่ 1 ต.ค.68 - ธ.ค.68 | F9: 33 | G9: =+'[6]มาตการ รวมงบบุคลากร'!$G$9 -> 94420392 | H9: =+'[6]มาตการ รวมงบบุคลากร'!$H$9 -> 69966363 | I9: =+H9*100/G9 -> 74.100903 | J9: 38 | K9: =+'[6]มาตการ รวมงบบุคลากร'!$K$9 -> 84105163 | L9: =+K9*100/G9 -> 89.07521 | M9: เบิกจ่ายและใช้จ่าย ( √ ) เป็น ( ) ไม่เป็น ตามมาตรการภาครัฐ
A10: 1.2 | B10: ไตรมาสที่ 2 ม.ค.69 - มี.ค.69 | F10: 55 | G10: =+'[9]มาตการ รวมงบบุคลากร'!$G$10 -> 103356406 | H10: =+'[9]มาตการ รวมงบบุคลากร'!$H$10 -> 87026294 | I10: =+H10*100/G10 -> 84.200194 | J10: 61 | K10: =+'[9]มาตการ รวมงบบุคลากร'!$K$10 -> 94881111 | L10: =+K10*100/G10 -> 91.799932 | M10: เบิกจ่ายและใช้จ่าย ( √ ) เป็น ( ) ไม่เป็น ตามมาตรการภาครัฐ
A11: 1.3 | B11: ไตรมาสที่ 3 เม.ย.69 - มิ.ย.69 | F11: 76 | G11: =+[7]ระบบการควบคุมฯ!F1638 -> 165091362 | H11: =+[7]ระบบการควบคุมฯ!K1650 -> 1.5643074e+08 | I11: =+H11*100/G11 -> 94.754042 | J11: 81 | K11: =+[7]ระบบการควบคุมฯ!K1650+[7]ระบบการควบคุมฯ!G1650 -> 1.5831777e+08 | L11: =+K11*100/G11 -> 95.897066 | M11: เบิกจ่ายและใช้จ่าย ( √ ) เป็น ( ) ไม่เป็น ตามมาตรการภาครัฐ
A12: 1.4 | B12: ไตรมาสที่ 4 ก.ค.69 - ก.ย.69 | F12: 93 | G12: =+[8]ระบบการควบคุมฯ!F1681 -> 211784974 | H12: =+[8]ระบบการควบคุมฯ!K1693 -> 2.0204588e+08 | I12: =+H12*100/G12 -> 95.401424 | J12: 100 | K12: =+[8]ระบบการควบคุมฯ!K1693+[8]ระบบการควบคุมฯ!G1693 -> 2.0366832e+08 | L12: =+K12*100/G12 -> 96.167501
A13: 2. | B13: การเบิกจ่ายรายจ่ายประจำ | F13: 98 | J13: =+J17 -> 100
A14: 2.1 | B14: ไตรมาสที่ 1 ต.ค.68 - ธ.ค.68 | F14: 37 | G14: =+'[6]มาตการ รวมงบบุคลากร'!$G$14 -> 73078392 | H14: =+'[6]มาตการ รวมงบบุคลากร'!$H$14 -> 66001976 | I14: =+H14*100/G14 -> 90.316677 | J14: 38 | K14: =+'[6]มาตการ รวมงบบุคลากร'!$K$14 -> 66001976 | L14: =+K14*100/G14 -> 90.316677 | M14: เบิกจ่ายและใช้จ่าย ( √ ) เป็น ( ) ไม่เป็น ตามมาตรการภาครัฐ
A15: 2.2 | B15: ไตรมาสที่ 2 ม.ค.69 - มี.ค.69 | F15: 60 | G15: =+'[9]มาตการ รวมงบบุคลากร'!$G$15 -> 82014406 | H15: =+'[9]มาตการ รวมงบบุคลากร'!$H$15 -> 74343257 | I15: =+H15*100/G15 -> 90.646583 | J15: 61 | K15: =+'[9]มาตการ รวมงบบุคลากร'!$K$15 -> 74451474 | L15: =+K15*100/G15 -> 90.778532 | M15: เบิกจ่ายและใช้จ่าย ( √ ) เป็น ( ) ไม่เป็น ตามมาตรการภาครัฐ
A16: 2.3 | B16: ไตรมาสที่ 3 เม.ย.69 - มิ.ย.69 | F16: 83 | G16: 143052112 | H16: 1.372899e+08 | I16: =+H16*100/G16 -> 95.97195 | J16: 84 | K16: 1.3750634e+08 | L16: =+K16*100/G16 -> 96.123248
A17: 2.4 | B17: ไตรมาสที่ 4 ก.ค.69 - ก.ย.69 | F17: 98 | G17: =+S9 -> 0 | H17: =+U9 -> 0 | I17: =+H17*100/G17 -> #DIV/0! | J17: 100 | K17: =+T9+U9 -> 0 | L17: =+K17*100/G17 -> #DIV/0!
A18: 3. | B18: การเบิกจ่ายงบลงทุน(ทั้งปี) | F18: 80 | J18: 100
A19: 3.1 | B19: ไตรมาสที่ 1 ต.ค.68 - ธ.ค.68 | F19: 20 | G19: =+'[6]มาตการ รวมงบบุคลากร'!$G$19 -> 21342000 | H19: =+'[6]มาตการ รวมงบบุคลากร'!$H$19 -> 3964387.3 | I19: =+H19*100/G19 -> 18.575519 | J19: 36 | K19: =+'[6]มาตการ รวมงบบุคลากร'!$K$19 -> 18002987 | L19: =+K19*100/G19 -> 84.354734 | M19: ผลการเบิกจ่าย (√) ไม่เป็น ใช้จ่าย ( √) เป็น ตามมาตรการภาครัฐ
A20: 3.2 | B20: ไตรมาสที่ 2 ม.ค.69 - มี.ค.69 | F20: 38 | G20: =+'[9]มาตการ รวมงบบุคลากร'!$G$20 -> 21342000 | H20: =+'[9]มาตการ รวมงบบุคลากร'!$H$20 -> 12683037 | I20: =+H20*100/G20 -> 59.427595 | J20: 59 | K20: =+'[9]มาตการ รวมงบบุคลากร'!$K$20 -> 20429637 | L20: =+K20*100/G20 -> 95.725037 | M20: เบิกจ่ายและใช้จ่าย ( √ ) เป็น ( ) ไม่เป็น ตามมาตรการภาครัฐ
A21: 3.3 | B21: ไตรมาสที่ 3 เม.ย.69 - มิ.ย.69 | F21: 55 | G21: 21044950 | H21: 18730575 | I21: =+H21*100/G21 -> 89.002708 | J21: 69 | K21: 20401175 | L21: =+K21*100/G21 -> 96.940955 | M21: เบิกจ่ายและใช้จ่าย ( √ ) เป็น ( ) ไม่เป็น ตามมาตรการภาครัฐ
A22: 3.4 | B22: ไตรมาสที่ 4 ก.ค.69 - ก.ย.69 | F22: 75 | G22: =+[8]ระบบการควบคุมฯ!F1680 -> 21044250 | H22: =+[8]ระบบการควบคุมฯ!L1680+[8]ระบบการควบคุมฯ!K1680 -> 20401175 | I22: =+H22*100/G22 -> 96.944179 | J22: 100 | K22: =+[8]ระบบการควบคุมฯ!G1680+[8]ระบบการควบคุมฯ!H1680+[8]ระบบการควบคุมฯ!K1680+[8]ระบบการควบคุมฯ!L1680 -> 20401175 | L22: =+K22*100/G22 -> 96.944179
B23: ก่อหนี้ผูกพัน | H23: =+[8]ระบบการควบคุมฯ!H1680+[8]ระบบการควบคุมฯ!G1680 -> 0 | I23: =+H23*100/G22 -> 0
B24: อยู่ระหว่างขอกันไว้เบิกเหลื่อมปี
B25: เหลือจ่าย | H25: =+[8]ระบบการควบคุมฯ!M1680 -> 643074.59 | I25: =+H25*100/G22 -> 3.0558209 | L25: งบผูกพัน | M25: =+[8]ระบบการควบคุมฯ!M1423 -> 4.59
B26: อยู่ระหว่างดำเนินการ | I26: =+H26*100/G22 -> 0
F27: ลงชื่อ | H27: เลขานุการคณะกรรมการติดตามเร่งรัดการใช้จ่ายเงินฯ | J27: ลงชื่อ
F28: (นางพัชรี เรืองรุ่ง)
D29: นักวิชาการเงินและบัญชีชำนาญการพิเศษ
F30: ตรวจสอบแล้วถูกต้อง
D32: ลงชื่อ | H32: ประธานคณะกรรมการติดตามเร่งรัดการใช้จ่ายเงินฯ
F33: (นายคำโพธิ์ บุญสิงห์)
C34: ผู้อำนวยการสำนักงานเขตพื้นที่การศึกษาประถมศึกษาปทุมธานี เขต 2
A35: (นายวิรุฬห์ แสงงาม)
A36: รองผู้อำนวยการสำนักงานเขตพื้นที่การศึกษา รักษาราชการแทน
C37: เป็นไปตามมาตรการภาครัฐ | H37: ตรวจสอบแล้วถูกต้อง
C38: ไม่เป็นไปตามมาตรการภาครัฐ
A39: ลงชื่อ | D39: เลขานุการคณะกรรมการติดตาม | H39: ลงชื่อ | K39: ประธานคณะกรรมการติดตามเร่งรัด
A40: (นางพัชรี เรืองรุ่ง) | D40: เร่งรัดการเบิกจ่ายและใช้จ่ายฯ | H40: (นางสาวสุพิชสิริ ถิรวัฒนาพงศ์) ติดตามเร่งรัดการเบิกจ่ายเงินฯ | K40: การเบิกจ่ายงบประมาณและใช้จ่ายฯ
A41: นักวิชาการเงินและบัญชีชำนาญการพิเศษ | G41: (นางสาวสุพิชสิริ ถิรวัฒนาพงศ์)
G42: รองผู้อำนวยการสำนักงานเขตพื้นที่การศึกษา รักษาราชการแทน
G43: รองผู้อำนวยการสำนักงานเขตพื้นที่การศึกษา รักษาราชการแทน
G44: ผู้อำนวยการสำนักงานเขตพื้นที่การศึกษาประถมศึกษาปทุมธานี เขต 2
