Workbook

Sheet เงินกันไว้เบิกเหลื่อมปี งบปี 
A1: รายงานผลการเบิกจ่ายเงินกันไว้เบิกเหลื่อมปี งบประมาณประจำปี พ.ศ. 2568
A2: =+'[1]สิ่งก่อสร้าง งบอุดหนุน 67'!A3:N3 -> สำนักงานเขตพื้นที่การศึกษาประถมศึกษาปทุมธานี เขต 2
A3: ประจำเดือน สิงหาคม 2569
A4: ที่ | B4: รายการ | C4: รหัสงบประมาณ | D4: เพิ่ม | E4: ผูกพัน | G4: กันไว้เบิก | I4: เบิก | K4: คงเหลือ
C5: แหล่งของเงิน | E5: 220 | F5: 221 | G5: 220 | H5: 221 | I5: 220 | J5: 221
A6: ก | B6: =+'[1]ดำเนินงานครุภัณฑ์ 310061ยั่งยืน'!E6 -> แผนงานยุทธศาสตร์พัฒนาคุณภาพการศึกษาและการเรียนรู้ | D6: =+D7+D14 -> 1406002.5 | E6: =+E7+E14 -> 0 | F6: =+F7+F14 -> 0 | G6: =+G7+G14 -> 0 | H6: =+H7+H14 -> 0 | I6: =+I7+I14 -> 0 | J6: =+J7+J14 -> 1406002.5 | K6: =+K7+K14 -> 0
A7: 1 | B7: =+'[1]ดำเนินงานครุภัณฑ์ 310061ยั่งยืน'!E7 -> โครงการส่งเสริมการเรียนรู้ขั้นพื้นฐานทุกที่ทุกเวลา | C7: =+'[1]ดำเนินงานครุภัณฑ์ 310061ยั่งยืน'!D7 -> 20004 3310 C100 2000000 | D7: =+D8 -> 1406002.5 | E7: =+E8 -> 0 | F7: =+F8 -> 0 | H7: =+H8 -> 0 | I7: =+I8 -> 0 | J7: =+J8 -> 1406002.5 | K7: =+K8 -> 0
A8: 1.1 | B8: =+'[1]ดำเนินงานครุภัณฑ์ 310061ยั่งยืน'!E8 -> กิจกรรมพัฒนาระบบนิเวศทางด้านดิจิทัลเพื่อการเรียนรู้ขั้นพื้นฐาน | C8: =+'[1]ดำเนินงานครุภัณฑ์ 310061ยั่งยืน'!D8 -> 20004 68 00131 00000 | D8: =+D9 -> 1406002.5 | E8: =+E9 -> 0 | F8: =+F9 -> 0 | G8: =+G9 -> 0 | H8: =+H9 -> 0 | I8: =+I9 -> 0 | J8: =+J9 -> 1406002.5 | K8: =+K9 -> 0
B9: =+'[1]ดำเนินงานครุภัณฑ์ 310061ยั่งยืน'!E115 -> งบดำเนินงาน (รายจ่ายลงทุน) 6811220 | C9: =+'[1]ดำเนินงานครุภัณฑ์ 310061ยั่งยืน'!D115 -> 6811220 | D9: =+D10 -> 1406002.5 | E9: =+E10 -> 0 | F9: =+F10 -> 0 | H9: =+H10 -> 0 | I9: =+I10 -> 0 | J9: =+J10 -> 1406002.5 | K9: =+K10 -> 0
A10: 1.1.1 | B10: =+'[1]ดำเนินงานครุภัณฑ์ 310061ยั่งยืน'!E116 -> ค่าใช้จ่ายในการดำเนินการเช่าใช้อุปกรณ์การเรียนการสอนสำหรับครูและนักเรียน ภายใต้โครงการส่งเสริมการเรียนรู้ขั้นพื้นฐานทุกที่ทุกเวลา ประจำปีงบประมาณ พ.ศ. 2568 | C10: =+'[1]ดำเนินงานครุภัณฑ์ 310061ยั่งยืน'!D116 -> ศธ 04002/ว41897 ลว.1 ส.ค. 68 โอนครั้งที่ 802 | D10: =SUM(D11:D13) -> 1406002.5 | E10: =SUM(E11:E13) -> 0 | F10: =SUM(F11:F13) -> 0 | H10: =SUM(H11:H13) -> 0 | I10: =SUM(I11:I13) -> 0 | J10: =SUM(J11:J13) -> 1406002.5 | K10: =SUM(K11:K12) -> 0
A11: 1) | B11: =+'[1]ดำเนินงานครุภัณฑ์ 310061ยั่งยืน'!E117 -> PO4100722499 | C11: ครบ 30 ก.ย.68 | D11: =+'[1]ดำเนินงานครุภัณฑ์ 310061ยั่งยืน'!F125 -> 1406002.5 | E11: =+'[1]ดำเนินงานครุภัณฑ์ 310061ยั่งยืน'!G125 -> 0 | F11: =+'[1]ดำเนินงานครุภัณฑ์ 310061ยั่งยืน'!H125 -> 0 | G11: =+'[1]ดำเนินงานครุภัณฑ์ 310061ยั่งยืน'!I125 -> 0 | H11: =+'[1]ดำเนินงานครุภัณฑ์ 310061ยั่งยืน'!J125 -> 0 | I11: =+'[1]ดำเนินงานครุภัณฑ์ 310061ยั่งยืน'!K125 -> 0 | J11: =+'[1]ดำเนินงานครุภัณฑ์ 310061ยั่งยืน'!L125 -> 1406002.5 | K11: =+D11-E11-F11-G11-H11-I11-J11 -> 0
A12: 2) | D12: =+'[1]ดำเนินงานครุภัณฑ์ 310061ยั่งยืน'!F16 -> 0 | E12: =+'[1]ดำเนินงานครุภัณฑ์ 310061ยั่งยืน'!G16 -> 0 | F12: =+'[1]ดำเนินงานครุภัณฑ์ 310061ยั่งยืน'!H16 -> 0 | G12: =+'[1]ดำเนินงานครุภัณฑ์ 310061ยั่งยืน'!I16 -> 0 | H12: =+'[1]ดำเนินงานครุภัณฑ์ 310061ยั่งยืน'!J16 -> 0 | I12: =+'[1]ดำเนินงานครุภัณฑ์ 310061ยั่งยืน'!K16 -> 0 | J12: =+'[1]ดำเนินงานครุภัณฑ์ 310061ยั่งยืน'!L16 -> 0 | K12: =+D12-E12-F12-G12-H12-I12-J12 -> 0
A13: 3) | D13: =+'[1]ดำเนินงานครุภัณฑ์ 310061ยั่งยืน'!F21 -> 0 | E13: =+'[1]ดำเนินงานครุภัณฑ์ 310061ยั่งยืน'!G21 -> 0 | F13: =+'[1]ดำเนินงานครุภัณฑ์ 310061ยั่งยืน'!H21 -> 0 | H13: =+'[1]ดำเนินงานครุภัณฑ์ 310061ยั่งยืน'!I21 -> 0 | I13: =+'[1]ดำเนินงานครุภัณฑ์ 310061ยั่งยืน'!J21 -> 0 | J13: =+'[1]ดำเนินงานครุภัณฑ์ 310061ยั่งยืน'!K21 -> 0
A14: 2 | B14: =+'[1]ดำเนินงานครุภัณฑ์ 310061ยั่งยืน'!E126 -> โครงการโรงเรียนคุณภาพประจำตำบล | C14: =+'[1]ดำเนินงานครุภัณฑ์ 310061ยั่งยืน'!D126 -> 20004 3100B600 | D14: =+D15 -> 0 | E14: =+E15 -> 0 | F14: =+F15 -> 0 | H14: =+H15 -> 0 | I14: =+I15 -> 0 | J14: =+J15 -> 0 | K14: =+K15 -> 0
A15: 2.1 | B15: =+'[1]ดำเนินงานครุภัณฑ์ 310061ยั่งยืน'!E127 -> กิจกรรมการก่อสร้าง ปรับปรุง ซ่อมแซมอาคารเรียนและสิ่งก่อสร้างประกอบสำหรับโรงเรียนคุณภาพประจำตำบล | C15: =+'[1]ดำเนินงานครุภัณฑ์ 310061ยั่งยืน'!D127 -> 20004 67000 7700000 | D15: =+D16+D36 -> 0 | E15: =+E16+E36 -> 0 | F15: =+F16+F36 -> 0 | H15: =+H16+H36 -> 0 | I15: =+I16+I36 -> 0 | J15: =+J16+J36 -> 0 | K15: =+K16+K36 -> 0
B16: =+'[1]ดำเนินงานครุภัณฑ์ 310061ยั่งยืน'!E128 -> งบลงทุน ค่าสิ่งก่อสร้าง 6711320 | D16: =+D17+D22+D25 -> 0 | E16: =+E17+E22+E25 -> 0 | F16: =+F17+F22+F25 -> 0 | G16: =+G17+G22+G25 -> 0 | H16: =+H17+H22+H25 -> 0 | I16: =+I17+I22+I25 -> 0 | J16: =+J17+J22+J25 -> 0 | K16: =+K17+K22+K25 -> 0
A17: 2.1.1 | B17: =+'[1]ดำเนินงานครุภัณฑ์ 310061ยั่งยืน'!E129 -> ปรับปรุงซ่อมแซมอาคารเรียนอาคารประกอบและสิ่งก่อสร้างอื่น | C17: =+'[1]ดำเนินงานครุภัณฑ์ 310061ยั่งยืน'!D129 -> ศธ04002/ว1787 ลว.7 พค 67 โอนครั้งที่ 5 | D17: =SUM(D18:D21) -> 0 | E17: =SUM(E18:E21) -> 0 | F17: =SUM(F18:F21) -> 0 | G17: =SUM(G18:G21) -> 0 | H17: =SUM(H18:H21) -> 0 | I17: =SUM(I18:I21) -> 0 | J17: =SUM(J18:J21) -> 0 | K17: =SUM(K18:K21) -> 0
A18: 1) | B18: =+'[1]ดำเนินงานครุภัณฑ์ 310061ยั่งยืน'!E130 -> วัดมงคลรัตน์ | C18: =+'[1]ดำเนินงานครุภัณฑ์ 310061ยั่งยืน'!D130 -> 200043100B6003211500 | D18: =+'[1]ดำเนินงานครุภัณฑ์ 310061ยั่งยืน'!F134 -> 0 | E18: =+'[1]ดำเนินงานครุภัณฑ์ 310061ยั่งยืน'!G134 -> 0 | F18: =+'[1]ดำเนินงานครุภัณฑ์ 310061ยั่งยืน'!H134 -> 0 | G18: =+'[1]ดำเนินงานครุภัณฑ์ 310061ยั่งยืน'!I134 -> 0 | H18: =+'[1]ดำเนินงานครุภัณฑ์ 310061ยั่งยืน'!J134 -> 0 | I18: =+'[1]ดำเนินงานครุภัณฑ์ 310061ยั่งยืน'!K134 -> 0 | J18: =+'[1]ดำเนินงานครุภัณฑ์ 310061ยั่งยืน'!L134 -> 0 | K18: =+D18-E18-F18-G18-H18-I18-J18 -> 0
C19: =+'[1]ดำเนินงานครุภัณฑ์ 310061ยั่งยืน'!C130 -> 4100408104
A20: 2) | B20: =+'[1]ดำเนินงานครุภัณฑ์ 310061ยั่งยืน'!E135 -> วัดสุวรรณ | C20: =+'[1]ดำเนินงานครุภัณฑ์ 310061ยั่งยืน'!D135 -> 200043100B6003211501 | D20: =+'[1]ดำเนินงานครุภัณฑ์ 310061ยั่งยืน'!F139 -> 0 | E20: =+'[1]ดำเนินงานครุภัณฑ์ 310061ยั่งยืน'!G139 -> 0 | F20: =+'[1]ดำเนินงานครุภัณฑ์ 310061ยั่งยืน'!H139 -> 0 | G20: =+'[1]ดำเนินงานครุภัณฑ์ 310061ยั่งยืน'!I139 -> 0 | H20: =+'[1]ดำเนินงานครุภัณฑ์ 310061ยั่งยืน'!J139 -> 0 | I20: =+'[1]ดำเนินงานครุภัณฑ์ 310061ยั่งยืน'!K139 -> 0 | J20: =+'[1]ดำเนินงานครุภัณฑ์ 310061ยั่งยืน'!L139 -> 0 | K20: =+D20-E20-F20-G20-H20-I20-J20 -> 0
C21: =+'[1]ดำเนินงานครุภัณฑ์ 310061ยั่งยืน'!C135 -> 4100409854
A22: 2.1.2 | B22: =+'[1]ดำเนินงานครุภัณฑ์ 310061ยั่งยืน'!E140 -> ค่าก่อสร้าง ปรับปรุงซ่อมแซมอาคารเรียนอาคารประกอบและสิ่งก่อสร้างอื่นที่ชำรุดทรุดโทรม และที่ประสบอุบัติภัย | C22: =+'[1]ดำเนินงานครุภัณฑ์ 310061ยั่งยืน'!D140 -> ศธ04002/ว ลว.27 กย 67 โอนครั้งที่ 450 | D22: =+D23 -> 0 | E22: =+E23 -> 0 | F22: =+F23 -> 0 | H22: =+H23 -> 0 | I22: =+I23 -> 0 | J22: =+J23 -> 0 | K22: =+K23 -> 0
A23: 1) | B23: =+'[1]ดำเนินงานครุภัณฑ์ 310061ยั่งยืน'!E141 -> วัดราษฎรบำรุง | C23: =+'[1]ดำเนินงานครุภัณฑ์ 310061ยั่งยืน'!D141 -> 20004 3100B600 321ZZZZ | D23: =+'[1]ดำเนินงานครุภัณฑ์ 310061ยั่งยืน'!F145 -> 0 | E23: =+'[1]ดำเนินงานครุภัณฑ์ 310061ยั่งยืน'!G145 -> 0 | F23: =+'[1]ดำเนินงานครุภัณฑ์ 310061ยั่งยืน'!H145 -> 0 | G23: =+'[1]ดำเนินงานครุภัณฑ์ 310061ยั่งยืน'!I145 -> 0 | H23: =+'[1]ดำเนินงานครุภัณฑ์ 310061ยั่งยืน'!J145 -> 0 | I23: =+'[1]ดำเนินงานครุภัณฑ์ 310061ยั่งยืน'!K145 -> 0 | J23: =+'[1]ดำเนินงานครุภัณฑ์ 310061ยั่งยืน'!L145 -> 0 | K23: =+D23-E23-F23-G23-H23-I23-J23 -> 0
C24: =+'[1]ดำเนินงานครุภัณฑ์ 310061ยั่งยืน'!C141 -> 4100306259
A25: 2.1.3 | B25: =+'[1]ดำเนินงานครุภัณฑ์ 310061ยั่งยืน'!E146 -> อาคารเรียนอนุบาล ขนาด 2 ห้องเรียน | C25: =+'[1]ดำเนินงานครุภัณฑ์ 310061ยั่งยืน'!D146 -> ศธ 04002/ว1787 ลว.7 พค 67 โอนครั้งที่ 5 | D25: =+D26 -> 0 | E25: =+E26 -> 0 | F25: =+F26 -> 0 | H25: =+H26 -> 0 | I25: =+I26 -> 0 | J25: =+J26 -> 0 | K25: =+K26 -> 0
A26: 1) | B26: =+'[1]ดำเนินงานครุภัณฑ์ 310061ยั่งยืน'!E147 -> โรงเรียนนิกรราษฎร์บํารุงวิทย์ | C26: =+'[1]ดำเนินงานครุภัณฑ์ 310061ยั่งยืน'!D147 -> 200043100B6003211498 | D26: =+'[1]ดำเนินงานครุภัณฑ์ 310061ยั่งยืน'!F171 -> 0 | E26: =+'[1]ดำเนินงานครุภัณฑ์ 310061ยั่งยืน'!G171 -> 0 | F26: =+'[1]ดำเนินงานครุภัณฑ์ 310061ยั่งยืน'!H171 -> 0 | G26: =+'[1]ดำเนินงานครุภัณฑ์ 310061ยั่งยืน'!I171 -> 0 | H26: =+'[1]ดำเนินงานครุภัณฑ์ 310061ยั่งยืน'!J171 -> 0 | I26: =+'[1]ดำเนินงานครุภัณฑ์ 310061ยั่งยืน'!K171 -> 0 | J26: =+'[1]ดำเนินงานครุภัณฑ์ 310061ยั่งยืน'!L171 -> 0 | K26: =+D26-E26-F26-G26-H26-I26-J26 -> 0
C27: =+'[1]ดำเนินงานครุภัณฑ์ 310061ยั่งยืน'!C147 -> 4100432393
B28: งบลงทุน ค่าครุภัณฑ์ 6711310 | C28: =+'[1]ดำเนินงานครุภัณฑ์ 310061ยั่งยืน'!D23 -> 0 | D28: =+D31+D33+D35 -> 0 | E28: =+E31+E33+E35 -> 0 | F28: =+F31+F33+F35 -> 0 | H28: =+H31+H33+H35 -> 0 | I28: =+I31+I33+I35 -> 0 | J28: =+J31+J33+J35 -> 0 | K28: =+K31+K33+K35 -> 0
A29: =+'[1]งบกัน67 350002'!A36 -> 0 | B29: =+'[1]ดำเนินงานครุภัณฑ์ 310061ยั่งยืน'!E22 -> งบลงทุน ค่าครุภัณฑ์ 6611310 | C29: =+'[1]ดำเนินงานครุภัณฑ์ 310061ยั่งยืน'!C22 -> 0 | D29: =+D30 -> 0 | E29: =+E30 -> 0 | F29: =+F30 -> 0 | H29: =+H30 -> 0 | I29: =+I30 -> 0 | J29: =+J30 -> 0 | K29: =+K30 -> 0
A30: =+'[1]ดำเนินงานครุภัณฑ์ 310061ยั่งยืน'!A23 -> 0 | B30: =+'[1]ดำเนินงานครุภัณฑ์ 310061ยั่งยืน'!E23 -> ครุภัณฑ์สำนักงาน 120601 | C30: =+'[1]ดำเนินงานครุภัณฑ์ 310061ยั่งยืน'!D22 -> 6611310 | D30: =+'[1]ดำเนินงานครุภัณฑ์ 310061ยั่งยืน'!F27 -> 0 | E30: =+'[1]ดำเนินงานครุภัณฑ์ 310061ยั่งยืน'!G27 -> 0 | F30: =+'[1]ดำเนินงานครุภัณฑ์ 310061ยั่งยืน'!H27 -> 0 | H30: =+'[1]ดำเนินงานครุภัณฑ์ 310061ยั่งยืน'!I27 -> 0 | I30: =+'[1]ดำเนินงานครุภัณฑ์ 310061ยั่งยืน'!J27 -> 0 | J30: =+'[1]ดำเนินงานครุภัณฑ์ 310061ยั่งยืน'!K27 -> 0 | K30: =+'[1]ดำเนินงานครุภัณฑ์ 310061ยั่งยืน'!L27 -> 0
A31: =+'[1]งบกัน67 350002'!A38 -> 1.1.1 | B31: =+'[1]ดำเนินงานครุภัณฑ์ 310061ยั่งยืน'!E24 -> เครื่องปรับอากาศแบบตั้งพื้นหรือแขวน (ระบบ INVERTER) ขนาด 20,000 บีทียู | C31: =+'[1]ดำเนินงานครุภัณฑ์ 310061ยั่งยืน'!C24 -> โอนเปลี่ยนแปลงครั้งที่ 1/66 บท.กลุ่มนโยบายและแผน ที่ ศธ 04087/1957 ลว. 28 กย 66 | D31: =+D32 -> 0 | E31: =+E32 -> 0 | F31: =+F32 -> 0 | H31: =+H32 -> 0 | I31: =+I32 -> 0 | J31: =+J32 -> 0 | K31: =+K32 -> 0
A32: =+'[1]ดำเนินงานครุภัณฑ์ 310061ยั่งยืน'!A25 -> 1) | B32: =+'[1]ดำเนินงานครุภัณฑ์ 310061ยั่งยืน'!E25 -> สพป.ปท.2 | C32: =+'[1]ดำเนินงานครุภัณฑ์ 310061ยั่งยืน'!D24 -> 20004 31006100 3110010 | D32: =+'[1]ดำเนินงานครุภัณฑ์ 310061ยั่งยืน'!F29 -> 0 | E32: =+'[1]ดำเนินงานครุภัณฑ์ 310061ยั่งยืน'!G29 -> 0 | F32: =+'[1]ดำเนินงานครุภัณฑ์ 310061ยั่งยืน'!H29 -> 0 | H32: =+'[1]ดำเนินงานครุภัณฑ์ 310061ยั่งยืน'!I29 -> 0 | I32: =+'[1]ดำเนินงานครุภัณฑ์ 310061ยั่งยืน'!J29 -> 0 | J32: =+'[1]ดำเนินงานครุภัณฑ์ 310061ยั่งยืน'!K29 -> 0 | K32: =+'[1]ดำเนินงานครุภัณฑ์ 310061ยั่งยืน'!L29 -> 0
A33: =+'[1]ดำเนินงานครุภัณฑ์ 310061ยั่งยืน'!A30 -> 2 | B33: =+'[1]ดำเนินงานครุภัณฑ์ 310061ยั่งยืน'!E30 -> เครื่องปรับอากาศแบบติดผนัง (ระบบ INVERTER) ขนาด 18,000 บีทียู | C33: =+'[1]ดำเนินงานครุภัณฑ์ 310061ยั่งยืน'!C30 -> โอนเปลี่ยนแปลงครั้งที่ 1/66 บท.กลุ่มนโยบายและแผน ที่ ศธ 04087/1957 ลว. 28 กย 66 | D33: =+D34 -> 0 | E33: =+E34 -> 0 | F33: =+F34 -> 0 | H33: =+H34 -> 0 | I33: =+I34 -> 0 | J33: =+J34 -> 0 | K33: =+K34 -> 0
A34: =+'[1]ดำเนินงานครุภัณฑ์ 310061ยั่งยืน'!A31 -> 1) | B34: =+'[1]ดำเนินงานครุภัณฑ์ 310061ยั่งยืน'!E31 -> สพป.ปท.2 | C34: =+'[1]ดำเนินงานครุภัณฑ์ 310061ยั่งยืน'!D30 -> 20005 31006100 3110011 | D34: =+'[1]ดำเนินงานครุภัณฑ์ 310061ยั่งยืน'!F34 -> 0 | E34: =+'[1]ดำเนินงานครุภัณฑ์ 310061ยั่งยืน'!G34 -> 0 | F34: =+'[1]ดำเนินงานครุภัณฑ์ 310061ยั่งยืน'!H34 -> 0 | H34: =+'[1]ดำเนินงานครุภัณฑ์ 310061ยั่งยืน'!I34 -> 0 | I34: =+'[1]ดำเนินงานครุภัณฑ์ 310061ยั่งยืน'!J34 -> 0 | J34: =+'[1]ดำเนินงานครุภัณฑ์ 310061ยั่งยืน'!K34 -> 0 | K34: =+'[1]ดำเนินงานครุภัณฑ์ 310061ยั่งยืน'!L34 -> 0
A35: =+'[1]ดำเนินงานครุภัณฑ์ 310061ยั่งยืน'!A35 -> 3 | B35: =+'[1]ดำเนินงานครุภัณฑ์ 310061ยั่งยืน'!E35 -> โพเดียม | C35: =+'[1]ดำเนินงานครุภัณฑ์ 310061ยั่งยืน'!C35 -> โอนเปลี่ยนแปลงครั้งที่ 1/66 บท.กลุ่มนโยบายและแผน ที่ ศธ 04087/1957 ลว. 28 กย 66 | D35: =+D36 -> 0 | E35: =+E36 -> 0 | F35: =+F36 -> 0 | H35: =+H36 -> 0 | I35: =+I36 -> 0 | J35: =+J36 -> 0 | K35: =+K36 -> 0
A36: =+'[1]ดำเนินงานครุภัณฑ์ 310061ยั่งยืน'!A36 -> 1) | B36: =+'[1]ดำเนินงานครุภัณฑ์ 310061ยั่งยืน'!E36 -> สพป.ปท.2 | C36: =+'[1]ดำเนินงานครุภัณฑ์ 310061ยั่งยืน'!D35 -> 20008 31006100 3110014 | D36: =+'[1]ดำเนินงานครุภัณฑ์ 310061ยั่งยืน'!F36 -> 0 | E36: =+'[1]ดำเนินงานครุภัณฑ์ 310061ยั่งยืน'!G39 -> 0 | F36: =+'[1]ดำเนินงานครุภัณฑ์ 310061ยั่งยืน'!H39 -> 0 | G36: =+'[1]ดำเนินงานครุภัณฑ์ 310061ยั่งยืน'!I39 -> 0 | H36: =+'[1]ดำเนินงานครุภัณฑ์ 310061ยั่งยืน'!J39 -> 0 | I36: =+'[1]ดำเนินงานครุภัณฑ์ 310061ยั่งยืน'!K39 -> 0 | J36: =+'[1]ดำเนินงานครุภัณฑ์ 310061ยั่งยืน'!L39 -> 0 | K36: =+'[1]ดำเนินงานครุภัณฑ์ 310061ยั่งยืน'!L36 -> 0
B37: =+'[1]ดำเนินงานครุภัณฑ์ 310061ยั่งยืน'!E40 -> ครุภัณฑ์โฆษณาและเผยแพร่ 120601 | C37: =+'[1]ดำเนินงานครุภัณฑ์ 310061ยั่งยืน'!D27 -> 0 | D37: =+D38+D40+D42 -> 0 | E37: =+E38+E40+E42 -> 0 | F37: =+F38+F40+F42 -> 0 | H37: =+H38+H40+H42 -> 0 | I37: =+I38+I40+I42 -> 0 | J37: =+J38+J40+J42 -> 0 | K37: =+K38+K40+K42 -> 0
A38: =+'[1]ดำเนินงานครุภัณฑ์ 310061ยั่งยืน'!A41 -> 1 | B38: =+'[1]ดำเนินงานครุภัณฑ์ 310061ยั่งยืน'!E41 -> โทรทัศน์สีแอล อี ดี (LED TV) แบบ Smart TV ระดับความละเอียดจอภาพ 3840 x 2160 พิกเซล ขนาด 75 นิ้ว | C38: =+'[1]ดำเนินงานครุภัณฑ์ 310061ยั่งยืน'!C41 -> โอนเปลี่ยนแปลงครั้งที่ 1/66 บท.กลุ่มนโยบายและแผน ที่ ศธ 04087/1957 ลว. 28 กย 66 | D38: =+D39 -> 0 | E38: =+E39 -> 0 | F38: =+F39 -> 0 | H38: =+H39 -> 0 | I38: =+I39 -> 0 | J38: =+J39 -> 0 | K38: =+K39 -> 0
A39: =+'[1]ดำเนินงานครุภัณฑ์ 310061ยั่งยืน'!A42 -> 1) | B39: =+'[1]ดำเนินงานครุภัณฑ์ 310061ยั่งยืน'!E53 -> สพป.ปท.2 | C39: =+'[1]ดำเนินงานครุภัณฑ์ 310061ยั่งยืน'!D41 -> 20007 31006100 3110012 | D39: =+'[1]ดำเนินงานครุภัณฑ์ 310061ยั่งยืน'!F46 -> 0 | E39: =+'[1]ดำเนินงานครุภัณฑ์ 310061ยั่งยืน'!G46 -> 0 | F39: =+'[1]ดำเนินงานครุภัณฑ์ 310061ยั่งยืน'!H46 -> 0 | H39: =+'[1]ดำเนินงานครุภัณฑ์ 310061ยั่งยืน'!I46 -> 0 | I39: =+'[1]ดำเนินงานครุภัณฑ์ 310061ยั่งยืน'!J46 -> 0 | J39: =+'[1]ดำเนินงานครุภัณฑ์ 310061ยั่งยืน'!K46 -> 0 | K39: =+'[1]ดำเนินงานครุภัณฑ์ 310061ยั่งยืน'!L46 -> 0
A40: =+'[1]ดำเนินงานครุภัณฑ์ 310061ยั่งยืน'!A47 -> 2 | B40: =+'[1]ดำเนินงานครุภัณฑ์ 310061ยั่งยืน'!E47 -> ไมโครโฟนไร้สาย | C40: =+'[1]ดำเนินงานครุภัณฑ์ 310061ยั่งยืน'!C47 -> โอนเปลี่ยนแปลงครั้งที่ 1/66 บท.กลุ่มนโยบายและแผน ที่ ศธ 04087/1957 ลว. 28 กย 66 | D40: =+D41 -> 0 | E40: =+E41 -> 0 | F40: =+F41 -> 0 | H40: =+H41 -> 0 | I40: =+I41 -> 0 | J40: =+J41 -> 0 | K40: =+K41 -> 0
...

Sheet งบประจำและงบพัฒนาคุณภาพการศึกษา
A1: รายงานผลการเบิกจ่ายเงินงบประมาณ งบประจำเพื่อการบริหารจัดการสำนักงานและงบพัฒนาคุณภาพการศึกษา
A2: ประจำปีงบประมาณ พ.ศ. 2569
A3: กลุ่มบริหารงานการเงินและสินทรัพย์ สำนักงานเขตพื้นที่การศึกษาประถมศึกษาปทุมธานี เขต 2
A4: ประจำเดือนสิงหาคม 2569
A5: ที่ | B5: รายการ | D5: =+[8]ระบบการควบคุมฯ!B746 -> กิจกรรมการบริหารจัดการในเขตพื้นที่การศึกษา | K5: =+[8]ระบบการควบคุมฯ!B873 -> กิจกรรมการจัดการศึกษาประถมศึกษาสำหรับโรงเรียนปกติ | R5: =+[8]งบสพฐ!B358 -> กิจกรรมการสนับสนุนการศึกษาขั้นพื้นฐาน | Y5: รวมกิจกรรมบริหารจัดการในสำนักงานเขตพื้นที่การศึกษา/กิจกรรมการจัดการศึกษาประถมศึกษาฯ/กิจกรรมสนับสนุนการศึกษาขั้นพื้นฐาน | AG5: ผู้รับผิดชอบ
C6: รหัสงบประมาณ | D6: งบบริหารสำนักงาน | E6: งบพัฒนาเพื่อพัฒนาคุณภาพการศึกษา | F6: รวมเงินงวด | G6: ผูกพัน | H6: =+[2]งบสพฐ!I6 -> 0 | I6: เบิก | J6: คงเหลือ | K6: งบบริหารสำนักงาน | L6: งบพัฒนาเพื่อพัฒนาคุณภาพการศึกษา | M6: รวมเงินงวด | N6: ผูกพัน | O6: กันเงินไว้เบิก | P6: เบิก | Q6: คงเหลือ | R6: งบบริหารสำนักงาน | S6: งบพัฒนาเพื่อพัฒนาคุณภาพการศึกษา | T6: รวมเงินงวด | U6: ผูกพัน | V6: กันเงินไว้เบิก | W6: เบิก | X6: คงเหลือ | Y6: งบบริหารสำนักงาน | Z6: งบพัฒนาเพื่อพัฒนาคุณภาพการศึกษา | AA6: รวมเงินงวด | AB6: ผูกพัน | AC6: กันเงินไว้เบิก | AD6: เบิก | AE6: คงเหลือ
C7: หนังสือแจ้งโอน
D8: (1) | E8: (2) | F8: (1)+(2)=3 | G8: (4) | H8: (5) | I8: (6) | J8: (3)-(4)-(6)=7 | K8: (1) | L8: (2) | M8: (1)+(2)=3 | N8: =+[8]ระบบการควบคุมฯ!G829+[8]ระบบการควบคุมฯ!H829 -> 0 | O8: (5) | P8: (6) | Q8: (3)-(4)-(6)=7 | R8: (1) | S8: (2) | T8: (1)+(2)=3 | U8: (4) | V8: (5) | W8: (6) | X8: (3)-(4)-(6)=7 | Y8: (1) | Z8: (2) | AA8: (1)+(2)=3 | AB8: (4) | AC8: (5) | AD8: (6) | AE8: (3)-(4)-(6)=7
A9: =+[8]ระบบการควบคุมฯ!628:628 -> ง | B9: =+[8]ระบบการควบคุมฯ!B628 -> แผนงานพื้นฐานด้านการพัฒนาและเสริมสร้างศักยภาพทรัพยากรมนุษย์ | D9: =+D11 -> 772710 | E9: =+E11 -> 227290 | F9: =+F11 -> 1000000 | G9: =+G11 -> 0 | H9: =+H11 -> 0 | I9: =+I11 -> 806901.78 | J9: =+J11 -> 193098.22 | K9: =+K11 -> 2519790 | ... AE9: =+AE11 -> 1462780.3
B10: =[8]ระบบการควบคุมฯ!B629 -> งบดำเนินงาน 69112xx | C10: =[3]งบประจำและงบพัฒนาคุณภาพการศึกษา!C115 -> 0 | D10: =+D11 -> 772710 | E10: =+E11 -> 227290 | F10: =+F11 -> 1000000 | G10: =+G11 -> 0 | H10: =+H11 -> 0 | I10: =+I11 -> 806901.78 | J10: =+J11 -> 193098.22 | K10: =+K11 -> 2519790 | ... AE10: =+AE11 -> 1462780.3
A11: =+[8]ระบบการควบคุมฯ!A722 -> 0 | B11: =+[8]ระบบการควบคุมฯ!B722 -> ผลผลิตผู้จบการศึกษาขั้นพื้นฐาน | C11: =[8]ระบบการควบคุมฯ!C723 -> 20004 3720 1000 2000000 | D11: =+D12 -> 772710 | E11: =+E12 -> 227290 | F11: =+F12 -> 1000000 | G11: =+G12 -> 0 | H11: =+H12 -> 0 | I11: =+I12 -> 806901.78 | J11: =+J12 -> 193098.22 | K11: =+K12 -> 2519790 | ... AE11: =+AE12 -> 1462780.3
A12: =+[8]ระบบการควบคุมฯ!A746 -> 1.4 | B12: กิจกรรมการบริหารจัดการในเขตพื้นที่การศึกษา/กิจกรรมการจัดการศึกษาประถมศึกษาสำหรับโรงเรียนปกติ/กิจกรรมการสนับสนุนการศึกษาขั้นพื้นฐาน | C12: =+[8]ระบบการควบคุมฯ!C746 -> 20004 69 00148 00000 | D12: =+D13 -> 772710 | E12: =+E13 -> 227290 | F12: =SUM(D12:E12) -> 1000000 | G12: =+G13 -> 0 | H12: =+H13 -> 0 | I12: =+I13 -> 806901.78 | J12: =+J13 -> 193098.22 | K12: =+K13 -> 2519790 | L12: =+L13 -> 1622710 | M12: =SUM(K12:L12) -> 4142500 | N12: =+N13 -> 0 | O12: =+O13 -> 0 | P12: =+P13 -> 2872818 | Q12: =+Q13 -> 1269682 | R12: =+R13 -> 0 | S12: =+S13 -> 0 | T12: =SUM(R12:S12) -> 0 | U12: =+U13 -> 0 | V12: =+V13 -> 0 | W12: =+W13 -> 0 | X12: =+X13 -> 0 | Y12: =+Y13 -> 3292500 | Z12: =+Z13 -> 1850000 | AA12: =SUM(Y12:Z12) -> 5142500 | AB12: =+AB13 -> 0 | AC12: =+AC13 -> 0 | AD12: =+AD13 -> 3679719.7 | AE12: =+AE13 -> 1462780.3
B13: =[8]ระบบการควบคุมฯ!B723 -> รวมงบดำเนินงาน 69112xx | C13: =[3]งบประจำและงบพัฒนาคุณภาพการศึกษา!C152 -> 0 | D13: =+D14+D28 -> 772710 | E13: =+E14+E28 -> 227290 | F13: =+F14+F28 -> 1000000 | G13: =+G14+G28 -> 0 | H13: =+H14+H28 -> 0 | I13: =+I14+I28 -> 806901.78 | J13: =+J14+J28 -> 193098.22 | K13: =+K14+K28 -> 2519790 | ... AE13: =+AE14+AE28 -> 1462780.3
A14: =+[8]ระบบการควบคุมฯ!A753 -> 1.4.1 | B14: =+[8]ระบบการควบคุมฯ!B753 -> งบประจำ บริหารจัดการสำนักงาน 790,000 บาท | C14: =+C12 -> 20004 69 00148 00000 | D14: =SUM(D15:D27) -> 772710 | E14: =SUM(E15:E27) -> 50000 | F14: =SUM(F15:F27) -> 822710 | G14: =SUM(G15:G27) -> 0 | H14: =SUM(H15:H27) -> 0 | I14: =SUM(I15:I27) -> 676011.78 | J14: =SUM(J15:J27) -> 146698.22 | K14: =SUM(K15:K27) -> 2519790 | ... AE14: =SUM(AE15:AE27) -> 954021.26 | AG14: กลุ่มบริหารงานการเงินและสินทรัพย์
A15: =+[8]ระบบการควบคุมฯ!A754 -> 1 | B15: =+[8]ระบบการควบคุมฯ!B879 -> ค่าสาธารณูปโภค 1,000,000 บาท อนุมัตครั้งที่ 1 300,000 บาท ครั้งที่ 2 140,000 บาท | C15: =+[8]ระบบการควบคุมฯ!C878 -> ศธ04002/ว11486 ลว.9 ก.ค. 69 ครั้งที่ 698 1,642,500 บาท | D15: =[8]ระบบการควบคุมฯ!F754 -> 0 | F15: =SUM(D15:E15) -> 0 | G15: =+[8]ระบบการควบคุมฯ!G754+[8]ระบบการควบคุมฯ!H754 -> 0 | H15: =+[8]ระบบการควบคุมฯ!I754+[8]ระบบการควบคุมฯ!J754 -> 0 | I15: =+[8]ระบบการควบคุมฯ!K754+[8]ระบบการควบคุมฯ!L754 -> 0 | J15: =+F15-G15-H15-I15 -> 0 | Y15: =+R15+K15+D15 -> 0 | Z15: =+S15+L15+E15 -> 0 | AA15: =SUM(Y15:Z15) -> 0 | AB15: =+G15+N15+U15 -> 0 | AC15: =+H15+O15+V15 -> 0 | AD15: =+I15+P15+W15 -> 0 | AE15: =+AA15-AB15-AC15-AD15 -> 0
A16: =+[8]ระบบการควบคุมฯ!A755 -> 1) | B16: =+[8]ระบบการควบคุมฯ!B879 -> ค่าสาธารณูปโภค 1,000,000 บาท อนุมัตครั้งที่ 1 300,000 บาท ครั้งที่ 2 140,000 บาท | C16: =+[8]ระบบการควบคุมฯ!C879 -> ศธ04002/ว46832 ลว.17 ต.ค. 68 ครั้งที่ 7 2,000,000 บาท | D16: =+[8]ระบบการควบคุมฯ!F755 -> 240000 | F16: =SUM(D16:E16) -> 240000 | G16: =+[8]ระบบการควบคุมฯ!G755+[8]ระบบการควบคุมฯ!H755 -> 0 | H16: =+[8]ระบบการควบคุมฯ!I755+[8]ระบบการควบคุมฯ!J755 -> 0 | I16: =+[8]ระบบการควบคุมฯ!K755+[8]ระบบการควบคุมฯ!L755 -> 239378.62 | J16: =+F16-G16-H16-I16 -> 621.38 | K16: =+[8]ระบบการควบคุมฯ!E879 -> 760000 | M16: =SUM(K16:K16) -> 760000 | N16: =+[8]ระบบการควบคุมฯ!G879+[8]ระบบการควบคุมฯ!H879 -> 0 | P16: =+[8]ระบบการควบคุมฯ!K879+[8]ระบบการควบคุมฯ!L879 -> 518586.65 | Q16: =+M16-N16-O16-P16 -> 241413.35 | Y16: =+R16+K16+D16 -> 1000000 | Z16: =+S16+L16+E16 -> 0 | AA16: =SUM(Y16:Z16) -> 1000000 | AB16: =+G16+N16+U16 -> 0 | AC16: =+H16+O16+V16 -> 0 | AD16: =+I16+P16+W16 -> 757965.27 | AE16: =+AA16-AB16-AC16-AD16 -> 242034.73 | AG16: กลุ่มบริหารงานการเงินและสินทรัพย์
A17: =+[8]ระบบการควบคุมฯ!A881 -> 2) | B17: =+[8]ระบบการควบคุมฯ!B881 -> ค้าจ้างเหมาบริการ ลูกจ้างสพป.ปท.2 15000x5คนx12 เดือน 900,000 บาท จัดสรรครั้งที่ 1 225,000 บาท | C17: =+[8]ระบบการควบคุมฯ!C881 -> ศธ04002/ว46832 ลว.17 ต.ค. 68 ครั้งที่ 7 2,000,000 บาท | D17: =+[8]ระบบการควบคุมฯ!F757 -> 222000 | F17: =SUM(D17:E17) -> 222000 | G17: =+[8]ระบบการควบคุมฯ!G757+[8]ระบบการควบคุมฯ!H757 -> 0 | H17: =+[8]ระบบการควบคุมฯ!I757+[8]ระบบการควบคุมฯ!J757 -> 0 | I17: =+[8]ระบบการควบคุมฯ!K757+[8]ระบบการควบคุมฯ!L757 -> 222000 | J17: =+F17-G17-H17-I17 -> 0 | K17: =+[8]ระบบการควบคุมฯ!E881 -> 678000 | M17: =SUM(K17:K17) -> 678000 | N17: =+[8]ระบบการควบคุมฯ!G881+[8]ระบบการควบคุมฯ!H881 -> 0 | P17: =+[8]ระบบการควบคุมฯ!K881+[8]ระบบการควบคุมฯ!L881 -> 504709.69 | Q17: =+M17-N17-O17-P17 -> 173290.31 | Y17: =+R17+K17+D17 -> 900000 | Z17: =+S17+L17+E17 -> 0 | AA17: =SUM(Y17:Z17) -> 900000 | AB17: =+G17+N17+U17 -> 0 | AC17: =+H17+O17+V17 -> 0 | AD17: =+I17+P17+W17 -> 726709.69 | AE17: =+AA17-AB17-AC17-AD17 -> 173290.31 | AG17: กลุ่มบริหารงานการเงินและสินทรัพย์
A18: =+[8]ระบบการควบคุมฯ!A882 -> 2.1) | B18: =+[8]ระบบการควบคุมฯ!B882 -> ค้าจ้างเหมาบริการ ลูกจ้างสพป.ปท.2 ครั้งที่ 2 75,000 บาท ยืมยกย่องเชิดชูเกียรติ 50,000 บาท | C18: =+[8]ระบบการควบคุมฯ!C882 -> ศธ04002/ว2369 ลว.11 ก.พ.69 ครั้งที่ 294 500,000 บาท | D18: =+[8]ระบบการควบคุมฯ!F759 -> 0 | F18: =SUM(D18:E18) -> 0 | G18: =+[8]ระบบการควบคุมฯ!G759+[8]ระบบการควบคุมฯ!H759 -> 0 | H18: =+[8]ระบบการควบคุมฯ!I759+[8]ระบบการควบคุมฯ!J759 -> 0 | I18: =+[8]ระบบการควบคุมฯ!K759+[8]ระบบการควบคุมฯ!L759 -> 0 | J18: =+F18-G18-H18-I18 -> 0 | K18: =+[8]ระบบการควบคุมฯ!E882 -> 0 | M18: =SUM(K18:K18) -> 0 | N18: =+[8]ระบบการควบคุมฯ!G882+[8]ระบบการควบคุมฯ!H882 -> 0 | P18: =+[8]ระบบการควบคุมฯ!K882+[8]ระบบการควบคุมฯ!L882 -> 0 | Q18: =+M18-N18-O18-P18 -> 0 | Y18: =+R18+K18+D18 -> 0 | Z18: =+S18+L18+E18 -> 0 | AA18: =SUM(Y18:Z18) -> 0 | AB18: =+G18+N18+U18 -> 0 | AC18: =+H18+O18+V18 -> 0 | AD18: =+I18+P18+W18 -> 0 | AE18: =+AA18-AB18-AC18-AD18 -> 0 | AG18: กลุ่มบริหารงานการเงินและสินทรัพย์
A19: =+[8]ระบบการควบคุมฯ!A885 -> 3) | B19: =+[8]ระบบการควบคุมฯ!B885 -> ค่าใช้จ่ายในการประชุม อ.ก.ค.ศ. เขตพื้นที่การศึกษา 60,000 บาท | C19: =+[8]ระบบการควบคุมฯ!C885 -> ศธ04002/ว46832 ลว.17 ต.ค. 68 ครั้งที่ 7 2,000,000 บาท | D19: =+[8]ระบบการควบคุมฯ!F759 -> 0 | F19: =SUM(D19:E19) -> 0 | G19: =+[8]ระบบการควบคุมฯ!G759+[8]ระบบการควบคุมฯ!H759 -> 0 | H19: =+[8]ระบบการควบคุมฯ!I759+[8]ระบบการควบคุมฯ!J759 -> 0 | I19: =+[8]ระบบการควบคุมฯ!K759+[8]ระบบการควบคุมฯ!L759 -> 0 | J19: =+F19-G19-H19-I19 -> 0 | Y19: =+R19+K19+D19 -> 0 | Z19: =+S19+L19+E19 -> 0 | AA19: =SUM(Y19:Z19) -> 0 | AB19: =+G19+N19+U19 -> 0 | AC19: =+H19+O19+V19 -> 0 | AD19: =+I19+P19+W19 -> 0 | AE19: =+AA19-AB19-AC19-AD19 -> 0 | AG19: กลุ่มบริหารงานบุคคล
A20: =+[8]ระบบการควบคุมฯ!A886 -> 3) | B20: =+[8]ระบบการควบคุมฯ!B886 -> ค่าซ่อมแซมยานพาหนะและขนส่ง 240,000 บาท ครั้งที่ 1 25,000 บาท | C20: =+[8]ระบบการควบคุมฯ!C886 -> ศธ04002/ว46832 ลว.17 ต.ค. 68 ครั้งที่ 7 2,000,000 บาท | D20: =+[8]ระบบการควบคุมฯ!F760 -> 75000 | F20: =SUM(D20:E20) -> 75000 | G20: =+[8]ระบบการควบคุมฯ!G760+[8]ระบบการควบคุมฯ!H760 -> 0 | H20: =+[8]ระบบการควบคุมฯ!I760+[8]ระบบการควบคุมฯ!J760 -> 0 | I20: =+[8]ระบบการควบคุมฯ!K760+[8]ระบบการควบคุมฯ!L760 -> 19866.46 | J20: =+F20-G20-H20-I20 -> 55133.54 | K20: =+[8]ระบบการควบคุมฯ!E886 -> 165000 | M20: =SUM(K20:K20) -> 165000 | N20: =+[8]ระบบการควบคุมฯ!G886+[8]ระบบการควบคุมฯ!H886 -> 0 | P20: =+[8]ระบบการควบคุมฯ!K886+[8]ระบบการควบคุมฯ!L886 -> 98254.94 | Q20: =+M20-N20-O20-P20 -> 66745.06 | Y20: =+R20+K20+D20 -> 240000 | Z20: =+S20+L20+E20 -> 0 | AA20: =SUM(Y20:Z20) -> 240000 | AB20: =+G20+N20+U20 -> 0 | AC20: =+H20+O20+V20 -> 0 | AD20: =+I20+P20+W20 -> 118121.4 | AE20: =+AA20-AB20-AC20-AD20 -> 121878.6 | AG20: กลุ่มบริหารงานการเงินและสินทรัพย์
A21: =+[8]ระบบการควบคุมฯ!A888 -> 4) | B21: =+[8]ระบบการควบคุมฯ!B888 -> ค่าซ่อมแซมครุภัณฑ์ 200,000 บาท ครั้งที่ 1 127,290 บาท | C21: =+[8]ระบบการควบคุมฯ!C888 -> ศธ04002/ว46832 ลว.17 ต.ค. 68 ครั้งที่ 7 2,000,000 บาท | D21: =+[8]ระบบการควบคุมฯ!F761 -> 32710 | F21: =SUM(D21:E21) -> 32710 | G21: =+[8]ระบบการควบคุมฯ!G761+[8]ระบบการควบคุมฯ!H761 -> 0 | H21: =+[8]ระบบการควบคุมฯ!I761+[8]ระบบการควบคุมฯ!J761 -> 0 | I21: =+[8]ระบบการควบคุมฯ!K761+[8]ระบบการควบคุมฯ!L761 -> 32710 | J21: =+F21-G21-H21-I21 -> 0 | K21: =+[8]ระบบการควบคุมฯ!E888 -> 167290 | M21: =SUM(K21:K21) -> 167290 | N21: =+[8]ระบบการควบคุมฯ!G888+[8]ระบบการควบคุมฯ!H888 -> 0 | P21: =+[8]ระบบการควบคุมฯ!K888+[8]ระบบการควบคุมฯ!L888 -> 162552.68 | Q21: =+M21-N21-O21-P21 -> 4737.32 | Y21: =+R21+K21+D21 -> 200000 | Z21: =+S21+L21+E21 -> 0 | AA21: =SUM(Y21:Z21) -> 200000 | AB21: =+G21+N21+U21 -> 0 | AC21: =+H21+O21+V21 -> 0 | AD21: =+I21+P21+W21 -> 195262.68 | AE21: =+AA21-AB21-AC21-AD21 -> 4737.32 | AG21: กลุ่มบริหารงานการเงินและสินทรัพย์
A22: =+[8]ระบบการควบคุมฯ!A890 -> 5) | B22: =+[8]ระบบการควบคุมฯ!B890 -> ค่าวัสดุสำนักงาน 350000 บาท ครั้งที่ 1 150,000 บาทครั้งที่ 2 25,000 บาท | C22: =+[8]ระบบการควบคุมฯ!C890 -> ศธ04002/ว46832 ลว.17 ต.ค. 68 ครั้งที่ 7 2,000,000 บาท | D22: =+[8]ระบบการควบคุมฯ!F762 -> 138000 | F22: =SUM(D22:E22) -> 138000 | G22: =+[8]ระบบการควบคุมฯ!G762+[8]ระบบการควบคุมฯ!H762 -> 0 | H22: =+[8]ระบบการควบคุมฯ!I762+[8]ระบบการควบคุมฯ!J762 -> 0 | I22: =+[8]ระบบการควบคุมฯ!K762+[8]ระบบการควบคุมฯ!L762 -> 98146.1 | J22: =+F22-G22-H22-I22 -> 39853.9 | K22: =+[8]ระบบการควบคุมฯ!E890 -> 312000 | M22: =SUM(K22:K22) -> 312000 | N22: =+[8]ระบบการควบคุมฯ!G890+[8]ระบบการควบคุมฯ!H890 -> 0 | P22: =+[8]ระบบการควบคุมฯ!K890+[8]ระบบการควบคุมฯ!L890 -> 258503 | Q22: =+M22-N22-O22-P22 -> 53497 | Y22: =+R22+K22+D22 -> 450000 | Z22: =+S22+L22+E22 -> 0 | AA22: =SUM(Y22:Z22) -> 450000 | AB22: =+G22+N22+U22 -> 0 | AC22: =+H22+O22+V22 -> 0 | AD22: =+I22+P22+W22 -> 356649.1 | AE22: =+AA22-AB22-AC22-AD22 -> 93350.9 | AG22: กลุ่มบริหารงานการเงินและสินทรัพย์
A23: =+[8]ระบบการควบคุมฯ!A891 -> 5.1) | B23: =+[8]ระบบการควบคุมฯ!B891 -> ค่าวัสดุสำนักงาน ครั้งที่ 2 25,000 บาท | C23: =+[8]ระบบการควบคุมฯ!C891 -> ศธ04002/ว2369 ลว.11 ก.พ.69 ครั้งที่ 294 500,000 บาท
A24: =+[8]ระบบการควบคุมฯ!A894 -> 7) | B24: =+[8]ระบบการควบคุมฯ!B894 -> ค่าน้ำมันเชื้อเพลิงและหล่อลื่น 200,000 บาท อนุมัติครั้งที่ 1 60,000 บาท | C24: =+[8]ระบบการควบคุมฯ!C894 -> ศธ04002/ว46832 ลว.17 ต.ค. 68 ครั้งที่ 7 2,000,000 บาท | D24: =+[8]ระบบการควบคุมฯ!F764 -> 65000 | F24: =SUM(D24:E24) -> 65000 | G24: =+[8]ระบบการควบคุมฯ!G764+[8]ระบบการควบคุมฯ!H764 -> 0 | H24: =+[8]ระบบการควบคุมฯ!I764+[8]ระบบการควบคุมฯ!J764 -> 0 | I24: =+[8]ระบบการควบคุมฯ!K764+[8]ระบบการควบคุมฯ!L764 -> 53435.6 | J24: =+F24-G24-H24-I24 -> 11564.4 | K24: =+[8]ระบบการควบคุมฯ!E894 -> 135000 | M24: =SUM(K24:K24) -> 135000 | N24: =+[8]ระบบการควบคุมฯ!G894+[8]ระบบการควบคุมฯ!H894 -> 0 | P24: =+[8]ระบบการควบคุมฯ!K894+[8]ระบบการควบคุมฯ!L894 -> 60000 | Q24: =+M24-N24-O24-P24 -> 75000 | Y24: =+R24+K24+D24 -> 200000 | Z24: =+S24+L24+E24 -> 0 | AA24: =SUM(Y24:Z24) -> 200000 | AB24: =+G24+N24+U24 -> 0 | AC24: =+H24+O24+V24 -> 0 | AD24: =+I24+P24+W24 -> 113435.6 | AE24: =+AA24-AB24-AC24-AD24 -> 86564.4 | AG24: กลุ่มบริหารงานการเงินและสินทรัพย์
A25: =+[8]ระบบการควบคุมฯ!A895 -> 7.1) | B25: =+[8]ระบบการควบคุมฯ!B768 -> อนุมัติโอนพาหนะ 50,000 บาท | C25: =+[8]ระบบการควบคุมฯ!C768 -> 0 | D25: =+[8]ระบบการควบคุมฯ!F768 -> 0 | F25: =SUM(D25:E25) -> 0 | G25: =+[8]ระบบการควบคุมฯ!G768+[8]ระบบการควบคุมฯ!H768 -> 0 | H25: =+[8]ระบบการควบคุมฯ!I768+[8]ระบบการควบคุมฯ!J768 -> 0 | I25: =+[8]ระบบการควบคุมฯ!K768+[8]ระบบการควบคุมฯ!L768 -> 0 | J25: =+F25-G25-H25-I25 -> 0 | Y25: =+R25+K25+D25 -> 0 | Z25: =+S25+L25+E25 -> 0 | AA25: =SUM(Y25:Z25) -> 0 | AB25: =+G25+N25+U25 -> 0 | AC25: =+H25+O25+V25 -> 0 | AD25: =+I25+P25+W25 -> 0 | AE25: =+AA25-AB25-AC25-AD25 -> 0 | AG25: กลุ่มบริหารงานการเงินและสินทรัพย์
A26: =+[8]ระบบการควบคุมฯ!A896 -> 8.1) | B26: =+[8]ระบบการควบคุมฯ!B896 -> ค่าใช้จ่ายในการเดินทางไปราชการและค่าใช้จ่ายในการประชุม งบประมาณ 110,000 บาท อนุมัติครั้งที่ 1 65,000 บาท บวกครั้งที่ 2-3 55000 บาท | C26: =+[8]ระบบการควบคุมฯ!C896 -> ศธ04002/ว46832 ลว.17 ต.ค. 68 ครั้งที่ 7 2,000,000 บาท | E26: =+[8]ระบบการควบคุมฯ!F765 -> 50000 | F26: =SUM(D26:E26) -> 50000 | G26: =+[8]ระบบการควบคุมฯ!G765+[8]ระบบการควบคุมฯ!H765 -> 0 | H26: =+[8]ระบบการควบคุมฯ!I765+[8]ระบบการควบคุมฯ!J765 -> 0 | I26: =+[8]ระบบการควบคุมฯ!K765+[8]ระบบการควบคุมฯ!L765 -> 10475 | J26: =+F26-G26-H26-I26 -> 39525 | K26: =+[8]ระบบการควบคุมฯ!E896 -> 110000 | M26: =SUM(K26:K26) -> 110000 | N26: =+[8]ระบบการควบคุมฯ!G896+[8]ระบบการควบคุมฯ!H896 -> 0 | P26: =+[8]ระบบการควบคุมฯ!K896+[8]ระบบการควบคุมฯ!L896 -> 107560 | Q26: =+M26-N26-O26-P26 -> 2440 | Y26: =+R26+K26+D26 -> 110000 | Z26: =+S26+L26+E26 -> 50000 | AA26: =SUM(Y26:Z26) -> 160000 | AB26: =+G26+N26+U26 -> 0 | AC26: =+H26+O26+V26 -> 0 | AD26: =+I26+P26+W26 -> 118035 | AE26: =+AA26-AB26-AC26-AD26 -> 41965 | AG26: กลุ่มบริหารงานการเงินและสินทรัพย์
A27: =+[8]ระบบการควบคุมฯ!A898 -> 9) | B27: =+[8]ระบบการควบคุมฯ!B898 -> งบกลาง 200,000 บาท +เพิ่มเติม 142,500 บาท อนุมัติพาหนะ 50,000บาท วัสดุ 100,000 บาท | C27: =+[8]ระบบการควบคุมฯ!C898 -> ศธ04002/ว46832 ลว.17 ต.ค. 68 ครั้งที่ 7 2,000,000 บาท | D27: =+[8]ระบบการควบคุมฯ!F767 -> 0 | F27: =SUM(D27:E27) -> 0 | G27: =+[8]ระบบการควบคุมฯ!G767+[8]ระบบการควบคุมฯ!H767 -> 0 | H27: =+[8]ระบบการควบคุมฯ!I767+[8]ระบบการควบคุมฯ!J767 -> 0 | I27: =+[8]ระบบการควบคุมฯ!K767+[8]ระบบการควบคุมฯ!L767 -> 0 | J27: =+F27-G27-H27-I27 -> 0 | K27: =+[8]ระบบการควบคุมฯ!E898 -> 192500 | M27: =SUM(K27:K27) -> 192500 | N27: =+[8]ระบบการควบคุมฯ!G898+[8]ระบบการควบคุมฯ!H898 -> 0 | P27: =+[8]ระบบการควบคุมฯ!K898+[8]ระบบการควบคุมฯ!L898 -> 2300 | Q27: =+M27-N27-O27-P27 -> 190200 | Y27: =+R27+K27+D27 -> 192500 | Z27: =+S27+L27+E27 -> 0 | AA27: =SUM(Y27:Z27) -> 192500 | AB27: =+G27+N27+U27 -> 0 | AC27: =+H27+O27+V27 -> 0 | AD27: =+I27+P27+W27 -> 2300 | AE27: =+AA27-AB27-AC27-AD27 -> 190200 | AG27: กลุ่มนโยบายและแผน
A28: =+[8]ระบบการควบคุมฯ!A903 -> 2 | B28: =+[8]ระบบการควบคุมฯ!B903 -> งบกลยุทธ์ ของสพป.ปท.2 1,800,000 บาท | C28: =+[8]ระบบการควบคุมฯ!C903 -> ศธ04002/ว11486 ลว.9 ก.ค. 69 ครั้งที่ 698 1,642,500 บาท | D28: =+D29+D40+D45+D48 -> 0 | E28: =+E29+E40+E45+E48 -> 177290 | F28: =+F29+F40+F45+F48 -> 177290 | G28: =+G29+G40+G45+G48 -> 0 | H28: =+H29+H40+H45+H48 -> 0 | I28: =+I29+I40+I45+I48 -> 130890 | J28: =+J29+J40+J45+J48 -> 46400 | K28: =+K29+K40+K45+K48 -> 0 | ... AE28: =+AE29+AE40+AE45+AE48 -> 508759 | AF28: =SUM(AF45:AF62) -> 0 | AG28: กลุ่มนิเทศติดตามและประเมินผลฯ
A29: =+[8]ระบบการควบคุมฯ!A904 -> 2.1) | B29: =+[8]ระบบการควบคุมฯ!B904 -> กลยุทธ์ที่ 1 ยกระดับคุณภาพการศึกษา 391,200 บาท จัดสรรครั้งที่ 1 362,000 บาท จัดครั้งที่ 2 4,200 บาท | C29: =+C28 -> ศธ04002/ว11486 ลว.9 ก.ค. 69 ครั้งที่ 698 1,642,500 บาท | D29: =SUM(D30:D39) -> 0 | E29: =SUM(E30:E39) -> 4200 | F29: =SUM(F30:F39) -> 4200 | G29: =SUM(G30:G39) -> 0 | H29: =SUM(H30:H39) -> 0 | I29: =SUM(I30:I39) -> 2800 | J29: =SUM(J30:J39) -> 1400 | K29: =SUM(K30:K39) -> 0 | ... AF29: =SUM(AF30:AF39) -> 0
A30: =+[8]ระบบการควบคุมฯ!A905 -> 2.1.1) | B30: =+[8]ระบบการควบคุมฯ!B905 -> โครงการพัฒนาหลักสูตรสถานศึกษาและกระบวนการจัดการเรียนรู้สู่ฐานสมรรถนะ 67,950 บาท | C30: =+[8]ระบบการควบคุมฯ!C905 -> ศธ04002/ว46832 ลว.17 ต.ค. 68 ครั้งที่ 7 2,000,000 บาท | K30: =+[8]ระบบการควบคุมฯ!D913 -> 0 | L30: =+[8]ระบบการควบคุมฯ!E905 -> 67950 | M30: =SUM(K30:L30) -> 67950 | N30: =+[8]ระบบการควบคุมฯ!G905+[8]ระบบการควบคุมฯ!H905 -> 0 | P30: =+[8]ระบบการควบคุมฯ!K905+[8]ระบบการควบคุมฯ!L905 -> 67950 | Q30: =+M30-N30-O30-P30 -> 0 | Y30: =+D30+K30+R30 -> 0 | Z30: =+E30+S30+L30 -> 67950 | AA30: =SUM(Y30:Z30) -> 67950 | AB30: =+G30+U30+N30 -> 0 | AC30: =+H30+V30+O30 -> 0 | AD30: =+I30+W30+P30 -> 67950 | AE30: =+AA30-AB30-AC30-AD30 -> 0 | AG30: กลุ่มนิเทศติดตามและประเมินผลฯ
A31: =+[8]ระบบการควบคุมฯ!A906 -> 0 | B31: =+[8]ระบบการควบคุมฯ!B906 -> อนุมพิ่มครั้งที่ 2 49,950 บาท | C31: =+[8]ระบบการควบคุมฯ!C906 -> ศธ04002/ว2369 ลว.11 ก.พ.69 ครั้งที่ 294 500,000 บาท | K31: =+[8]ระบบการควบคุมฯ!D915 -> 0 | L31: =+[8]ระบบการควบคุมฯ!E906 -> 0 | M31: =SUM(K31:L31) -> 0 | N31: =+[8]ระบบการควบคุมฯ!G906+[8]ระบบการควบคุมฯ!H906 -> 0 | P31: =+[8]ระบบการควบคุมฯ!K906+[8]ระบบการควบคุมฯ!L906 -> 0 | Q31: =+M31-N31-O31-P31 -> 0 | Y31: =+D31+K31+R31 -> 0 | Z31: =+E31+S31+L31 -> 0 | AA31: =SUM(Y31:Z31) -> 0 | AB31: =+G31+U31+N31 -> 0 | AC31: =+H31+V31+O31 -> 0 | AD31: =+I31+W31+P31 -> 0 | AE31: =+AA31-AB31-AC31-AD31 -> 0
A32: =+[8]ระบบการควบคุมฯ!A907 -> 2.1.2) | B32: =+[8]ระบบการควบคุมฯ!B907 -> โครงการขับเคลื่อนพัฒนาระบบการประกันคุณภาพภายในโดยใช้กลุ่มเครือข่ายสถานศึกษาแบบยั่งยืน 50,000 บาท | C32: =+[8]ระบบการควบคุมฯ!C907 -> ศธ04002/ว46832 ลว.17 ต.ค. 68 ครั้งที่ 7 2,000,000 บาท | K32: =+[8]ระบบการควบคุมฯ!D916 -> 0 | L32: =+[8]ระบบการควบคุมฯ!E907 -> 50000 | M32: =SUM(K32:L32) -> 50000 | N32: =+[8]ระบบการควบคุมฯ!G907+[8]ระบบการควบคุมฯ!H907 -> 0 | P32: =+[8]ระบบการควบคุมฯ!K907+[8]ระบบการควบคุมฯ!L907 -> 49860 | Q32: =+M32-N32-O32-P32 -> 140 | Y32: =+D32+K32+R32 -> 0 | Z32: =+E32+S32+L32 -> 50000 | AA32: =SUM(Y32:Z32) -> 50000 | AB32: =+G32+U32+N32 -> 0 | AC32: =+H32+V32+O32 -> 0 | AD32: =+I32+W32+P32 -> 49860 | AE32: =+AA32-AB32-AC32-AD32 -> 140 | AG32: กลุ่มนิเทศติดตามและประเมินผลฯ
A33: =+[8]ระบบการควบคุมฯ!A908 -> 0 | B33: =+[8]ระบบการควบคุมฯ!B908 -> อนุมพิ่มครั้งที่ 2 30,000 บาท | C33: =+[8]ระบบการควบคุมฯ!C908 -> ศธ04002/ว2369 ลว.11 ก.พ.69 ครั้งที่ 294 500,000 บาท | K33: =+[8]ระบบการควบคุมฯ!D917 -> 0 | L33: =+[8]ระบบการควบคุมฯ!E908 -> 0 | M33: =SUM(K33:L33) -> 0 | N33: =+[8]ระบบการควบคุมฯ!G908+[8]ระบบการควบคุมฯ!H908 -> 0 | P33: =+[8]ระบบการควบคุมฯ!K908+[8]ระบบการควบคุมฯ!L908 -> 0 | Q33: =+M33-N33-O33-P33 -> 0 | Y33: =+D33+K33+R33 -> 0 | Z33: =+E33+S33+L33 -> 0 | AA33: =SUM(Y33:Z33) -> 0 | AB33: =+G33+U33+N33 -> 0 | AC33: =+H33+V33+O33 -> 0 | AD33: =+I33+W33+P33 -> 0 | AE33: =+AA33-AB33-AC33-AD33 -> 0
A34: =+[8]ระบบการควบคุมฯ!A909 -> 2.1.3) | B34: =+[8]ระบบการควบคุมฯ!B909 -> โครงการส่งเสริมประสิทธิผลการสอนของครูโดยการใช้ปัญญาประดิษฐ์ (AI) บนแพลตฟอร์ดิจิทัล 43,850 บาท | C34: =+[8]ระบบการควบคุมฯ!C909 -> ศธ04002/ว46832 ลว.17 ต.ค. 68 ครั้งที่ 7 2,000,000 บาท | K34: =+[8]ระบบการควบคุมฯ!D918 -> 0 | L34: =+[8]ระบบการควบคุมฯ!E909 -> 43850 | M34: =SUM(K34:L34) -> 43850 | N34: =+[8]ระบบการควบคุมฯ!G909+[8]ระบบการควบคุมฯ!H909 -> 0 | P34: =+[8]ระบบการควบคุมฯ!K909+[8]ระบบการควบคุมฯ!L909 -> 40290 | Q34: =+M34-N34-O34-P34 -> 3560 | Y34: =+D34+K34+R34 -> 0 | Z34: =+E34+S34+L34 -> 43850 | AA34: =SUM(Y34:Z34) -> 43850 | AB34: =+G34+U34+N34 -> 0 | AC34: =+H34+V34+O34 -> 0 | AD34: =+I34+W34+P34 -> 40290 | AE34: =+AA34-AB34-AC34-AD34 -> 3560 | AG34: กลุ่มนิเทศติดตามและประเมินผลฯ
A35: =+[8]ระบบการควบคุมฯ!A910 -> 0 | B35: =+[8]ระบบการควบคุมฯ!B910 -> อนุมัติครั้งที่ 2 31850 บาท | C35: =+[8]ระบบการควบคุมฯ!C910 -> ศธ04002/ว2369 ลว.11 ก.พ.69 ครั้งที่ 294 500,000 บาท | K35: =+[8]ระบบการควบคุมฯ!D919 -> 0 | L35: =+[8]ระบบการควบคุมฯ!E910 -> 0 | M35: =SUM(K35:L35) -> 0 | N35: =+[8]ระบบการควบคุมฯ!G910+[8]ระบบการควบคุมฯ!H910 -> 0 | P35: =+[8]ระบบการควบคุมฯ!K910+[8]ระบบการควบคุมฯ!L910 -> 0 | Q35: =+M35-N35-O35-P35 -> 0 | Y35: =+D35+K35+R35 -> 0 | Z35: =+E35+S35+L35 -> 0 | AA35: =SUM(Y35:Z35) -> 0 | AB35: =+G35+U35+N35 -> 0 | AC35: =+H35+V35+O35 -> 0 | AD35: =+I35+W35+P35 -> 0 | AE35: =+AA35-AB35-AC35-AD35 -> 0
A36: =+[8]ระบบการควบคุมฯ!A911 -> 2.1.4 | B36: =+[8]ระบบการควบคุมฯ!B911 -> โครงการโรงเรียนคุณธรรม สพฐ. 25,000 บาท | C36: =+[8]ระบบการควบคุมฯ!C911 -> ศธ04002/ว2369 ลว.11 ก.พ.69 ครั้งที่ 294 500,000 บาท | K36: =+[8]ระบบการควบคุมฯ!D920 -> 0 | L36: =+[8]ระบบการควบคุมฯ!E911 -> 25000 | M36: =SUM(K36:L36) -> 25000 | N36: =+[8]ระบบการควบคุมฯ!G911+[8]ระบบการควบคุมฯ!H911 -> 0 | P36: =+[8]ระบบการควบคุมฯ!K911+[8]ระบบการควบคุมฯ!L911 -> 15500 | Q36: =+M36-N36-O36-P36 -> 9500 | Y36: =+D36+K36+R36 -> 0 | Z36: =+E36+S36+L36 -> 25000 | AA36: =SUM(Y36:Z36) -> 25000 | AB36: =+G36+U36+N36 -> 0 | AC36: =+H36+V36+O36 -> 0 | AD36: =+I36+W36+P36 -> 15500 | AE36: =+AA36-AB36-AC36-AD36 -> 9500 | AG36: กลุ่มนิเทศติดตามและประเมินผลฯ
A37: =+[8]ระบบการควบคุมฯ!A912 -> 2.1.5 | B37: =+[8]ระบบการควบคุมฯ!B912 -> โครงการส่งเสริมคุณภาพการจัดการเรียนรู้แนวใหม่ จำนวนเงิน 104,400 บาท อนุมัติครั้งที่ 1 30,000 บาทครั้งที่ 2 63,200 บาท ครั้งที่ 3 4200 บาท | C37: =+[8]ระบบการควบคุมฯ!C912 -> ศธ04002/ว46832 ลว.17 ต.ค. 68 ครั้งที่ 7 2,000,000 บาท | D37: =+[8]ระบบการควบคุมฯ!D785 -> 0 | E37: =+[8]ระบบการควบคุมฯ!E785 -> 4200 | F37: =SUM(D37:E37) -> 4200 | G37: =+[8]ระบบการควบคุมฯ!G785+[8]ระบบการควบคุมฯ!H785 -> 0 | H37: =+[8]ระบบการควบคุมฯ!I785+[8]ระบบการควบคุมฯ!J785 -> 0 | I37: =+[8]ระบบการควบคุมฯ!K785+[8]ระบบการควบคุมฯ!L785 -> 2800 | J37: =+F37-G37-H37-I37 -> 1400 | K37: =+[8]ระบบการควบคุมฯ!D921 -> 0 | L37: =+[8]ระบบการควบคุมฯ!E912 -> 100200 | M37: =SUM(K37:L37) -> 100200 | N37: =+[8]ระบบการควบคุมฯ!G912+[8]ระบบการควบคุมฯ!H912 -> 0 | P37: =+[8]ระบบการควบคุมฯ!K912+[8]ระบบการควบคุมฯ!L912 -> 90437 | Q37: =+M37-N37-O37-P37 -> 9763 | Y37: =+D37+K37+R37 -> 0 | Z37: =+E37+S37+L37 -> 104400 | AA37: =SUM(Y37:Z37) -> 104400 | AB37: =+G37+U37+N37 -> 0 | AC37: =+H37+V37+O37 -> 0 | AD37: =+I37+W37+P37 -> 93237 | AE37: =+AA37-AB37-AC37-AD37 -> 11163 | AG37: กลุ่มนิเทศติดตามและประเมินผลฯ
A38: =+[8]ระบบการควบคุมฯ!A913 -> 0 | B38: =+[8]ระบบการควบคุมฯ!B913 -> อนุมัติครั้งที่ 2 63,200 บาท | C38: =+[8]ระบบการควบคุมฯ!C913 -> ศธ04002/ว2369 ลว.11 ก.พ.69 ครั้งที่ 294 500,000 บาท | K38: =+[8]ระบบการควบคุมฯ!D922 -> 0 | L38: =+[8]ระบบการควบคุมฯ!E913 -> 0 | M38: =SUM(K38:L38) -> 0 | N38: =+[8]ระบบการควบคุมฯ!G913+[8]ระบบการควบคุมฯ!H913 -> 0 | P38: =+[8]ระบบการควบคุมฯ!K913+[8]ระบบการควบคุมฯ!L913 -> 0 | Q38: =+M38-N38-O38-P38 -> 0 | Y38: =+D38+K38+R38 -> 0 | Z38: =+E38+S38+L38 -> 0 | AA38: =SUM(Y38:Z38) -> 0 | AB38: =+G38+U38+N38 -> 0 | AC38: =+H38+V38+O38 -> 0 | AD38: =+I38+W38+P38 -> 0 | AE38: =+AA38-AB38-AC38-AD38 -> 0
A39: =+[8]ระบบการควบคุมฯ!A915 -> 2.1.6) | B39: =+[8]ระบบการควบคุมฯ!B915 -> โครงการวัดและประเมินผลเพื่อพัฒนาการเรียนรู้ของผู้เรียน 100,000 บาท อนุมัติครั้งที่ 1 82,000 บาท | C39: =+[8]ระบบการควบคุมฯ!C915 -> ศธ04002/ว46832 ลว.17 ต.ค. 68 ครั้งที่ 7 2,000,000 บาท | K39: =+[8]ระบบการควบคุมฯ!D915 -> 0 | L39: =+[8]ระบบการควบคุมฯ!E915 -> 100000 | M39: =SUM(K39:L39) -> 100000 | N39: =+[8]ระบบการควบคุมฯ!G915+[8]ระบบการควบคุมฯ!H915 -> 0 | P39: =+[8]ระบบการควบคุมฯ!K915+[8]ระบบการควบคุมฯ!L915 -> 100000 | Q39: =+M39-N39-O39-P39 -> 0 | Y39: =+D39+K39+R39 -> 0 | Z39: =+E39+S39+L39 -> 100000 | AA39: =SUM(Y39:Z39) -> 100000 | AB39: =+G39+U39+N39 -> 0 | AC39: =+H39+V39+O39 -> 0 | AD39: =+I39+W39+P39 -> 100000 | AE39: =+AA39-AB39-AC39-AD39 -> 0 | AG39: กลุ่มนิเทศติดตามและประเมินผลฯ
A40: =+[8]ระบบการควบคุมฯ!A919 -> 2.2) | B40: =+[8]ระบบการควบคุมฯ!B919 -> กลยุทธ์ที่ 2 เพิ่มโอกาสและความเสมอภาคทางการศึกษา 98,710 บาท จัดสรรครั้งที่ 1 50,000 บาท ยืมงบกลาง 30710 บาท | C40: =+C29 -> ศธ04002/ว11486 ลว.9 ก.ค. 69 ครั้งที่ 698 1,642,500 บาท | D40: =SUM(D41:D44) -> 0 | E40: =SUM(E41:E44) -> 18000 | F40: =SUM(F41:F44) -> 18000 | G40: =SUM(G41:G44) -> 0 | H40: =SUM(H41:H44) -> 0 | I40: =SUM(I41:I44) -> 18000 | J40: =SUM(J41:J44) -> 0 | K40: =SUM(K41:K44) -> 0 | ... AF40: =SUM(AF41:AF44) -> 0
...

Sheet งบสพฐ
A1: งบประมาณของสำนักงานคณะกรรมการการศึกษาขั้นพื้นฐาน
A2: ประจำปีงบประมาณ พ.ศ. 2569
A3: กลุ่มบริหารงานการเงินและสินทรัพย์ สำนักงานเขตพื้นที่การศึกษาประถมศึกษาปทุมธานี เขต 2
B4: =+[8]งบประจำและงบกลยุทธ์!A4 -> ประจำเดือนสิงหาคม 2569 | I4: รายละเอียด 4
A5: ที่ | B5: รายการ | C5: รหัสงบประมาณ/หนังสือแจ้งโอน | D5: เงินงวด | E5: ผูกพัน | F5: กันไว้เบิกเหลื่อมปี | G5: เบิกจ่าย | H5: คงเหลือ | I5: ผู้รับผิดชอบ
A6: =+[8]ระบบการควบคุมฯ!A7 -> ก | B6: =+[8]ระบบการควบคุมฯ!B7 -> แผนงานบุคลากรภาครัฐ | C6: =+[8]ระบบการควบคุมฯ!C7 [8]ระบบการควบคุมฯ!C7 -> 20004 1400 0800 | D6: =+D7 -> 9567000 | E6: =+E7 -> 0 | F6: =+F7 -> 0 | G6: =+G7 -> 9333860 | H6: =+H7 -> 233140
A7: =+[8]ระบบการควบคุมฯ!A8 -> 1 | B7: =+[8]ระบบการควบคุมฯ!B8 -> ผลผลิตรายการค่าใช้จ่ายบุคลากรภาครัฐ ยกระดับคุณภาพการศึกษาและการเรียนรู้ตลอดชีวิต | C7: =+[8]ระบบการควบคุมฯ!C8 -> 20004 1400 0800 | D7: =+D8 -> 9567000 | E7: =+E8 -> 0 | F7: =+F8 -> 0 | G7: =+G8 -> 9333860 | H7: =+H8 -> 233140
A8: =+[8]ระบบการควบคุมฯ!A10 -> 1.1 | B8: =+[8]ระบบการควบคุมฯ!B10 -> กิจกรรมค่าใช้จ่ายบุคลากรภาครัฐของสำนักงานคณะกรรมการการศึกษาขั้นพื้นฐาน | C8: =+[8]ระบบการควบคุมฯ!C10 -> 20004 69 79456 00000 | D8: =+D9+D12+D19 -> 9567000 | E8: =+E9+E12+E19 -> 0 | F8: =+F9+F12+F19 -> 0 | G8: =+G9+G12+G19 -> 9333860 | H8: =+H9+H12+H19 -> 233140
B9: =+[8]ระบบการควบคุมฯ!B12 -> งบบุคลากร ค่าจ้างชั่วคราว 6911130 | C9: =+[8]ระบบการควบคุมฯ!C12 -> 20004 14000800 1000000 | D9: =+D10+D11 -> 1491500 | E9: =+E10+E11 -> 0 | F9: =+F10+F11 -> 0 | G9: =+G10+G11 -> 1344611.1 | H9: =+H10+H11 -> 146888.94
A10: =+[8]ระบบการควบคุมฯ!A16 -> 1.1.1 | B10: =+[8]ระบบการควบคุมฯ!_Hlk231936231 -> ค่าจ้างชั่วคราว จำนวน 26 อัตรา จำนวน 2 เดือน (มิถุนายน - กรกฎาคม 2569) 994,300 บาท | C10: =+[8]ระบบการควบคุมฯ!C13 -> ศธ 04002/ว9361 ลว. 4 มิ.ย. 69 ครั้งที่ 691 | D10: =+[8]ระบบการควบคุมฯ!F13 -> 1491500 | E10: =+[8]ระบบการควบคุมฯ!G13+[8]ระบบการควบคุมฯ!H13 -> 0 | F10: =+[8]ระบบการควบคุมฯ!I13+[8]ระบบการควบคุมฯ!J13 -> 0 | G10: =+[8]ระบบการควบคุมฯ!K13+[8]ระบบการควบคุมฯ!L13 -> 1344611.1 | H10: =+D10-E10-F10-G10 -> 146888.94 | I10: กลุ่มบริหารงานการเงินและสินทรัพย์
A11: =+[8]ระบบการควบคุมฯ!A17 -> 0 | B11: =+[8]ระบบการควบคุมฯ!_Hlk231936231 -> ค่าจ้างชั่วคราว จำนวน 26 อัตรา จำนวน 2 เดือน (มิถุนายน - กรกฎาคม 2569) 994,300 บาท | C11: =+[8]ระบบการควบคุมฯ!C14 -> ศธ 04002/ว13660 ลว. 6 ส.ค. 69 ครั้งที่ 830 | E11: =+[8]ระบบการควบคุมฯ!G14+[8]ระบบการควบคุมฯ!H14 -> 0 | F11: =+[8]ระบบการควบคุมฯ!I14+[8]ระบบการควบคุมฯ!J14 -> 0 | G11: =+[8]ระบบการควบคุมฯ!K14+[8]ระบบการควบคุมฯ!L14 -> 0 | H11: =+D11-E11-F11-G11 -> 0 | I11: กลุ่มบริหารงานการเงินและสินทรัพย์
B12: =+[8]ระบบการควบคุมฯ!B16 -> งบบุคลากร 6911150 | C12: =+[8]ระบบการควบคุมฯ!C16 -> 20004 14000800 1000000 | D12: =SUM(D13:D17) -> 6293000 | E12: =SUM(E13:E17) -> 0 | F12: =SUM(F13:F17) -> 0 | G12: =SUM(G13:G17) -> 6255577.5 | H12: =SUM(H13:H17) -> 37422.48
A13: =+[8]ระบบการควบคุมฯ!A18 -> 1.1.1 | B13: =+[8]ระบบการควบคุมฯ!B18 -> ค่าตอบแทนพนักงานราชการ 22 อัตรา 5 เดือน(ต.ค.68 - ก.พ 69) 2,895,000 บาท | C13: =+[8]ระบบการควบคุมฯ!C18 -> ศธ 04002/ว46528 ลว.14 ต.ค.68 ครั้งที่ 2 | D13: =+[8]ระบบการควบคุมฯ!F18 -> 6293000 | E13: =+[8]ระบบการควบคุมฯ!G18+[8]ระบบการควบคุมฯ!H18 -> 0 | F13: =+[8]ระบบการควบคุมฯ!I18+[8]ระบบการควบคุมฯ!J18 -> 0 | G13: =+[8]ระบบการควบคุมฯ!K18+[8]ระบบการควบคุมฯ!L18 -> 6255577.5 | H13: =+D13-E13-F13-G13 -> 37422.48 | I13: กลุ่มบริหารงานการเงินและสินทรัพย์
A14: =+[8]ระบบการควบคุมฯ!A19 -> 1.1.1.1 | B14: =+[8]ระบบการควบคุมฯ!B19 -> ค่าตอบแทนพนักงานราชการ 22 อัตรา เงินเลื่อนค่าตอบแทนพนักงานราชการประจำปี จำนวน 5 เดือน (ตุลาคม 2568 -กุมภาพันธ์ 2569) 116,000 บาท | C14: =+[8]ระบบการควบคุมฯ!C19 -> ศธ 04002/ว50977 ลว. 22 ธ.ค.68 ครั้งที่ 172
A15: =+[8]ระบบการควบคุมฯ!A20 -> 1.1.1.2 | B15: =+[8]ระบบการควบคุมฯ!B20 -> ค่าตอบแทนพนักงานราชการ 22 อัตรา 5 เดือน (มีค-กค 69) 2,965,000 บาท | C15: =+[8]ระบบการควบคุมฯ!C20 -> ศธ 04002/ว4964 ลว. 23 มีค 69 ครั้งที่ 386
A16: =+[8]ระบบการควบคุมฯ!A21 -> 1.1.1.3 | B16: =+[8]ระบบการควบคุมฯ!B21 -> ค่าตอบแทนพนักงานราชการ 21 อัตรา (ส.ค.-กย 69) 317,000 บาท | C16: =+[8]ระบบการควบคุมฯ!C21 -> ศธ 04002/ว13456 ลว. 4 ส.ค.69 ครั้งที่ 808 | D16: =+[8]ระบบการควบคุมฯ!F23 -> 0 | E16: =+[8]ระบบการควบคุมฯ!G23+[8]ระบบการควบคุมฯ!H23 -> 0 | F16: =+[8]ระบบการควบคุมฯ!I23+[8]ระบบการควบคุมฯ!J23 -> 0 | G16: =+[8]ระบบการควบคุมฯ!K23+[8]ระบบการควบคุมฯ!L23 -> 0 | H16: =+D16-E16-F16-G16 -> 0 | I16: กลุ่มบริหารงานการเงินและสินทรัพย์
A17: =+[8]ระบบการควบคุมฯ!A24 -> 1.1.1.3 | B17: =+[8]ระบบการควบคุมฯ!B24 -> งบประมาณชดเชยสำหรับพนักงานราชการที่ลาออก | C17: =+[8]ระบบการควบคุมฯ!C24 -> ศธ 04002/ว40338 ลว. 15 กค 68 ครั้งที่ 691 | D17: =+[8]ระบบการควบคุมฯ!F24 -> 0 | E17: =+[8]ระบบการควบคุมฯ!G24+[8]ระบบการควบคุมฯ!H24 -> 0 | F17: =+[8]ระบบการควบคุมฯ!I24+[8]ระบบการควบคุมฯ!J24 -> 0 | G17: =+[8]ระบบการควบคุมฯ!K24+[8]ระบบการควบคุมฯ!L24 -> 0 | H17: =+D17-E17-F17-G17 -> 0 | I17: กลุ่มบริหารงานการเงินและสินทรัพย์
A19: =+[8]ระบบการควบคุมฯ!A27 -> 0 | B19: =+[8]ระบบการควบคุมฯ!B27 -> งบดำเนินงาน 6911220 | C19: =+[8]ระบบการควบคุมฯ!C27 -> 20004 1420 0800 2000000 | D19: =SUM(D20:D27) -> 1782500 | E19: =SUM(E20:E27) -> 0 | F19: =SUM(F20:F27) -> 0 | G19: =SUM(G20:G27) -> 1733671.4 | H19: =SUM(H20:H27) -> 48828.58
A20: =+[8]ระบบการควบคุมฯ!A29 -> 1.1.2 | B20: =+[8]ระบบการควบคุมฯ!B29 -> เงินสมทบกองทุนประกันสังคมพนักงานราชการ 22 อัตรา (ต.ค.68 - ก.ย.69)/เงินสมทบกองทุนทดแทน 12 เดือน (มค 68 - ธค 69) 85,000+24,000(109,000 บาท) | C20: =+[8]ระบบการควบคุมฯ!C29 -> ศธ 04002/ว46528 ลว.14 ต.ค.68 ครั้งที่ 2 | D20: =+[8]ระบบการควบคุมฯ!F29 -> 220800 | E20: =+[8]ระบบการควบคุมฯ!G29+[8]ระบบการควบคุมฯ!H29 -> 0 | F20: =+[8]ระบบการควบคุมฯ!I29+[8]ระบบการควบคุมฯ!J29 -> 0 | G20: =+[8]ระบบการควบคุมฯ!K29+[8]ระบบการควบคุมฯ!L29 -> 200966 | H20: =+D20-E20-F20-G20 -> 19834 | I20: กลุ่มบริหารงานการเงินและสินทรัพย์
A21: =+[8]ระบบการควบคุมฯ!A30 -> 1.1.2.1 | B21: =+[8]ระบบการควบคุมฯ!B30 -> เงินสมทบกองทุนประกันสังคม จำนวน 2 เดือน ( ม.ค.-กพ.69) 4,600 | C21: =+[8]ระบบการควบคุมฯ!C30 -> ศธ 04002/ว658 ลว.16 มค 69 ครั้งที่ 227
A22: =+[8]ระบบการควบคุมฯ!A31 -> 1.1.2.2 | B22: =+[8]ระบบการควบคุมฯ!B31 -> เงินสมทบกองทุนประกันสังคม จำนวน 5 เดือน (มี.ค.69 - ก.ค. 2569) 100,000 บาท | C22: =+[8]ระบบการควบคุมฯ!C31 -> ศธ 04002/ว4964 ลว. 23 มีค 69 ครั้งที่ 386
A23: =+[8]ระบบการควบคุมฯ!A33 -> 1.1.2.3 | B23: =+[8]ระบบการควบคุมฯ!B33 -> เงินสมทบกองทุนประกันสังคม ค่าจ้างชั่วคราว จำนวน 2 เดือน (มิถุนายน - กรกฎาคม 2569 และรายการเงินสมทบกองทุนเงินทดแทน จำนวน 7 เดือน (มิถุนายน - ธันวาคม 2569) 52800 บาท | C23: =+[8]ระบบการควบคุมฯ!C33 -> ศธ 04002/ว9361 ลว. 4 มิ.ย. 69 ครั้งที่ 691 | D23: =+[8]ระบบการควบคุมฯ!F33 -> 75600 | E23: =+[8]ระบบการควบคุมฯ!G33+[8]ระบบการควบคุมฯ!H33 -> 0 | F23: =+[8]ระบบการควบคุมฯ!I33+[8]ระบบการควบคุมฯ!J33 -> 0 | G23: =+[8]ระบบการควบคุมฯ!K33+[8]ระบบการควบคุมฯ!L33 -> 63428 | H23: =+D23-E23-F23-G23 -> 12172
A24: =+[8]ระบบการควบคุมฯ!A34 -> 1.1.2.3.1 | B24: =+[8]ระบบการควบคุมฯ!B34 -> เงินสมทบกองทุนประกันสังคม ค่าจ้างชั่วคราว จำนวน 1 เดือน (สิงหาคม 2569) 22800 บาท | C24: =+[8]ระบบการควบคุมฯ!C34 -> ศธ 04002/ว13660 ลว. 6 ส.ค. 69 ครั้งที่ 830
A25: =+[8]ระบบการควบคุมฯ!A23 -> 1.1.1.2 | B25: =+[8]ระบบการควบคุมฯ!B23 -> งบประมาณชดเชยสำหรับพนักงานราชการที่ปฏิบัติงานในปัจจุบัน จำนวน 18 อัตรา งบมาทั้งสิ้น 455580 บาท 2 รายการ | C25: =+[8]ระบบการควบคุมฯ!C23 -> ศธ 04002/ว40338 ลว. 15 กค 68 ครั้งที่ 691
A26: =+[8]ระบบการควบคุมฯ!A37 -> 1.1.3 | B26: =+[8]ระบบการควบคุมฯ!B37 -> ค่าเช่าบ้าน (ตุลาคม 2568 - กพ. 2569) ครั้งที่ 1 741,200 บาท | C26: =+[8]ระบบการควบคุมฯ!C37 -> ศธ 04002/ว48512 ลว 11 พ.ย.2025 โอนครั้งที่ 65 | D26: =+[8]ระบบการควบคุมฯ!F37 -> 1486100 | E26: =+[8]ระบบการควบคุมฯ!G37+[8]ระบบการควบคุมฯ!H37 -> 0 | F26: =+[8]ระบบการควบคุมฯ!I37+[8]ระบบการควบคุมฯ!J37 -> 0 | G26: =+[8]ระบบการควบคุมฯ!K37+[8]ระบบการควบคุมฯ!L37 -> 1469277.4 | H26: =+D26-E26-F26-G26 -> 16822.58 | I26: กลุ่มบริหารงานการเงินและสินทรัพย์
A27: =+[8]ระบบการควบคุมฯ!A38 -> 1.1.3.1 | B27: =+[8]ระบบการควบคุมฯ!B38 -> ค่าเช่าบ้าน ครั้งที่ 2 ระยะเวลา 5 เดือน (มีนาคม - กรกฎาคม 2569) 744,900 บาท | C27: =+[8]ระบบการควบคุมฯ!C38 -> ศธ 04002/ว5379 ลว. 30 มี.ค. 69 ครั้งที่ 404
A28: =+[8]ระบบการควบคุมฯ!A39 -> 1.1.3.2 | B28: =+[8]ระบบการควบคุมฯ!B39 -> ค่าเช่าบ้านครั้งที่ 3 (พค-กค 68) จำนวนเงิน 455,100 บาท | C28: =+[8]ระบบการควบคุมฯ!C39 -> ศธ 04002/ว1931 ลว. 8 พ.ค 68 ครั้งที่ 473
A29: =+[8]ระบบการควบคุมฯ!A42 -> ข | B29: =+[8]ระบบการควบคุมฯ!B42 -> แผนงานยุทธศาสตร์พัฒนาคุณภาพการศึกษาและการเรียนรู้ | C29: =+[8]ระบบการควบคุมฯ!C42 -> 20004 3300 | D29: =+D30+D65+D85+D182+D195+D230 -> 25159592 | E29: =+E30+E65+E85+E182+E195+E230 -> 1418802.5 | F29: =+F30+F65+F85+F182+F195+F230 -> 0 | G29: =+G30+G65+G85+G182+G195+G230 -> 19435767 | H29: =+H30+H65+H85+H182+H195+H230 -> 4305022.6 | I29: =+I30+I85 -> 0
A30: =+[4]งบสพฐ!A31 -> 1.2 | B30: =+[8]ระบบการควบคุมฯ!B48 -> โครงการพัฒนาหลักสูตรกระบวนการเรียนการสอน การวัดและประเมินผล | C30: =+[8]ระบบการควบคุมฯ!C48 -> 20004 3320 3300 2000000 | D30: =+D31+D34+D39+D44+D48+D52+D59+D62 -> 40000 | E30: =+E31+E34+E39+E44+E48+E52+E59+E62 -> 0 | F30: =+F31+F34+F39+F44+F48+F52+F59+F62 -> 0 | G30: =+G31+G34+G39+G44+G48+G52+G59+G62 -> 30147.68 | H30: =+H31+H34+H39+H44+H48+H52+H59+H62 -> 9852.32
A31: =+[8]ระบบการควบคุมฯ!A51 -> 1.1 | B31: =+[8]ระบบการควบคุมฯ!B51 -> กิจกรรมการส่งเสริมและพัฒนาระบบการประกันคุณภาพภายในสถานศึกษา | C31: =+[8]ระบบการควบคุมฯ!C51 -> 20004 69 00015 00000 | D31: =+D32 -> 4000 | E31: =+E32 -> 0 | F31: =+F32 -> 0 | G31: =+G32 -> 0 | H31: =+H32 -> 4000
B32: =+[8]ระบบการควบคุมฯ!B52 -> งบดำเนินงาน 69112xx | C32: =+[8]ระบบการควบคุมฯ!C52 -> 20004 3320 3300 2000000 | D32: =SUM(D33) -> 4000 | E32: =SUM(E33) -> 0 | F32: =SUM(F33) -> 0 | G32: =SUM(G33) -> 0 | H32: =SUM(H33) -> 4000 | I32: =SUM(I33) -> 0
A33: =+[8]ระบบการควบคุมฯ!A53 -> 1.1.1 | B33: =+[8]ระบบการควบคุมฯ!B53 -> สนับสนุนการคัดเลือกสถานศึกษาเพื่อรับรางวัล IQA AWARD ประจำปีการศึกษา 2568 | C33: =+[8]ระบบการควบคุมฯ!C53 -> ศธ 04002/ว7915 ลว. 11 พ.ค. 69 โอนครั้งที่ 526 | D33: =+[8]ระบบการควบคุมฯ!F53 -> 4000 | E33: =+[8]ระบบการควบคุมฯ!G53+[8]ระบบการควบคุมฯ!H53 -> 0 | G33: =+[8]ระบบการควบคุมฯ!K53+[8]ระบบการควบคุมฯ!L53 -> 0 | H33: =+D33-E33-F33-G33 -> 4000 | I33: กลุ่มนิเทศติดตามและประเมินผลการจัดการศึกษา
A34: =+[8]ระบบการควบคุมฯ!A57 -> 1.2 | B34: =+[8]ระบบการควบคุมฯ!B57 -> กิจกรรมการยกระดับผลการทดสอบทางการศึกษาระดับชาติที่สอดคล้องกับบริบทพื้นที่ | C34: =+[8]ระบบการควบคุมฯ!C57 -> 20004 69 00040 00000 | D34: =+D35 -> 36000 | E34: =+E35 -> 0 | F34: =+F35 -> 0 | G34: =+G35 -> 30147.68 | H34: =+H35 -> 5852.32
B35: =+[8]ระบบการควบคุมฯ!B58 -> งบดำเนินงาน 69112xx | C35: =+[8]ระบบการควบคุมฯ!C58 -> 20004 3320 3300 2000000 | D35: =SUM(D36:D38) -> 36000 | E35: =SUM(E36:E38) -> 0 | F35: =SUM(F36:F38) -> 0 | G35: =SUM(G36:G38) -> 30147.68 | H35: =SUM(H36:H38) -> 5852.32
A36: =+[8]ระบบการควบคุมฯ!A59 -> 1.2.1 | B36: =+[8]ระบบการควบคุมฯ!B59 -> ค่าใช้จ่ายในการดำเนินโครงการการประเมินความสามารถด้านการอ่านของผู้เรียน (RT) ชั้นประถมศึกษาปีที่ 1 ปีการศึกษา 2568 จำนวนเงิน 15,540.00 บาท และค่าใช้จ่ายในการดำเนินโครงการการประเมินคุณภาพผู้เรียน (NT) ชั้นประถมศึกษาปีที่ 3 ปีการศึกษา 2568 สำหรับโรงเรียนตามโครงการพระราชดำริ สมเด็จพระกนิษฐาธิราชเจ้า กรมสมเด็จพระเทพรัตนราชสุดาฯ สยามบรมราชกุมารี โรงเรียนกองทุนการศึกษาและโรงเรียนทั่วไป จำนวน 14,660 บาท | C36: =+[8]ระบบการควบคุมฯ!C59 -> ศธ 04002/ว777 ลว. 19 มค 69 โอนครั้งที่ 230 จำนวนเงิน 30,200 บาท | D36: =+[8]ระบบการควบคุมฯ!F59 -> 30200 | E36: =+[8]ระบบการควบคุมฯ!G59+[8]ระบบการควบคุมฯ!H59 -> 0 | F36: =+[8]ระบบการควบคุมฯ!I59+[8]ระบบการควบคุมฯ!J59 -> 0 | G36: =+[8]ระบบการควบคุมฯ!K59+[8]ระบบการควบคุมฯ!L59 -> 30147.68 | H36: =+D36-E36-F36-G36 -> 52.32 | I36: กลุ่มนิเทศติดตามและประเมินผลการจัดการศึกษา
A37: =+[8]ระบบการควบคุมฯ!A60 -> 1.2.2 | B37: =+[8]ระบบการควบคุมฯ!B60 -> ค่าใช้จ่ายในการดำเนินการคัดเลือกนักเรียนและสถานศึกษาเพื่อรับรางวัลพระราชทาน ระดับการศึกษาขั้นพื้นฐาน ประจำปีการศึกษา 2569 (ระดับสำนักงานเขตพื้นที่การศึกษา) | C37: =+[8]ระบบการควบคุมฯ!C60 -> ศธ 04002/ว13341 ลว. 3 ส.ค 69 โอนครั้งที่ 800 | D37: =+[8]ระบบการควบคุมฯ!F60 -> 5000 | E37: =+[8]ระบบการควบคุมฯ!G60+[8]ระบบการควบคุมฯ!H60 -> 0 | F37: =+[8]ระบบการควบคุมฯ!I60+[8]ระบบการควบคุมฯ!J60 -> 0 | G37: =+[8]ระบบการควบคุมฯ!K60+[8]ระบบการควบคุมฯ!L60 -> 0 | H37: =+D37-E37-F37-G37 -> 5000 | I37: กลุ่มส่งเสริมการจัดการศึกษา
A38: =+[8]ระบบการควบคุมฯ!A61 -> 1.2.3 | B38: =+[8]ระบบการควบคุมฯ!B61 -> ค่าใช้จ่ายในการเดินทางเข้าร่วมการประชุมเชิงปฏิบัติการพัฒนาศักยภาพศึกษานิเทศก์ด้านการประเมินการเรียนรู้และการประกันคุณภาพภายในสถานศึกษาโดยการประยุกต์ใช้ปัญญาประดิษฐ์ ระหว่างวันที่ 23 – 26 สิงหาคม 2569 ณ โรงแรมริเวอร์ไซด์ กรุงเทพหานคร | C38: =+[8]ระบบการควบคุมฯ!C61 -> ศธ 04002/ว13562 ลว. 3 ส.ค 69 โอนครั้งที่ 822 | D38: =+[8]ระบบการควบคุมฯ!F61 -> 800 | E38: =+[8]ระบบการควบคุมฯ!G61+[8]ระบบการควบคุมฯ!H61 -> 0 | F38: =+[8]ระบบการควบคุมฯ!I61+[8]ระบบการควบคุมฯ!J61 -> 0 | G38: =+[8]ระบบการควบคุมฯ!K61+[8]ระบบการควบคุมฯ!L61 -> 0 | H38: =+D38-E38-F38-G38 -> 800 | I38: กลุ่มนิเทศติดตามและประเมินผลการจัดการศึกษา
A39: =+[8]ระบบการควบคุมฯ!A66 -> 1.3 | B39: =+[8]ระบบการควบคุมฯ!B66 -> กิจกรรมการขับเคลื่อนการจัดการเรียนรู้วิทยาการคำนวณและการออกแบบเทคโนโลยี | C39: =+[8]ระบบการควบคุมฯ!C66 -> 20004 69 00075 00000 | D39: =+D40 -> 0 | E39: =+E40 -> 0 | F39: =+F40 -> 0 | G39: =+G40 -> 0 | H39: =+H40 -> 0
B40: =+[8]ระบบการควบคุมฯ!B67 -> งบดำเนินงาน 6911200 | C40: =+[8]ระบบการควบคุมฯ!C67 -> 20004 3320 3300 2000000 | D40: =SUM(D41:D43) -> 0 | E40: =SUM(E41:E43) -> 0 | F40: =SUM(F41:F43) -> 0 | G40: =SUM(G41:G43) -> 0 | H40: =SUM(H41:H43) -> 0
A41: =+[8]ระบบการควบคุมฯ!A68 -> 1.3.1 | B41: =+[8]ระบบการควบคุมฯ!B68 -> 0 | C41: =+[8]ระบบการควบคุมฯ!C68 -> 0 | H41: =+D41-E41-F41-G41 -> 0 | I41: กลุ่มนิเทศติดตามและประเมินผลการจัดการศึกษา
...

Sheet งบลงทุน
J1: รายละเอียด 2
A2: รายงานผลการเบิกจ่ายเงินงบประมาณ งบลงทุน ประจำปีงบประมาณ พ.ศ. 2569 รายละเอียด 2
A3: กลุ่มบริหารงานการเงินและสินทรัพย์ สำนักงานเขตพื้นที่การศึกษาประถมศึกษาปทุมธานี เขต 2
A4: =+[8]งบประจำและงบกลยุทธ์!A4 -> ประจำเดือนสิงหาคม 2569
A5: ที่ | B5: รายการ | C5: รหัสงบประมาณ/หนังสือแจ้งโอน | D5: เงินงวด | E5: ผูกพัน | F5: กันเงินไว้เบิก | G5: เบิกจ่าย | H5: คงเหลือ | I5: การอนุมัติเงินงวด | J5: คงเหลือ | K5: ปัญหาอุปสรรค
A7: =[8]ระบบการควบคุมฯ!A42 -> ข | B7: =[8]ระบบการควบคุมฯ!B42 -> แผนงานยุทธศาสตร์พัฒนาคุณภาพการศึกษาและการเรียนรู้ | D7: =SUM(D8+D9) -> 459200 | E7: =SUM(E8+E9) -> 0 | F7: =SUM(F8+F9) -> 0 | G7: =SUM(G8+G9) -> 458200 | H7: =SUM(H8+H9) -> 0 | I7: =SUM(I8+I9) -> 0 | J7: =SUM(J8+J9) -> 1000
B8: =+[8]ระบบการควบคุมฯ!B46 -> ครุภัณฑ์ 6911310 | D8: =+D12+D18+D25 -> 375200 | E8: =+E12+E18+E25 -> 0 | F8: =+F12+F18+F25 -> 0 | G8: =+G12+G18+G25 -> 374200 | H8: =+H12+H18+H25 -> 0 | I8: =+I12+I18+I25 -> 0 | J8: =+J12+J18+J25 -> 1000
B9: =+[8]ระบบการควบคุมฯ!B47 -> สิ่งก่อสร้าง 6911320 | D9: =+D39+D45 -> 84000 | E9: =+E39+E45 -> 0 | F9: =+F39+F45 -> 0 | G9: =+G39+G45 -> 84000 | H9: =+H39+H45 -> 0 | I9: =+I39+I45 -> 0 | J9: =+J39+J45 -> 0 | K9: =+K45+K77 -> 0
A10: =[8]ระบบการควบคุมฯ!A115 -> 3 | B10: =[8]ระบบการควบคุมฯ!B115 -> โครงการขับเคลื่อนการพัฒนาการศึกษาที่ยั่งยืน | D10: =D11 -> 200000 | E10: =E11 -> 0 | F10: =F11 -> 0 | G10: =G11 -> 199000 | H10: =H11 -> 0 | I10: =I11 -> 0 | J10: =J11 -> 1000
A11: =+[8]ระบบการควบคุมฯ!A138 -> 3.4 | B11: =+[8]ระบบการควบคุมฯ!B138 -> กิจกรรมการยกระดับคุณภาพด้านวิทยาศาสตร์ศึกษาเพื่อความเป็นเลิศ | C11: =+[8]ระบบการควบคุมฯ!C138 -> 20004 69 00093 00000 | D11: =D12+D39 -> 200000 | E11: =E12+E39 -> 0 | F11: =F12+F39 -> 0 | G11: =G12+G39 -> 199000 | H11: =H12+H39 -> 0 | I11: =I12+I39 -> 0 | J11: =J12+J39 -> 1000
B12: =+[8]ระบบการควบคุมฯ!B147 -> งบลงทุน 6911310 | D12: =SUM(D13:D15) -> 200000 | E12: =SUM(E13:E15) -> 0 | F12: =SUM(F13:F15) -> 0 | G12: =SUM(G13:G15) -> 199000 | H12: =SUM(H13:H15) -> 0 | I12: =SUM(I13:I15) -> 0 | J12: =SUM(J13:J15) -> 1000
A13: =+[8]ระบบการควบคุมฯ!A148 -> 3.4.1.1 | B13: =+[8]ระบบการควบคุมฯ!B148 -> ครุภัณฑ์ห้องปฏิบัติการวิทยาศาสตร์ | C13: =+[8]ระบบการควบคุมฯ!C148 -> ศธ 04002/ว47614 ลว. 31 ตค 68 โอนครั้งที่ 23
A14: =+[8]ระบบการควบคุมฯ!A149 -> 1) | B14: =+[8]ระบบการควบคุมฯ!B149 -> โรงเรียนวัดมูลจินดาราม | C14: =+[8]ระบบการควบคุมฯ!C149 -> 20004 33006300 3110187 | D14: =+[8]ระบบการควบคุมฯ!F149 -> 100000 | E14: =+[8]ระบบการควบคุมฯ!G149+[8]ระบบการควบคุมฯ!H149 -> 0 | F14: =+[8]ระบบการควบคุมฯ!I149+[8]ระบบการควบคุมฯ!J149 -> 0 | G14: =+[8]ระบบการควบคุมฯ!K149+[8]ระบบการควบคุมฯ!L149 -> 100000 | J14: =+D14-E14-F14-G14 -> 0
A15: =+[8]ระบบการควบคุมฯ!A150 -> 2) | B15: =+[8]ระบบการควบคุมฯ!B150 -> โรงเรียนชุมชนบึงบา | C15: =+[8]ระบบการควบคุมฯ!C150 -> 20004 33006300 3110188 | D15: =+[8]ระบบการควบคุมฯ!F150 -> 100000 | E15: =+[8]ระบบการควบคุมฯ!G150+[8]ระบบการควบคุมฯ!H150 -> 0 | F15: =+[8]ระบบการควบคุมฯ!I150+[8]ระบบการควบคุมฯ!J150 -> 0 | G15: =+[8]ระบบการควบคุมฯ!K150+[8]ระบบการควบคุมฯ!L150 -> 99000 | J15: =+D15-E15-F15-G15 -> 1000
A16: =+[8]ระบบการควบคุมฯ!A300 -> 5 | B16: =+[8]ระบบการควบคุมฯ!B300 -> โครงการโรงเรียนคุณภาพ | C16: =+[8]ระบบการควบคุมฯ!C300 -> 20004 3300 B800 | D16: =+D17+D24+D44+D67 -> 259200 | E16: =+E17+E24+E44+E67 -> 0 | F16: =+F17+F24+F44+F67 -> 0 | G16: =+G17+G24+G44+G67 -> 259200 | H16: =+H17+H24+H44+H67 -> 0 | I16: =+I17+I24+I44+I67 -> 0 | J16: =+J17+J24+J44+J67 -> 0
A17: =+[8]ระบบการควบคุมฯ!A319 -> 5.2 | B17: =+[8]ระบบการควบคุมฯ!B319 -> กิจกรรมการยกระดับคุณภาพการศึกษาเพื่อขับเคลื่อนโรงเรียนคุณภาพ | C17: =+[8]ระบบการควบคุมฯ!C319 -> 20004 69 00133 00000 | D17: =+D18 -> 29000 | E17: =+E18 -> 0 | F17: =+F18 -> 0 | G17: =+G18 -> 29000 | H17: =+H18 -> 0 | I17: =+I18 -> 0 | J17: =+J18 -> 0
B18: =+[8]ระบบการควบคุมฯ!B320 -> ค่าครุภัณฑ์ 6911310 | D18: =+D19 -> 29000 | E18: =+E19 -> 0 | F18: =+F19 -> 0 | G18: =+G19 -> 29000 | H18: =+H19 -> 0 | I18: =+I19 -> 0 | J18: =+J19 -> 0
B19: =+[8]ระบบการควบคุมฯ!B321 -> ครุภัณฑ์ สำนักงาน 120611 | D19: =+D20+D22 -> 29000 | E19: =+E20+E22 -> 0 | F19: =+F20+F22 -> 0 | G19: =+G20+G22 -> 29000 | H19: =+H20+H22 -> 0 | I19: =+I20+I22 -> 0 | J19: =+J20+J22 -> 0
A20: =+[8]ระบบการควบคุมฯ!A322 -> 5.1.1 | B20: =+[8]ระบบการควบคุมฯ!B322 -> โต๊ะเก้าอี้นักเรียน สำหรับนักเรียนประถมศึกษา | C20: =+[8]ระบบการควบคุมฯ!C322 -> ที่ ศธ 04087/ว49453/25 พย 68 ครั้งที่ 104 | D20: =SUM(D21) -> 15000 | E20: =SUM(E21) -> 0 | F20: =SUM(F21) -> 0 | G20: =SUM(G21) -> 15000 | H20: =SUM(H21) -> 0 | I20: =SUM(I21) -> 0 | J20: =SUM(J21) -> 0
A21: =+[8]ระบบการควบคุมฯ!A323 -> 1) | B21: =+[8]ระบบการควบคุมฯ!B323 -> โรงเรียนวัดแสงสรรค์ | C21: =+[8]ระบบการควบคุมฯ!C323 -> 200043300B8003110429 | D21: =+[8]ระบบการควบคุมฯ!F323 -> 15000 | E21: =+[8]ระบบการควบคุมฯ!G323+[8]ระบบการควบคุมฯ!H323 -> 0 | G21: =+[8]ระบบการควบคุมฯ!K323+[8]ระบบการควบคุมฯ!L323 -> 15000 | J21: =+D21-E21-F21-G21 -> 0
A22: =+[8]ระบบการควบคุมฯ!A324 -> 5.1.2 | B22: =+[8]ระบบการควบคุมฯ!B324 -> โต๊ะเก้าอี้นักเรียน สำหรับนักเรียนก่อนประถมศึกษา | C22: =+[8]ระบบการควบคุมฯ!C324 -> ที่ ศธ 04087/ว49453/25 พย 68 ครั้งที่ 104 | D22: =+D23 -> 14000 | E22: =+E23 -> 0 | F22: =+F23 -> 0 | G22: =+G23 -> 14000 | H22: =+H23 -> 0 | I22: =+I23 -> 0 | J22: =+J23 -> 0
A23: =+[8]ระบบการควบคุมฯ!A325 -> 1) | B23: =+[8]ระบบการควบคุมฯ!B325 -> โรงเรียนวัดจตุพิธวราวาส | C23: =+[8]ระบบการควบคุมฯ!C325 -> 200043300B8003110430 | D23: =+[8]ระบบการควบคุมฯ!F325 -> 14000 | E23: =+[8]ระบบการควบคุมฯ!G325+[8]ระบบการควบคุมฯ!H325 -> 0 | G23: =+[8]ระบบการควบคุมฯ!K325+[8]ระบบการควบคุมฯ!L325 -> 14000 | J23: =+D23-E23-F23-G23 -> 0
A24: =+[8]ระบบการควบคุมฯ!A337 -> 5.3 | B24: =+[8]ระบบการควบคุมฯ!B337 -> กิจกรรมการยกระดับคุณภาพการศึกษาสำหรับโรงเรียนคุณภาพตามนโยบาย 1 อำเภอ 1 โรงเรียนคุณภาพ | C24: =+[8]ระบบการควบคุมฯ!C337 -> 20004 69 00134 00000 | D24: =+D25 -> 146200 | E24: =+E25 -> 0 | F24: =+F25 -> 0 | G24: =+G25 -> 146200 | H24: =+H25 -> 0 | I24: =+I25 -> 0 | J24: =+J25 -> 0
A25: =+[8]ระบบการควบคุมฯ!A338 -> 5.3.1 | B25: =+[8]ระบบการควบคุมฯ!B338 -> ค่าครุภัณฑ์ 6911310 | C25: =+[8]ระบบการควบคุมฯ!C338 -> 20004 3300B800 | D25: =+D26+D33 -> 146200 | E25: =+E26+E33 -> 0 | F25: =+F26+F33 -> 0 | G25: =+G26+G33 -> 146200 | H25: =+H26+H33 -> 0 | I25: =+I26+I33 -> 0 | J25: =+J26+J33 -> 0
B26: =+[8]ระบบการควบคุมฯ!B339 -> ครุภัณฑ์สำนักงาน 120601 | C26: =+[8]ระบบการควบคุมฯ!C339 -> 120601 | D26: =+D27+D29+D31 -> 91800 | E26: =+E27+E29+E31 -> 0 | F26: =+F27+F29+F31 -> 0 | G26: =+G27+G29+G31 -> 91800 | H26: =+H27+H29+H31 -> 0 | I26: =+I27+I29+I31 -> 0 | J26: =+J27+J29+J31 -> 0
A27: =+[8]ระบบการควบคุมฯ!A340 -> 5.3.1.1 | B27: =+[8]ระบบการควบคุมฯ!B340 -> ถังน้ำ แบบสเตนเลส ขนาดความจุ 2,000 ลิตร โรงเรียนวัดลาดสนุ่น | C27: =+[8]ระบบการควบคุมฯ!C340 -> ที่ ศธ 04087/ว49453/25 พย 68 ครั้งที่ 104 | D27: =SUM(D28) -> 16800 | E27: =SUM(E28) -> 0 | F27: =SUM(F28) -> 0 | G27: =SUM(G28) -> 16800 | H27: =SUM(H28) -> 0 | I27: =SUM(I28) -> 0 | J27: =SUM(J28) -> 0
A28: =+[8]ระบบการควบคุมฯ!A341 -> 1) | B28: =+[8]ระบบการควบคุมฯ!B341 -> โรงเรียนวัดลาดสนุ่น | C28: =+[8]ระบบการควบคุมฯ!C341 -> 200043300B8003111326 | D28: =+[8]ระบบการควบคุมฯ!F341 -> 16800 | E28: =+[8]ระบบการควบคุมฯ!G341+[8]ระบบการควบคุมฯ!H341 -> 0 | G28: =+[8]ระบบการควบคุมฯ!K341+[8]ระบบการควบคุมฯ!L341 -> 16800 | J28: =+D28-E28-F28-G28 -> 0
A29: =+[8]ระบบการควบคุมฯ!A342 -> 5.3.1.2 | B29: =+[8]ระบบการควบคุมฯ!B342 -> เครื่องทำลายเอกสาร แบบตัดละเอียด ทำลายครั้งละ 30 แผ่น | C29: =+[8]ระบบการควบคุมฯ!C342 -> ที่ ศธ 04087/ว49453/25 พย 68 ครั้งที่ 104 | D29: =SUM(D30) -> 67000 | E29: =SUM(E30) -> 0 | F29: =SUM(F30) -> 0 | G29: =SUM(G30) -> 67000 | H29: =SUM(H30) -> 0 | I29: =SUM(I30) -> 0 | J29: =SUM(J30) -> 0
